{"text_format":"1","workbook":"xlsx","n_sheets":23,"sheets":["Tournament Locations","Baker Scores","Scores","Low Scores","Tournament 2 Histogram Data","All Events Div Histogram Data","All Events Histogram Data","Tournament 3 Histogram Data","Rpt Tourn 1","Individual Scores","Rpt Tourn 2","Rpt Tourn 3","Team Scores","Individual Awards","Averages by Gender","Averages by Division","Tournament 1 Histogram","Tournament 1 Histogram Data","Tournament 2 Histogram","Tournament 3 Histogram","Actual Age Team Stats","Individual Awards Computations","Constants"],"not_rendered":{"charts":10,"images":0,"macros":1,"external_links":0,"defined_names":62,"comments":0,"pivot_tables":0},"unopened":[{"sheet":"Averages by Gender","index":14,"reason":"not_a_worksheet"},{"sheet":"Averages by Division","index":15,"reason":"not_a_worksheet"},{"sheet":"Tournament 1 Histogram","index":16,"reason":"not_a_worksheet"},{"sheet":"Tournament 2 Histogram","index":18,"reason":"not_a_worksheet"},{"sheet":"Tournament 3 Histogram","index":19,"reason":"not_a_worksheet"}],"bounds":{"document_bytes":16777216,"sheet_cells":100000,"rows_first":2000,"rows_last":500,"rows_between":2000,"halvings":0,"cell_chars":16384,"cell_head_chars":4096},"cells_cut":0,"cells_raw":0,"read":"whole","date_system":"1900"}

{"sheet":"Tournament Locations","index":0,"n_rows":4,"n_cols":4,"rows_kept":4,"cut":false,"hidden":false,"merged":[[1,3,3,3]]}
[null,"Location","Tournament"]
["Tournament #1","Gold Cup Russell Pkwy, Warner Robins, GA",1,"change at left in line by site"]
["Tournament #2","Royal Lanes, Goose Creek, SC",2]
["Tournament #3","High Point Bowling Center, High Point, NC",3]

{"sheet":"Baker Scores","index":1,"n_rows":114,"n_cols":21,"rows_kept":114,"cut":false,"hidden":false,"merged":[[87,18,88,18],[14,3,15,3],[8,3,9,3],[2,3,3,3],[5,3,6,3],[78,20,79,20],[81,20,82,20],[90,20,91,20],[23,3,24,3],[23,16,24,16],[23,18,24,18],[23,19,24,19],[43,3,44,3],[46,3,47,3],[29,3,30,3],[29,16,30,16],[73,3,74,3],[87,19,88,19],[87,20,88,20],[90,18,91,18],[81,19,82,19],[90,19,91,19],[55,19,56,19],[64,19,65,19],[84,20,85,20],[43,16,44,16],[46,16,47,16],[58,16,59,16],[61,16,62,16],[40,20,41,20],[43,20,44,20],[52,20,53,20],[55,20,56,20],[64,20,65,20],[49,20,50,20],[46,20,47,20],[58,20,59,20],[61,20,62,20],[73,16,74,16],[73,18,74,18],[73,19,74,19],[73,20,74,20],[70,18,71,18],[67,20,68,20],[67,19,68,19],[49,19,50,19],[61,19,62,19],[58,19,59,19],[23,20,24,20],[2,1,12,1],[2,16,3,16],[5,16,6,16],[14,1,24,1],[14,2,18,2],[2,20,3,20],[5,20,6,20],[14,20,15,20],[17,20,18,20],[17,3,18,3],[17,16,18,16],[20,2,24,2],[20,3,21,3],[20,16,21,16],[2,2,6,2],[8,2,12,2],[8,16,9,16],[11,3,12,3],[11,16,12,16],[14,16,15,16],[46,2,50,2],[49,3,50,3],[49,16,50,16],[52,1,62,1],[32,2,36,2],[32,3,33,3],[32,16,33,16],[35,3,36,3],[35,16,36,16],[26,1,36,1],[26,2,30,2],[26,3,27,3],[26,16,27,16],[52,2,56,2],[52,3,53,3],[52,16,53,16],[55,3,56,3],[55,16,56,16],[58,2,62,2],[58,3,59,3],[61,3,62,3],[40,1,50,1],[40,2,44,2],[40,3,41,3],[78,1,88,1],[78,2,82,2],[78,3,79,3],[78,16,79,16],[81,3,82,3],[81,16,82,16],[84,2,88,2],[84,3,85,3],[84,16,85,16],[87,3,88,3],[87,16,88,16],[64,1,74,1],[64,2,68,2],[64,3,65,3],[64,16,65,16],[67,3,68,3],[67,16,68,16],[70,2,74,2],[70,3,71,3],[70,16,71,16],[40,16,41,16],[111,18,112,18],[111,19,112,19],[111,20,112,20],[90,1,100,1],[90,2,94,2],[90,3,91,3],[90,16,91,16],[93,3,94,3],[93,16,94,16],[96,2,100,2],[96,3,97,3],[96,16,97,16],[93,20,94,20],[102,20,103,20],[105,20,106,20],[96,20,97,20],[99,3,100,3],[99,16,100,16],[99,18,100,18],[99,19,100,19],[99,20,100,20],[108,18,109,18],[108,19,109,19],[108,20,109,20],[102,1,112,1],[102,2,106,2],[102,3,103,3],[102,16,103,16],[105,3,106,3],[105,16,106,16],[108,2,112,2],[108,3,109,3],[108,16,109,16],[111,3,112,3],[111,16,112,16],[93,18,94,18],[102,18,103,18],[105,18,106,18],[96,18,97,18],[84,18,85,18],[26,20,27,20],[29,20,30,20],[8,20,9,20],[11,20,12,20],[20,20,21,20],[78,18,79,18],[40,18,41,18],[43,18,44,18],[52,18,53,18],[55,18,56,18],[70,19,71,19],[70,20,71,20],[32,18,33,18],[32,19,33,19],[32,20,33,20],[35,18,36,18],[35,19,36,19],[35,20,36,20],[78,19,79,19],[93,19,94,19],[102,19,103,19],[105,19,106,19],[96,19,97,19],[84,19,85,19],[2,18,3,18],[5,18,6,18],[14,18,15,18],[17,18,18,18],[26,18,27,18],[29,18,30,18],[11,18,12,18],[8,18,9,18],[20,18,21,18],[64,18,65,18],[67,18,68,18],[49,18,50,18],[61,18,62,18],[58,18,59,18],[46,18,47,18],[81,18,82,18],[40,19,41,19],[43,19,44,19],[52,19,53,19],[46,19,47,19],[5,19,6,19],[2,19,3,19],[14,19,15,19],[17,19,18,19],[26,19,27,19],[29,19,30,19],[11,19,12,19],[8,19,9,19],[20,19,21,19]]}
["Tournament","State","Age Group","Gender","Game 1","Game 2","Game 3","Game 4","Game 5","Game 6","Game 7","Game 8","Game 9","Game 10","Game 11","Game 12","Total",null,"Low Game","Average","High Game"]
["T1"]
["T1","GA",{"$f":"Constants!B2","v":"15 & <"},"F",185,176,173,171,212,188,182,197,178,189,142,126,{"$f":"SUM(E3:P4)","v":3974},null,{"$f":"MIN(H3:P3)","v":126},{"$f":"AVERAGE(E3:P4)","v":165.58333333333334},{"$f":"MAX(E3:P4)","v":212}]
["T1",null,null,null,160,152,170,141,168,161,198,109,176,146,133,141]
["T1"]
["T1",null,null,"M",170,152,144,177,168,166,175,199,144,196,172,144,{"$f":"SUM(E6:P7)","v":4100},null,{"$f":"MIN(H6:P6)","v":144},{"$f":"AVERAGE(E6:P7)","v":170.83333333333334},{"$f":"MAX(E6:P7)","v":216}]
["T1",null,null,null,119,166,216,181,150,172,203,156,201,201,168,160]
["T1"]
["T1",null,{"$f":"Constants!B3","v":"16-20"},{"$f":"D3","v":"F"},166,192,177,188,189,149,193,143,148,170,191,184,{"$f":"SUM(E9:P10)","v":4008},null,{"$f":"MIN(H9:P9)","v":143},{"$f":"AVERAGE(E9:P10)","v":167},{"$f":"MAX(E9:P10)","v":212}]
["T1",null,null,null,167,143,148,179,173,212,134,183,123,143,147,166]
["T1"]
["T1",null,null,{"$f":"D6","v":"M"},199,196,198,196,196,147,226,214,195,207,184,211,{"$f":"SUM(E12:O13)","v":4158},null,{"$f":"MIN(H12:P12)","v":147},{"$f":"AVERAGE(E12:P13)","v":187.79166666666666},{"$f":"MAX(E12:P13)","v":236}]
["T1",null,null,null,178,156,218,236,190,174,183,158,190,152,165,138]
["T1"]
["T1","NC",{"$f":"C3","v":"15 & <"},"F",153,139,157,162,180,149,186,163,168,180,174,179,{"$f":"SUM(E15:P16)","v":3997},null,{"$f":"MIN(H15:P15)","v":149},{"$f":"AVERAGE(E15:P16)","v":166.54166666666666},{"$f":"MAX(E15:P16)","v":190}]
["T1",null,null,null,155,129,146,188,174,148,190,175,179,178,179,166]
["T1"]
["T1",null,null,"M",159,146,140,188,167,212,215,263,192,223,222,164,{"$f":"SUM(E18:P19)","v":4463},null,{"$f":"MIN(H18:P18)","v":164},{"$f":"AVERAGE(E18:P19)","v":185.95833333333334},{"$f":"MAX(E18:P19)","v":263}]
["T1",null,null,null,177,175,208,157,135,191,232,181,171,167,178,200]
["T1"]
["T1",null,{"$f":"C9","v":"16-20"},{"$f":"D15","v":"F"},167,196,163,125,177,151,203,170,202,175,160,145,{"$f":"SUM(E21:P22)","v":4056},null,{"$f":"MIN(H21:P21)","v":125},{"$f":"AVERAGE(E21:P22)","v":169},{"$f":"MAX(E21:P22)","v":221}]
["T1",null,null,null,221,168,170,157,158,161,157,132,158,163,199,178]
["T1"]
["T1",null,null,{"$f":"D18","v":"M"},148,169,201,192,198,248,199,238,172,241,193,169,{"$f":"SUM(E24:P25)","v":4751},null,{"$f":"MIN(H24:P24)","v":169},{"$f":"AVERAGE(E24:P25)","v":197.95833333333334},{"$f":"MAX(E24:P25)","v":248}]
["T1",null,null,null,197,177,166,204,222,214,235,199,212,217,164,176]
["T1"]
["T1","SC",{"$f":"C15","v":"15 & <"},"F",159,154,164,176,157,162,144,160,238,123,149,136,{"$f":"SUM(E27:P28)","v":3747},null,{"$f":"MIN(H27:P27)","v":123},{"$f":"AVERAGE(E27:P28)","v":156.125},{"$f":"MAX(E27:P28)","v":238}]
["T1",null,null,null,125,145,125,200,144,165,166,167,155,129,126,178]
["T1"]
["T1",null,null,"M",169,167,219,158,160,157,195,169,162,149,194,170,{"$f":"SUM(E30:P31)","v":4269},null,{"$f":"MIN(H30:P30)","v":149},{"$f":"AVERAGE(E30:P31)","v":177.875},{"$f":"MAX(E30:P31)","v":250}]
["T1",null,null,null,131,186,146,197,169,203,160,250,169,214,181,194]
["T1"]
["T1",null,{"$f":"C21","v":"16-20"},{"$f":"D27","v":"F"},198,174,183,176,230,173,189,113,158,172,134,166,{"$f":"SUM(E33:P34)","v":3984},null,{"$f":"MIN(H33:P33)","v":113},{"$f":"AVERAGE(E33:P34)","v":166},{"$f":"MAX(E33:P34)","v":230}]
["T1",null,null,null,216,177,160,149,141,146,191,129,153,146,177,133]
["T1"]
["T1",null,null,{"$f":"D30","v":"M"},191,224,164,176,216,180,170,163,201,172,223,221,{"$f":"SUM(E36:P37)","v":4496},null,{"$f":"MIN(H36:P36)","v":163},{"$f":"AVERAGE(E36:P37)","v":187.33333333333334},{"$f":"MAX(E36:P37)","v":224}]
["T1",null,null,null,180,186,195,170,169,182,221,164,167,179,187,195]
["T1"]
[]
["T2"]
["T2",{"$f":"B3","v":"GA"},{"$f":"C3","v":"15 & <"},"F",147,191,206,166,182,198,192,163,189,156,162,181,{"$f":"SUM(E41:P42)","v":4134},null,{"$f":"MIN(H41:P41)","v":156},{"$f":"AVERAGE(E41:P42)","v":172.25},{"$f":"MAX(E41:P42)","v":224}]
["T2",null,null,null,140,181,224,189,117,182,142,136,148,174,164,204]
["T2"]
["T2",null,null,"M",200,179,156,191,125,200,204,165,178,210,223,150,{"$f":"SUM(E44:P45)","v":4424},null,{"$f":"MIN(H44:P44)","v":125},{"$f":"AVERAGE(E44:P45)","v":184.33333333333334},{"$f":"MAX(E44:P45)","v":227}]
["T2",null,null,null,163,227,206,190,190,166,224,205,197,192,159,124]
["T2"]
["T2",null,{"$f":"C9","v":"16-20"},{"$f":"D41","v":"F"},157,162,214,148,200,170,155,224,143,155,168,202,{"$f":"SUM(E47:P48)","v":4018},null,{"$f":"MIN(H47:P47)","v":143},{"$f":"AVERAGE(E47:P48)","v":167.41666666666666},{"$f":"MAX(E47:P48)","v":224}]
["T2",null,null,null,154,141,160,170,168,140,178,128,174,168,157,182]
["T2"]
["T2",null,null,{"$f":"D44","v":"M"},180,220,221,214,278,224,203,224,226,197,206,187,{"$f":"SUM(E50:P51)","v":5085},null,{"$f":"MIN(H50:P50)","v":187},{"$f":"AVERAGE(E50:P51)","v":211.875},{"$f":"MAX(E50:P51)","v":278}]
["T2",null,null,null,225,198,159,233,198,246,187,203,226,159,203,268]
["T2"]
["T2",{"$f":"B15","v":"NC"},{"$f":"C41","v":"15 & <"},"F",202,189,213,149,183,191,193,140,139,189,146,193,{"$f":"SUM(E53:P54)","v":4037},null,{"$f":"MIN(H53:P53)","v":139},{"$f":"AVERAGE(E53:P54)","v":168.20833333333334},{"$f":"MAX(E53:P54)","v":213}]
["T2",null,null,null,182,108,145,193,125,139,162,136,177,168,172,203]
["T2"]
["T2",null,null,"M",173,176,234,185,174,165,214,170,166,204,290,227,{"$f":"SUM(E56:P57)","v":4643},null,{"$f":"MIN(H56:P56)","v":165},{"$f":"AVERAGE(E56:P57)","v":193.45833333333334},{"$f":"MAX(E56:P57)","v":290}]
["T2",null,null,null,202,147,192,159,173,208,220,201,179,216,180,188]
["T2"]
["T2",null,{"$f":"C47","v":"16-20"},{"$f":"D53","v":"F"},192,212,145,167,149,171,169,185,170,187,188,179,{"$f":"SUM(E59:P60)","v":4156},null,{"$f":"MIN(H59:P59)","v":149},{"$f":"AVERAGE(E59:P60)","v":173.16666666666666},{"$f":"MAX(E59:P60)","v":224}]
["T2",null,null,null,138,204,159,224,156,174,146,164,174,150,194,159]
["T2"]
["T2",null,null,{"$f":"D56","v":"M"},198,179,186,195,203,202,190,233,246,201,154,226,{"$f":"SUM(E62:P63)","v":5066},null,{"$f":"MIN(H62:P62)","v":154},{"$f":"AVERAGE(E62:P63)","v":211.08333333333334},{"$f":"MAX(E62:P63)","v":257}]
["T2",null,null,null,206,225,208,249,203,246,233,205,222,257,185,214]
["T2"]
["T2",{"$f":"B27","v":"SC"},{"$f":"C53","v":"15 & <"},"F",166,146,179,119,221,176,125,138,185,133,159,135,{"$f":"SUM(E65:P66)","v":4000},null,{"$f":"MIN(H65:P65)","v":119},{"$f":"AVERAGE(E65:P66)","v":166.66666666666666},{"$f":"MAX(E65:P66)","v":221}]
["T2",null,null,null,200,191,182,183,157,154,176,198,157,173,200,147]
["T2"]
["T2",null,null,"M",177,155,199,233,190,177,219,197,185,213,187,187,{"$f":"SUM(E68:P69)","v":4554},null,{"$f":"MIN(H68:P68)","v":177},{"$f":"AVERAGE(E68:P69)","v":189.75},{"$f":"MAX(E68:P69)","v":233}]
["T2",null,null,null,206,180,191,191,180,178,166,182,209,179,147,226]
["T2"]
["T2",null,{"$f":"C59","v":"16-20"},{"$f":"D65","v":"F"},179,180,160,176,169,153,171,156,181,147,178,163,{"$f":"SUM(E71:P72)","v":3996},null,{"$f":"MIN(H71:P71)","v":147},{"$f":"AVERAGE(E71:P72)","v":166.5},{"$f":"MAX(E71:P72)","v":204}]
["T2",null,null,null,167,139,148,128,156,156,179,204,181,179,148,198]
["T2"]
["T2",null,null,{"$f":"D68","v":"M"},179,180,175,202,163,190,257,137,173,213,179,193,{"$f":"SUM(E74:P75)","v":4588},null,{"$f":"MIN(H74:P74)","v":137},{"$f":"AVERAGE(E74:P75)","v":191.16666666666666},{"$f":"MAX(E74:P75)","v":257}]
["T2",null,null,null,194,193,182,234,190,205,168,173,168,224,199,217]
["T2"]
[]
["T3"]
["T3","GA",{"$f":"C41","v":"15 & <"},"F",null,null,null,null,null,null,null,null,null,null,null,null,{"$f":"SUM(E79:P80)","v":0},null,{"$f":"MIN(H79:P79)","v":0},{"$f":"AVERAGE(E79:P80)","v":{"$error":"#DIV/0!"}},{"$f":"MAX(E79:P80)","v":0}]
["T3"]
["T3"]
["T3",null,null,"M",null,null,null,null,null,null,null,null,null,null,null,null,{"$f":"SUM(E82:P83)","v":0},null,{"$f":"MIN(H82:P82)","v":0},{"$f":"AVERAGE(E82:P83)","v":{"$error":"#DIV/0!"}},{"$f":"MAX(E82:P83)","v":0}]
["T3"]
["T3"]
["T3",null,{"$f":"C47","v":"16-20"},{"$f":"D79","v":"F"},null,null,null,null,null,null,null,null,null,null,null,null,{"$f":"SUM(E85:P86)","v":0},null,{"$f":"MIN(H85:P85)","v":0},{"$f":"AVERAGE(E85:P86)","v":{"$error":"#DIV/0!"}},{"$f":"MAX(E85:P86)","v":0}]
["T3"]
["T3"]
["T3",null,null,{"$f":"D82","v":"M"},null,null,null,null,null,null,null,null,null,null,null,null,{"$f":"SUM(E88:P89)","v":0},null,{"$f":"MIN(H88:P88)","v":0},{"$f":"AVERAGE(E88:P89)","v":{"$error":"#DIV/0!"}},{"$f":"MAX(E88:P89)","v":0}]
["T3"]
["T3"]
["T3","NC",{"$f":"C79","v":"15 & <"},"F",null,null,null,null,null,null,null,null,null,null,null,null,{"$f":"SUM(E91:P92)","v":0},null,{"$f":"MIN(H91:P91)","v":0},{"$f":"AVERAGE(E91:P92)","v":{"$error":"#DIV/0!"}},{"$f":"MAX(E91:P92)","v":0}]
["T3"]
["T3"]
["T3",null,null,"M",null,null,null,null,null,null,null,null,null,null,null,null,{"$f":"SUM(E94:P95)","v":0},null,{"$f":"MIN(H94:P94)","v":0},{"$f":"AVERAGE(E94:P95)","v":{"$error":"#DIV/0!"}},{"$f":"MAX(E94:P95)","v":0}]
["T3"]
["T3"]
["T3",null,{"$f":"C85","v":"16-20"},{"$f":"D91","v":"F"},null,null,null,null,null,null,null,null,null,null,null,null,{"$f":"SUM(E97:P98)","v":0},null,{"$f":"MIN(H97:P97)","v":0},{"$f":"AVERAGE(E97:P98)","v":{"$error":"#DIV/0!"}},{"$f":"MAX(E97:P98)","v":0}]
["T3"]
["T3"]
["T3",null,null,{"$f":"D94","v":"M"},null,null,null,null,null,null,null,null,null,null,null,null,{"$f":"SUM(E100:P101)","v":0},null,{"$f":"MIN(H100:P100)","v":0},{"$f":"AVERAGE(E100:P101)","v":{"$error":"#DIV/0!"}},{"$f":"MAX(E100:P101)","v":0}]
["T3"]
["T3"]
["T3","SC",{"$f":"C91","v":"15 & <"},"F",null,null,null,null,null,null,null,null,null,null,null,null,{"$f":"SUM(E103:P104)","v":0},null,{"$f":"MIN(H103:P103)","v":0},{"$f":"AVERAGE(E103:P104)","v":{"$error":"#DIV/0!"}},{"$f":"MAX(E103:P104)","v":0}]
["T3"]
["T3"]
["T3",null,null,"M",null,null,null,null,null,null,null,null,null,null,null,null,{"$f":"SUM(E106:P107)","v":0},null,{"$f":"MIN(H106:P106)","v":0},{"$f":"AVERAGE(E106:P107)","v":{"$error":"#DIV/0!"}},{"$f":"MAX(E106:P107)","v":0}]
["T3"]
["T3"]
["T3",null,{"$f":"C97","v":"16-20"},{"$f":"D103","v":"F"},null,null,null,null,null,null,null,null,null,null,null,null,{"$f":"SUM(E109:P110)","v":0},null,{"$f":"MIN(H109:P109)","v":0},{"$f":"AVERAGE(E109:P110)","v":{"$error":"#DIV/0!"}},{"$f":"MAX(E109:P110)","v":0}]
["T3"]
["T3"]
["T3",null,null,{"$f":"D106","v":"M"},null,null,null,null,null,null,null,null,null,null,null,null,{"$f":"SUM(E112:P113)","v":0},null,{"$f":"MIN(H112:P112)","v":0},{"$f":"AVERAGE(E112:P113)","v":{"$error":"#DIV/0!"}},{"$f":"MAX(E112:P113)","v":0}]
["T3"]
["T3"]

{"sheet":"Scores","index":2,"n_rows":757,"n_cols":21,"rows_kept":757,"cut":false,"hidden":false,"merged":[[233,15,235,18],[2,15,4,18],[23,15,25,18],[44,15,46,18],[65,15,67,18],[86,15,88,18],[107,15,109,18],[128,15,130,18],[149,15,151,18],[170,15,172,18],[191,15,193,18],[212,15,214,18],[254,15,256,18],[275,15,277,18],[296,15,298,18],[317,15,319,18],[359,15,361,18],[380,15,382,18],[401,15,403,18],[422,15,424,18],[464,15,466,18],[674,15,676,18],[653,15,655,18],[716,15,718,18],[737,15,739,18],[443,15,445,18],[485,15,487,18],[695,15,697,18],[527,15,529,18],[548,15,550,18],[569,15,571,18],[611,15,613,18],[632,15,634,18],[506,15,508,18],[590,15,592,18]]}
[]
[{"$f":"H5","v":1},{"$f":"E5","v":"Georgia"},{"$f":"F5","v":"15 & <"},{"$f":"G5","v":"F"},"Tournament",{"$f":"DGET('Tournament Locations'!$B$1:$C$4,\"Location\",Scores!$H$4:$H$5)","v":"Gold Cup Russell Pkwy, Warner Robins, GA"}]
[{"$f":"A2","v":1},{"$f":"B2","v":"Georgia"},{"$f":"C2","v":"15 & <"},{"$f":"D2","v":"F"},null,null,null,null,null,null,null,"High Game",null,{"$f":"MAX(J8:P19)","v":193},null,{"$f":"IF(SUM(J21:P21)>0,\"Warning:  Not enough scores to drop lowest score.  Be sure zeros are entered for any vacant bowler\",\"\")","v":""}]
[{"$f":"A3","v":1},"Georgia","15 & <","F","State","Age","Gender","Tournament",null,null,null,"High Series",null,{"$f":"MAX(Q8:R19)","v":510}]
[1,"Georgia","15 & <","F","Georgia","15 & <","F",1,null,null,null,"High Pins",null,{"$f":"MAX(S8:S19)","v":1012}]
[1,"Georgia","15 & <","F"]
[1,"Georgia","15 & <","F","Player Number","Full Name","Flag","Actual Age","Gender","Game 1","Game 2","Game 3",null,"Game 4","Game 5","Game 6","Series 1","Series 2","Total"]
[1,"Georgia","15 & <","F",1,"Anita Li",{"$f":"IF(ISERROR(VLOOKUP(F8,Bowler_Name,1,FALSE)),\"Not Entered\",IF(H8>F$5,\"Too Old\",IF(I8<>G$5,\"Wrong Gender\",\"\")))","v":""},{"$f":"IF(ISERROR(VLOOKUP(F8,Bowler_Name,1,FALSE)),\"\",INDIRECT(\"'Individual Scores'!\"&ADDRESS(MATCH(F8,'Individual Scores'!$D$2:$D$169,0)+1,2)))","v":"15 & <"},{"$f":"IF(ISERROR(VLOOKUP(F8,Bowler_Name,1,FALSE)),\"\",INDIRECT(\"'Individual Scores'!\"&ADDRESS(MATCH(F8,'Individual Scores'!$D$2:$D$169,0)+1,3)))","v":"F"},135,180,170,null,166,183,160,{"$f":"SUM(J8:L8)","v":485},{"$f":"SUM(N8:P8)","v":509},{"$f":"SUM(Q8:R8)","v":994},null,{"$f":"S8/6","v":165.66666666666666}]
[1,"Georgia","15 & <","F",{"$f":"E8+1","v":2},"Annalise O'Bryant","",{"$f":"IF(ISERROR(VLOOKUP(F9,Bowler_Name,1,FALSE)),\"\",INDIRECT(\"'Individual Scores'!\"&ADDRESS(MATCH(F9,'Individual Scores'!$D$2:$D$169,0)+1,2)))","v":"15 & <"},{"$f":"IF(ISERROR(VLOOKUP(F9,Bowler_Name,1,FALSE)),\"\",INDIRECT(\"'Individual Scores'!\"&ADDRESS(MATCH(F9,'Individual Scores'!$D$2:$D$169,0)+1,3)))","v":"F"},164,168,170,null,193,152,165,{"$f":"SUM(J9:L9)","v":502},{"$f":"SUM(N9:P9)","v":510},{"$f":"SUM(Q9:R9)","v":1012},null,{"$f":"S9/6","v":168.66666666666666}]
[1,"Georgia","15 & <","F",3,"Bethany Noel","",{"$f":"IF(ISERROR(VLOOKUP(F10,Bowler_Name,1,FALSE)),\"\",INDIRECT(\"'Individual Scores'!\"&ADDRESS(MATCH(F10,'Individual Scores'!$D$2:$D$169,0)+1,2)))","v":"15 & <"},{"$f":"IF(ISERROR(VLOOKUP(F10,Bowler_Name,1,FALSE)),\"\",INDIRECT(\"'Individual Scores'!\"&ADDRESS(MATCH(F10,'Individual Scores'!$D$2:$D$169,0)+1,3)))","v":"F"},137,159,176,null,181,145,161,472,487,959,null,159.83333333333334]
[1,"Georgia","15 & <","F",4,"Catherine Friess","",{"$f":"IF(ISERROR(VLOOKUP(F11,Bowler_Name,1,FALSE)),\"\",INDIRECT(\"'Individual Scores'!\"&ADDRESS(MATCH(F11,'Individual Scores'!$D$2:$D$169,0)+1,2)))","v":"15 & <"},{"$f":"IF(ISERROR(VLOOKUP(F11,Bowler_Name,1,FALSE)),\"\",INDIRECT(\"'Individual Scores'!\"&ADDRESS(MATCH(F11,'Individual Scores'!$D$2:$D$169,0)+1,3)))","v":"F"},136,124,144,null,168,104,148,404,420,824,null,137.33333333333334]
[1,"Georgia","15 & <","F",5,"Cheyenne Miller","",{"$f":"IF(ISERROR(VLOOKUP(F12,Bowler_Name,1,FALSE)),\"\",INDIRECT(\"'Individual Scores'!\"&ADDRESS(MATCH(F12,'Individual Scores'!$D$2:$D$169,0)+1,2)))","v":"15 & <"},{"$f":"IF(ISERROR(VLOOKUP(F12,Bowler_Name,1,FALSE)),\"\",INDIRECT(\"'Individual Scores'!\"&ADDRESS(MATCH(F12,'Individual Scores'!$D$2:$D$169,0)+1,3)))","v":"F"},169,159,156,null,146,136,132,484,414,898,null,149.66666666666666]
[1,"Georgia","15 & <","F",6,"Emily Rettig","",{"$f":"IF(ISERROR(VLOOKUP(F13,Bowler_Name,1,FALSE)),\"\",INDIRECT(\"'Individual Scores'!\"&ADDRESS(MATCH(F13,'Individual Scores'!$D$2:$D$169,0)+1,2)))","v":"15 & <"},{"$f":"IF(ISERROR(VLOOKUP(F13,Bowler_Name,1,FALSE)),\"\",INDIRECT(\"'Individual Scores'!\"&ADDRESS(MATCH(F13,'Individual Scores'!$D$2:$D$169,0)+1,3)))","v":"F"},135,128,127,null,148,137,167,390,452,842,null,140.33333333333334]
[1,"Georgia","15 & <","F",7,"Faith Hardy","",{"$f":"IF(ISERROR(VLOOKUP(F14,Bowler_Name,1,FALSE)),\"\",INDIRECT(\"'Individual Scores'!\"&ADDRESS(MATCH(F14,'Individual Scores'!$D$2:$D$169,0)+1,2)))","v":"15 & <"},{"$f":"IF(ISERROR(VLOOKUP(F14,Bowler_Name,1,FALSE)),\"\",INDIRECT(\"'Individual Scores'!\"&ADDRESS(MATCH(F14,'Individual Scores'!$D$2:$D$169,0)+1,3)))","v":"F"},123,142,128,null,148,166,151,393,465,858,null,143]
[1,"Georgia","15 & <","F",8,"Ivyana Hurey Scott","",{"$f":"IF(ISERROR(VLOOKUP(F15,Bowler_Name,1,FALSE)),\"\",INDIRECT(\"'Individual Scores'!\"&ADDRESS(MATCH(F15,'Individual Scores'!$D$2:$D$169,0)+1,2)))","v":"15 & <"},{"$f":"IF(ISERROR(VLOOKUP(F15,Bowler_Name,1,FALSE)),\"\",INDIRECT(\"'Individual Scores'!\"&ADDRESS(MATCH(F15,'Individual Scores'!$D$2:$D$169,0)+1,3)))","v":"F"},153,141,191,null,160,141,159,485,460,945,null,157.5]
[1,"Georgia","15 & <","F",9,"Kathleen Elder","",{"$f":"IF(ISERROR(VLOOKUP(F16,Bowler_Name,1,FALSE)),\"\",INDIRECT(\"'Individual Scores'!\"&ADDRESS(MATCH(F16,'Individual Scores'!$D$2:$D$169,0)+1,2)))","v":"15 & <"},{"$f":"IF(ISERROR(VLOOKUP(F16,Bowler_Name,1,FALSE)),\"\",INDIRECT(\"'Individual Scores'!\"&ADDRESS(MATCH(F16,'Individual Scores'!$D$2:$D$169,0)+1,3)))","v":"F"},124,108,105,null,128,126,138,337,392,729,null,121.5]
[1,"Georgia","15 & <","F",10,"Savanna Campbell","",{"$f":"IF(ISERROR(VLOOKUP(F17,Bowler_Name,1,FALSE)),\"\",INDIRECT(\"'Individual Scores'!\"&ADDRESS(MATCH(F17,'Individual Scores'!$D$2:$D$169,0)+1,2)))","v":"15 & <"},{"$f":"IF(ISERROR(VLOOKUP(F17,Bowler_Name,1,FALSE)),\"\",INDIRECT(\"'Individual Scores'!\"&ADDRESS(MATCH(F17,'Individual Scores'!$D$2:$D$169,0)+1,3)))","v":"F"},166,141,185,null,144,168,192,492,504,996,null,166]
[1,"Georgia","15 & <","F",11,"Glory Harmon","",{"$f":"IF(ISERROR(VLOOKUP(F18,Bowler_Name,1,FALSE)),\"\",INDIRECT(\"'Individual Scores'!\"&ADDRESS(MATCH(F18,'Individual Scores'!$D$2:$D$169,0)+1,2)))","v":"15 & <"},{"$f":"IF(ISERROR(VLOOKUP(F18,Bowler_Name,1,FALSE)),\"\",INDIRECT(\"'Individual Scores'!\"&ADDRESS(MATCH(F18,'Individual Scores'!$D$2:$D$169,0)+1,3)))","v":"F"},158,143,170,null,113,117,147,471,377,848,null,141.33333333333334]
[1,"Georgia","15 & <","F"]
[1,"Georgia","15 & <","F",null,{"$f":"DGET(Constants!$C$1:$D$4,1,E4:E5)&\" \"&G5&\" \"&F5","v":"GA F 15 & <"},null,null,null,{"$f":"SUM(J7:J19)-MIN(J7:J19)","v":1477},1485,1617,null,1582,1471,1588,{"$f":"SUM(J20:L20)","v":4579},{"$f":"SUM(N20:P20)","v":4641},{"$f":"SUM(Q20:R20)","v":9220}]
[1,null,null,null,null,"Warning Row:  should be hidden",null,null,null,{"$f":"IF(COUNT(J7:J19)=0,\"\",IF(COUNT(J7:J19)<ROWS(J7:J19)-2,1,\"\"))","v":""},"","",null,"","",""]
[1]
[{"$f":"H26","v":1},{"$f":"E26","v":"Georgia"},{"$f":"F26","v":"15 & <"},{"$f":"G26","v":"M"},"Tournament",{"$f":"DGET('Tournament Locations'!$B$1:$C$4,\"Location\",Scores!$H$4:$H$5)","v":"Gold Cup Russell Pkwy, Warner Robins, GA"}]
[{"$f":"A23","v":1},{"$f":"B23","v":"Georgia"},{"$f":"C23","v":"15 & <"},{"$f":"D23","v":"M"},null,null,null,null,null,null,null,"High Game",null,{"$f":"MAX(J29:P40)","v":245},null,{"$f":"IF(SUM(J42:P42)>0,\"Warning:  Not enough scores to drop lowest score.  Be sure zeros are entered for any vacant bowler\",\"\")","v":""}]
[{"$f":"A24","v":1},"Georgia","15 & <","M","State","Age","Gender","Tournament",null,null,null,"High Series",null,{"$f":"MAX(Q29:R40)","v":639}]
[1,"Georgia","15 & <","M",{"$f":"E5","v":"Georgia"},{"$f":"F5","v":"15 & <"},"M",{"$f":"H5","v":1},null,null,null,"High Pins",null,{"$f":"MAX(S29:S40)","v":1226}]
[1,"Georgia","15 & <","M"]
[1,"Georgia","15 & <","M","Player Number","Full Name","Flag","Actual Age","Gender","Game 1","Game 2","Game 3",null,"Game 4","Game 5","Game 6","Series 1","Series 2","Total"]
[1,"Georgia","15 & <","M",1,"Brandon Campbell",{"$f":"IF(ISERROR(VLOOKUP(F29,Bowler_Name,1,FALSE)),\"Not Entered\",IF(H29>F$26,\"Too Old\",IF(I29<>G$26,\"Wrong Gender\",\"\")))","v":""},{"$f":"IF(ISERROR(VLOOKUP(F29,Bowler_Name,1,FALSE)),\"\",INDIRECT(\"'Individual Scores'!\"&ADDRESS(MATCH(F29,'Individual Scores'!$D$2:$D$169,0)+1,2)))","v":"15 & <"},{"$f":"IF(ISERROR(VLOOKUP(F29,Bowler_Name,1,FALSE)),\"\",INDIRECT(\"'Individual Scores'!\"&ADDRESS(MATCH(F29,'Individual Scores'!$D$2:$D$169,0)+1,3)))","v":"M"},176,189,188,null,205,209,222,{"$f":"SUM(J29:L29)","v":553},{"$f":"SUM(N29:P29)","v":636},{"$f":"SUM(Q29:R29)","v":1189},null,{"$f":"S29/6","v":198.16666666666666}]
[1,"Georgia","15 & <","M",{"$f":"E29+1","v":2},"Dakota Starling","",{"$f":"IF(ISERROR(VLOOKUP(F30,Bowler_Name,1,FALSE)),\"\",INDIRECT(\"'Individual Scores'!\"&ADDRESS(MATCH(F30,'Individual Scores'!$D$2:$D$169,0)+1,2)))","v":"15 & <"},{"$f":"IF(ISERROR(VLOOKUP(F30,Bowler_Name,1,FALSE)),\"\",INDIRECT(\"'Individual Scores'!\"&ADDRESS(MATCH(F30,'Individual Scores'!$D$2:$D$169,0)+1,3)))","v":"M"},190,211,196,null,158,118,183,{"$f":"SUM(J30:L30)","v":597},{"$f":"SUM(N30:P30)","v":459},{"$f":"SUM(Q30:R30)","v":1056},null,{"$f":"S30/6","v":176}]
[1,"Georgia","15 & <","M",3,"Isaiah Tukes","",{"$f":"IF(ISERROR(VLOOKUP(F31,Bowler_Name,1,FALSE)),\"\",INDIRECT(\"'Individual Scores'!\"&ADDRESS(MATCH(F31,'Individual Scores'!$D$2:$D$169,0)+1,2)))","v":"15 & <"},{"$f":"IF(ISERROR(VLOOKUP(F31,Bowler_Name,1,FALSE)),\"\",INDIRECT(\"'Individual Scores'!\"&ADDRESS(MATCH(F31,'Individual Scores'!$D$2:$D$169,0)+1,3)))","v":"M"},136,168,151,null,148,149,173,455,470,925,null,154.16666666666666]
[1,"Georgia","15 & <","M",4,"Josh Monroe","",{"$f":"IF(ISERROR(VLOOKUP(F32,Bowler_Name,1,FALSE)),\"\",INDIRECT(\"'Individual Scores'!\"&ADDRESS(MATCH(F32,'Individual Scores'!$D$2:$D$169,0)+1,2)))","v":"15 & <"},{"$f":"IF(ISERROR(VLOOKUP(F32,Bowler_Name,1,FALSE)),\"\",INDIRECT(\"'Individual Scores'!\"&ADDRESS(MATCH(F32,'Individual Scores'!$D$2:$D$169,0)+1,3)))","v":"M"},174,140,152,null,143,244,184,466,571,1037,null,172.83333333333334]
[1,"Georgia","15 & <","M",5,"Justin Riley","",{"$f":"IF(ISERROR(VLOOKUP(F33,Bowler_Name,1,FALSE)),\"\",INDIRECT(\"'Individual Scores'!\"&ADDRESS(MATCH(F33,'Individual Scores'!$D$2:$D$169,0)+1,2)))","v":"15 & <"},{"$f":"IF(ISERROR(VLOOKUP(F33,Bowler_Name,1,FALSE)),\"\",INDIRECT(\"'Individual Scores'!\"&ADDRESS(MATCH(F33,'Individual Scores'!$D$2:$D$169,0)+1,3)))","v":"M"},226,201,149,null,174,146,149,576,469,1045,null,174.16666666666666]
[1,"Georgia","15 & <","M",6,"Vacant-GA_B_U15","",{"$f":"IF(ISERROR(VLOOKUP(F34,Bowler_Name,1,FALSE)),\"\",INDIRECT(\"'Individual Scores'!\"&ADDRESS(MATCH(F34,'Individual Scores'!$D$2:$D$169,0)+1,2)))","v":"15 & <"},{"$f":"IF(ISERROR(VLOOKUP(F34,Bowler_Name,1,FALSE)),\"\",INDIRECT(\"'Individual Scores'!\"&ADDRESS(MATCH(F34,'Individual Scores'!$D$2:$D$169,0)+1,3)))","v":"M"},0,0,0,null,0,0,0,0,0,0,null,0]
[1,"Georgia","15 & <","M",7,"Logan Mathis","",{"$f":"IF(ISERROR(VLOOKUP(F35,Bowler_Name,1,FALSE)),\"\",INDIRECT(\"'Individual Scores'!\"&ADDRESS(MATCH(F35,'Individual Scores'!$D$2:$D$169,0)+1,2)))","v":"15 & <"},{"$f":"IF(ISERROR(VLOOKUP(F35,Bowler_Name,1,FALSE)),\"\",INDIRECT(\"'Individual Scores'!\"&ADDRESS(MATCH(F35,'Individual Scores'!$D$2:$D$169,0)+1,3)))","v":"M"},133,133,132,null,156,157,145,398,458,856,null,142.66666666666666]
[1,"Georgia","15 & <","M",8,"Matthew Hickey","",{"$f":"IF(ISERROR(VLOOKUP(F36,Bowler_Name,1,FALSE)),\"\",INDIRECT(\"'Individual Scores'!\"&ADDRESS(MATCH(F36,'Individual Scores'!$D$2:$D$169,0)+1,2)))","v":"15 & <"},{"$f":"IF(ISERROR(VLOOKUP(F36,Bowler_Name,1,FALSE)),\"\",INDIRECT(\"'Individual Scores'!\"&ADDRESS(MATCH(F36,'Individual Scores'!$D$2:$D$169,0)+1,3)))","v":"M"},211,153,163,null,137,185,144,527,466,993,null,165.5]
[1,"Georgia","15 & <","M",9,"Paris Swinson","",{"$f":"IF(ISERROR(VLOOKUP(F37,Bowler_Name,1,FALSE)),\"\",INDIRECT(\"'Individual Scores'!\"&ADDRESS(MATCH(F37,'Individual Scores'!$D$2:$D$169,0)+1,2)))","v":"15 & <"},{"$f":"IF(ISERROR(VLOOKUP(F37,Bowler_Name,1,FALSE)),\"\",INDIRECT(\"'Individual Scores'!\"&ADDRESS(MATCH(F37,'Individual Scores'!$D$2:$D$169,0)+1,3)))","v":"M"},214,141,178,null,141,146,176,533,463,996,null,166]
[1,"Georgia","15 & <","M",10,"Sean Espey","",{"$f":"IF(ISERROR(VLOOKUP(F38,Bowler_Name,1,FALSE)),\"\",INDIRECT(\"'Individual Scores'!\"&ADDRESS(MATCH(F38,'Individual Scores'!$D$2:$D$169,0)+1,2)))","v":"15 & <"},{"$f":"IF(ISERROR(VLOOKUP(F38,Bowler_Name,1,FALSE)),\"\",INDIRECT(\"'Individual Scores'!\"&ADDRESS(MATCH(F38,'Individual Scores'!$D$2:$D$169,0)+1,3)))","v":"M"},206,188,245,null,179,205,203,639,587,1226,null,204.33333333333334]
[1,"Georgia","15 & <","M",11,"Tyrell Ingalls","",{"$f":"IF(ISERROR(VLOOKUP(F39,Bowler_Name,1,FALSE)),\"\",INDIRECT(\"'Individual Scores'!\"&ADDRESS(MATCH(F39,'Individual Scores'!$D$2:$D$169,0)+1,2)))","v":"15 & <"},{"$f":"IF(ISERROR(VLOOKUP(F39,Bowler_Name,1,FALSE)),\"\",INDIRECT(\"'Individual Scores'!\"&ADDRESS(MATCH(F39,'Individual Scores'!$D$2:$D$169,0)+1,3)))","v":"M"},167,151,162,null,142,213,220,480,575,1055,null,175.83333333333334]
[1,"Georgia","15 & <","M"]
[1,"Georgia","15 & <","M",null,{"$f":"DGET(Constants!$C$1:$D$4,1,E25:E26)&\" \"&G26&\" \"&F26","v":"GA M 15 & <"},null,null,null,{"$f":"SUM(J28:J40)-MIN(J28:J40)","v":1833},1675,1716,null,1583,1772,1799,{"$f":"SUM(J41:L41)","v":5224},{"$f":"SUM(N41:P41)","v":5154},{"$f":"SUM(Q41:R41)","v":10378}]
[1,null,null,null,null,"Warning Row:  should be hidden",null,null,null,{"$f":"IF(COUNT(J28:J40)=0,\"\",IF(COUNT(J28:J40)<ROWS(J28:J40)-2,1,\"\"))","v":""},"","",null,"","",""]
[1]
[{"$f":"H47","v":1},{"$f":"E47","v":"Georgia"},{"$f":"F47","v":"16-20"},{"$f":"G47","v":"F"},"Tournament",{"$f":"DGET('Tournament Locations'!$B$1:$C$4,\"Location\",Scores!$H$4:$H$5)","v":"Gold Cup Russell Pkwy, Warner Robins, GA"}]
[{"$f":"A44","v":1},{"$f":"B44","v":"Georgia"},{"$f":"C44","v":"16-20"},{"$f":"D44","v":"F"},null,null,null,null,null,null,null,"High Game",null,{"$f":"MAX(J50:P60)","v":245},null,{"$f":"IF(SUM(J63:P63)>0,\"Warning:  Not enough scores to drop lowest score.  Be sure zeros are entered for any vacant bowler\",\"\")","v":""}]
[{"$f":"A45","v":1},"Georgia","16-20","F","State","Age","Gender","Tournament",null,null,null,"High Series",null,{"$f":"MAX(Q50:R60)","v":612}]
[1,"Georgia","16-20","F",{"$f":"E5","v":"Georgia"},"16-20","F",{"$f":"H5","v":1},null,null,null,"High Pins",null,{"$f":"MAX(S50:S60)","v":1164}]
[1,"Georgia","16-20","F"]
[1,"Georgia","16-20","F","Player Number","Full Name","Flag","Actual Age","Gender","Game 1","Game 2","Game 3",null,"Game 4","Game 5","Game 6","Series 1","Series 2","Total"]
[1,"Georgia","16-20","F",1,"Amber Beene",{"$f":"IF(ISERROR(VLOOKUP(F50,Bowler_Name,1,FALSE)),\"Not Entered\",IF(H50>F$47,\"Too Old\",IF(I50<>G$47,\"Wrong Gender\",\"\")))","v":""},{"$f":"IF(ISERROR(VLOOKUP(F50,Bowler_Name,1,FALSE)),\"\",INDIRECT(\"'Individual Scores'!\"&ADDRESS(MATCH(F50,'Individual Scores'!$D$2:$D$169,0)+1,2)))","v":"16-20"},{"$f":"IF(ISERROR(VLOOKUP(F50,Bowler_Name,1,FALSE)),\"\",INDIRECT(\"'Individual Scores'!\"&ADDRESS(MATCH(F50,'Individual Scores'!$D$2:$D$169,0)+1,3)))","v":"F"},185,205,214,null,193,186,170,{"$f":"SUM(J50:L50)","v":604},{"$f":"SUM(N50:P50)","v":549},{"$f":"SUM(Q50:R50)","v":1153},null,{"$f":"S50/6","v":192.16666666666666}]
[1,"Georgia","16-20","F",{"$f":"E50+1","v":2},"Crystal Fox","",{"$f":"IF(ISERROR(VLOOKUP(F51,Bowler_Name,1,FALSE)),\"\",INDIRECT(\"'Individual Scores'!\"&ADDRESS(MATCH(F51,'Individual Scores'!$D$2:$D$169,0)+1,2)))","v":"16-20"},{"$f":"IF(ISERROR(VLOOKUP(F51,Bowler_Name,1,FALSE)),\"\",INDIRECT(\"'Individual Scores'!\"&ADDRESS(MATCH(F51,'Individual Scores'!$D$2:$D$169,0)+1,3)))","v":"F"},245,179,169,null,159,212,200,{"$f":"SUM(J51:L51)","v":593},{"$f":"SUM(N51:P51)","v":571},{"$f":"SUM(Q51:R51)","v":1164},null,{"$f":"S51/6","v":194}]
[1,"Georgia","16-20","F",3,"Gabriela Ramkhelawan","",{"$f":"IF(ISERROR(VLOOKUP(F52,Bowler_Name,1,FALSE)),\"\",INDIRECT(\"'Individual Scores'!\"&ADDRESS(MATCH(F52,'Individual Scores'!$D$2:$D$169,0)+1,2)))","v":"15 & <"},{"$f":"IF(ISERROR(VLOOKUP(F52,Bowler_Name,1,FALSE)),\"\",INDIRECT(\"'Individual Scores'!\"&ADDRESS(MATCH(F52,'Individual Scores'!$D$2:$D$169,0)+1,3)))","v":"F"},212,159,186,null,156,164,140,557,460,1017,null,169.5]
[1,"Georgia","16-20","F",4,"Jasmine Nash","",{"$f":"IF(ISERROR(VLOOKUP(F53,Bowler_Name,1,FALSE)),\"\",INDIRECT(\"'Individual Scores'!\"&ADDRESS(MATCH(F53,'Individual Scores'!$D$2:$D$169,0)+1,2)))","v":"16-20"},{"$f":"IF(ISERROR(VLOOKUP(F53,Bowler_Name,1,FALSE)),\"\",INDIRECT(\"'Individual Scores'!\"&ADDRESS(MATCH(F53,'Individual Scores'!$D$2:$D$169,0)+1,3)))","v":"F"},202,180,177,null,153,170,186,559,509,1068,null,178]
[1,"Georgia","16-20","F",5,"Makayla Spears","",{"$f":"IF(ISERROR(VLOOKUP(F54,Bowler_Name,1,FALSE)),\"\",INDIRECT(\"'Individual Scores'!\"&ADDRESS(MATCH(F54,'Individual Scores'!$D$2:$D$169,0)+1,2)))","v":"16-20"},{"$f":"IF(ISERROR(VLOOKUP(F54,Bowler_Name,1,FALSE)),\"\",INDIRECT(\"'Individual Scores'!\"&ADDRESS(MATCH(F54,'Individual Scores'!$D$2:$D$169,0)+1,3)))","v":"F"},189,156,169,null,125,143,155,514,423,937,null,156.16666666666666]
[1,"Georgia","16-20","F",6,"Mikayla Davis","",{"$f":"IF(ISERROR(VLOOKUP(F55,Bowler_Name,1,FALSE)),\"\",INDIRECT(\"'Individual Scores'!\"&ADDRESS(MATCH(F55,'Individual Scores'!$D$2:$D$169,0)+1,2)))","v":"16-20"},{"$f":"IF(ISERROR(VLOOKUP(F55,Bowler_Name,1,FALSE)),\"\",INDIRECT(\"'Individual Scores'!\"&ADDRESS(MATCH(F55,'Individual Scores'!$D$2:$D$169,0)+1,3)))","v":"F"},170,189,196,null,182,154,145,555,481,1036,null,172.66666666666666]
[1,"Georgia","16-20","F",7,"Nia McConico","",{"$f":"IF(ISERROR(VLOOKUP(F56,Bowler_Name,1,FALSE)),\"\",INDIRECT(\"'Individual Scores'!\"&ADDRESS(MATCH(F56,'Individual Scores'!$D$2:$D$169,0)+1,2)))","v":"16-20"},{"$f":"IF(ISERROR(VLOOKUP(F56,Bowler_Name,1,FALSE)),\"\",INDIRECT(\"'Individual Scores'!\"&ADDRESS(MATCH(F56,'Individual Scores'!$D$2:$D$169,0)+1,3)))","v":"F"},201,167,225,null,155,223,146,593,524,1117,null,186.16666666666666]
[1,"Georgia","16-20","F",8,"Toni McQuerry","",{"$f":"IF(ISERROR(VLOOKUP(F57,Bowler_Name,1,FALSE)),\"\",INDIRECT(\"'Individual Scores'!\"&ADDRESS(MATCH(F57,'Individual Scores'!$D$2:$D$169,0)+1,2)))","v":"16-20"},{"$f":"IF(ISERROR(VLOOKUP(F57,Bowler_Name,1,FALSE)),\"\",INDIRECT(\"'Individual Scores'!\"&ADDRESS(MATCH(F57,'Individual Scores'!$D$2:$D$169,0)+1,3)))","v":"F"},191,155,222,null,183,167,170,568,520,1088,null,181.33333333333334]
[1,"Georgia","16-20","F",9,"Violet Armendariz","",{"$f":"IF(ISERROR(VLOOKUP(F58,Bowler_Name,1,FALSE)),\"\",INDIRECT(\"'Individual Scores'!\"&ADDRESS(MATCH(F58,'Individual Scores'!$D$2:$D$169,0)+1,2)))","v":"16-20"},{"$f":"IF(ISERROR(VLOOKUP(F58,Bowler_Name,1,FALSE)),\"\",INDIRECT(\"'Individual Scores'!\"&ADDRESS(MATCH(F58,'Individual Scores'!$D$2:$D$169,0)+1,3)))","v":"F"},150,183,132,null,211,147,140,465,498,963,null,160.5]
[1,"Georgia","16-20","F",10,"Mikala Higgins","",{"$f":"IF(ISERROR(VLOOKUP(F59,Bowler_Name,1,FALSE)),\"\",INDIRECT(\"'Individual Scores'!\"&ADDRESS(MATCH(F59,'Individual Scores'!$D$2:$D$169,0)+1,2)))","v":"15 & <"},{"$f":"IF(ISERROR(VLOOKUP(F59,Bowler_Name,1,FALSE)),\"\",INDIRECT(\"'Individual Scores'!\"&ADDRESS(MATCH(F59,'Individual Scores'!$D$2:$D$169,0)+1,3)))","v":"F"},200,179,233,null,146,156,161,612,463,1075,null,179.16666666666666]
[1,"Georgia","16-20","F",11,"Vacant-GA_G_U20","",{"$f":"IF(ISERROR(VLOOKUP(F60,Bowler_Name,1,FALSE)),\"\",INDIRECT(\"'Individual Scores'!\"&ADDRESS(MATCH(F60,'Individual Scores'!$D$2:$D$169,0)+1,2)))","v":"16-20"},{"$f":"IF(ISERROR(VLOOKUP(F60,Bowler_Name,1,FALSE)),\"\",INDIRECT(\"'Individual Scores'!\"&ADDRESS(MATCH(F60,'Individual Scores'!$D$2:$D$169,0)+1,3)))","v":"F"},0,0,0,null,0,0,0,0,0,0,null,0]
[1,"Georgia","16-20","F"]
[1,"Georgia","16-20","F",null,{"$f":"DGET(Constants!$C$1:$D$4,1,E46:E47)&\" \"&G47&\" \"&F47","v":"GA F 16-20"},null,null,null,{"$f":"SUM(J49:J61)-MIN(J49:J61)","v":1945},1752,1923,null,1663,1722,1613,{"$f":"SUM(J62:L62)","v":5620},{"$f":"SUM(N62:P62)","v":4998},{"$f":"SUM(Q62:R62)","v":10618}]
[1,null,null,null,null,"Warning Row:  should be hidden",null,null,null,{"$f":"IF(COUNT(J49:J61)=0,\"\",IF(COUNT(J49:J61)<ROWS(J49:J61)-2,1,\"\"))","v":""},"","",null,"","",""]
[1]
[{"$f":"H68","v":1},{"$f":"E68","v":"Georgia"},{"$f":"F68","v":"16-20"},{"$f":"G68","v":"M"},"Tournament",{"$f":"DGET('Tournament Locations'!$B$1:$C$4,\"Location\",Scores!$H$4:$H$5)","v":"Gold Cup Russell Pkwy, Warner Robins, GA"}]
[{"$f":"A65","v":1},{"$f":"B65","v":"Georgia"},{"$f":"C65","v":"16-20"},{"$f":"D65","v":"M"},null,null,null,null,null,null,null,"High Game",null,{"$f":"MAX(J71:P81)","v":268},null,{"$f":"IF(SUM(J84:P84)>0,\"Warning:  Not enough scores to drop lowest score.  Be sure zeros are entered for any vacant bowler\",\"\")","v":""}]
[{"$f":"A66","v":1},"Georgia","16-20","M","State","Age","Gender","Tournament",null,null,null,"High Series",null,{"$f":"MAX(Q71:R81)","v":723}]
[1,"Georgia","16-20","M",{"$f":"E5","v":"Georgia"},{"$f":"F47","v":"16-20"},"M",{"$f":"H5","v":1},null,null,null,"High Pins",null,{"$f":"MAX(S71:S81)","v":1341}]
[1,"Georgia","16-20","M"]
[1,"Georgia","16-20","M","Player Number","Full Name","Flag","Actual Age","Gender","Game 1","Game 2","Game 3",null,"Game 4","Game 5","Game 6","Series 1","Series 2","Total"]
[1,"Georgia","16-20","M",1,"Alex Heeger",{"$f":"IF(ISERROR(VLOOKUP(F71,Bowler_Name,1,FALSE)),\"Not Entered\",IF(H71>F$68,\"Too Old\",IF(I71<>G$68,\"Wrong Gender\",\"\")))","v":""},{"$f":"IF(ISERROR(VLOOKUP(F71,Bowler_Name,1,FALSE)),\"\",INDIRECT(\"'Individual Scores'!\"&ADDRESS(MATCH(F71,'Individual Scores'!$D$2:$D$169,0)+1,2)))","v":"16-20"},{"$f":"IF(ISERROR(VLOOKUP(F71,Bowler_Name,1,FALSE)),\"\",INDIRECT(\"'Individual Scores'!\"&ADDRESS(MATCH(F71,'Individual Scores'!$D$2:$D$169,0)+1,3)))","v":"M"},152,171,147,null,157,168,159,{"$f":"SUM(J71:L71)","v":470},{"$f":"SUM(N71:P71)","v":484},{"$f":"SUM(Q71:R71)","v":954},null,{"$f":"S71/6","v":159}]
[1,"Georgia","16-20","M",{"$f":"E71+1","v":2},"Casey Lambert","",{"$f":"IF(ISERROR(VLOOKUP(F72,Bowler_Name,1,FALSE)),\"\",INDIRECT(\"'Individual Scores'!\"&ADDRESS(MATCH(F72,'Individual Scores'!$D$2:$D$169,0)+1,2)))","v":"16-20"},{"$f":"IF(ISERROR(VLOOKUP(F72,Bowler_Name,1,FALSE)),\"\",INDIRECT(\"'Individual Scores'!\"&ADDRESS(MATCH(F72,'Individual Scores'!$D$2:$D$169,0)+1,3)))","v":"M"},194,218,243,null,236,203,155,{"$f":"SUM(J72:L72)","v":655},{"$f":"SUM(N72:P72)","v":594},{"$f":"SUM(Q72:R72)","v":1249},null,{"$f":"S72/6","v":208.16666666666666}]
[1,"Georgia","16-20","M",3,"Demetrius Wilcox","",{"$f":"IF(ISERROR(VLOOKUP(F73,Bowler_Name,1,FALSE)),\"\",INDIRECT(\"'Individual Scores'!\"&ADDRESS(MATCH(F73,'Individual Scores'!$D$2:$D$169,0)+1,2)))","v":"16-20"},{"$f":"IF(ISERROR(VLOOKUP(F73,Bowler_Name,1,FALSE)),\"\",INDIRECT(\"'Individual Scores'!\"&ADDRESS(MATCH(F73,'Individual Scores'!$D$2:$D$169,0)+1,3)))","v":"M"},182,173,268,null,253,169,238,623,660,1283,null,213.83333333333334]
[1,"Georgia","16-20","M",4,"Jacob Gard","",{"$f":"IF(ISERROR(VLOOKUP(F74,Bowler_Name,1,FALSE)),\"\",INDIRECT(\"'Individual Scores'!\"&ADDRESS(MATCH(F74,'Individual Scores'!$D$2:$D$169,0)+1,2)))","v":"16-20"},{"$f":"IF(ISERROR(VLOOKUP(F74,Bowler_Name,1,FALSE)),\"\",INDIRECT(\"'Individual Scores'!\"&ADDRESS(MATCH(F74,'Individual Scores'!$D$2:$D$169,0)+1,3)))","v":"M"},213,169,212,null,205,231,217,594,653,1247,null,207.83333333333334]
[1,"Georgia","16-20","M",5,"Josh Rondino","",{"$f":"IF(ISERROR(VLOOKUP(F75,Bowler_Name,1,FALSE)),\"\",INDIRECT(\"'Individual Scores'!\"&ADDRESS(MATCH(F75,'Individual Scores'!$D$2:$D$169,0)+1,2)))","v":"16-20"},{"$f":"IF(ISERROR(VLOOKUP(F75,Bowler_Name,1,FALSE)),\"\",INDIRECT(\"'Individual Scores'!\"&ADDRESS(MATCH(F75,'Individual Scores'!$D$2:$D$169,0)+1,3)))","v":"M"},195,202,236,null,217,191,254,633,662,1295,null,215.83333333333334]
[1,"Georgia","16-20","M",6,"Matthew Lovell","",{"$f":"IF(ISERROR(VLOOKUP(F76,Bowler_Name,1,FALSE)),\"\",INDIRECT(\"'Individual Scores'!\"&ADDRESS(MATCH(F76,'Individual Scores'!$D$2:$D$169,0)+1,2)))","v":"16-20"},{"$f":"IF(ISERROR(VLOOKUP(F76,Bowler_Name,1,FALSE)),\"\",INDIRECT(\"'Individual Scores'!\"&ADDRESS(MATCH(F76,'Individual Scores'!$D$2:$D$169,0)+1,3)))","v":"M"},181,153,195,null,175,177,166,529,518,1047,null,174.5]
[1,"Georgia","16-20","M",7,"Micah Spears","",{"$f":"IF(ISERROR(VLOOKUP(F77,Bowler_Name,1,FALSE)),\"\",INDIRECT(\"'Individual Scores'!\"&ADDRESS(MATCH(F77,'Individual Scores'!$D$2:$D$169,0)+1,2)))","v":"16-20"},{"$f":"IF(ISERROR(VLOOKUP(F77,Bowler_Name,1,FALSE)),\"\",INDIRECT(\"'Individual Scores'!\"&ADDRESS(MATCH(F77,'Individual Scores'!$D$2:$D$169,0)+1,3)))","v":"M"},179,164,159,null,169,172,145,502,486,988,null,164.66666666666666]
[1,"Georgia","16-20","M",8,"Oscar Byrd","",{"$f":"IF(ISERROR(VLOOKUP(F78,Bowler_Name,1,FALSE)),\"\",INDIRECT(\"'Individual Scores'!\"&ADDRESS(MATCH(F78,'Individual Scores'!$D$2:$D$169,0)+1,2)))","v":"16-20"},{"$f":"IF(ISERROR(VLOOKUP(F78,Bowler_Name,1,FALSE)),\"\",INDIRECT(\"'Individual Scores'!\"&ADDRESS(MATCH(F78,'Individual Scores'!$D$2:$D$169,0)+1,3)))","v":"M"},200,160,169,null,149,154,186,529,489,1018,null,169.66666666666666]
[1,"Georgia","16-20","M",9,"Peyton Smith","",{"$f":"IF(ISERROR(VLOOKUP(F79,Bowler_Name,1,FALSE)),\"\",INDIRECT(\"'Individual Scores'!\"&ADDRESS(MATCH(F79,'Individual Scores'!$D$2:$D$169,0)+1,2)))","v":"15 & <"},{"$f":"IF(ISERROR(VLOOKUP(F79,Bowler_Name,1,FALSE)),\"\",INDIRECT(\"'Individual Scores'!\"&ADDRESS(MATCH(F79,'Individual Scores'!$D$2:$D$169,0)+1,3)))","v":"M"},220,260,243,null,242,165,211,723,618,1341,null,223.5]
[1,"Georgia","16-20","M",10,"Phillip Jacques","",{"$f":"IF(ISERROR(VLOOKUP(F80,Bowler_Name,1,FALSE)),\"\",INDIRECT(\"'Individual Scores'!\"&ADDRESS(MATCH(F80,'Individual Scores'!$D$2:$D$169,0)+1,2)))","v":"16-20"},{"$f":"IF(ISERROR(VLOOKUP(F80,Bowler_Name,1,FALSE)),\"\",INDIRECT(\"'Individual Scores'!\"&ADDRESS(MATCH(F80,'Individual Scores'!$D$2:$D$169,0)+1,3)))","v":"M"},169,172,191,null,215,181,172,532,568,1100,null,183.33333333333334]
[1,"Georgia","16-20","M",11,"Scott Landeck","",{"$f":"IF(ISERROR(VLOOKUP(F81,Bowler_Name,1,FALSE)),\"\",INDIRECT(\"'Individual Scores'!\"&ADDRESS(MATCH(F81,'Individual Scores'!$D$2:$D$169,0)+1,2)))","v":"16-20"},{"$f":"IF(ISERROR(VLOOKUP(F81,Bowler_Name,1,FALSE)),\"\",INDIRECT(\"'Individual Scores'!\"&ADDRESS(MATCH(F81,'Individual Scores'!$D$2:$D$169,0)+1,3)))","v":"M"},176,176,170,null,153,125,171,522,449,971,null,161.83333333333334]
[1,"Georgia","16-20","M"]
[1,"Georgia","16-20","M",null,{"$f":"DGET(Constants!$C$1:$D$4,1,E67:E68)&\" \"&G68&\" \"&F68","v":"GA M 16-20"},null,null,null,{"$f":"SUM(J70:J82)-MIN(J70:J82)","v":1909},1865,2086,null,2022,1811,1929,{"$f":"SUM(J83:L83)","v":5860},{"$f":"SUM(N83:P83)","v":5762},{"$f":"SUM(Q83:R83)","v":11622}]
[1,null,null,null,null,"Warning Row:  should be hidden",null,null,null,{"$f":"IF(COUNT(J70:J82)=0,\"\",IF(COUNT(J70:J82)<ROWS(J70:J82)-2,1,\"\"))","v":""},"","",null,"","",""]
[1]
[{"$f":"H89","v":1},{"$f":"E89","v":"North Carolina"},{"$f":"F89","v":"15 & <"},{"$f":"G89","v":"F"},"Tournament",{"$f":"DGET('Tournament Locations'!$B$1:$C$4,\"Location\",Scores!$H$4:$H$5)","v":"Gold Cup Russell Pkwy, Warner Robins, GA"}]
[{"$f":"A86","v":1},{"$f":"B86","v":"North Carolina"},{"$f":"C86","v":"15 & <"},{"$f":"D86","v":"F"},null,null,null,null,null,null,null,"High Game",null,{"$f":"MAX(J92:P103)","v":258},null,{"$f":"IF(SUM(J105:P105)>0,\"Warning:  Not enough scores to drop lowest score.  Be sure zeros are entered for any vacant bowler\",\"\")","v":""}]
[{"$f":"A87","v":1},"North Carolina","15 & <","F","State","Age","Gender","Tournament",null,null,null,"High Series",null,{"$f":"MAX(Q92:R103)","v":646}]
[1,"North Carolina","15 & <","F","North Carolina","15 & <","F",{"$f":"H5","v":1},null,null,null,"High Pins",null,{"$f":"MAX(S92:S103)","v":1253}]
[1,"North Carolina","15 & <","F"]
[1,"North Carolina","15 & <","F","Player Number","Full Name","Flag","Actual Age","Gender","Game 1","Game 2","Game 3",null,"Game 4","Game 5","Game 6","Series 1","Series 2","Total"]
[1,"North Carolina","15 & <","F",1,"Maranda Marcum",{"$f":"IF(ISERROR(VLOOKUP(F92,Bowler_Name,1,FALSE)),\"Not Entered\",IF(H92>F$89,\"Too Old\",IF(I92<>G$89,\"Wrong Gender\",\"\")))","v":""},{"$f":"IF(ISERROR(VLOOKUP(F92,Bowler_Name,1,FALSE)),\"\",INDIRECT(\"'Individual Scores'!\"&ADDRESS(MATCH(F92,'Individual Scores'!$D$2:$D$169,0)+1,2)))","v":"15 & <"},{"$f":"IF(ISERROR(VLOOKUP(F92,Bowler_Name,1,FALSE)),\"\",INDIRECT(\"'Individual Scores'!\"&ADDRESS(MATCH(F92,'Individual Scores'!$D$2:$D$169,0)+1,3)))","v":"F"},143,150,151,null,201,179,159,{"$f":"SUM(J92:L92)","v":444},{"$f":"SUM(N92:P92)","v":539},{"$f":"SUM(Q92:R92)","v":983},null,{"$f":"S92/6","v":163.83333333333334}]
[1,"North Carolina","15 & <","F",{"$f":"E92+1","v":2},"Aubrey Shipman","",{"$f":"IF(ISERROR(VLOOKUP(F93,Bowler_Name,1,FALSE)),\"\",INDIRECT(\"'Individual Scores'!\"&ADDRESS(MATCH(F93,'Individual Scores'!$D$2:$D$169,0)+1,2)))","v":"15 & <"},{"$f":"IF(ISERROR(VLOOKUP(F93,Bowler_Name,1,FALSE)),\"\",INDIRECT(\"'Individual Scores'!\"&ADDRESS(MATCH(F93,'Individual Scores'!$D$2:$D$169,0)+1,3)))","v":"F"},156,183,147,null,147,168,155,{"$f":"SUM(J93:L93)","v":486},{"$f":"SUM(N93:P93)","v":470},{"$f":"SUM(Q93:R93)","v":956},null,{"$f":"S93/6","v":159.33333333333334}]
[1,"North Carolina","15 & <","F",3,"Megan McWhirter","",{"$f":"IF(ISERROR(VLOOKUP(F94,Bowler_Name,1,FALSE)),\"\",INDIRECT(\"'Individual Scores'!\"&ADDRESS(MATCH(F94,'Individual Scores'!$D$2:$D$169,0)+1,2)))","v":"15 & <"},{"$f":"IF(ISERROR(VLOOKUP(F94,Bowler_Name,1,FALSE)),\"\",INDIRECT(\"'Individual Scores'!\"&ADDRESS(MATCH(F94,'Individual Scores'!$D$2:$D$169,0)+1,3)))","v":"F"},173,128,178,null,135,171,144,479,450,929,null,154.83333333333334]
[1,"North Carolina","15 & <","F",4,"Makayla Lucas","",{"$f":"IF(ISERROR(VLOOKUP(F95,Bowler_Name,1,FALSE)),\"\",INDIRECT(\"'Individual Scores'!\"&ADDRESS(MATCH(F95,'Individual Scores'!$D$2:$D$169,0)+1,2)))","v":"15 & <"},{"$f":"IF(ISERROR(VLOOKUP(F95,Bowler_Name,1,FALSE)),\"\",INDIRECT(\"'Individual Scores'!\"&ADDRESS(MATCH(F95,'Individual Scores'!$D$2:$D$169,0)+1,3)))","v":"F"},184,182,151,null,183,158,167,517,508,1025,null,170.83333333333334]
[1,"North Carolina","15 & <","F",5,"Kristina Catoe","",{"$f":"IF(ISERROR(VLOOKUP(F96,Bowler_Name,1,FALSE)),\"\",INDIRECT(\"'Individual Scores'!\"&ADDRESS(MATCH(F96,'Individual Scores'!$D$2:$D$169,0)+1,2)))","v":"15 & <"},{"$f":"IF(ISERROR(VLOOKUP(F96,Bowler_Name,1,FALSE)),\"\",INDIRECT(\"'Individual Scores'!\"&ADDRESS(MATCH(F96,'Individual Scores'!$D$2:$D$169,0)+1,3)))","v":"F"},158,155,190,null,161,155,141,{"$f":"SUM(J96:L96)","v":503},457,960,null,160]
[1,"North Carolina","15 & <","F",6,"Meranda Edmonds","",{"$f":"IF(ISERROR(VLOOKUP(F97,Bowler_Name,1,FALSE)),\"\",INDIRECT(\"'Individual Scores'!\"&ADDRESS(MATCH(F97,'Individual Scores'!$D$2:$D$169,0)+1,2)))","v":"15 & <"},{"$f":"IF(ISERROR(VLOOKUP(F97,Bowler_Name,1,FALSE)),\"\",INDIRECT(\"'Individual Scores'!\"&ADDRESS(MATCH(F97,'Individual Scores'!$D$2:$D$169,0)+1,3)))","v":"F"},165,149,165,null,150,159,169,479,478,957,null,159.5]
[1,"North Carolina","15 & <","F",7,"Kalia Patterson","",{"$f":"IF(ISERROR(VLOOKUP(F98,Bowler_Name,1,FALSE)),\"\",INDIRECT(\"'Individual Scores'!\"&ADDRESS(MATCH(F98,'Individual Scores'!$D$2:$D$169,0)+1,2)))","v":"15 & <"},{"$f":"IF(ISERROR(VLOOKUP(F98,Bowler_Name,1,FALSE)),\"\",INDIRECT(\"'Individual Scores'!\"&ADDRESS(MATCH(F98,'Individual Scores'!$D$2:$D$169,0)+1,3)))","v":"F"},158,171,160,null,134,116,169,489,419,908,null,151.33333333333334]
[1,"North Carolina","15 & <","F",8,"Emily Wyant","",{"$f":"IF(ISERROR(VLOOKUP(F99,Bowler_Name,1,FALSE)),\"\",INDIRECT(\"'Individual Scores'!\"&ADDRESS(MATCH(F99,'Individual Scores'!$D$2:$D$169,0)+1,2)))","v":"15 & <"},{"$f":"IF(ISERROR(VLOOKUP(F99,Bowler_Name,1,FALSE)),\"\",INDIRECT(\"'Individual Scores'!\"&ADDRESS(MATCH(F99,'Individual Scores'!$D$2:$D$169,0)+1,3)))","v":"F"},149,167,136,null,192,152,183,452,527,979,null,163.16666666666666]
[1,"North Carolina","15 & <","F",9,"Cameron Strombeck","",{"$f":"IF(ISERROR(VLOOKUP(F100,Bowler_Name,1,FALSE)),\"\",INDIRECT(\"'Individual Scores'!\"&ADDRESS(MATCH(F100,'Individual Scores'!$D$2:$D$169,0)+1,2)))","v":"15 & <"},{"$f":"IF(ISERROR(VLOOKUP(F100,Bowler_Name,1,FALSE)),\"\",INDIRECT(\"'Individual Scores'!\"&ADDRESS(MATCH(F100,'Individual Scores'!$D$2:$D$169,0)+1,3)))","v":"F"},164,243,200,null,175,258,213,607,646,1253,null,208.83333333333334]
[1,"North Carolina","15 & <","F",10,"Casey Mann","",{"$f":"IF(ISERROR(VLOOKUP(F101,Bowler_Name,1,FALSE)),\"\",INDIRECT(\"'Individual Scores'!\"&ADDRESS(MATCH(F101,'Individual Scores'!$D$2:$D$169,0)+1,2)))","v":"15 & <"},{"$f":"IF(ISERROR(VLOOKUP(F101,Bowler_Name,1,FALSE)),\"\",INDIRECT(\"'Individual Scores'!\"&ADDRESS(MATCH(F101,'Individual Scores'!$D$2:$D$169,0)+1,3)))","v":"F"},161,174,181,null,153,184,143,516,480,996,null,166]
[1,"North Carolina","15 & <","F",11,"Lara Kurt","",{"$f":"IF(ISERROR(VLOOKUP(F102,Bowler_Name,1,FALSE)),\"\",INDIRECT(\"'Individual Scores'!\"&ADDRESS(MATCH(F102,'Individual Scores'!$D$2:$D$169,0)+1,2)))","v":"15 & <"},{"$f":"IF(ISERROR(VLOOKUP(F102,Bowler_Name,1,FALSE)),\"\",INDIRECT(\"'Individual Scores'!\"&ADDRESS(MATCH(F102,'Individual Scores'!$D$2:$D$169,0)+1,3)))","v":"F"},139,144,145,null,140,125,191,428,456,884,null,147.33333333333334]
[1,"North Carolina","15 & <","F"]
[1,"North Carolina","15 & <","F",null,{"$f":"DGET(Constants!$C$1:$D$4,1,E88:E89)&\" \"&G89&\" \"&F89","v":"NC F 15 & <"},null,null,null,{"$f":"SUM(J91:J103)-MIN(J91:J103)","v":1611},1718,1668,null,1637,1709,1693,{"$f":"SUM(J104:L104)","v":4997},{"$f":"SUM(N104:P104)","v":5039},{"$f":"SUM(Q104:R104)","v":10036}]
[1,null,null,null,null,"Warning Row:  should be hidden",null,null,null,{"$f":"IF(COUNT(J91:J103)=0,\"\",IF(COUNT(J91:J103)<ROWS(J91:J103)-2,1,\"\"))","v":""},"","",null,"","",""]
[1]
[{"$f":"H110","v":1},{"$f":"E110","v":"North Carolina"},{"$f":"F110","v":"15 & <"},{"$f":"G110","v":"M"},"Tournament",{"$f":"DGET('Tournament Locations'!$B$1:$C$4,\"Location\",Scores!$H$4:$H$5)","v":"Gold Cup Russell Pkwy, Warner Robins, GA"}]
[{"$f":"A107","v":1},{"$f":"B107","v":"North Carolina"},{"$f":"C107","v":"15 & <"},{"$f":"D107","v":"M"},null,null,null,null,null,null,null,"High Game",null,{"$f":"MAX(J113:P124)","v":245},null,{"$f":"IF(SUM(J126:P126)>0,\"Warning:  Not enough scores to drop lowest score.  Be sure zeros are entered for any vacant bowler\",\"\")","v":""}]
[{"$f":"A108","v":1},"North Carolina","15 & <","M","State","Age","Gender","Tournament",null,null,null,"High Series",null,{"$f":"MAX(Q113:R124)","v":652}]
[1,"North Carolina","15 & <","M",{"$f":"E89","v":"North Carolina"},{"$f":"F89","v":"15 & <"},"M",{"$f":"H5","v":1},null,null,null,"High Pins",null,{"$f":"MAX(S113:S124)","v":1254}]
[1,"North Carolina","15 & <","M"]
[1,"North Carolina","15 & <","M","Player Number","Full Name","Flag","Actual Age","Gender","Game 1","Game 2","Game 3",null,"Game 4","Game 5","Game 6","Series 1","Series 2","Total"]
[1,"North Carolina","15 & <","M",1,"Chad Severt",{"$f":"IF(ISERROR(VLOOKUP(F113,Bowler_Name,1,FALSE)),\"Not Entered\",IF(H113>F$110,\"Too Old\",IF(I113<>G$110,\"Wrong Gender\",\"\")))","v":""},{"$f":"IF(ISERROR(VLOOKUP(F113,Bowler_Name,1,FALSE)),\"\",INDIRECT(\"'Individual Scores'!\"&ADDRESS(MATCH(F113,'Individual Scores'!$D$2:$D$169,0)+1,2)))","v":"15 & <"},{"$f":"IF(ISERROR(VLOOKUP(F113,Bowler_Name,1,FALSE)),\"\",INDIRECT(\"'Individual Scores'!\"&ADDRESS(MATCH(F113,'Individual Scores'!$D$2:$D$169,0)+1,3)))","v":"M"},235,179,172,null,204,202,164,{"$f":"SUM(J113:L113)","v":586},{"$f":"SUM(N113:P113)","v":570},{"$f":"SUM(Q113:R113)","v":1156},null,{"$f":"S113/6","v":192.66666666666666}]
[1,"North Carolina","15 & <","M",{"$f":"E113+1","v":2},"Caleb Wallace","",{"$f":"IF(ISERROR(VLOOKUP(F114,Bowler_Name,1,FALSE)),\"\",INDIRECT(\"'Individual Scores'!\"&ADDRESS(MATCH(F114,'Individual Scores'!$D$2:$D$169,0)+1,2)))","v":"15 & <"},{"$f":"IF(ISERROR(VLOOKUP(F114,Bowler_Name,1,FALSE)),\"\",INDIRECT(\"'Individual Scores'!\"&ADDRESS(MATCH(F114,'Individual Scores'!$D$2:$D$169,0)+1,3)))","v":"M"},174,181,186,null,155,180,129,{"$f":"SUM(J114:L114)","v":541},{"$f":"SUM(N114:P114)","v":464},{"$f":"SUM(Q114:R114)","v":1005},null,{"$f":"S114/6","v":167.5}]
[1,"North Carolina","15 & <","M",3,"Patrick Chan","",{"$f":"IF(ISERROR(VLOOKUP(F115,Bowler_Name,1,FALSE)),\"\",INDIRECT(\"'Individual Scores'!\"&ADDRESS(MATCH(F115,'Individual Scores'!$D$2:$D$169,0)+1,2)))","v":"15 & <"},{"$f":"IF(ISERROR(VLOOKUP(F115,Bowler_Name,1,FALSE)),\"\",INDIRECT(\"'Individual Scores'!\"&ADDRESS(MATCH(F115,'Individual Scores'!$D$2:$D$169,0)+1,3)))","v":"M"},193,168,193,null,185,187,201,554,573,1127,null,187.83333333333334]
[1,"North Carolina","15 & <","M",4,"Thomas Perkins","",{"$f":"IF(ISERROR(VLOOKUP(F116,Bowler_Name,1,FALSE)),\"\",INDIRECT(\"'Individual Scores'!\"&ADDRESS(MATCH(F116,'Individual Scores'!$D$2:$D$169,0)+1,2)))","v":"15 & <"},{"$f":"IF(ISERROR(VLOOKUP(F116,Bowler_Name,1,FALSE)),\"\",INDIRECT(\"'Individual Scores'!\"&ADDRESS(MATCH(F116,'Individual Scores'!$D$2:$D$169,0)+1,3)))","v":"M"},151,147,129,null,107,175,171,427,453,880,null,146.66666666666666]
[1,"North Carolina","15 & <","M",5,"Steven Faulkner","",{"$f":"IF(ISERROR(VLOOKUP(F117,Bowler_Name,1,FALSE)),\"\",INDIRECT(\"'Individual Scores'!\"&ADDRESS(MATCH(F117,'Individual Scores'!$D$2:$D$169,0)+1,2)))","v":"15 & <"},{"$f":"IF(ISERROR(VLOOKUP(F117,Bowler_Name,1,FALSE)),\"\",INDIRECT(\"'Individual Scores'!\"&ADDRESS(MATCH(F117,'Individual Scores'!$D$2:$D$169,0)+1,3)))","v":"M"},245,212,181,null,190,177,154,638,521,1159,null,193.16666666666666]
[1,"North Carolina","15 & <","M",6,"James Goodine Jr","",{"$f":"IF(ISERROR(VLOOKUP(F118,Bowler_Name,1,FALSE)),\"\",INDIRECT(\"'Individual Scores'!\"&ADDRESS(MATCH(F118,'Individual Scores'!$D$2:$D$169,0)+1,2)))","v":"15 & <"},{"$f":"IF(ISERROR(VLOOKUP(F118,Bowler_Name,1,FALSE)),\"\",INDIRECT(\"'Individual Scores'!\"&ADDRESS(MATCH(F118,'Individual Scores'!$D$2:$D$169,0)+1,3)))","v":"M"},211,171,159,null,137,167,128,541,432,973,null,162.16666666666666]
[1,"North Carolina","15 & <","M",7,"Aaron Jones","",{"$f":"IF(ISERROR(VLOOKUP(F119,Bowler_Name,1,FALSE)),\"\",INDIRECT(\"'Individual Scores'!\"&ADDRESS(MATCH(F119,'Individual Scores'!$D$2:$D$169,0)+1,2)))","v":"15 & <"},{"$f":"IF(ISERROR(VLOOKUP(F119,Bowler_Name,1,FALSE)),\"\",INDIRECT(\"'Individual Scores'!\"&ADDRESS(MATCH(F119,'Individual Scores'!$D$2:$D$169,0)+1,3)))","v":"M"},138,135,165,null,150,98,146,438,394,832,null,138.66666666666666]
[1,"North Carolina","15 & <","M",8,"Matthew Staunton","",{"$f":"IF(ISERROR(VLOOKUP(F120,Bowler_Name,1,FALSE)),\"\",INDIRECT(\"'Individual Scores'!\"&ADDRESS(MATCH(F120,'Individual Scores'!$D$2:$D$169,0)+1,2)))","v":"15 & <"},{"$f":"IF(ISERROR(VLOOKUP(F120,Bowler_Name,1,FALSE)),\"\",INDIRECT(\"'Individual Scores'!\"&ADDRESS(MATCH(F120,'Individual Scores'!$D$2:$D$169,0)+1,3)))","v":"M"},149,186,245,null,145,164,143,580,452,1032,null,172]
[1,"North Carolina","15 & <","M",9,"Spencer Gutowsky","",{"$f":"IF(ISERROR(VLOOKUP(F121,Bowler_Name,1,FALSE)),\"\",INDIRECT(\"'Individual Scores'!\"&ADDRESS(MATCH(F121,'Individual Scores'!$D$2:$D$169,0)+1,2)))","v":"15 & <"},{"$f":"IF(ISERROR(VLOOKUP(F121,Bowler_Name,1,FALSE)),\"\",INDIRECT(\"'Individual Scores'!\"&ADDRESS(MATCH(F121,'Individual Scores'!$D$2:$D$169,0)+1,3)))","v":"M"},245,221,186,null,225,157,220,652,602,1254,null,209]
[1,"North Carolina","15 & <","M",10,"Kaan Kurt","",{"$f":"IF(ISERROR(VLOOKUP(F122,Bowler_Name,1,FALSE)),\"\",INDIRECT(\"'Individual Scores'!\"&ADDRESS(MATCH(F122,'Individual Scores'!$D$2:$D$169,0)+1,2)))","v":"15 & <"},{"$f":"IF(ISERROR(VLOOKUP(F122,Bowler_Name,1,FALSE)),\"\",INDIRECT(\"'Individual Scores'!\"&ADDRESS(MATCH(F122,'Individual Scores'!$D$2:$D$169,0)+1,3)))","v":"M"},148,210,156,null,179,180,161,514,520,1034,null,172.33333333333334]
[1,"North Carolina","15 & <","M",11,"Vacant-NC_B_U15","",{"$f":"IF(ISERROR(VLOOKUP(F123,Bowler_Name,1,FALSE)),\"\",INDIRECT(\"'Individual Scores'!\"&ADDRESS(MATCH(F123,'Individual Scores'!$D$2:$D$169,0)+1,2)))","v":"15 & <"},{"$f":"IF(ISERROR(VLOOKUP(F123,Bowler_Name,1,FALSE)),\"\",INDIRECT(\"'Individual Scores'!\"&ADDRESS(MATCH(F123,'Individual Scores'!$D$2:$D$169,0)+1,3)))","v":"M"},0,0,0,null,0,0,0,0,0,0,null,0]
[1,"North Carolina","15 & <","M"]
[1,"North Carolina","15 & <","M",null,{"$f":"DGET(Constants!$C$1:$D$4,1,E109:E110)&\" \"&G110&\" \"&F110","v":"NC M 15 & <"},null,null,null,{"$f":"SUM(J112:J124)-MIN(J112:J124)","v":1889},1810,1772,null,1677,1687,1617,{"$f":"SUM(J125:L125)","v":5471},{"$f":"SUM(N125:P125)","v":4981},{"$f":"SUM(Q125:R125)","v":10452}]
[1,null,null,null,null,"Warning Row:  should be hidden",null,null,null,{"$f":"IF(COUNT(J112:J124)=0,\"\",IF(COUNT(J112:J124)<ROWS(J112:J124)-2,1,\"\"))","v":""},"","",null,"","",""]
[1]
[{"$f":"H131","v":1},{"$f":"E131","v":"North Carolina"},{"$f":"F131","v":"16-20"},{"$f":"G131","v":"F"},"Tournament",{"$f":"DGET('Tournament Locations'!$B$1:$C$4,\"Location\",Scores!$H$4:$H$5)","v":"Gold Cup Russell Pkwy, Warner Robins, GA"}]
[{"$f":"A128","v":1},{"$f":"B128","v":"North Carolina"},{"$f":"C128","v":"16-20"},{"$f":"D128","v":"F"},null,null,null,null,null,null,null,"High Game",null,{"$f":"MAX(J134:P144)","v":268},null,{"$f":"IF(SUM(J147:P147)>0,\"Warning:  Not enough scores to drop lowest score.  Be sure zeros are entered for any vacant bowler\",\"\")","v":""}]
[{"$f":"A129","v":1},"North Carolina","16-20","F","State","Age","Gender","Tournament",null,null,null,"High Series",null,{"$f":"MAX(Q134:R144)","v":640}]
[1,"North Carolina","16-20","F",{"$f":"E89","v":"North Carolina"},"16-20","F",{"$f":"H5","v":1},null,null,null,"High Pins",null,{"$f":"MAX(S134:S144)","v":1208}]
[1,"North Carolina","16-20","F"]
[1,"North Carolina","16-20","F","Player Number","Full Name","Flag","Actual Age","Gender","Game 1","Game 2","Game 3",null,"Game 4","Game 5","Game 6","Series 1","Series 2","Total"]
[1,"North Carolina","16-20","F",1,"Breanna Clemmer",{"$f":"IF(ISERROR(VLOOKUP(F134,Bowler_Name,1,FALSE)),\"Not Entered\",IF(H134>F$131,\"Too Old\",IF(I134<>G$131,\"Wrong Gender\",\"\")))","v":""},{"$f":"IF(ISERROR(VLOOKUP(F134,Bowler_Name,1,FALSE)),\"\",INDIRECT(\"'Individual Scores'!\"&ADDRESS(MATCH(F134,'Individual Scores'!$D$2:$D$169,0)+1,2)))","v":"16-20"},{"$f":"IF(ISERROR(VLOOKUP(F134,Bowler_Name,1,FALSE)),\"\",INDIRECT(\"'Individual Scores'!\"&ADDRESS(MATCH(F134,'Individual Scores'!$D$2:$D$169,0)+1,3)))","v":"F"},190,188,190,null,201,171,268,{"$f":"SUM(J134:L134)","v":568},{"$f":"SUM(N134:P134)","v":640},{"$f":"SUM(Q134:R134)","v":1208},null,{"$f":"S134/6","v":201.33333333333334}]
[1,"North Carolina","16-20","F",{"$f":"E134+1","v":2},"Madysen Keller","",{"$f":"IF(ISERROR(VLOOKUP(F135,Bowler_Name,1,FALSE)),\"\",INDIRECT(\"'Individual Scores'!\"&ADDRESS(MATCH(F135,'Individual Scores'!$D$2:$D$169,0)+1,2)))","v":"16-20"},{"$f":"IF(ISERROR(VLOOKUP(F135,Bowler_Name,1,FALSE)),\"\",INDIRECT(\"'Individual Scores'!\"&ADDRESS(MATCH(F135,'Individual Scores'!$D$2:$D$169,0)+1,3)))","v":"F"},181,189,204,null,157,203,188,{"$f":"SUM(J135:L135)","v":574},{"$f":"SUM(N135:P135)","v":548},{"$f":"SUM(Q135:R135)","v":1122},null,{"$f":"S135/6","v":187}]
[1,"North Carolina","16-20","F",{"$f":"E135+1","v":3},"Ashton Harnage","",{"$f":"IF(ISERROR(VLOOKUP(F136,Bowler_Name,1,FALSE)),\"\",INDIRECT(\"'Individual Scores'!\"&ADDRESS(MATCH(F136,'Individual Scores'!$D$2:$D$169,0)+1,2)))","v":"16-20"},{"$f":"IF(ISERROR(VLOOKUP(F136,Bowler_Name,1,FALSE)),\"\",INDIRECT(\"'Individual Scores'!\"&ADDRESS(MATCH(F136,'Individual Scores'!$D$2:$D$169,0)+1,3)))","v":"F"},214,168,148,null,218,186,185,530,589,1119,null,186.5]
[1,"North Carolina","16-20","F",4,"Sydney Johnson","",{"$f":"IF(ISERROR(VLOOKUP(F137,Bowler_Name,1,FALSE)),\"\",INDIRECT(\"'Individual Scores'!\"&ADDRESS(MATCH(F137,'Individual Scores'!$D$2:$D$169,0)+1,2)))","v":"16-20"},{"$f":"IF(ISERROR(VLOOKUP(F137,Bowler_Name,1,FALSE)),\"\",INDIRECT(\"'Individual Scores'!\"&ADDRESS(MATCH(F137,'Individual Scores'!$D$2:$D$169,0)+1,3)))","v":"F"},158,166,200,null,182,206,201,524,589,1113,null,185.5]
[1,"North Carolina","16-20","F",5,"Brandi Barefoot","",{"$f":"IF(ISERROR(VLOOKUP(F138,Bowler_Name,1,FALSE)),\"\",INDIRECT(\"'Individual Scores'!\"&ADDRESS(MATCH(F138,'Individual Scores'!$D$2:$D$169,0)+1,2)))","v":"16-20"},{"$f":"IF(ISERROR(VLOOKUP(F138,Bowler_Name,1,FALSE)),\"\",INDIRECT(\"'Individual Scores'!\"&ADDRESS(MATCH(F138,'Individual Scores'!$D$2:$D$169,0)+1,3)))","v":"F"},142,105,130,null,233,182,203,377,618,995,null,165.83333333333334]
[1,"North Carolina","16-20","F",6,"Rachel Parsons","",{"$f":"IF(ISERROR(VLOOKUP(F139,Bowler_Name,1,FALSE)),\"\",INDIRECT(\"'Individual Scores'!\"&ADDRESS(MATCH(F139,'Individual Scores'!$D$2:$D$169,0)+1,2)))","v":"16-20"},{"$f":"IF(ISERROR(VLOOKUP(F139,Bowler_Name,1,FALSE)),\"\",INDIRECT(\"'Individual Scores'!\"&ADDRESS(MATCH(F139,'Individual Scores'!$D$2:$D$169,0)+1,3)))","v":"F"},148,148,128,null,171,112,119,424,402,826,null,137.66666666666666]
[1,"North Carolina","16-20","F",7,"Alisha Horne","",{"$f":"IF(ISERROR(VLOOKUP(F140,Bowler_Name,1,FALSE)),\"\",INDIRECT(\"'Individual Scores'!\"&ADDRESS(MATCH(F140,'Individual Scores'!$D$2:$D$169,0)+1,2)))","v":"16-20"},{"$f":"IF(ISERROR(VLOOKUP(F140,Bowler_Name,1,FALSE)),\"\",INDIRECT(\"'Individual Scores'!\"&ADDRESS(MATCH(F140,'Individual Scores'!$D$2:$D$169,0)+1,3)))","v":"F"},224,201,167,null,144,190,190,592,524,1116,null,186]
[1,"North Carolina","16-20","F",8,"Lakota Waters","",{"$f":"IF(ISERROR(VLOOKUP(F141,Bowler_Name,1,FALSE)),\"\",INDIRECT(\"'Individual Scores'!\"&ADDRESS(MATCH(F141,'Individual Scores'!$D$2:$D$169,0)+1,2)))","v":"16-20"},{"$f":"IF(ISERROR(VLOOKUP(F141,Bowler_Name,1,FALSE)),\"\",INDIRECT(\"'Individual Scores'!\"&ADDRESS(MATCH(F141,'Individual Scores'!$D$2:$D$169,0)+1,3)))","v":"F"},223,136,177,null,168,184,191,536,543,1079,null,179.83333333333334]
[1,"North Carolina","16-20","F",9,"Maria Freeman","",{"$f":"IF(ISERROR(VLOOKUP(F142,Bowler_Name,1,FALSE)),\"\",INDIRECT(\"'Individual Scores'!\"&ADDRESS(MATCH(F142,'Individual Scores'!$D$2:$D$169,0)+1,2)))","v":"16-20"},{"$f":"IF(ISERROR(VLOOKUP(F142,Bowler_Name,1,FALSE)),\"\",INDIRECT(\"'Individual Scores'!\"&ADDRESS(MATCH(F142,'Individual Scores'!$D$2:$D$169,0)+1,3)))","v":"F"},142,148,77,null,117,99,127,367,343,710,null,118.33333333333333]
[1,"North Carolina","16-20","F",10,"Hailey Wall","",{"$f":"IF(ISERROR(VLOOKUP(F143,Bowler_Name,1,FALSE)),\"\",INDIRECT(\"'Individual Scores'!\"&ADDRESS(MATCH(F143,'Individual Scores'!$D$2:$D$169,0)+1,2)))","v":"15 & <"},{"$f":"IF(ISERROR(VLOOKUP(F143,Bowler_Name,1,FALSE)),\"\",INDIRECT(\"'Individual Scores'!\"&ADDRESS(MATCH(F143,'Individual Scores'!$D$2:$D$169,0)+1,3)))","v":"F"},156,172,155,null,181,126,170,483,477,960,null,160]
[1,"North Carolina","16-20","F",11,"Nara Seymour","",{"$f":"IF(ISERROR(VLOOKUP(F144,Bowler_Name,1,FALSE)),\"\",INDIRECT(\"'Individual Scores'!\"&ADDRESS(MATCH(F144,'Individual Scores'!$D$2:$D$169,0)+1,2)))","v":"16-20"},{"$f":"IF(ISERROR(VLOOKUP(F144,Bowler_Name,1,FALSE)),\"\",INDIRECT(\"'Individual Scores'!\"&ADDRESS(MATCH(F144,'Individual Scores'!$D$2:$D$169,0)+1,3)))","v":"F"},176,153,155,null,126,153,119,484,398,882,null,147]
[1,"North Carolina","16-20","F"]
[1,"North Carolina","16-20","F",null,{"$f":"DGET(Constants!$C$1:$D$4,1,E130:E131)&\" \"&G131&\" \"&F131","v":"NC F 16-20"},null,null,null,{"$f":"SUM(J133:J145)-MIN(J133:J145)","v":1812},1669,1654,null,1781,1713,1842,{"$f":"SUM(J146:L146)","v":5135},{"$f":"SUM(N146:P146)","v":5336},{"$f":"SUM(Q146:R146)","v":10471}]
[1,null,null,null,null,"Warning Row:  should be hidden",null,null,null,{"$f":"IF(COUNT(J133:J145)=0,\"\",IF(COUNT(J133:J145)<ROWS(J133:J145)-2,1,\"\"))","v":""},"","",null,"","",""]
[1]
[{"$f":"H152","v":1},{"$f":"E152","v":"North Carolina"},{"$f":"F152","v":"16-20"},{"$f":"G152","v":"M"},"Tournament",{"$f":"DGET('Tournament Locations'!$B$1:$C$4,\"Location\",Scores!$H$4:$H$5)","v":"Gold Cup Russell Pkwy, Warner Robins, GA"}]
[{"$f":"A149","v":1},{"$f":"B149","v":"North Carolina"},{"$f":"C149","v":"16-20"},{"$f":"D149","v":"M"},null,null,null,null,null,null,null,"High Game",null,{"$f":"MAX(J155:P165)","v":268},null,{"$f":"IF(SUM(J168:P168)>0,\"Warning:  Not enough scores to drop lowest score.  Be sure zeros are entered for any vacant bowler\",\"\")","v":""}]
[{"$f":"A150","v":1},"North Carolina","16-20","M","State","Age","Gender","Tournament",null,null,null,"High Series",null,{"$f":"MAX(Q155:R165)","v":681}]
[1,"North Carolina","16-20","M",{"$f":"E89","v":"North Carolina"},{"$f":"F131","v":"16-20"},"M",{"$f":"H5","v":1},null,null,null,"High Pins",null,{"$f":"MAX(S155:S165)","v":1268}]
[1,"North Carolina","16-20","M"]
[1,"North Carolina","16-20","M","Player Number","Full Name","Flag","Actual Age","Gender","Game 1","Game 2","Game 3",null,"Game 4","Game 5","Game 6","Series 1","Series 2","Total"]
[1,"North Carolina","16-20","M",1,"Jay Hargrove",{"$f":"IF(ISERROR(VLOOKUP(F155,Bowler_Name,1,FALSE)),\"Not Entered\",IF(H155>F$152,\"Too Old\",IF(I155<>G$152,\"Wrong Gender\",\"\")))","v":""},{"$f":"IF(ISERROR(VLOOKUP(F155,Bowler_Name,1,FALSE)),\"\",INDIRECT(\"'Individual Scores'!\"&ADDRESS(MATCH(F155,'Individual Scores'!$D$2:$D$169,0)+1,2)))","v":"16-20"},{"$f":"IF(ISERROR(VLOOKUP(F155,Bowler_Name,1,FALSE)),\"\",INDIRECT(\"'Individual Scores'!\"&ADDRESS(MATCH(F155,'Individual Scores'!$D$2:$D$169,0)+1,3)))","v":"M"},248,220,213,null,160,179,187,{"$f":"SUM(J155:L155)","v":681},{"$f":"SUM(N155:P155)","v":526},{"$f":"SUM(Q155:R155)","v":1207},null,{"$f":"S155/6","v":201.16666666666666}]
[1,"North Carolina","16-20","M",{"$f":"E155+1","v":2},"Trevor Cross","",{"$f":"IF(ISERROR(VLOOKUP(F156,Bowler_Name,1,FALSE)),\"\",INDIRECT(\"'Individual Scores'!\"&ADDRESS(MATCH(F156,'Individual Scores'!$D$2:$D$169,0)+1,2)))","v":"16-20"},{"$f":"IF(ISERROR(VLOOKUP(F156,Bowler_Name,1,FALSE)),\"\",INDIRECT(\"'Individual Scores'!\"&ADDRESS(MATCH(F156,'Individual Scores'!$D$2:$D$169,0)+1,3)))","v":"M"},196,185,212,null,172,170,218,{"$f":"SUM(J156:L156)","v":593},{"$f":"SUM(N156:P156)","v":560},{"$f":"SUM(Q156:R156)","v":1153},null,{"$f":"S156/6","v":192.16666666666666}]
[1,"North Carolina","16-20","M",{"$f":"E156+1","v":3},"Troy White","",{"$f":"IF(ISERROR(VLOOKUP(F157,Bowler_Name,1,FALSE)),\"\",INDIRECT(\"'Individual Scores'!\"&ADDRESS(MATCH(F157,'Individual Scores'!$D$2:$D$169,0)+1,2)))","v":"16-20"},{"$f":"IF(ISERROR(VLOOKUP(F157,Bowler_Name,1,FALSE)),\"\",INDIRECT(\"'Individual Scores'!\"&ADDRESS(MATCH(F157,'Individual Scores'!$D$2:$D$169,0)+1,3)))","v":"M"},193,224,210,null,126,194,191,627,511,1138,null,189.66666666666666]
[1,"North Carolina","16-20","M",4,"Taylor Butgereit","",{"$f":"IF(ISERROR(VLOOKUP(F158,Bowler_Name,1,FALSE)),\"\",INDIRECT(\"'Individual Scores'!\"&ADDRESS(MATCH(F158,'Individual Scores'!$D$2:$D$169,0)+1,2)))","v":"16-20"},{"$f":"IF(ISERROR(VLOOKUP(F158,Bowler_Name,1,FALSE)),\"\",INDIRECT(\"'Individual Scores'!\"&ADDRESS(MATCH(F158,'Individual Scores'!$D$2:$D$169,0)+1,3)))","v":"M"},180,199,181,null,179,225,202,560,606,1166,null,194.33333333333334]
[1,"North Carolina","16-20","M",5,"Zac Ludwig","",{"$f":"IF(ISERROR(VLOOKUP(F159,Bowler_Name,1,FALSE)),\"\",INDIRECT(\"'Individual Scores'!\"&ADDRESS(MATCH(F159,'Individual Scores'!$D$2:$D$169,0)+1,2)))","v":"16-20"},{"$f":"IF(ISERROR(VLOOKUP(F159,Bowler_Name,1,FALSE)),\"\",INDIRECT(\"'Individual Scores'!\"&ADDRESS(MATCH(F159,'Individual Scores'!$D$2:$D$169,0)+1,3)))","v":"M"},189,153,268,null,199,174,151,610,524,1134,null,189]
[1,"North Carolina","16-20","M",6,"Matt Wyant","",{"$f":"IF(ISERROR(VLOOKUP(F160,Bowler_Name,1,FALSE)),\"\",INDIRECT(\"'Individual Scores'!\"&ADDRESS(MATCH(F160,'Individual Scores'!$D$2:$D$169,0)+1,2)))","v":"16-20"},{"$f":"IF(ISERROR(VLOOKUP(F160,Bowler_Name,1,FALSE)),\"\",INDIRECT(\"'Individual Scores'!\"&ADDRESS(MATCH(F160,'Individual Scores'!$D$2:$D$169,0)+1,3)))","v":"M"},181,167,211,null,192,178,159,559,529,1088,null,181.33333333333334]
[1,"North Carolina","16-20","M",7,"Jacob Horne","",{"$f":"IF(ISERROR(VLOOKUP(F161,Bowler_Name,1,FALSE)),\"\",INDIRECT(\"'Individual Scores'!\"&ADDRESS(MATCH(F161,'Individual Scores'!$D$2:$D$169,0)+1,2)))","v":"16-20"},{"$f":"IF(ISERROR(VLOOKUP(F161,Bowler_Name,1,FALSE)),\"\",INDIRECT(\"'Individual Scores'!\"&ADDRESS(MATCH(F161,'Individual Scores'!$D$2:$D$169,0)+1,3)))","v":"M"},157,223,205,null,180,221,265,585,666,1251,null,208.5]
[1,"North Carolina","16-20","M",8,"Alex Scott","",{"$f":"IF(ISERROR(VLOOKUP(F162,Bowler_Name,1,FALSE)),\"\",INDIRECT(\"'Individual Scores'!\"&ADDRESS(MATCH(F162,'Individual Scores'!$D$2:$D$169,0)+1,2)))","v":"16-20"},{"$f":"IF(ISERROR(VLOOKUP(F162,Bowler_Name,1,FALSE)),\"\",INDIRECT(\"'Individual Scores'!\"&ADDRESS(MATCH(F162,'Individual Scores'!$D$2:$D$169,0)+1,3)))","v":"M"},257,163,209,null,196,177,200,629,573,1202,null,200.33333333333334]
[1,"North Carolina","16-20","M",9,"Quan Bethea","",{"$f":"IF(ISERROR(VLOOKUP(F163,Bowler_Name,1,FALSE)),\"\",INDIRECT(\"'Individual Scores'!\"&ADDRESS(MATCH(F163,'Individual Scores'!$D$2:$D$169,0)+1,2)))","v":"16-20"},{"$f":"IF(ISERROR(VLOOKUP(F163,Bowler_Name,1,FALSE)),\"\",INDIRECT(\"'Individual Scores'!\"&ADDRESS(MATCH(F163,'Individual Scores'!$D$2:$D$169,0)+1,3)))","v":"M"},202,159,179,null,0,0,0,540,0,540,null,90]
[1,"North Carolina","16-20","M",10,"Ben Estes","",{"$f":"IF(ISERROR(VLOOKUP(F164,Bowler_Name,1,FALSE)),\"\",INDIRECT(\"'Individual Scores'!\"&ADDRESS(MATCH(F164,'Individual Scores'!$D$2:$D$169,0)+1,2)))","v":"16-20"},{"$f":"IF(ISERROR(VLOOKUP(F164,Bowler_Name,1,FALSE)),\"\",INDIRECT(\"'Individual Scores'!\"&ADDRESS(MATCH(F164,'Individual Scores'!$D$2:$D$169,0)+1,3)))","v":"M"},208,201,202,null,236,233,188,611,657,1268,null,211.33333333333334]
[1,"North Carolina","16-20","M",11,"Nahshon Bennett","",{"$f":"IF(ISERROR(VLOOKUP(F165,Bowler_Name,1,FALSE)),\"\",INDIRECT(\"'Individual Scores'!\"&ADDRESS(MATCH(F165,'Individual Scores'!$D$2:$D$169,0)+1,2)))","v":"16-20"},{"$f":"IF(ISERROR(VLOOKUP(F165,Bowler_Name,1,FALSE)),\"\",INDIRECT(\"'Individual Scores'!\"&ADDRESS(MATCH(F165,'Individual Scores'!$D$2:$D$169,0)+1,3)))","v":"M"},181,173,219,null,197,234,235,573,666,1239,null,206.5]
[1,"North Carolina","16-20","M"]
[1,"North Carolina","16-20","M",null,{"$f":"DGET(Constants!$C$1:$D$4,1,E151:E152)&\" \"&G152&\" \"&F152","v":"NC M 16-20"},null,null,null,{"$f":"SUM(J154:J166)-MIN(J154:J166)","v":2035},1914,2130,null,1837,1985,1996,{"$f":"SUM(J167:L167)","v":6079},{"$f":"SUM(N167:P167)","v":5818},{"$f":"SUM(Q167:R167)","v":11897}]
[1,null,null,null,null,"Warning Row:  should be hidden",null,null,null,{"$f":"IF(COUNT(J154:J166)=0,\"\",IF(COUNT(J154:J166)<ROWS(J154:J166)-2,1,\"\"))","v":""},"","",null,"","",""]
[1]
[{"$f":"H173","v":1},{"$f":"E173","v":"South Carolina"},{"$f":"F173","v":"15 & <"},{"$f":"G173","v":"F"},"Tournament",{"$f":"DGET('Tournament Locations'!$B$1:$C$4,\"Location\",Scores!$H$4:$H$5)","v":"Gold Cup Russell Pkwy, Warner Robins, GA"}]
[{"$f":"A170","v":1},{"$f":"B170","v":"South Carolina"},{"$f":"C170","v":"15 & <"},{"$f":"D170","v":"F"},null,null,null,null,null,null,null,"High Game",null,{"$f":"MAX(J176:P187)","v":236},null,{"$f":"IF(SUM(J189:P189)>0,\"Warning:  Not enough scores to drop lowest score.  Be sure zeros are entered for any vacant bowler\",\"\")","v":""}]
[{"$f":"A171","v":1},"South Carolina","15 & <","F","State","Age","Gender","Tournament",null,null,null,"High Series",null,{"$f":"MAX(Q176:R187)","v":628}]
[1,"South Carolina","15 & <","F","South Carolina","15 & <","F",{"$f":"H5","v":1},null,null,null,"High Pins",null,{"$f":"MAX(S176:S187)","v":1246}]
[1,"South Carolina","15 & <","F"]
[1,"South Carolina","15 & <","F","Player Number","Full Name","Flag","Actual Age","Gender","Game 1","Game 2","Game 3",null,"Game 4","Game 5","Game 6","Series 1","Series 2","Total"]
[1,"South Carolina","15 & <","F",1,"Claire Marshall",{"$f":"IF(ISERROR(VLOOKUP(F176,Bowler_Name,1,FALSE)),\"Not Entered\",IF(H176>F$173,\"Too Old\",IF(I176<>G$173,\"Wrong Gender\",\"\")))","v":""},{"$f":"IF(ISERROR(VLOOKUP(F176,Bowler_Name,1,FALSE)),\"\",INDIRECT(\"'Individual Scores'!\"&ADDRESS(MATCH(F176,'Individual Scores'!$D$2:$D$169,0)+1,2)))","v":"15 & <"},{"$f":"IF(ISERROR(VLOOKUP(F176,Bowler_Name,1,FALSE)),\"\",INDIRECT(\"'Individual Scores'!\"&ADDRESS(MATCH(F176,'Individual Scores'!$D$2:$D$169,0)+1,3)))","v":"F"},207,174,166,null,187,159,146,{"$f":"SUM(J176:L176)","v":547},{"$f":"SUM(N176:P176)","v":492},{"$f":"SUM(Q176:R176)","v":1039}]
[1,"South Carolina","15 & <","F",{"$f":"E176+1","v":2},"Madison Janack","",{"$f":"IF(ISERROR(VLOOKUP(F177,Bowler_Name,1,FALSE)),\"\",INDIRECT(\"'Individual Scores'!\"&ADDRESS(MATCH(F177,'Individual Scores'!$D$2:$D$169,0)+1,2)))","v":"15 & <"},{"$f":"IF(ISERROR(VLOOKUP(F177,Bowler_Name,1,FALSE)),\"\",INDIRECT(\"'Individual Scores'!\"&ADDRESS(MATCH(F177,'Individual Scores'!$D$2:$D$169,0)+1,3)))","v":"F"},222,194,212,null,193,197,228,{"$f":"SUM(J177:L177)","v":628},{"$f":"SUM(N177:P177)","v":618},{"$f":"SUM(Q177:R177)","v":1246}]
[1,"South Carolina","15 & <","F",3,"Stephanie Murphy","",{"$f":"IF(ISERROR(VLOOKUP(F178,Bowler_Name,1,FALSE)),\"\",INDIRECT(\"'Individual Scores'!\"&ADDRESS(MATCH(F178,'Individual Scores'!$D$2:$D$169,0)+1,2)))","v":"15 & <"},{"$f":"IF(ISERROR(VLOOKUP(F178,Bowler_Name,1,FALSE)),\"\",INDIRECT(\"'Individual Scores'!\"&ADDRESS(MATCH(F178,'Individual Scores'!$D$2:$D$169,0)+1,3)))","v":"F"},137,149,172,null,116,136,168,458,420,878]
[1,"South Carolina","15 & <","F",4,"Sharlie Walker","",{"$f":"IF(ISERROR(VLOOKUP(F179,Bowler_Name,1,FALSE)),\"\",INDIRECT(\"'Individual Scores'!\"&ADDRESS(MATCH(F179,'Individual Scores'!$D$2:$D$169,0)+1,2)))","v":"15 & <"},{"$f":"IF(ISERROR(VLOOKUP(F179,Bowler_Name,1,FALSE)),\"\",INDIRECT(\"'Individual Scores'!\"&ADDRESS(MATCH(F179,'Individual Scores'!$D$2:$D$169,0)+1,3)))","v":"F"},128,107,119,null,165,155,141,354,461,815]
[1,"South Carolina","15 & <","F",5,"Jaycee McCarthy","",{"$f":"IF(ISERROR(VLOOKUP(F180,Bowler_Name,1,FALSE)),\"\",INDIRECT(\"'Individual Scores'!\"&ADDRESS(MATCH(F180,'Individual Scores'!$D$2:$D$169,0)+1,2)))","v":"15 & <"},{"$f":"IF(ISERROR(VLOOKUP(F180,Bowler_Name,1,FALSE)),\"\",INDIRECT(\"'Individual Scores'!\"&ADDRESS(MATCH(F180,'Individual Scores'!$D$2:$D$169,0)+1,3)))","v":"F"},114,161,136,null,212,146,144,411,502,913]
[1,"South Carolina","15 & <","F",6,"Kaylin Hurayt","",{"$f":"IF(ISERROR(VLOOKUP(F181,Bowler_Name,1,FALSE)),\"\",INDIRECT(\"'Individual Scores'!\"&ADDRESS(MATCH(F181,'Individual Scores'!$D$2:$D$169,0)+1,2)))","v":"15 & <"},{"$f":"IF(ISERROR(VLOOKUP(F181,Bowler_Name,1,FALSE)),\"\",INDIRECT(\"'Individual Scores'!\"&ADDRESS(MATCH(F181,'Individual Scores'!$D$2:$D$169,0)+1,3)))","v":"F"},135,131,106,null,111,178,139,372,428,800]
[1,"South Carolina","15 & <","F",7,"Danielle Lane","",{"$f":"IF(ISERROR(VLOOKUP(F182,Bowler_Name,1,FALSE)),\"\",INDIRECT(\"'Individual Scores'!\"&ADDRESS(MATCH(F182,'Individual Scores'!$D$2:$D$169,0)+1,2)))","v":"15 & <"},{"$f":"IF(ISERROR(VLOOKUP(F182,Bowler_Name,1,FALSE)),\"\",INDIRECT(\"'Individual Scores'!\"&ADDRESS(MATCH(F182,'Individual Scores'!$D$2:$D$169,0)+1,3)))","v":"F"},192,236,194,null,165,176,225,622,566,1188]
[1,"South Carolina","15 & <","F",8,"Hailee Shields","",{"$f":"IF(ISERROR(VLOOKUP(F183,Bowler_Name,1,FALSE)),\"\",INDIRECT(\"'Individual Scores'!\"&ADDRESS(MATCH(F183,'Individual Scores'!$D$2:$D$169,0)+1,2)))","v":"15 & <"},{"$f":"IF(ISERROR(VLOOKUP(F183,Bowler_Name,1,FALSE)),\"\",INDIRECT(\"'Individual Scores'!\"&ADDRESS(MATCH(F183,'Individual Scores'!$D$2:$D$169,0)+1,3)))","v":"F"},223,163,203,null,159,141,146,589,446,1035]
[1,"South Carolina","15 & <","F",9,"Hannah Simmons","",{"$f":"IF(ISERROR(VLOOKUP(F184,Bowler_Name,1,FALSE)),\"\",INDIRECT(\"'Individual Scores'!\"&ADDRESS(MATCH(F184,'Individual Scores'!$D$2:$D$169,0)+1,2)))","v":"15 & <"},{"$f":"IF(ISERROR(VLOOKUP(F184,Bowler_Name,1,FALSE)),\"\",INDIRECT(\"'Individual Scores'!\"&ADDRESS(MATCH(F184,'Individual Scores'!$D$2:$D$169,0)+1,3)))","v":"F"},114,135,97,null,129,127,118,346,374,720]
[1,"South Carolina","15 & <","F",10,"Torie Libby","",{"$f":"IF(ISERROR(VLOOKUP(F185,Bowler_Name,1,FALSE)),\"\",INDIRECT(\"'Individual Scores'!\"&ADDRESS(MATCH(F185,'Individual Scores'!$D$2:$D$169,0)+1,2)))","v":"15 & <"},{"$f":"IF(ISERROR(VLOOKUP(F185,Bowler_Name,1,FALSE)),\"\",INDIRECT(\"'Individual Scores'!\"&ADDRESS(MATCH(F185,'Individual Scores'!$D$2:$D$169,0)+1,3)))","v":"F"},160,182,189,null,152,134,155,531,441,972]
[1,"South Carolina","15 & <","F",11,"April Anne Calatrava","",{"$f":"IF(ISERROR(VLOOKUP(F186,Bowler_Name,1,FALSE)),\"\",INDIRECT(\"'Individual Scores'!\"&ADDRESS(MATCH(F186,'Individual Scores'!$D$2:$D$169,0)+1,2)))","v":"15 & <"},{"$f":"IF(ISERROR(VLOOKUP(F186,Bowler_Name,1,FALSE)),\"\",INDIRECT(\"'Individual Scores'!\"&ADDRESS(MATCH(F186,'Individual Scores'!$D$2:$D$169,0)+1,3)))","v":"F"},127,181,149,null,143,128,146,457,417,874]
[1,"South Carolina","15 & <","F"]
[1,"South Carolina","15 & <","F",null,{"$f":"DGET(Constants!$C$1:$D$4,1,E172:E173)&\" \"&G173&\" \"&F173","v":"SC F 15 & <"},null,null,null,{"$f":"SUM(J175:J187)-MIN(J175:J187)","v":1645},1706,1646,null,1621,1550,1638,{"$f":"SUM(J188:L188)","v":4997},{"$f":"SUM(N188:P188)","v":4809},{"$f":"SUM(Q188:R188)","v":9806}]
[1,null,null,null,null,"Warning Row:  should be hidden",null,null,null,{"$f":"IF(COUNT(J175:J187)=0,\"\",IF(COUNT(J175:J187)<ROWS(J175:J187)-2,1,\"\"))","v":""},"","",null,"","",""]
[1]
[{"$f":"H194","v":1},{"$f":"E194","v":"South Carolina"},{"$f":"F194","v":"15 & <"},{"$f":"G194","v":"M"},"Tournament",{"$f":"DGET('Tournament Locations'!$B$1:$C$4,\"Location\",Scores!$H$4:$H$5)","v":"Gold Cup Russell Pkwy, Warner Robins, GA"}]
[{"$f":"A191","v":1},{"$f":"B191","v":"South Carolina"},{"$f":"C191","v":"15 & <"},{"$f":"D191","v":"M"},null,null,null,null,null,null,null,"High Game",null,{"$f":"MAX(J197:P208)","v":265},null,{"$f":"IF(SUM(J210:P210)>0,\"Warning:  Not enough scores to drop lowest score.  Be sure zeros are entered for any vacant bowler\",\"\")","v":""}]
[{"$f":"A192","v":1},"South Carolina","15 & <","M","State","Age","Gender","Tournament",null,null,null,"High Series",null,{"$f":"MAX(Q197:R208)","v":721}]
[1,"South Carolina","15 & <","M",{"$f":"E173","v":"South Carolina"},{"$f":"F173","v":"15 & <"},"M",{"$f":"H5","v":1},null,null,null,"High Pins",null,{"$f":"MAX(S197:S208)","v":1290}]
[1,"South Carolina","15 & <","M"]
[1,"South Carolina","15 & <","M","Player Number","Full Name","Flag","Actual Age","Gender","Game 1","Game 2","Game 3",null,"Game 4","Game 5","Game 6","Series 1","Series 2","Total"]
[1,"South Carolina","15 & <","M",1,"Blake Kempfer",{"$f":"IF(ISERROR(VLOOKUP(F197,Bowler_Name,1,FALSE)),\"Not Entered\",IF(H197>F$194,\"Too Old\",IF(I197<>G$194,\"Wrong Gender\",\"\")))","v":""},{"$f":"IF(ISERROR(VLOOKUP(F197,Bowler_Name,1,FALSE)),\"\",INDIRECT(\"'Individual Scores'!\"&ADDRESS(MATCH(F197,'Individual Scores'!$D$2:$D$169,0)+1,2)))","v":"15 & <"},{"$f":"IF(ISERROR(VLOOKUP(F197,Bowler_Name,1,FALSE)),\"\",INDIRECT(\"'Individual Scores'!\"&ADDRESS(MATCH(F197,'Individual Scores'!$D$2:$D$169,0)+1,3)))","v":"M"},219,183,218,null,140,173,155,{"$f":"SUM(J197:L197)","v":620},{"$f":"SUM(N197:P197)","v":468},{"$f":"SUM(Q197:R197)","v":1088}]
[1,"South Carolina","15 & <","M",{"$f":"E197+1","v":2},"Ryan Lapano","",{"$f":"IF(ISERROR(VLOOKUP(F198,Bowler_Name,1,FALSE)),\"\",INDIRECT(\"'Individual Scores'!\"&ADDRESS(MATCH(F198,'Individual Scores'!$D$2:$D$169,0)+1,2)))","v":"15 & <"},{"$f":"IF(ISERROR(VLOOKUP(F198,Bowler_Name,1,FALSE)),\"\",INDIRECT(\"'Individual Scores'!\"&ADDRESS(MATCH(F198,'Individual Scores'!$D$2:$D$169,0)+1,3)))","v":"M"},181,224,193,null,200,164,152,{"$f":"SUM(J198:L198)","v":598},{"$f":"SUM(N198:P198)","v":516},{"$f":"SUM(Q198:R198)","v":1114}]
[1,"South Carolina","15 & <","M",3,"Jonathan Lovett","",{"$f":"IF(ISERROR(VLOOKUP(F199,Bowler_Name,1,FALSE)),\"\",INDIRECT(\"'Individual Scores'!\"&ADDRESS(MATCH(F199,'Individual Scores'!$D$2:$D$169,0)+1,2)))","v":"15 & <"},{"$f":"IF(ISERROR(VLOOKUP(F199,Bowler_Name,1,FALSE)),\"\",INDIRECT(\"'Individual Scores'!\"&ADDRESS(MATCH(F199,'Individual Scores'!$D$2:$D$169,0)+1,3)))","v":"M"},256,178,185,null,185,160,174,619,519,1138]
[1,"South Carolina","15 & <","M",4,"David Root","",{"$f":"IF(ISERROR(VLOOKUP(F200,Bowler_Name,1,FALSE)),\"\",INDIRECT(\"'Individual Scores'!\"&ADDRESS(MATCH(F200,'Individual Scores'!$D$2:$D$169,0)+1,2)))","v":"15 & <"},{"$f":"IF(ISERROR(VLOOKUP(F200,Bowler_Name,1,FALSE)),\"\",INDIRECT(\"'Individual Scores'!\"&ADDRESS(MATCH(F200,'Individual Scores'!$D$2:$D$169,0)+1,3)))","v":"M"},189,189,185,null,210,192,190,563,592,1155]
[1,"South Carolina","15 & <","M",5,"Zack Wofford","",{"$f":"IF(ISERROR(VLOOKUP(F201,Bowler_Name,1,FALSE)),\"\",INDIRECT(\"'Individual Scores'!\"&ADDRESS(MATCH(F201,'Individual Scores'!$D$2:$D$169,0)+1,2)))","v":"15 & <"},{"$f":"IF(ISERROR(VLOOKUP(F201,Bowler_Name,1,FALSE)),\"\",INDIRECT(\"'Individual Scores'!\"&ADDRESS(MATCH(F201,'Individual Scores'!$D$2:$D$169,0)+1,3)))","v":"M"},165,157,167,null,164,155,130,489,449,938]
[1,"South Carolina","15 & <","M",6,"Vacant-SC_B_U15","",{"$f":"IF(ISERROR(VLOOKUP(F202,Bowler_Name,1,FALSE)),\"\",INDIRECT(\"'Individual Scores'!\"&ADDRESS(MATCH(F202,'Individual Scores'!$D$2:$D$169,0)+1,2)))","v":"15 & <"},{"$f":"IF(ISERROR(VLOOKUP(F202,Bowler_Name,1,FALSE)),\"\",INDIRECT(\"'Individual Scores'!\"&ADDRESS(MATCH(F202,'Individual Scores'!$D$2:$D$169,0)+1,3)))","v":"M"},0,0,0,null,0,0,0,0,0,0]
[1,"South Carolina","15 & <","M",7,"Josh Hendricks","",{"$f":"IF(ISERROR(VLOOKUP(F203,Bowler_Name,1,FALSE)),\"\",INDIRECT(\"'Individual Scores'!\"&ADDRESS(MATCH(F203,'Individual Scores'!$D$2:$D$169,0)+1,2)))","v":"15 & <"},{"$f":"IF(ISERROR(VLOOKUP(F203,Bowler_Name,1,FALSE)),\"\",INDIRECT(\"'Individual Scores'!\"&ADDRESS(MATCH(F203,'Individual Scores'!$D$2:$D$169,0)+1,3)))","v":"M"},202,202,223,null,172,162,168,627,502,1129]
[1,"South Carolina","15 & <","M",8,"Kevin King","",{"$f":"IF(ISERROR(VLOOKUP(F204,Bowler_Name,1,FALSE)),\"\",INDIRECT(\"'Individual Scores'!\"&ADDRESS(MATCH(F204,'Individual Scores'!$D$2:$D$169,0)+1,2)))","v":"15 & <"},{"$f":"IF(ISERROR(VLOOKUP(F204,Bowler_Name,1,FALSE)),\"\",INDIRECT(\"'Individual Scores'!\"&ADDRESS(MATCH(F204,'Individual Scores'!$D$2:$D$169,0)+1,3)))","v":"M"},172,150,221,null,141,186,210,543,537,1080]
[1,"South Carolina","15 & <","M",9,"Josh Larnish","",{"$f":"IF(ISERROR(VLOOKUP(F205,Bowler_Name,1,FALSE)),\"\",INDIRECT(\"'Individual Scores'!\"&ADDRESS(MATCH(F205,'Individual Scores'!$D$2:$D$169,0)+1,2)))","v":"15 & <"},{"$f":"IF(ISERROR(VLOOKUP(F205,Bowler_Name,1,FALSE)),\"\",INDIRECT(\"'Individual Scores'!\"&ADDRESS(MATCH(F205,'Individual Scores'!$D$2:$D$169,0)+1,3)))","v":"M"},130,153,144,null,183,186,171,427,540,967]
[1,"South Carolina","15 & <","M",10,"Brandon Magennis","",{"$f":"IF(ISERROR(VLOOKUP(F206,Bowler_Name,1,FALSE)),\"\",INDIRECT(\"'Individual Scores'!\"&ADDRESS(MATCH(F206,'Individual Scores'!$D$2:$D$169,0)+1,2)))","v":"15 & <"},{"$f":"IF(ISERROR(VLOOKUP(F206,Bowler_Name,1,FALSE)),\"\",INDIRECT(\"'Individual Scores'!\"&ADDRESS(MATCH(F206,'Individual Scores'!$D$2:$D$169,0)+1,3)))","v":"M"},209,247,265,null,204,167,198,721,569,1290]
[1,"South Carolina","15 & <","M",11,"Chris Hartzell","",{"$f":"IF(ISERROR(VLOOKUP(F207,Bowler_Name,1,FALSE)),\"\",INDIRECT(\"'Individual Scores'!\"&ADDRESS(MATCH(F207,'Individual Scores'!$D$2:$D$169,0)+1,2)))","v":"15 & <"},{"$f":"IF(ISERROR(VLOOKUP(F207,Bowler_Name,1,FALSE)),\"\",INDIRECT(\"'Individual Scores'!\"&ADDRESS(MATCH(F207,'Individual Scores'!$D$2:$D$169,0)+1,3)))","v":"M"},122,114,113,null,121,103,125,349,349,698]
[1,"South Carolina","15 & <","M"]
[1,"South Carolina","15 & <","M",null,{"$f":"DGET(Constants!$C$1:$D$4,1,E193:E194)&\" \"&G194&\" \"&F194","v":"SC M 15 & <"},null,null,null,{"$f":"SUM(J196:J208)-MIN(J196:J208)","v":1845},1797,1914,null,1720,1648,1673,{"$f":"SUM(J209:L209)","v":5556},{"$f":"SUM(N209:P209)","v":5041},{"$f":"SUM(Q209:R209)","v":10597}]
[1,null,null,null,null,"Warning Row:  should be hidden",null,null,null,{"$f":"IF(COUNT(J196:J208)=0,\"\",IF(COUNT(J196:J208)<ROWS(J196:J208)-2,1,\"\"))","v":""},"","",null,"","",""]
[1]
[{"$f":"H215","v":1},{"$f":"E215","v":"South Carolina"},{"$f":"F215","v":"16-20"},{"$f":"G215","v":"F"},"Tournament",{"$f":"DGET('Tournament Locations'!$B$1:$C$4,\"Location\",Scores!$H$4:$H$5)","v":"Gold Cup Russell Pkwy, Warner Robins, GA"}]
[{"$f":"A212","v":1},{"$f":"B212","v":"South Carolina"},{"$f":"C212","v":"16-20"},{"$f":"D212","v":"F"},null,null,null,null,null,null,null,"High Game",null,{"$f":"MAX(J218:P228)","v":279},null,{"$f":"IF(SUM(J231:P231)>0,\"Warning:  Not enough scores to drop lowest score.  Be sure zeros are entered for any vacant bowler\",\"\")","v":""}]
[{"$f":"A213","v":1},"South Carolina","16-20","F","State","Age","Gender","Tournament",null,null,null,"High Series",null,{"$f":"MAX(Q218:R228)","v":656}]
[1,"South Carolina","16-20","F",{"$f":"E173","v":"South Carolina"},"16-20","F",{"$f":"H5","v":1},null,null,null,"High Pins",null,{"$f":"MAX(S218:S228)","v":1203}]
[1,"South Carolina","16-20","F"]
[1,"South Carolina","16-20","F","Player Number","Full Name","Flag","Actual Age","Gender","Game 1","Game 2","Game 3",null,"Game 4","Game 5","Game 6","Series 1","Series 2","Total"]
[1,"South Carolina","16-20","F",1,"Danielle Brock",{"$f":"IF(ISERROR(VLOOKUP(F218,Bowler_Name,1,FALSE)),\"Not Entered\",IF(H218>F$215,\"Too Old\",IF(I218<>G$215,\"Wrong Gender\",\"\")))","v":""},{"$f":"IF(ISERROR(VLOOKUP(F218,Bowler_Name,1,FALSE)),\"\",INDIRECT(\"'Individual Scores'!\"&ADDRESS(MATCH(F218,'Individual Scores'!$D$2:$D$169,0)+1,2)))","v":"16-20"},{"$f":"IF(ISERROR(VLOOKUP(F218,Bowler_Name,1,FALSE)),\"\",INDIRECT(\"'Individual Scores'!\"&ADDRESS(MATCH(F218,'Individual Scores'!$D$2:$D$169,0)+1,3)))","v":"F"},173,180,210,null,166,190,180,{"$f":"SUM(J218:L218)","v":563},{"$f":"SUM(N218:P218)","v":536},{"$f":"SUM(Q218:R218)","v":1099}]
[1,"South Carolina","16-20","F",{"$f":"E218+1","v":2},"Jordan Matter","",{"$f":"IF(ISERROR(VLOOKUP(F219,Bowler_Name,1,FALSE)),\"\",INDIRECT(\"'Individual Scores'!\"&ADDRESS(MATCH(F219,'Individual Scores'!$D$2:$D$169,0)+1,2)))","v":"16-20"},{"$f":"IF(ISERROR(VLOOKUP(F219,Bowler_Name,1,FALSE)),\"\",INDIRECT(\"'Individual Scores'!\"&ADDRESS(MATCH(F219,'Individual Scores'!$D$2:$D$169,0)+1,3)))","v":"F"},124,127,115,null,158,148,209,{"$f":"SUM(J219:L219)","v":366},{"$f":"SUM(N219:P219)","v":515},{"$f":"SUM(Q219:R219)","v":881}]
[1,"South Carolina","16-20","F",{"$f":"E219+1","v":3},"Sarah O'Conner","",{"$f":"IF(ISERROR(VLOOKUP(F220,Bowler_Name,1,FALSE)),\"\",INDIRECT(\"'Individual Scores'!\"&ADDRESS(MATCH(F220,'Individual Scores'!$D$2:$D$169,0)+1,2)))","v":"16-20"},{"$f":"IF(ISERROR(VLOOKUP(F220,Bowler_Name,1,FALSE)),\"\",INDIRECT(\"'Individual Scores'!\"&ADDRESS(MATCH(F220,'Individual Scores'!$D$2:$D$169,0)+1,3)))","v":"F"},156,121,155,null,185,171,157,432,513,945]
[1,"South Carolina","16-20","F",4,"Lizzi O'Brien","",{"$f":"IF(ISERROR(VLOOKUP(F221,Bowler_Name,1,FALSE)),\"\",INDIRECT(\"'Individual Scores'!\"&ADDRESS(MATCH(F221,'Individual Scores'!$D$2:$D$169,0)+1,2)))","v":"16-20"},{"$f":"IF(ISERROR(VLOOKUP(F221,Bowler_Name,1,FALSE)),\"\",INDIRECT(\"'Individual Scores'!\"&ADDRESS(MATCH(F221,'Individual Scores'!$D$2:$D$169,0)+1,3)))","v":"F"},142,162,165,null,154,159,141,469,454,923]
[1,"South Carolina","16-20","F",5,"Emily Bolton","",{"$f":"IF(ISERROR(VLOOKUP(F222,Bowler_Name,1,FALSE)),\"\",INDIRECT(\"'Individual Scores'!\"&ADDRESS(MATCH(F222,'Individual Scores'!$D$2:$D$169,0)+1,2)))","v":"16-20"},{"$f":"IF(ISERROR(VLOOKUP(F222,Bowler_Name,1,FALSE)),\"\",INDIRECT(\"'Individual Scores'!\"&ADDRESS(MATCH(F222,'Individual Scores'!$D$2:$D$169,0)+1,3)))","v":"F"},223,182,135,null,174,191,211,540,576,1116]
[1,"South Carolina","16-20","F",6,"Kimberlee Lambert","",{"$f":"IF(ISERROR(VLOOKUP(F223,Bowler_Name,1,FALSE)),\"\",INDIRECT(\"'Individual Scores'!\"&ADDRESS(MATCH(F223,'Individual Scores'!$D$2:$D$169,0)+1,2)))","v":"16-20"},{"$f":"IF(ISERROR(VLOOKUP(F223,Bowler_Name,1,FALSE)),\"\",INDIRECT(\"'Individual Scores'!\"&ADDRESS(MATCH(F223,'Individual Scores'!$D$2:$D$169,0)+1,3)))","v":"F"},145,153,184,null,148,168,177,482,493,975]
[1,"South Carolina","16-20","F",7,"Vacant-SC_G_U20","",{"$f":"IF(ISERROR(VLOOKUP(F224,Bowler_Name,1,FALSE)),\"\",INDIRECT(\"'Individual Scores'!\"&ADDRESS(MATCH(F224,'Individual Scores'!$D$2:$D$169,0)+1,2)))","v":"16-20"},{"$f":"IF(ISERROR(VLOOKUP(F224,Bowler_Name,1,FALSE)),\"\",INDIRECT(\"'Individual Scores'!\"&ADDRESS(MATCH(F224,'Individual Scores'!$D$2:$D$169,0)+1,3)))","v":"F"},0,0,0,null,0,0,0,0,0,0]
[1,"South Carolina","16-20","F",8,"Kasey Smith","",{"$f":"IF(ISERROR(VLOOKUP(F225,Bowler_Name,1,FALSE)),\"\",INDIRECT(\"'Individual Scores'!\"&ADDRESS(MATCH(F225,'Individual Scores'!$D$2:$D$169,0)+1,2)))","v":"16-20"},{"$f":"IF(ISERROR(VLOOKUP(F225,Bowler_Name,1,FALSE)),\"\",INDIRECT(\"'Individual Scores'!\"&ADDRESS(MATCH(F225,'Individual Scores'!$D$2:$D$169,0)+1,3)))","v":"F"},190,279,187,null,175,198,174,656,547,1203]
[1,"South Carolina","16-20","F",9,"Kelly Hutchinson","",{"$f":"IF(ISERROR(VLOOKUP(F226,Bowler_Name,1,FALSE)),\"\",INDIRECT(\"'Individual Scores'!\"&ADDRESS(MATCH(F226,'Individual Scores'!$D$2:$D$169,0)+1,2)))","v":"16-20"},{"$f":"IF(ISERROR(VLOOKUP(F226,Bowler_Name,1,FALSE)),\"\",INDIRECT(\"'Individual Scores'!\"&ADDRESS(MATCH(F226,'Individual Scores'!$D$2:$D$169,0)+1,3)))","v":"F"},194,158,166,null,157,131,116,518,404,922]
[1,"South Carolina","16-20","F",10,"Hannah Krietemeyer","",{"$f":"IF(ISERROR(VLOOKUP(F227,Bowler_Name,1,FALSE)),\"\",INDIRECT(\"'Individual Scores'!\"&ADDRESS(MATCH(F227,'Individual Scores'!$D$2:$D$169,0)+1,2)))","v":"16-20"},{"$f":"IF(ISERROR(VLOOKUP(F227,Bowler_Name,1,FALSE)),\"\",INDIRECT(\"'Individual Scores'!\"&ADDRESS(MATCH(F227,'Individual Scores'!$D$2:$D$169,0)+1,3)))","v":"F"},128,196,160,null,146,191,181,484,518,1002]
[1,"South Carolina","16-20","F",11,"Ashley Griffin","",{"$f":"IF(ISERROR(VLOOKUP(F228,Bowler_Name,1,FALSE)),\"\",INDIRECT(\"'Individual Scores'!\"&ADDRESS(MATCH(F228,'Individual Scores'!$D$2:$D$169,0)+1,2)))","v":"16-20"},{"$f":"IF(ISERROR(VLOOKUP(F228,Bowler_Name,1,FALSE)),\"\",INDIRECT(\"'Individual Scores'!\"&ADDRESS(MATCH(F228,'Individual Scores'!$D$2:$D$169,0)+1,3)))","v":"F"},151,168,130,null,129,167,152,449,448,897]
[1,"South Carolina","16-20","F"]
[1,"South Carolina","16-20","F",null,{"$f":"DGET(Constants!$C$1:$D$4,1,E214:E215)&\" \"&G215&\" \"&F215","v":"SC F 16-20"},null,null,null,{"$f":"SUM(J217:J229)-MIN(J217:J229)","v":1626},1726,1607,null,1592,1714,1698,{"$f":"SUM(J230:L230)","v":4959},{"$f":"SUM(N230:P230)","v":5004},{"$f":"SUM(Q230:R230)","v":9963}]
[1,null,null,null,null,"Warning Row:  should be hidden",null,null,null,{"$f":"IF(COUNT(J217:J229)=0,\"\",IF(COUNT(J217:J229)<ROWS(J217:J229)-2,1,\"\"))","v":""},"","",null,"","",""]
[1]
[{"$f":"H236","v":1},{"$f":"E236","v":"South Carolina"},{"$f":"F236","v":"16-20"},{"$f":"G236","v":"M"},"Tournament",{"$f":"DGET('Tournament Locations'!$B$1:$C$4,\"Location\",Scores!$H$4:$H$5)","v":"Gold Cup Russell Pkwy, Warner Robins, GA"}]
[{"$f":"A233","v":1},{"$f":"B233","v":"South Carolina"},{"$f":"C233","v":"16-20"},{"$f":"D233","v":"M"},null,null,null,null,null,null,null,"High Game",null,{"$f":"MAX(J239:P249)","v":299},null,{"$f":"IF(SUM(J252:P252)>0,\"Warning:  Not enough scores to drop lowest score.  Be sure zeros are entered for any vacant bowler\",\"\")","v":""}]
[{"$f":"A234","v":1},"South Carolina","16-20","M","State","Age","Gender","Tournament",null,null,null,"High Series",null,{"$f":"MAX(Q239:R249)","v":686}]
[1,"South Carolina","16-20","M",{"$f":"E173","v":"South Carolina"},{"$f":"F215","v":"16-20"},"M",{"$f":"H5","v":1},null,null,null,"High Pins",null,{"$f":"MAX(S239:S249)","v":1266}]
[1,"South Carolina","16-20","M"]
[1,"South Carolina","16-20","M","Player Number","Full Name","Flag","Actual Age","Gender","Game 1","Game 2","Game 3",null,"Game 4","Game 5","Game 6","Series 1","Series 2","Total"]
[1,"South Carolina","16-20","M",1,"Eric Smith",{"$f":"IF(ISERROR(VLOOKUP(F239,Bowler_Name,1,FALSE)),\"Not Entered\",IF(H239>F$236,\"Too Old\",IF(I239<>G$236,\"Wrong Gender\",\"\")))","v":""},{"$f":"IF(ISERROR(VLOOKUP(F239,Bowler_Name,1,FALSE)),\"\",INDIRECT(\"'Individual Scores'!\"&ADDRESS(MATCH(F239,'Individual Scores'!$D$2:$D$169,0)+1,2)))","v":"16-20"},{"$f":"IF(ISERROR(VLOOKUP(F239,Bowler_Name,1,FALSE)),\"\",INDIRECT(\"'Individual Scores'!\"&ADDRESS(MATCH(F239,'Individual Scores'!$D$2:$D$169,0)+1,3)))","v":"M"},223,179,130,null,194,191,169,{"$f":"SUM(J239:L239)","v":532},{"$f":"SUM(N239:P239)","v":554},{"$f":"SUM(Q239:R239)","v":1086}]
[1,"South Carolina","16-20","M",{"$f":"E239+1","v":2},"Vacant-SC_B_U20","",{"$f":"IF(ISERROR(VLOOKUP(F240,Bowler_Name,1,FALSE)),\"\",INDIRECT(\"'Individual Scores'!\"&ADDRESS(MATCH(F240,'Individual Scores'!$D$2:$D$169,0)+1,2)))","v":"16-20"},{"$f":"IF(ISERROR(VLOOKUP(F240,Bowler_Name,1,FALSE)),\"\",INDIRECT(\"'Individual Scores'!\"&ADDRESS(MATCH(F240,'Individual Scores'!$D$2:$D$169,0)+1,3)))","v":"M"},0,0,0,null,0,0,0,{"$f":"SUM(J240:L240)","v":0},{"$f":"SUM(N240:P240)","v":0},{"$f":"SUM(Q240:R240)","v":0}]
[1,"South Carolina","16-20","M",{"$f":"E240+1","v":3},"Travis Smith","",{"$f":"IF(ISERROR(VLOOKUP(F241,Bowler_Name,1,FALSE)),\"\",INDIRECT(\"'Individual Scores'!\"&ADDRESS(MATCH(F241,'Individual Scores'!$D$2:$D$169,0)+1,2)))","v":"16-20"},{"$f":"IF(ISERROR(VLOOKUP(F241,Bowler_Name,1,FALSE)),\"\",INDIRECT(\"'Individual Scores'!\"&ADDRESS(MATCH(F241,'Individual Scores'!$D$2:$D$169,0)+1,3)))","v":"M"},143,183,131,null,170,183,150,457,503,960]
[1,"South Carolina","16-20","M",4,"Luke Willis","",{"$f":"IF(ISERROR(VLOOKUP(F242,Bowler_Name,1,FALSE)),\"\",INDIRECT(\"'Individual Scores'!\"&ADDRESS(MATCH(F242,'Individual Scores'!$D$2:$D$169,0)+1,2)))","v":"16-20"},{"$f":"IF(ISERROR(VLOOKUP(F242,Bowler_Name,1,FALSE)),\"\",INDIRECT(\"'Individual Scores'!\"&ADDRESS(MATCH(F242,'Individual Scores'!$D$2:$D$169,0)+1,3)))","v":"M"},194,178,165,null,257,205,214,537,676,1213]
[1,"South Carolina","16-20","M",5,"Christian Gurney","",{"$f":"IF(ISERROR(VLOOKUP(F243,Bowler_Name,1,FALSE)),\"\",INDIRECT(\"'Individual Scores'!\"&ADDRESS(MATCH(F243,'Individual Scores'!$D$2:$D$169,0)+1,2)))","v":"16-20"},{"$f":"IF(ISERROR(VLOOKUP(F243,Bowler_Name,1,FALSE)),\"\",INDIRECT(\"'Individual Scores'!\"&ADDRESS(MATCH(F243,'Individual Scores'!$D$2:$D$169,0)+1,3)))","v":"M"},207,299,180,null,181,210,189,686,580,1266]
[1,"South Carolina","16-20","M",6,"Junnell Calatrava","",{"$f":"IF(ISERROR(VLOOKUP(F244,Bowler_Name,1,FALSE)),\"\",INDIRECT(\"'Individual Scores'!\"&ADDRESS(MATCH(F244,'Individual Scores'!$D$2:$D$169,0)+1,2)))","v":"16-20"},{"$f":"IF(ISERROR(VLOOKUP(F244,Bowler_Name,1,FALSE)),\"\",INDIRECT(\"'Individual Scores'!\"&ADDRESS(MATCH(F244,'Individual Scores'!$D$2:$D$169,0)+1,3)))","v":"M"},203,209,137,null,231,189,165,549,585,1134]
[1,"South Carolina","16-20","M",7,"Zachary Beckham","",{"$f":"IF(ISERROR(VLOOKUP(F245,Bowler_Name,1,FALSE)),\"\",INDIRECT(\"'Individual Scores'!\"&ADDRESS(MATCH(F245,'Individual Scores'!$D$2:$D$169,0)+1,2)))","v":"16-20"},{"$f":"IF(ISERROR(VLOOKUP(F245,Bowler_Name,1,FALSE)),\"\",INDIRECT(\"'Individual Scores'!\"&ADDRESS(MATCH(F245,'Individual Scores'!$D$2:$D$169,0)+1,3)))","v":"M"},167,212,214,null,149,111,159,593,419,1012]
[1,"South Carolina","16-20","M",8,"Tyler Britt","",{"$f":"IF(ISERROR(VLOOKUP(F246,Bowler_Name,1,FALSE)),\"\",INDIRECT(\"'Individual Scores'!\"&ADDRESS(MATCH(F246,'Individual Scores'!$D$2:$D$169,0)+1,2)))","v":"15 & <"},{"$f":"IF(ISERROR(VLOOKUP(F246,Bowler_Name,1,FALSE)),\"\",INDIRECT(\"'Individual Scores'!\"&ADDRESS(MATCH(F246,'Individual Scores'!$D$2:$D$169,0)+1,3)))","v":"M"},148,147,158,null,186,210,168,453,564,1017]
[1,"South Carolina","16-20","M",9,"Dennis Lane Jr","",{"$f":"IF(ISERROR(VLOOKUP(F247,Bowler_Name,1,FALSE)),\"\",INDIRECT(\"'Individual Scores'!\"&ADDRESS(MATCH(F247,'Individual Scores'!$D$2:$D$169,0)+1,2)))","v":"16-20"},{"$f":"IF(ISERROR(VLOOKUP(F247,Bowler_Name,1,FALSE)),\"\",INDIRECT(\"'Individual Scores'!\"&ADDRESS(MATCH(F247,'Individual Scores'!$D$2:$D$169,0)+1,3)))","v":"M"},152,231,215,null,207,175,159,598,541,1139]
[1,"South Carolina","16-20","M",10,"Bryan Hahlen","",{"$f":"IF(ISERROR(VLOOKUP(F248,Bowler_Name,1,FALSE)),\"\",INDIRECT(\"'Individual Scores'!\"&ADDRESS(MATCH(F248,'Individual Scores'!$D$2:$D$169,0)+1,2)))","v":"16-20"},{"$f":"IF(ISERROR(VLOOKUP(F248,Bowler_Name,1,FALSE)),\"\",INDIRECT(\"'Individual Scores'!\"&ADDRESS(MATCH(F248,'Individual Scores'!$D$2:$D$169,0)+1,3)))","v":"M"},153,190,186,null,237,199,234,529,670,1199]
[1,"South Carolina","16-20","M",11,"Bradley Bright","",{"$f":"IF(ISERROR(VLOOKUP(F249,Bowler_Name,1,FALSE)),\"\",INDIRECT(\"'Individual Scores'!\"&ADDRESS(MATCH(F249,'Individual Scores'!$D$2:$D$169,0)+1,2)))","v":"16-20"},{"$f":"IF(ISERROR(VLOOKUP(F249,Bowler_Name,1,FALSE)),\"\",INDIRECT(\"'Individual Scores'!\"&ADDRESS(MATCH(F249,'Individual Scores'!$D$2:$D$169,0)+1,3)))","v":"M"},158,188,170,null,207,128,182,516,517,1033]
[1,"South Carolina","16-20","M"]
[1,"South Carolina","16-20","M",null,{"$f":"DGET(Constants!$C$1:$D$4,1,E235:E236)&\" \"&G236&\" \"&F236","v":"SC M 16-20"},null,null,null,{"$f":"SUM(J238:J250)-MIN(J238:J250)","v":1748},2016,1686,null,2019,1801,1789,{"$f":"SUM(J251:L251)","v":5450},{"$f":"SUM(N251:P251)","v":5609},{"$f":"SUM(Q251:R251)","v":11059}]
[1,null,null,null,null,"Warning Row:  should be hidden",null,null,null," ",{"$f":"IF(COUNT(K238:K250)=0,\"\",IF(COUNT(K238:K250)<ROWS(K238:K250)-2,1,\"\"))","v":""},{"$f":"IF(COUNT(L238:L250)=0,\"\",IF(COUNT(L238:L250)<ROWS(L238:L250)-2,1,\"\"))","v":""},null,{"$f":"IF(COUNT(N238:N250)=0,\"\",IF(COUNT(N238:N250)<ROWS(N238:N250)-2,1,\"\"))","v":""},{"$f":"IF(COUNT(O238:O250)=0,\"\",IF(COUNT(O238:O250)<ROWS(O238:O250)-2,1,\"\"))","v":""},{"$f":"IF(COUNT(P238:P250)=0,\"\",IF(COUNT(P238:P250)<ROWS(P238:P250)-2,1,\"\"))","v":""}]
[1]
[{"$f":"H257","v":2},{"$f":"E257","v":"Georgia"},{"$f":"F257","v":"15 & <"},{"$f":"G257","v":"F"},"Tournament",{"$f":"DGET('Tournament Locations'!$B$1:$C$4,\"Location\",H256:H257)","v":"Royal Lanes, Goose Creek, SC"}]
[{"$f":"A254","v":2},{"$f":"B254","v":"Georgia"},{"$f":"C254","v":"15 & <"},{"$f":"D254","v":"F"},null,null,null,null,null,null,null,"High Game",null,{"$f":"MAX(J260:P271)","v":216},null,{"$f":"IF(SUM(J273:P273)>0,\"Warning:  Not enough scores to drop lowest score.  Be sure zeros are entered for any vacant bowler\",\"\")","v":""}]
[{"$f":"A255","v":2},"Georgia","15 & <","F","State","Age","Gender","Tournament",null,null,null,"High Series",null,{"$f":"MAX(Q260:R271)","v":576}]
[2,"Georgia","15 & <","F","Georgia","15 & <","F",2,null,null,null,"High Pins",null,{"$f":"MAX(S260:S271)","v":1136}]
[2,"Georgia","15 & <","F"]
[2,"Georgia","15 & <","F","Player Number","Full Name","Flag","Actual Age","Gender","Game 1","Game 2","Game 3",null,"Game 4","Game 5","Game 6","Series 1","Series 2","Total"]
[2,"Georgia","15 & <","F",1,"Anita Li",{"$f":"IF(ISERROR(VLOOKUP(F260,Bowler_Name,1,FALSE)),\"Not Entered\",IF(H260>F$257,\"Too Old\",IF(I260<>G$257,\"Wrong Gender\",\"\")))","v":""},{"$f":"IF(ISERROR(VLOOKUP(F260,Bowler_Name,1,FALSE)),\"\",INDIRECT(\"'Individual Scores'!\"&ADDRESS(MATCH(F260,'Individual Scores'!$D$2:$D$169,0)+1,2)))","v":"15 & <"},{"$f":"IF(ISERROR(VLOOKUP(F260,Bowler_Name,1,FALSE)),\"\",INDIRECT(\"'Individual Scores'!\"&ADDRESS(MATCH(F260,'Individual Scores'!$D$2:$D$169,0)+1,3)))","v":"F"},165,150,172,null,154,170,133,{"$f":"SUM(J260:L260)","v":487},{"$f":"SUM(N260:P260)","v":457},{"$f":"SUM(Q260:R260)","v":944},null,{"$f":"S260/6","v":157.33333333333334}]
[2,"Georgia","15 & <","F",{"$f":"E260+1","v":2},"Annalise O'Bryant","",{"$f":"IF(ISERROR(VLOOKUP(F261,Bowler_Name,1,FALSE)),\"\",INDIRECT(\"'Individual Scores'!\"&ADDRESS(MATCH(F261,'Individual Scores'!$D$2:$D$169,0)+1,2)))","v":"15 & <"},{"$f":"IF(ISERROR(VLOOKUP(F261,Bowler_Name,1,FALSE)),\"\",INDIRECT(\"'Individual Scores'!\"&ADDRESS(MATCH(F261,'Individual Scores'!$D$2:$D$169,0)+1,3)))","v":"F"},194,194,172,null,212,204,160,{"$f":"SUM(J261:L261)","v":560},{"$f":"SUM(N261:P261)","v":576},{"$f":"SUM(Q261:R261)","v":1136},null,{"$f":"S261/6","v":189.33333333333334}]
[2,"Georgia","15 & <","F",3,"Bethany Noel","",{"$f":"IF(ISERROR(VLOOKUP(F262,Bowler_Name,1,FALSE)),\"\",INDIRECT(\"'Individual Scores'!\"&ADDRESS(MATCH(F262,'Individual Scores'!$D$2:$D$169,0)+1,2)))","v":"15 & <"},{"$f":"IF(ISERROR(VLOOKUP(F262,Bowler_Name,1,FALSE)),\"\",INDIRECT(\"'Individual Scores'!\"&ADDRESS(MATCH(F262,'Individual Scores'!$D$2:$D$169,0)+1,3)))","v":"F"},169,173,148,null,160,148,164,490,{"$f":"SUM(N262:P262)","v":472},962,null,160.33333333333334]
[2,"Georgia","15 & <","F",4,"Catherine Friess","",{"$f":"IF(ISERROR(VLOOKUP(F263,Bowler_Name,1,FALSE)),\"\",INDIRECT(\"'Individual Scores'!\"&ADDRESS(MATCH(F263,'Individual Scores'!$D$2:$D$169,0)+1,2)))","v":"15 & <"},{"$f":"IF(ISERROR(VLOOKUP(F263,Bowler_Name,1,FALSE)),\"\",INDIRECT(\"'Individual Scores'!\"&ADDRESS(MATCH(F263,'Individual Scores'!$D$2:$D$169,0)+1,3)))","v":"F"},176,115,143,null,126,187,189,434,502,936,null,156]
[2,"Georgia","15 & <","F",5,"Cheyenne Miller","",{"$f":"IF(ISERROR(VLOOKUP(F264,Bowler_Name,1,FALSE)),\"\",INDIRECT(\"'Individual Scores'!\"&ADDRESS(MATCH(F264,'Individual Scores'!$D$2:$D$169,0)+1,2)))","v":"15 & <"},{"$f":"IF(ISERROR(VLOOKUP(F264,Bowler_Name,1,FALSE)),\"\",INDIRECT(\"'Individual Scores'!\"&ADDRESS(MATCH(F264,'Individual Scores'!$D$2:$D$169,0)+1,3)))","v":"F"},146,149,191,null,156,160,162,486,478,964,null,160.66666666666666]
[2,"Georgia","15 & <","F",6,"Emily Rettig","",{"$f":"IF(ISERROR(VLOOKUP(F265,Bowler_Name,1,FALSE)),\"\",INDIRECT(\"'Individual Scores'!\"&ADDRESS(MATCH(F265,'Individual Scores'!$D$2:$D$169,0)+1,2)))","v":"15 & <"},{"$f":"IF(ISERROR(VLOOKUP(F265,Bowler_Name,1,FALSE)),\"\",INDIRECT(\"'Individual Scores'!\"&ADDRESS(MATCH(F265,'Individual Scores'!$D$2:$D$169,0)+1,3)))","v":"F"},216,135,165,null,176,146,180,516,502,1018,null,169.66666666666666]
[2,"Georgia","15 & <","F",7,"Faith Hardy","",{"$f":"IF(ISERROR(VLOOKUP(F266,Bowler_Name,1,FALSE)),\"\",INDIRECT(\"'Individual Scores'!\"&ADDRESS(MATCH(F266,'Individual Scores'!$D$2:$D$169,0)+1,2)))","v":"15 & <"},{"$f":"IF(ISERROR(VLOOKUP(F266,Bowler_Name,1,FALSE)),\"\",INDIRECT(\"'Individual Scores'!\"&ADDRESS(MATCH(F266,'Individual Scores'!$D$2:$D$169,0)+1,3)))","v":"F"},204,165,177,null,154,131,137,546,422,968,null,161.33333333333334]
[2,"Georgia","15 & <","F",8,"Ivyana Hurey Scott","",{"$f":"IF(ISERROR(VLOOKUP(F267,Bowler_Name,1,FALSE)),\"\",INDIRECT(\"'Individual Scores'!\"&ADDRESS(MATCH(F267,'Individual Scores'!$D$2:$D$169,0)+1,2)))","v":"15 & <"},{"$f":"IF(ISERROR(VLOOKUP(F267,Bowler_Name,1,FALSE)),\"\",INDIRECT(\"'Individual Scores'!\"&ADDRESS(MATCH(F267,'Individual Scores'!$D$2:$D$169,0)+1,3)))","v":"F"},176,145,157,null,169,201,188,478,558,1036,null,172.66666666666666]
[2,"Georgia","15 & <","F",9,"Kathleen Elder","",{"$f":"IF(ISERROR(VLOOKUP(F268,Bowler_Name,1,FALSE)),\"\",INDIRECT(\"'Individual Scores'!\"&ADDRESS(MATCH(F268,'Individual Scores'!$D$2:$D$169,0)+1,2)))","v":"15 & <"},{"$f":"IF(ISERROR(VLOOKUP(F268,Bowler_Name,1,FALSE)),\"\",INDIRECT(\"'Individual Scores'!\"&ADDRESS(MATCH(F268,'Individual Scores'!$D$2:$D$169,0)+1,3)))","v":"F"},155,159,146,null,142,123,181,460,446,906,null,151]
[2,"Georgia","15 & <","F",10,"Savanna Campbell","",{"$f":"IF(ISERROR(VLOOKUP(F269,Bowler_Name,1,FALSE)),\"\",INDIRECT(\"'Individual Scores'!\"&ADDRESS(MATCH(F269,'Individual Scores'!$D$2:$D$169,0)+1,2)))","v":"15 & <"},{"$f":"IF(ISERROR(VLOOKUP(F269,Bowler_Name,1,FALSE)),\"\",INDIRECT(\"'Individual Scores'!\"&ADDRESS(MATCH(F269,'Individual Scores'!$D$2:$D$169,0)+1,3)))","v":"F"},168,216,163,null,178,147,132,547,457,1004,null,167.33333333333334]
[2,"Georgia","15 & <","F",11,"Glory Harmon","",{"$f":"IF(ISERROR(VLOOKUP(F270,Bowler_Name,1,FALSE)),\"\",INDIRECT(\"'Individual Scores'!\"&ADDRESS(MATCH(F270,'Individual Scores'!$D$2:$D$169,0)+1,2)))","v":"15 & <"},{"$f":"IF(ISERROR(VLOOKUP(F270,Bowler_Name,1,FALSE)),\"\",INDIRECT(\"'Individual Scores'!\"&ADDRESS(MATCH(F270,'Individual Scores'!$D$2:$D$169,0)+1,3)))","v":"F"},209,157,161,null,132,145,124,527,401,928,null,154.66666666666666]
[2,"Georgia","15 & <","F"]
[2,"Georgia","15 & <","F",null,{"$f":"DGET(Constants!$C$1:$D$4,1,E256:E257)&\" \"&G257&\" \"&F257","v":"GA F 15 & <"},null,null,null,{"$f":"SUM(J260:J270)-MIN(J260:J270)","v":1832},{"$f":"SUM(K259:K271)-MIN(K259:K271)","v":1643},1652,null,1633,1639,1626,{"$f":"SUM(J272:L272)","v":5127},{"$f":"SUM(N272:P272)","v":4898},{"$f":"SUM(Q272:R272)","v":10025}]
[2,null,null,null,null,"Warning Row:  should be hidden",null,null,null,{"$f":"IF(COUNT(J259:J271)=0,\"\",IF(COUNT(J259:J271)<ROWS(J259:J271)-2,1,\"\"))","v":""},"","",null,"","",""]
[2]
[{"$f":"H278","v":2},{"$f":"E278","v":"Georgia"},{"$f":"F278","v":"15 & <"},{"$f":"G278","v":"M"},"Tournament",{"$f":"DGET('Tournament Locations'!$B$1:$C$4,\"Location\",H277:H278)","v":"Royal Lanes, Goose Creek, SC"}]
[{"$f":"A275","v":2},{"$f":"B275","v":"Georgia"},{"$f":"C275","v":"15 & <"},{"$f":"D275","v":"M"},null,null,null,null,null,null,null,"High Game",null,{"$f":"MAX(J281:P292)","v":246},null,{"$f":"IF(SUM(J294:P294)>0,\"Warning:  Not enough scores to drop lowest score.  Be sure zeros are entered for any vacant bowler\",\"\")","v":""}]
[{"$f":"A276","v":2},"Georgia","15 & <","M","State","Age","Gender","Tournament",null,null,null,"High Series",null,{"$f":"MAX(Q281:R292)","v":652}]
[2,"Georgia","15 & <","M",{"$f":"E257","v":"Georgia"},{"$f":"F257","v":"15 & <"},"M",{"$f":"H257","v":2},null,null,null,"High Pins",null,{"$f":"MAX(S281:S292)","v":1170}]
[2,"Georgia","15 & <","M"]
[2,"Georgia","15 & <","M","Player Number","Full Name","Flag","Actual Age","Gender","Game 1","Game 2","Game 3",null,"Game 4","Game 5","Game 6","Series 1","Series 2","Total"]
[2,"Georgia","15 & <","M",1,"Brandon Campbell",{"$f":"IF(ISERROR(VLOOKUP(F281,Bowler_Name,1,FALSE)),\"Not Entered\",IF(H281>F$278,\"Too Old\",IF(I281<>G$278,\"Wrong Gender\",\"\")))","v":""},{"$f":"IF(ISERROR(VLOOKUP(F281,Bowler_Name,1,FALSE)),\"\",INDIRECT(\"'Individual Scores'!\"&ADDRESS(MATCH(F281,'Individual Scores'!$D$2:$D$169,0)+1,2)))","v":"15 & <"},{"$f":"IF(ISERROR(VLOOKUP(F281,Bowler_Name,1,FALSE)),\"\",INDIRECT(\"'Individual Scores'!\"&ADDRESS(MATCH(F281,'Individual Scores'!$D$2:$D$169,0)+1,3)))","v":"M"},170,157,169,null,155,184,176,{"$f":"SUM(J281:L281)","v":496},{"$f":"SUM(N281:P281)","v":515},{"$f":"SUM(Q281:R281)","v":1011},null,{"$f":"S281/6","v":168.5}]
[2,"Georgia","15 & <","M",{"$f":"E281+1","v":2},"Dakota Starling","",{"$f":"IF(ISERROR(VLOOKUP(F282,Bowler_Name,1,FALSE)),\"\",INDIRECT(\"'Individual Scores'!\"&ADDRESS(MATCH(F282,'Individual Scores'!$D$2:$D$169,0)+1,2)))","v":"15 & <"},{"$f":"IF(ISERROR(VLOOKUP(F282,Bowler_Name,1,FALSE)),\"\",INDIRECT(\"'Individual Scores'!\"&ADDRESS(MATCH(F282,'Individual Scores'!$D$2:$D$169,0)+1,3)))","v":"M"},177,222,193,null,160,223,157,{"$f":"SUM(J282:L282)","v":592},{"$f":"SUM(N282:P282)","v":540},{"$f":"SUM(Q282:R282)","v":1132},null,{"$f":"S282/6","v":188.66666666666666}]
[2,"Georgia","15 & <","M",3,"Isaiah Tukes","",{"$f":"IF(ISERROR(VLOOKUP(F283,Bowler_Name,1,FALSE)),\"\",INDIRECT(\"'Individual Scores'!\"&ADDRESS(MATCH(F283,'Individual Scores'!$D$2:$D$169,0)+1,2)))","v":"15 & <"},{"$f":"IF(ISERROR(VLOOKUP(F283,Bowler_Name,1,FALSE)),\"\",INDIRECT(\"'Individual Scores'!\"&ADDRESS(MATCH(F283,'Individual Scores'!$D$2:$D$169,0)+1,3)))","v":"M"},200,213,178,null,174,168,190,591,532,1123,null,187.16666666666666]
[2,"Georgia","15 & <","M",4,"Josh Monroe","",{"$f":"IF(ISERROR(VLOOKUP(F284,Bowler_Name,1,FALSE)),\"\",INDIRECT(\"'Individual Scores'!\"&ADDRESS(MATCH(F284,'Individual Scores'!$D$2:$D$169,0)+1,2)))","v":"15 & <"},{"$f":"IF(ISERROR(VLOOKUP(F284,Bowler_Name,1,FALSE)),\"\",INDIRECT(\"'Individual Scores'!\"&ADDRESS(MATCH(F284,'Individual Scores'!$D$2:$D$169,0)+1,3)))","v":"M"},181,163,213,null,164,217,161,557,542,1099,null,183.16666666666666]
[2,"Georgia","15 & <","M",5,"Justin Riley","",{"$f":"IF(ISERROR(VLOOKUP(F285,Bowler_Name,1,FALSE)),\"\",INDIRECT(\"'Individual Scores'!\"&ADDRESS(MATCH(F285,'Individual Scores'!$D$2:$D$169,0)+1,2)))","v":"15 & <"},{"$f":"IF(ISERROR(VLOOKUP(F285,Bowler_Name,1,FALSE)),\"\",INDIRECT(\"'Individual Scores'!\"&ADDRESS(MATCH(F285,'Individual Scores'!$D$2:$D$169,0)+1,3)))","v":"M"},213,205,175,null,220,169,188,593,577,1170,null,195]
[2,"Georgia","15 & <","M",6,"Leo Kooman","",{"$f":"IF(ISERROR(VLOOKUP(F286,Bowler_Name,1,FALSE)),\"\",INDIRECT(\"'Individual Scores'!\"&ADDRESS(MATCH(F286,'Individual Scores'!$D$2:$D$169,0)+1,2)))","v":"15 & <"},{"$f":"IF(ISERROR(VLOOKUP(F286,Bowler_Name,1,FALSE)),\"\",INDIRECT(\"'Individual Scores'!\"&ADDRESS(MATCH(F286,'Individual Scores'!$D$2:$D$169,0)+1,3)))","v":"M"},180,191,173,null,164,185,209,544,558,1102,null,183.66666666666666]
[2,"Georgia","15 & <","M",7,"Logan Mathis","",{"$f":"IF(ISERROR(VLOOKUP(F287,Bowler_Name,1,FALSE)),\"\",INDIRECT(\"'Individual Scores'!\"&ADDRESS(MATCH(F287,'Individual Scores'!$D$2:$D$169,0)+1,2)))","v":"15 & <"},{"$f":"IF(ISERROR(VLOOKUP(F287,Bowler_Name,1,FALSE)),\"\",INDIRECT(\"'Individual Scores'!\"&ADDRESS(MATCH(F287,'Individual Scores'!$D$2:$D$169,0)+1,3)))","v":"M"},161,223,171,null,232,163,180,555,575,1130,null,188.33333333333334]
[2,"Georgia","15 & <","M",8,"Matthew Hickey","",{"$f":"IF(ISERROR(VLOOKUP(F288,Bowler_Name,1,FALSE)),\"\",INDIRECT(\"'Individual Scores'!\"&ADDRESS(MATCH(F288,'Individual Scores'!$D$2:$D$169,0)+1,2)))","v":"15 & <"},{"$f":"IF(ISERROR(VLOOKUP(F288,Bowler_Name,1,FALSE)),\"\",INDIRECT(\"'Individual Scores'!\"&ADDRESS(MATCH(F288,'Individual Scores'!$D$2:$D$169,0)+1,3)))","v":"M"},210,231,211,null,164,144,169,652,477,1129,null,188.16666666666666]
[2,"Georgia","15 & <","M",9,"Paris Swinson","",{"$f":"IF(ISERROR(VLOOKUP(F289,Bowler_Name,1,FALSE)),\"\",INDIRECT(\"'Individual Scores'!\"&ADDRESS(MATCH(F289,'Individual Scores'!$D$2:$D$169,0)+1,2)))","v":"15 & <"},{"$f":"IF(ISERROR(VLOOKUP(F289,Bowler_Name,1,FALSE)),\"\",INDIRECT(\"'Individual Scores'!\"&ADDRESS(MATCH(F289,'Individual Scores'!$D$2:$D$169,0)+1,3)))","v":"M"},169,179,138,null,246,190,159,486,595,1081,null,180.16666666666666]
[2,"Georgia","15 & <","M",10,"Sean Espey","",{"$f":"IF(ISERROR(VLOOKUP(F290,Bowler_Name,1,FALSE)),\"\",INDIRECT(\"'Individual Scores'!\"&ADDRESS(MATCH(F290,'Individual Scores'!$D$2:$D$169,0)+1,2)))","v":"15 & <"},{"$f":"IF(ISERROR(VLOOKUP(F290,Bowler_Name,1,FALSE)),\"\",INDIRECT(\"'Individual Scores'!\"&ADDRESS(MATCH(F290,'Individual Scores'!$D$2:$D$169,0)+1,3)))","v":"M"},137,204,188,null,235,203,181,529,619,1148,null,191.33333333333334]
[2,"Georgia","15 & <","M",11,"Tyrell Ingalls","",{"$f":"IF(ISERROR(VLOOKUP(F291,Bowler_Name,1,FALSE)),\"\",INDIRECT(\"'Individual Scores'!\"&ADDRESS(MATCH(F291,'Individual Scores'!$D$2:$D$169,0)+1,2)))","v":"15 & <"},{"$f":"IF(ISERROR(VLOOKUP(F291,Bowler_Name,1,FALSE)),\"\",INDIRECT(\"'Individual Scores'!\"&ADDRESS(MATCH(F291,'Individual Scores'!$D$2:$D$169,0)+1,3)))","v":"M"},217,203,180,null,179,181,162,600,522,1122,null,187]
[2,"Georgia","15 & <","M"]
[2,"Georgia","15 & <","M",null,{"$f":"DGET(Constants!$C$1:$D$4,1,E277:E278)&\" \"&G278&\" \"&F278","v":"GA M 15 & <"},null,null,null,{"$f":"SUM(J281:J291)-MIN(J281:J291)","v":1878},{"$f":"SUM(K280:K292)-MIN(K280:K292)","v":2034},1851,null,1938,1883,1775,{"$f":"SUM(J293:L293)","v":5763},{"$f":"SUM(N293:P293)","v":5596},{"$f":"SUM(Q293:R293)","v":11359}]
[2,null,null,null,null,"Warning Row:  should be hidden",null,null,null,{"$f":"IF(COUNT(J280:J292)=0,\"\",IF(COUNT(J280:J292)<ROWS(J280:J292)-2,1,\"\"))","v":""},"","",null,"","",""]
[2]
[{"$f":"H299","v":2},{"$f":"E299","v":"Georgia"},{"$f":"F299","v":"16-20"},{"$f":"G299","v":"F"},"Tournament",{"$f":"DGET('Tournament Locations'!$B$1:$C$4,\"Location\",H298:H299)","v":"Royal Lanes, Goose Creek, SC"}]
[{"$f":"A296","v":2},{"$f":"B296","v":"Georgia"},{"$f":"C296","v":"16-20"},{"$f":"D296","v":"F"},null,null,null,null,null,null,null,"High Game",null,{"$f":"MAX(J302:P312)","v":257},null,{"$f":"IF(SUM(J315:P315)>0,\"Warning:  Not enough scores to drop lowest score.  Be sure zeros are entered for any vacant bowler\",\"\")","v":""}]
[{"$f":"A297","v":2},"Georgia","16-20","F","State","Age","Gender","Tournament",null,null,null,"High Series",null,{"$f":"MAX(Q302:R312)","v":606}]
[2,"Georgia","16-20","F",{"$f":"E257","v":"Georgia"},"16-20","F",{"$f":"H257","v":2},null,null,null,"High Pins",null,{"$f":"MAX(S302:S312)","v":1116}]
[2,"Georgia","16-20","F"]
[2,"Georgia","16-20","F","Player Number","Full Name","Flag","Actual Age","Gender","Game 1","Game 2","Game 3",null,"Game 4","Game 5","Game 6","Series 1","Series 2","Total"]
[2,"Georgia","16-20","F",1,"Amber Beene",{"$f":"IF(ISERROR(VLOOKUP(F302,Bowler_Name,1,FALSE)),\"Not Entered\",IF(H302>F$299,\"Too Old\",IF(I302<>G$299,\"Wrong Gender\",\"\")))","v":""},{"$f":"IF(ISERROR(VLOOKUP(F302,Bowler_Name,1,FALSE)),\"\",INDIRECT(\"'Individual Scores'!\"&ADDRESS(MATCH(F302,'Individual Scores'!$D$2:$D$169,0)+1,2)))","v":"16-20"},{"$f":"IF(ISERROR(VLOOKUP(F302,Bowler_Name,1,FALSE)),\"\",INDIRECT(\"'Individual Scores'!\"&ADDRESS(MATCH(F302,'Individual Scores'!$D$2:$D$169,0)+1,3)))","v":"F"},190,212,149,null,171,201,187,{"$f":"SUM(J302:L302)","v":551},{"$f":"SUM(N302:P302)","v":559},{"$f":"SUM(Q302:R302)","v":1110},null,{"$f":"S302/6","v":185}]
[2,"Georgia","16-20","F",{"$f":"E302+1","v":2},"Crystal Fox","",{"$f":"IF(ISERROR(VLOOKUP(F303,Bowler_Name,1,FALSE)),\"\",INDIRECT(\"'Individual Scores'!\"&ADDRESS(MATCH(F303,'Individual Scores'!$D$2:$D$169,0)+1,2)))","v":"16-20"},{"$f":"IF(ISERROR(VLOOKUP(F303,Bowler_Name,1,FALSE)),\"\",INDIRECT(\"'Individual Scores'!\"&ADDRESS(MATCH(F303,'Individual Scores'!$D$2:$D$169,0)+1,3)))","v":"F"},132,217,257,null,166,156,165,{"$f":"SUM(J303:L303)","v":606},{"$f":"SUM(N303:P303)","v":487},{"$f":"SUM(Q303:R303)","v":1093},null,{"$f":"S303/6","v":182.16666666666666}]
[2,"Georgia","16-20","F",{"$f":"E303+1","v":3},"Gabriela Ramkhelawan","",{"$f":"IF(ISERROR(VLOOKUP(F304,Bowler_Name,1,FALSE)),\"\",INDIRECT(\"'Individual Scores'!\"&ADDRESS(MATCH(F304,'Individual Scores'!$D$2:$D$169,0)+1,2)))","v":"15 & <"},{"$f":"IF(ISERROR(VLOOKUP(F304,Bowler_Name,1,FALSE)),\"\",INDIRECT(\"'Individual Scores'!\"&ADDRESS(MATCH(F304,'Individual Scores'!$D$2:$D$169,0)+1,3)))","v":"F"},139,210,171,null,171,133,207,{"$f":"SUM(J304:L304)","v":520},511,1031,null,171.83333333333334]
[2,"Georgia","16-20","F",4,"Jasmine Nash","",{"$f":"IF(ISERROR(VLOOKUP(F305,Bowler_Name,1,FALSE)),\"\",INDIRECT(\"'Individual Scores'!\"&ADDRESS(MATCH(F305,'Individual Scores'!$D$2:$D$169,0)+1,2)))","v":"16-20"},{"$f":"IF(ISERROR(VLOOKUP(F305,Bowler_Name,1,FALSE)),\"\",INDIRECT(\"'Individual Scores'!\"&ADDRESS(MATCH(F305,'Individual Scores'!$D$2:$D$169,0)+1,3)))","v":"F"},137,132,190,null,155,175,182,459,512,971,null,161.83333333333334]
[2,"Georgia","16-20","F",5,"Makayla Spears","",{"$f":"IF(ISERROR(VLOOKUP(F306,Bowler_Name,1,FALSE)),\"\",INDIRECT(\"'Individual Scores'!\"&ADDRESS(MATCH(F306,'Individual Scores'!$D$2:$D$169,0)+1,2)))","v":"16-20"},{"$f":"IF(ISERROR(VLOOKUP(F306,Bowler_Name,1,FALSE)),\"\",INDIRECT(\"'Individual Scores'!\"&ADDRESS(MATCH(F306,'Individual Scores'!$D$2:$D$169,0)+1,3)))","v":"F"},223,159,179,null,172,174,197,561,543,1104,null,184]
[2,"Georgia","16-20","F",6,"Mikayla Davis","",{"$f":"IF(ISERROR(VLOOKUP(F307,Bowler_Name,1,FALSE)),\"\",INDIRECT(\"'Individual Scores'!\"&ADDRESS(MATCH(F307,'Individual Scores'!$D$2:$D$169,0)+1,2)))","v":"16-20"},{"$f":"IF(ISERROR(VLOOKUP(F307,Bowler_Name,1,FALSE)),\"\",INDIRECT(\"'Individual Scores'!\"&ADDRESS(MATCH(F307,'Individual Scores'!$D$2:$D$169,0)+1,3)))","v":"F"},193,215,194,null,149,176,158,602,483,1085,null,180.83333333333334]
[2,"Georgia","16-20","F",7,"Nia McConico","",{"$f":"IF(ISERROR(VLOOKUP(F308,Bowler_Name,1,FALSE)),\"\",INDIRECT(\"'Individual Scores'!\"&ADDRESS(MATCH(F308,'Individual Scores'!$D$2:$D$169,0)+1,2)))","v":"16-20"},{"$f":"IF(ISERROR(VLOOKUP(F308,Bowler_Name,1,FALSE)),\"\",INDIRECT(\"'Individual Scores'!\"&ADDRESS(MATCH(F308,'Individual Scores'!$D$2:$D$169,0)+1,3)))","v":"F"},182,154,180,null,167,176,171,516,514,1030,null,171.66666666666666]
[2,"Georgia","16-20","F",8,"Toni McQuerry","",{"$f":"IF(ISERROR(VLOOKUP(F309,Bowler_Name,1,FALSE)),\"\",INDIRECT(\"'Individual Scores'!\"&ADDRESS(MATCH(F309,'Individual Scores'!$D$2:$D$169,0)+1,2)))","v":"16-20"},{"$f":"IF(ISERROR(VLOOKUP(F309,Bowler_Name,1,FALSE)),\"\",INDIRECT(\"'Individual Scores'!\"&ADDRESS(MATCH(F309,'Individual Scores'!$D$2:$D$169,0)+1,3)))","v":"F"},159,210,150,null,149,182,155,519,486,1005,null,167.5]
[2,"Georgia","16-20","F",9,"Violet Armendariz","Wrong Gender",{"$f":"IF(ISERROR(VLOOKUP(F310,Bowler_Name,1,FALSE)),\"\",INDIRECT(\"'Individual Scores'!\"&ADDRESS(MATCH(F310,'Individual Scores'!$D$2:$D$169,0)+1,2)))","v":"16-20"},{"$f":"J40:J406","v":161},161,184,171,null,166,174,134,516,474,990,null,165]
[2,"Georgia","16-20","F",10,"Mikala Higgins","",{"$f":"IF(ISERROR(VLOOKUP(F311,Bowler_Name,1,FALSE)),\"\",INDIRECT(\"'Individual Scores'!\"&ADDRESS(MATCH(F311,'Individual Scores'!$D$2:$D$169,0)+1,2)))","v":"15 & <"},{"$f":"IF(ISERROR(VLOOKUP(F311,Bowler_Name,1,FALSE)),\"\",INDIRECT(\"'Individual Scores'!\"&ADDRESS(MATCH(F311,'Individual Scores'!$D$2:$D$169,0)+1,3)))","v":"F"},221,159,172,null,192,171,201,552,564,1116,null,186]
[2,"Georgia","16-20","F",11,"Vacant-GA_G_U20","",{"$f":"IF(ISERROR(VLOOKUP(F312,Bowler_Name,1,FALSE)),\"\",INDIRECT(\"'Individual Scores'!\"&ADDRESS(MATCH(F312,'Individual Scores'!$D$2:$D$169,0)+1,2)))","v":"16-20"},{"$f":"IF(ISERROR(VLOOKUP(F312,Bowler_Name,1,FALSE)),\"\",INDIRECT(\"'Individual Scores'!\"&ADDRESS(MATCH(F312,'Individual Scores'!$D$2:$D$169,0)+1,3)))","v":"F"},0,0,0,null,0,0,0,0,0,0,null,0]
[2,"Georgia","16-20","F"]
[2,"Georgia","16-20","F",null,{"$f":"DGET(Constants!$C$1:$D$4,1,E298:E299)&\" \"&G299&\" \"&F299","v":"GA F 16-20"},null,null,null,{"$f":"SUM(J302:J312)-MIN(J302:J312)","v":1737},{"$f":"SUM(K301:K313)-MIN(K301:K313)","v":1852},1813,null,1658,1718,1757,{"$f":"SUM(J314:L314)","v":5402},{"$f":"SUM(N314:P314)","v":5133},{"$f":"SUM(Q314:R314)","v":10535}]
[2,null,null,null,null,"Warning Row:  should be hidden",null,null,null,{"$f":"IF(COUNT(J301:J313)=0,\"\",IF(COUNT(J301:J313)<ROWS(J301:J313)-2,1,\"\"))","v":""},"","",null,"","",""]
[2]
[{"$f":"H320","v":2},{"$f":"E320","v":"Georgia"},{"$f":"F320","v":"16-20"},{"$f":"G320","v":"M"},"Tournament",{"$f":"DGET('Tournament Locations'!$B$1:$C$4,\"Location\",H319:H320)","v":"Royal Lanes, Goose Creek, SC"}]
[{"$f":"A317","v":2},{"$f":"B317","v":"Georgia"},{"$f":"C317","v":"16-20"},{"$f":"D317","v":"M"},null,null,null,null,null,null,null,"High Game",null,{"$f":"MAX(J323:P333)","v":279},null,{"$f":"IF(SUM(J336:P336)>0,\"Warning:  Not enough scores to drop lowest score.  Be sure zeros are entered for any vacant bowler\",\"\")","v":""}]
[{"$f":"A318","v":2},"Georgia","16-20","M","State","Age","Gender","Tournament",null,null,null,"High Series",null,{"$f":"MAX(Q323:R333)","v":717}]
[2,"Georgia","16-20","M",{"$f":"E257","v":"Georgia"},{"$f":"F299","v":"16-20"},"M",{"$f":"H257","v":2},null,null,null,"High Pins",null,{"$f":"MAX(S323:S333)","v":1371}]
[2,"Georgia","16-20","M"]
[2,"Georgia","16-20","M","Player Number","Full Name","Flag","Actual Age","Gender","Game 1","Game 2","Game 3",null,"Game 4","Game 5","Game 6","Series 1","Series 2","Total"]
[2,"Georgia","16-20","M",1,"Alex Heeger",{"$f":"IF(ISERROR(VLOOKUP(F323,Bowler_Name,1,FALSE)),\"Not Entered\",IF(H323>F$320,\"Too Old\",IF(I323<>G$320,\"Wrong Gender\",\"\")))","v":""},{"$f":"IF(ISERROR(VLOOKUP(F323,Bowler_Name,1,FALSE)),\"\",INDIRECT(\"'Individual Scores'!\"&ADDRESS(MATCH(F323,'Individual Scores'!$D$2:$D$169,0)+1,2)))","v":"16-20"},{"$f":"IF(ISERROR(VLOOKUP(F323,Bowler_Name,1,FALSE)),\"\",INDIRECT(\"'Individual Scores'!\"&ADDRESS(MATCH(F323,'Individual Scores'!$D$2:$D$169,0)+1,3)))","v":"M"},158,197,162,null,166,181,178,{"$f":"SUM(J323:L323)","v":517},{"$f":"SUM(N323:P323)","v":525},{"$f":"SUM(Q323:R323)","v":1042},null,{"$f":"S323/6","v":173.66666666666666}]
[2,"Georgia","16-20","M",{"$f":"E323+1","v":2},"Casey Lambert","",{"$f":"IF(ISERROR(VLOOKUP(F324,Bowler_Name,1,FALSE)),\"\",INDIRECT(\"'Individual Scores'!\"&ADDRESS(MATCH(F324,'Individual Scores'!$D$2:$D$169,0)+1,2)))","v":"16-20"},{"$f":"IF(ISERROR(VLOOKUP(F324,Bowler_Name,1,FALSE)),\"\",INDIRECT(\"'Individual Scores'!\"&ADDRESS(MATCH(F324,'Individual Scores'!$D$2:$D$169,0)+1,3)))","v":"M"},183,258,255,null,231,253,191,696,{"$f":"SUM(N324:P324)","v":675},{"$f":"SUM(Q324:R324)","v":1371},null,{"$f":"S324/6","v":228.5}]
[2,"Georgia","16-20","M",{"$f":"E324+1","v":3},"Demetrius Wilcox","",{"$f":"IF(ISERROR(VLOOKUP(F325,Bowler_Name,1,FALSE)),\"\",INDIRECT(\"'Individual Scores'!\"&ADDRESS(MATCH(F325,'Individual Scores'!$D$2:$D$169,0)+1,2)))","v":"16-20"},{"$f":"IF(ISERROR(VLOOKUP(F325,Bowler_Name,1,FALSE)),\"\",INDIRECT(\"'Individual Scores'!\"&ADDRESS(MATCH(F325,'Individual Scores'!$D$2:$D$169,0)+1,3)))","v":"M"},188,198,235,null,205,201,222,621,628,1249,null,208.16666666666666]
[2,"Georgia","16-20","M",4,"Jacob Gard","",{"$f":"IF(ISERROR(VLOOKUP(F326,Bowler_Name,1,FALSE)),\"\",INDIRECT(\"'Individual Scores'!\"&ADDRESS(MATCH(F326,'Individual Scores'!$D$2:$D$169,0)+1,2)))","v":"16-20"},{"$f":"IF(ISERROR(VLOOKUP(F326,Bowler_Name,1,FALSE)),\"\",INDIRECT(\"'Individual Scores'!\"&ADDRESS(MATCH(F326,'Individual Scores'!$D$2:$D$169,0)+1,3)))","v":"M"},182,216,182,null,209,222,258,580,689,1269,null,211.5]
[2,"Georgia","16-20","M",5,"Josh Rondino","",{"$f":"IF(ISERROR(VLOOKUP(F327,Bowler_Name,1,FALSE)),\"\",INDIRECT(\"'Individual Scores'!\"&ADDRESS(MATCH(F327,'Individual Scores'!$D$2:$D$169,0)+1,2)))","v":"16-20"},{"$f":"IF(ISERROR(VLOOKUP(F327,Bowler_Name,1,FALSE)),\"\",INDIRECT(\"'Individual Scores'!\"&ADDRESS(MATCH(F327,'Individual Scores'!$D$2:$D$169,0)+1,3)))","v":"M"},214,259,192,null,178,211,180,665,569,1234,null,205.66666666666666]
[2,"Georgia","16-20","M",6,"Matthew Lovell","",{"$f":"IF(ISERROR(VLOOKUP(F328,Bowler_Name,1,FALSE)),\"\",INDIRECT(\"'Individual Scores'!\"&ADDRESS(MATCH(F328,'Individual Scores'!$D$2:$D$169,0)+1,2)))","v":"16-20"},{"$f":"IF(ISERROR(VLOOKUP(F328,Bowler_Name,1,FALSE)),\"\",INDIRECT(\"'Individual Scores'!\"&ADDRESS(MATCH(F328,'Individual Scores'!$D$2:$D$169,0)+1,3)))","v":"M"},175,223,195,null,197,241,279,593,717,1310,null,218.33333333333334]
[2,"Georgia","16-20","M",7,"Micah Spears","",{"$f":"IF(ISERROR(VLOOKUP(F329,Bowler_Name,1,FALSE)),\"\",INDIRECT(\"'Individual Scores'!\"&ADDRESS(MATCH(F329,'Individual Scores'!$D$2:$D$169,0)+1,2)))","v":"16-20"},{"$f":"IF(ISERROR(VLOOKUP(F329,Bowler_Name,1,FALSE)),\"\",INDIRECT(\"'Individual Scores'!\"&ADDRESS(MATCH(F329,'Individual Scores'!$D$2:$D$169,0)+1,3)))","v":"M"},193,198,189,null,258,211,169,580,638,1218,null,203]
[2,"Georgia","16-20","M",8,"Oscar Byrd","",{"$f":"IF(ISERROR(VLOOKUP(F330,Bowler_Name,1,FALSE)),\"\",INDIRECT(\"'Individual Scores'!\"&ADDRESS(MATCH(F330,'Individual Scores'!$D$2:$D$169,0)+1,2)))","v":"16-20"},{"$f":"IF(ISERROR(VLOOKUP(F330,Bowler_Name,1,FALSE)),\"\",INDIRECT(\"'Individual Scores'!\"&ADDRESS(MATCH(F330,'Individual Scores'!$D$2:$D$169,0)+1,3)))","v":"M"},234,171,172,null,224,193,193,577,610,1187,null,197.83333333333334]
[2,"Georgia","16-20","M",9,"Peyton Smith","",{"$f":"IF(ISERROR(VLOOKUP(F331,Bowler_Name,1,FALSE)),\"\",INDIRECT(\"'Individual Scores'!\"&ADDRESS(MATCH(F331,'Individual Scores'!$D$2:$D$169,0)+1,2)))","v":"15 & <"},{"$f":"IF(ISERROR(VLOOKUP(F331,Bowler_Name,1,FALSE)),\"\",INDIRECT(\"'Individual Scores'!\"&ADDRESS(MATCH(F331,'Individual Scores'!$D$2:$D$169,0)+1,3)))","v":"M"},192,202,215,null,255,225,199,609,679,1288,null,214.66666666666666]
[2,"Georgia","16-20","M",10,"Phillip Jacques","",{"$f":"IF(ISERROR(VLOOKUP(F332,Bowler_Name,1,FALSE)),\"\",INDIRECT(\"'Individual Scores'!\"&ADDRESS(MATCH(F332,'Individual Scores'!$D$2:$D$169,0)+1,2)))","v":"16-20"},{"$f":"IF(ISERROR(VLOOKUP(F332,Bowler_Name,1,FALSE)),\"\",INDIRECT(\"'Individual Scores'!\"&ADDRESS(MATCH(F332,'Individual Scores'!$D$2:$D$169,0)+1,3)))","v":"M"},162,184,165,null,209,224,255,511,688,1199,null,199.83333333333334]
[2,"Georgia","16-20","M",11,"Scott Landeck","",{"$f":"IF(ISERROR(VLOOKUP(F333,Bowler_Name,1,FALSE)),\"\",INDIRECT(\"'Individual Scores'!\"&ADDRESS(MATCH(F333,'Individual Scores'!$D$2:$D$169,0)+1,2)))","v":"16-20"},{"$f":"IF(ISERROR(VLOOKUP(F333,Bowler_Name,1,FALSE)),\"\",INDIRECT(\"'Individual Scores'!\"&ADDRESS(MATCH(F333,'Individual Scores'!$D$2:$D$169,0)+1,3)))","v":"M"},167,180,215,null,242,152,203,{"$f":"SUM(J333:L333)","v":562},597,1159,null,193.16666666666666]
[2,"Georgia","16-20","M"]
[2,"Georgia","16-20","M",null,{"$f":"DGET(Constants!$C$1:$D$4,1,E319:E320)&\" \"&G320&\" \"&F320","v":"GA M 16-20"},null,null,null,{"$f":"SUM(J323:J333)-MIN(J323:J333)","v":1890},{"$f":"SUM(K322:K334)-MIN(K322:K334)","v":2115},2015,null,2208,2162,2158,{"$f":"SUM(J335:L335)","v":6020},{"$f":"SUM(N335:P335)","v":6528},{"$f":"SUM(Q335:R335)","v":12548}]
[2,null,null,null,null,"Warning Row:  should be hidden",null,null,null,{"$f":"IF(COUNT(J322:J334)=0,\"\",IF(COUNT(J322:J334)<ROWS(J322:J334)-2,1,\"\"))","v":""},"","",null,"","",""]
[2]
[{"$f":"H341","v":2},{"$f":"E341","v":"North Carolina"},{"$f":"F341","v":"15 & <"},{"$f":"G341","v":"F"},"Tournament",{"$f":"DGET('Tournament Locations'!$B$1:$C$4,\"Location\",H340:H341)","v":"Royal Lanes, Goose Creek, SC"}]
[{"$f":"A338","v":2},{"$f":"B338","v":"North Carolina"},{"$f":"C338","v":"15 & <"},{"$f":"D338","v":"F"},null,null,null,null,null,null,null,"High Game",null,{"$f":"MAX(J344:P355)","v":267},null,{"$f":"IF(SUM(J357:P357)>0,\"Warning:  Not enough scores to drop lowest score.  Be sure zeros are entered for any vacant bowler\",\"\")","v":""}]
[{"$f":"A339","v":2},"North Carolina","15 & <","F","State","Age","Gender","Tournament",null,null,null,"High Series",null,{"$f":"MAX(Q344:R355)","v":668}]
[2,"North Carolina","15 & <","F","North Carolina","15 & <","F",{"$f":"H257","v":2},null,null,null,"High Pins",null,{"$f":"MAX(S344:S355)","v":1160}]
[2,"North Carolina","15 & <","F"]
[2,"North Carolina","15 & <","F","Player Number","Full Name","Flag","Actual Age","Gender","Game 1","Game 2","Game 3",null,"Game 4","Game 5","Game 6","Series 1","Series 2","Total"]
[2,"North Carolina","15 & <","F",1,"Maranda Marcum",{"$f":"IF(ISERROR(VLOOKUP(F344,Bowler_Name,1,FALSE)),\"Not Entered\",IF(H344>F$341,\"Too Old\",IF(I344<>G$341,\"Wrong Gender\",\"\")))","v":""},{"$f":"IF(ISERROR(VLOOKUP(F344,Bowler_Name,1,FALSE)),\"\",INDIRECT(\"'Individual Scores'!\"&ADDRESS(MATCH(F344,'Individual Scores'!$D$2:$D$169,0)+1,2)))","v":"15 & <"},{"$f":"IF(ISERROR(VLOOKUP(F344,Bowler_Name,1,FALSE)),\"\",INDIRECT(\"'Individual Scores'!\"&ADDRESS(MATCH(F344,'Individual Scores'!$D$2:$D$169,0)+1,3)))","v":"F"},179,182,170,null,177,161,158,{"$f":"SUM(J344:L344)","v":531},{"$f":"SUM(N344:P344)","v":496},{"$f":"SUM(Q344:R344)","v":1027},null,{"$f":"S344/6","v":171.16666666666666}]
[2,"North Carolina","15 & <","F",{"$f":"E344+1","v":2},"Aubrey Shipman","",{"$f":"IF(ISERROR(VLOOKUP(F345,Bowler_Name,1,FALSE)),\"\",INDIRECT(\"'Individual Scores'!\"&ADDRESS(MATCH(F345,'Individual Scores'!$D$2:$D$169,0)+1,2)))","v":"15 & <"},{"$f":"IF(ISERROR(VLOOKUP(F345,Bowler_Name,1,FALSE)),\"\",INDIRECT(\"'Individual Scores'!\"&ADDRESS(MATCH(F345,'Individual Scores'!$D$2:$D$169,0)+1,3)))","v":"F"},196,140,150,null,168,169,153,486,{"$f":"SUM(N345:P345)","v":490},{"$f":"SUM(Q345:R345)","v":976},null,{"$f":"S345/6","v":162.66666666666666}]
[2,"North Carolina","15 & <","F",3,"Megan McWhirter","",{"$f":"IF(ISERROR(VLOOKUP(F346,Bowler_Name,1,FALSE)),\"\",INDIRECT(\"'Individual Scores'!\"&ADDRESS(MATCH(F346,'Individual Scores'!$D$2:$D$169,0)+1,2)))","v":"15 & <"},{"$f":"IF(ISERROR(VLOOKUP(F346,Bowler_Name,1,FALSE)),\"\",INDIRECT(\"'Individual Scores'!\"&ADDRESS(MATCH(F346,'Individual Scores'!$D$2:$D$169,0)+1,3)))","v":"F"},158,153,155,null,172,130,144,466,446,912,null,152]
[2,"North Carolina","15 & <","F",4,"Makayla Lucas","",{"$f":"IF(ISERROR(VLOOKUP(F347,Bowler_Name,1,FALSE)),\"\",INDIRECT(\"'Individual Scores'!\"&ADDRESS(MATCH(F347,'Individual Scores'!$D$2:$D$169,0)+1,2)))","v":"15 & <"},{"$f":"IF(ISERROR(VLOOKUP(F347,Bowler_Name,1,FALSE)),\"\",INDIRECT(\"'Individual Scores'!\"&ADDRESS(MATCH(F347,'Individual Scores'!$D$2:$D$169,0)+1,3)))","v":"F"},135,182,197,null,124,190,147,514,461,975,null,162.5]
[2,"North Carolina","15 & <","F",5,"Kristina Catoe","",{"$f":"IF(ISERROR(VLOOKUP(F348,Bowler_Name,1,FALSE)),\"\",INDIRECT(\"'Individual Scores'!\"&ADDRESS(MATCH(F348,'Individual Scores'!$D$2:$D$169,0)+1,2)))","v":"15 & <"},{"$f":"IF(ISERROR(VLOOKUP(F348,Bowler_Name,1,FALSE)),\"\",INDIRECT(\"'Individual Scores'!\"&ADDRESS(MATCH(F348,'Individual Scores'!$D$2:$D$169,0)+1,3)))","v":"F"},199,167,189,null,150,177,144,555,471,1026,null,171]
[2,"North Carolina","15 & <","F",6,"Meranda Edmonds","",{"$f":"IF(ISERROR(VLOOKUP(F349,Bowler_Name,1,FALSE)),\"\",INDIRECT(\"'Individual Scores'!\"&ADDRESS(MATCH(F349,'Individual Scores'!$D$2:$D$169,0)+1,2)))","v":"15 & <"},{"$f":"IF(ISERROR(VLOOKUP(F349,Bowler_Name,1,FALSE)),\"\",INDIRECT(\"'Individual Scores'!\"&ADDRESS(MATCH(F349,'Individual Scores'!$D$2:$D$169,0)+1,3)))","v":"F"},202,187,190,null,133,190,159,579,482,1061,null,176.83333333333334]
[2,"North Carolina","15 & <","F",7,"Kalia Patterson","",{"$f":"IF(ISERROR(VLOOKUP(F350,Bowler_Name,1,FALSE)),\"\",INDIRECT(\"'Individual Scores'!\"&ADDRESS(MATCH(F350,'Individual Scores'!$D$2:$D$169,0)+1,2)))","v":"15 & <"},{"$f":"IF(ISERROR(VLOOKUP(F350,Bowler_Name,1,FALSE)),\"\",INDIRECT(\"'Individual Scores'!\"&ADDRESS(MATCH(F350,'Individual Scores'!$D$2:$D$169,0)+1,3)))","v":"F"},211,189,203,null,157,143,171,603,471,1074,null,179]
[2,"North Carolina","15 & <","F",8,"Emily Wyant","",{"$f":"IF(ISERROR(VLOOKUP(F351,Bowler_Name,1,FALSE)),\"\",INDIRECT(\"'Individual Scores'!\"&ADDRESS(MATCH(F351,'Individual Scores'!$D$2:$D$169,0)+1,2)))","v":"15 & <"},{"$f":"IF(ISERROR(VLOOKUP(F351,Bowler_Name,1,FALSE)),\"\",INDIRECT(\"'Individual Scores'!\"&ADDRESS(MATCH(F351,'Individual Scores'!$D$2:$D$169,0)+1,3)))","v":"F"},156,173,141,null,182,139,144,470,465,935,null,155.83333333333334]
[2,"North Carolina","15 & <","F",9,"Cameron Strombeck","",{"$f":"IF(ISERROR(VLOOKUP(F352,Bowler_Name,1,FALSE)),\"\",INDIRECT(\"'Individual Scores'!\"&ADDRESS(MATCH(F352,'Individual Scores'!$D$2:$D$169,0)+1,2)))","v":"15 & <"},{"$f":"IF(ISERROR(VLOOKUP(F352,Bowler_Name,1,FALSE)),\"\",INDIRECT(\"'Individual Scores'!\"&ADDRESS(MATCH(F352,'Individual Scores'!$D$2:$D$169,0)+1,3)))","v":"F"},267,199,202,null,159,194,139,668,492,1160,null,193.33333333333334]
[2,"North Carolina","15 & <","F",10,"Casey Mann","",{"$f":"IF(ISERROR(VLOOKUP(F353,Bowler_Name,1,FALSE)),\"\",INDIRECT(\"'Individual Scores'!\"&ADDRESS(MATCH(F353,'Individual Scores'!$D$2:$D$169,0)+1,2)))","v":"15 & <"},{"$f":"IF(ISERROR(VLOOKUP(F353,Bowler_Name,1,FALSE)),\"\",INDIRECT(\"'Individual Scores'!\"&ADDRESS(MATCH(F353,'Individual Scores'!$D$2:$D$169,0)+1,3)))","v":"F"},170,193,162,null,136,139,191,525,466,991,null,165.16666666666666]
[2,"North Carolina","15 & <","F",11,"Lara Kurt","",{"$f":"IF(ISERROR(VLOOKUP(F354,Bowler_Name,1,FALSE)),\"\",INDIRECT(\"'Individual Scores'!\"&ADDRESS(MATCH(F354,'Individual Scores'!$D$2:$D$169,0)+1,2)))","v":"15 & <"},{"$f":"IF(ISERROR(VLOOKUP(F354,Bowler_Name,1,FALSE)),\"\",INDIRECT(\"'Individual Scores'!\"&ADDRESS(MATCH(F354,'Individual Scores'!$D$2:$D$169,0)+1,3)))","v":"F"},151,199,134,null,113,161,149,484,423,907,null,151.16666666666666]
[2,"North Carolina","15 & <","F"]
[2,"North Carolina","15 & <","F",null,{"$f":"DGET(Constants!$C$1:$D$4,1,E340:E341)&\" \"&G341&\" \"&F341","v":"NC F 15 & <"},null,null,null,{"$f":"SUM(J344:J354)-MIN(J344:J354)","v":1889},{"$f":"SUM(K343:K355)-MIN(K343:K355)","v":1824},1759,null,1558,1663,1560,{"$f":"SUM(J356:L356)","v":5472},{"$f":"SUM(N356:P356)","v":4781},{"$f":"SUM(Q356:R356)","v":10253}]
[2,null,null,null,null,"Warning Row:  should be hidden",null,null,null,{"$f":"IF(COUNT(J343:J355)=0,\"\",IF(COUNT(J343:J355)<ROWS(J343:J355)-2,1,\"\"))","v":""},"","",null,"","",""]
[2]
[{"$f":"H362","v":2},{"$f":"E362","v":"North Carolina"},{"$f":"F362","v":"15 & <"},{"$f":"G362","v":"M"},"Tournament",{"$f":"DGET('Tournament Locations'!$B$1:$C$4,\"Location\",H361:H362)","v":"Royal Lanes, Goose Creek, SC"}]
[{"$f":"A359","v":2},{"$f":"B359","v":"North Carolina"},{"$f":"C359","v":"15 & <"},{"$f":"D359","v":"M"},null,null,null,null,null,null,null,"High Game",null,{"$f":"MAX(J365:P376)","v":257},null,{"$f":"IF(SUM(J378:P378)>0,\"Warning:  Not enough scores to drop lowest score.  Be sure zeros are entered for any vacant bowler\",\"\")","v":""}]
[{"$f":"A360","v":2},"North Carolina","15 & <","M","State","Age","Gender","Tournament",null,null,null,"High Series",null,{"$f":"MAX(Q365:R376)","v":703}]
[2,"North Carolina","15 & <","M",{"$f":"E341","v":"North Carolina"},{"$f":"F341","v":"15 & <"},"M",{"$f":"H257","v":2},null,null,null,"High Pins",null,{"$f":"MAX(S365:S376)","v":1289}]
[2,"North Carolina","15 & <","M"]
[2,"North Carolina","15 & <","M","Player Number","Full Name","Flag","Actual Age","Gender","Game 1","Game 2","Game 3",null,"Game 4","Game 5","Game 6","Series 1","Series 2","Total"]
[2,"North Carolina","15 & <","M",1,"Chad Severt",{"$f":"IF(ISERROR(VLOOKUP(F365,Bowler_Name,1,FALSE)),\"Not Entered\",IF(H365>F$362,\"Too Old\",IF(I365<>G$362,\"Wrong Gender\",\"\")))","v":""},{"$f":"IF(ISERROR(VLOOKUP(F365,Bowler_Name,1,FALSE)),\"\",INDIRECT(\"'Individual Scores'!\"&ADDRESS(MATCH(F365,'Individual Scores'!$D$2:$D$169,0)+1,2)))","v":"15 & <"},{"$f":"IF(ISERROR(VLOOKUP(F365,Bowler_Name,1,FALSE)),\"\",INDIRECT(\"'Individual Scores'!\"&ADDRESS(MATCH(F365,'Individual Scores'!$D$2:$D$169,0)+1,3)))","v":"M"},225,256,222,null,205,192,189,{"$f":"SUM(J365:L365)","v":703},{"$f":"SUM(N365:P365)","v":586},{"$f":"SUM(Q365:R365)","v":1289},null,{"$f":"S365/6","v":214.83333333333334}]
[2,"North Carolina","15 & <","M",{"$f":"E365+1","v":2},"Caleb Wallace","",{"$f":"IF(ISERROR(VLOOKUP(F366,Bowler_Name,1,FALSE)),\"\",INDIRECT(\"'Individual Scores'!\"&ADDRESS(MATCH(F366,'Individual Scores'!$D$2:$D$169,0)+1,2)))","v":"15 & <"},{"$f":"IF(ISERROR(VLOOKUP(F366,Bowler_Name,1,FALSE)),\"\",INDIRECT(\"'Individual Scores'!\"&ADDRESS(MATCH(F366,'Individual Scores'!$D$2:$D$169,0)+1,3)))","v":"M"},149,159,162,null,129,164,169,470,{"$f":"SUM(N366:P366)","v":462},{"$f":"SUM(Q366:R366)","v":932},null,{"$f":"S366/6","v":155.33333333333334}]
[2,"North Carolina","15 & <","M",3,"Patrick Chan","",{"$f":"IF(ISERROR(VLOOKUP(F367,Bowler_Name,1,FALSE)),\"\",INDIRECT(\"'Individual Scores'!\"&ADDRESS(MATCH(F367,'Individual Scores'!$D$2:$D$169,0)+1,2)))","v":"15 & <"},{"$f":"IF(ISERROR(VLOOKUP(F367,Bowler_Name,1,FALSE)),\"\",INDIRECT(\"'Individual Scores'!\"&ADDRESS(MATCH(F367,'Individual Scores'!$D$2:$D$169,0)+1,3)))","v":"M"},199,171,147,null,203,181,181,517,565,1082,null,180.33333333333334]
[2,"North Carolina","15 & <","M",4,"Thomas Perkins","",{"$f":"IF(ISERROR(VLOOKUP(F368,Bowler_Name,1,FALSE)),\"\",INDIRECT(\"'Individual Scores'!\"&ADDRESS(MATCH(F368,'Individual Scores'!$D$2:$D$169,0)+1,2)))","v":"15 & <"},{"$f":"IF(ISERROR(VLOOKUP(F368,Bowler_Name,1,FALSE)),\"\",INDIRECT(\"'Individual Scores'!\"&ADDRESS(MATCH(F368,'Individual Scores'!$D$2:$D$169,0)+1,3)))","v":"M"},177,191,202,null,153,148,190,570,491,1061,null,176.83333333333334]
[2,"North Carolina","15 & <","M",5,"Steven Faulkner","",{"$f":"IF(ISERROR(VLOOKUP(F369,Bowler_Name,1,FALSE)),\"\",INDIRECT(\"'Individual Scores'!\"&ADDRESS(MATCH(F369,'Individual Scores'!$D$2:$D$169,0)+1,2)))","v":"15 & <"},{"$f":"IF(ISERROR(VLOOKUP(F369,Bowler_Name,1,FALSE)),\"\",INDIRECT(\"'Individual Scores'!\"&ADDRESS(MATCH(F369,'Individual Scores'!$D$2:$D$169,0)+1,3)))","v":"M"},216,179,189,null,194,202,156,584,552,1136,null,189.33333333333334]
[2,"North Carolina","15 & <","M",6,"James Goodine Jr","",{"$f":"IF(ISERROR(VLOOKUP(F370,Bowler_Name,1,FALSE)),\"\",INDIRECT(\"'Individual Scores'!\"&ADDRESS(MATCH(F370,'Individual Scores'!$D$2:$D$169,0)+1,2)))","v":"15 & <"},{"$f":"IF(ISERROR(VLOOKUP(F370,Bowler_Name,1,FALSE)),\"\",INDIRECT(\"'Individual Scores'!\"&ADDRESS(MATCH(F370,'Individual Scores'!$D$2:$D$169,0)+1,3)))","v":"M"},206,205,145,null,243,204,198,556,645,1201,null,200.16666666666666]
[2,"North Carolina","15 & <","M",7,"Aaron Jones","",{"$f":"IF(ISERROR(VLOOKUP(F371,Bowler_Name,1,FALSE)),\"\",INDIRECT(\"'Individual Scores'!\"&ADDRESS(MATCH(F371,'Individual Scores'!$D$2:$D$169,0)+1,2)))","v":"15 & <"},{"$f":"IF(ISERROR(VLOOKUP(F371,Bowler_Name,1,FALSE)),\"\",INDIRECT(\"'Individual Scores'!\"&ADDRESS(MATCH(F371,'Individual Scores'!$D$2:$D$169,0)+1,3)))","v":"M"},191,199,174,null,168,211,192,564,571,1135,null,189.16666666666666]
[2,"North Carolina","15 & <","M",8,"Matthew Staunton","",{"$f":"IF(ISERROR(VLOOKUP(F372,Bowler_Name,1,FALSE)),\"\",INDIRECT(\"'Individual Scores'!\"&ADDRESS(MATCH(F372,'Individual Scores'!$D$2:$D$169,0)+1,2)))","v":"15 & <"},{"$f":"IF(ISERROR(VLOOKUP(F372,Bowler_Name,1,FALSE)),\"\",INDIRECT(\"'Individual Scores'!\"&ADDRESS(MATCH(F372,'Individual Scores'!$D$2:$D$169,0)+1,3)))","v":"M"},195,220,246,null,225,179,145,661,549,1210,null,201.66666666666666]
[2,"North Carolina","15 & <","M",9,"Spencer Gutowsky","",{"$f":"IF(ISERROR(VLOOKUP(F373,Bowler_Name,1,FALSE)),\"\",INDIRECT(\"'Individual Scores'!\"&ADDRESS(MATCH(F373,'Individual Scores'!$D$2:$D$169,0)+1,2)))","v":"15 & <"},{"$f":"IF(ISERROR(VLOOKUP(F373,Bowler_Name,1,FALSE)),\"\",INDIRECT(\"'Individual Scores'!\"&ADDRESS(MATCH(F373,'Individual Scores'!$D$2:$D$169,0)+1,3)))","v":"M"},196,161,173,null,209,245,179,530,633,1163,null,193.83333333333334]
[2,"North Carolina","15 & <","M",10,"Kaan Kurt","",{"$f":"IF(ISERROR(VLOOKUP(F374,Bowler_Name,1,FALSE)),\"\",INDIRECT(\"'Individual Scores'!\"&ADDRESS(MATCH(F374,'Individual Scores'!$D$2:$D$169,0)+1,2)))","v":"15 & <"},{"$f":"IF(ISERROR(VLOOKUP(F374,Bowler_Name,1,FALSE)),\"\",INDIRECT(\"'Individual Scores'!\"&ADDRESS(MATCH(F374,'Individual Scores'!$D$2:$D$169,0)+1,3)))","v":"M"},167,191,158,null,236,158,168,516,562,1078,null,179.66666666666666]
[2,"North Carolina","15 & <","M",11,"Jacob Bloomfield ","",{"$f":"IF(ISERROR(VLOOKUP(F375,Bowler_Name,1,FALSE)),\"\",INDIRECT(\"'Individual Scores'!\"&ADDRESS(MATCH(F375,'Individual Scores'!$D$2:$D$169,0)+1,2)))","v":"15 & <"},{"$f":"IF(ISERROR(VLOOKUP(F375,Bowler_Name,1,FALSE)),\"\",INDIRECT(\"'Individual Scores'!\"&ADDRESS(MATCH(F375,'Individual Scores'!$D$2:$D$169,0)+1,3)))","v":"M"},189,245,257,null,159,199,151,691,509,1200,null,200]
[2,"North Carolina","15 & <","M"]
[2,"North Carolina","15 & <","M",null,{"$f":"DGET(Constants!$C$1:$D$4,1,E361:E362)&\" \"&G362&\" \"&F362","v":"NC M 15 & <"},null,null,null,{"$f":"SUM(J365:J375)-MIN(J365:J375)","v":1961},{"$f":"SUM(K364:K376)-MIN(K364:K376)","v":2018},1930,null,1995,1935,1773,{"$f":"SUM(J377:L377)","v":5909},{"$f":"SUM(N377:P377)","v":5703},{"$f":"SUM(Q377:R377)","v":11612}]
[2,null,null,null,null,"Warning Row:  should be hidden",null,null,null,{"$f":"IF(COUNT(J364:J376)=0,\"\",IF(COUNT(J364:J376)<ROWS(J364:J376)-2,1,\"\"))","v":""},"","",null,"","",""]
[2]
[{"$f":"H383","v":2},{"$f":"E383","v":"North Carolina"},{"$f":"F383","v":"16-20"},{"$f":"G383","v":"F"},"Tournament",{"$f":"DGET('Tournament Locations'!$B$1:$C$4,\"Location\",H382:H383)","v":"Royal Lanes, Goose Creek, SC"}]
[{"$f":"A380","v":2},{"$f":"B380","v":"North Carolina"},{"$f":"C380","v":"16-20"},{"$f":"D380","v":"F"},null,null,null,null,null,null,null,"High Game",null,{"$f":"MAX(J386:P396)","v":265},null,{"$f":"IF(SUM(J399:P399)>0,\"Warning:  Not enough scores to drop lowest score.  Be sure zeros are entered for any vacant bowler\",\"\")","v":""}]
[{"$f":"A381","v":2},"North Carolina","16-20","F","State","Age","Gender","Tournament",null,null,null,"High Series",null,{"$f":"MAX(Q386:R396)","v":678}]
[2,"North Carolina","16-20","F",{"$f":"E341","v":"North Carolina"},"16-20","F",{"$f":"H257","v":2},null,null,null,"High Pins",null,{"$f":"MAX(S386:S396)","v":1238}]
[2,"North Carolina","16-20","F"]
[2,"North Carolina","16-20","F","Player Number","Full Name","Flag","Actual Age","Gender","Game 1","Game 2","Game 3",null,"Game 4","Game 5","Game 6","Series 1","Series 2","Total"]
[2,"North Carolina","16-20","F",1,"Breanna Clemmer",{"$f":"IF(ISERROR(VLOOKUP(F386,Bowler_Name,1,FALSE)),\"Not Entered\",IF(H386>F$383,\"Too Old\",IF(I386<>G$383,\"Wrong Gender\",\"\")))","v":""},{"$f":"IF(ISERROR(VLOOKUP(F386,Bowler_Name,1,FALSE)),\"\",INDIRECT(\"'Individual Scores'!\"&ADDRESS(MATCH(F386,'Individual Scores'!$D$2:$D$169,0)+1,2)))","v":"16-20"},{"$f":"IF(ISERROR(VLOOKUP(F386,Bowler_Name,1,FALSE)),\"\",INDIRECT(\"'Individual Scores'!\"&ADDRESS(MATCH(F386,'Individual Scores'!$D$2:$D$169,0)+1,3)))","v":"F"},217,225,224,null,178,178,216,{"$f":"SUM(J386:L386)","v":666},{"$f":"SUM(N386:P386)","v":572},{"$f":"SUM(Q386:R386)","v":1238},null,{"$f":"S386/6","v":206.33333333333334}]
[2,"North Carolina","16-20","F",{"$f":"E386+1","v":2},"Madysen Keller","",{"$f":"IF(ISERROR(VLOOKUP(F387,Bowler_Name,1,FALSE)),\"\",INDIRECT(\"'Individual Scores'!\"&ADDRESS(MATCH(F387,'Individual Scores'!$D$2:$D$169,0)+1,2)))","v":"16-20"},{"$f":"IF(ISERROR(VLOOKUP(F387,Bowler_Name,1,FALSE)),\"\",INDIRECT(\"'Individual Scores'!\"&ADDRESS(MATCH(F387,'Individual Scores'!$D$2:$D$169,0)+1,3)))","v":"F"},198,215,265,null,206,185,162,678,{"$f":"SUM(N387:P387)","v":553},{"$f":"SUM(Q387:R387)","v":1231},null,{"$f":"S387/6","v":205.16666666666666}]
[2,"North Carolina","16-20","F",{"$f":"E387+1","v":3},"Jennifer Clemmer","",{"$f":"IF(ISERROR(VLOOKUP(F388,Bowler_Name,1,FALSE)),\"\",INDIRECT(\"'Individual Scores'!\"&ADDRESS(MATCH(F388,'Individual Scores'!$D$2:$D$169,0)+1,2)))","v":"16-20"},{"$f":"IF(ISERROR(VLOOKUP(F388,Bowler_Name,1,FALSE)),\"\",INDIRECT(\"'Individual Scores'!\"&ADDRESS(MATCH(F388,'Individual Scores'!$D$2:$D$169,0)+1,3)))","v":"F"},194,202,214,null,119,138,143,610,400,1010,null,168.33333333333334]
[2,"North Carolina","16-20","F",4,"Sydney Johnson","",{"$f":"IF(ISERROR(VLOOKUP(F389,Bowler_Name,1,FALSE)),\"\",INDIRECT(\"'Individual Scores'!\"&ADDRESS(MATCH(F389,'Individual Scores'!$D$2:$D$169,0)+1,2)))","v":"16-20"},{"$f":"IF(ISERROR(VLOOKUP(F389,Bowler_Name,1,FALSE)),\"\",INDIRECT(\"'Individual Scores'!\"&ADDRESS(MATCH(F389,'Individual Scores'!$D$2:$D$169,0)+1,3)))","v":"F"},170,158,190,null,127,142,155,518,424,942,null,157]
[2,"North Carolina","16-20","F",5,"Brandi Barefoot","",{"$f":"IF(ISERROR(VLOOKUP(F390,Bowler_Name,1,FALSE)),\"\",INDIRECT(\"'Individual Scores'!\"&ADDRESS(MATCH(F390,'Individual Scores'!$D$2:$D$169,0)+1,2)))","v":"16-20"},{"$f":"IF(ISERROR(VLOOKUP(F390,Bowler_Name,1,FALSE)),\"\",INDIRECT(\"'Individual Scores'!\"&ADDRESS(MATCH(F390,'Individual Scores'!$D$2:$D$169,0)+1,3)))","v":"F"},184,162,195,null,137,146,137,541,420,961,null,160.16666666666666]
[2,"North Carolina","16-20","F",6,"Rachel Parsons","",{"$f":"IF(ISERROR(VLOOKUP(F391,Bowler_Name,1,FALSE)),\"\",INDIRECT(\"'Individual Scores'!\"&ADDRESS(MATCH(F391,'Individual Scores'!$D$2:$D$169,0)+1,2)))","v":"16-20"},{"$f":"IF(ISERROR(VLOOKUP(F391,Bowler_Name,1,FALSE)),\"\",INDIRECT(\"'Individual Scores'!\"&ADDRESS(MATCH(F391,'Individual Scores'!$D$2:$D$169,0)+1,3)))","v":"F"},249,204,194,null,191,154,183,647,528,1175,null,195.83333333333334]
[2,"North Carolina","16-20","F",7,"Alisha Horne","",{"$f":"IF(ISERROR(VLOOKUP(F392,Bowler_Name,1,FALSE)),\"\",INDIRECT(\"'Individual Scores'!\"&ADDRESS(MATCH(F392,'Individual Scores'!$D$2:$D$169,0)+1,2)))","v":"16-20"},{"$f":"IF(ISERROR(VLOOKUP(F392,Bowler_Name,1,FALSE)),\"\",INDIRECT(\"'Individual Scores'!\"&ADDRESS(MATCH(F392,'Individual Scores'!$D$2:$D$169,0)+1,3)))","v":"F"},165,144,157,null,197,161,170,466,528,994,null,165.66666666666666]
[2,"North Carolina","16-20","F",8,"Lakota Waters","",{"$f":"IF(ISERROR(VLOOKUP(F393,Bowler_Name,1,FALSE)),\"\",INDIRECT(\"'Individual Scores'!\"&ADDRESS(MATCH(F393,'Individual Scores'!$D$2:$D$169,0)+1,2)))","v":"16-20"},{"$f":"IF(ISERROR(VLOOKUP(F393,Bowler_Name,1,FALSE)),\"\",INDIRECT(\"'Individual Scores'!\"&ADDRESS(MATCH(F393,'Individual Scores'!$D$2:$D$169,0)+1,3)))","v":"F"},174,166,160,null,152,179,139,500,470,970,null,161.66666666666666]
[2,"North Carolina","16-20","F",9,"Maria Freeman","",{"$f":"IF(ISERROR(VLOOKUP(F394,Bowler_Name,1,FALSE)),\"\",INDIRECT(\"'Individual Scores'!\"&ADDRESS(MATCH(F394,'Individual Scores'!$D$2:$D$169,0)+1,2)))","v":"16-20"},{"$f":"IF(ISERROR(VLOOKUP(F394,Bowler_Name,1,FALSE)),\"\",INDIRECT(\"'Individual Scores'!\"&ADDRESS(MATCH(F394,'Individual Scores'!$D$2:$D$169,0)+1,3)))","v":"F"},124,169,108,null,159,114,139,401,412,813,null,135.5]
[2,"North Carolina","16-20","F",10,"Hailey Wall","",{"$f":"IF(ISERROR(VLOOKUP(F395,Bowler_Name,1,FALSE)),\"\",INDIRECT(\"'Individual Scores'!\"&ADDRESS(MATCH(F395,'Individual Scores'!$D$2:$D$169,0)+1,2)))","v":"15 & <"},{"$f":"IF(ISERROR(VLOOKUP(F395,Bowler_Name,1,FALSE)),\"\",INDIRECT(\"'Individual Scores'!\"&ADDRESS(MATCH(F395,'Individual Scores'!$D$2:$D$169,0)+1,3)))","v":"F"},161,165,238,null,195,176,189,564,560,1124,null,187.33333333333334]
[2,"North Carolina","16-20","F",11,"Brittany Worthy","",{"$f":"IF(ISERROR(VLOOKUP(F396,Bowler_Name,1,FALSE)),\"\",INDIRECT(\"'Individual Scores'!\"&ADDRESS(MATCH(F396,'Individual Scores'!$D$2:$D$169,0)+1,2)))","v":"16-20"},{"$f":"IF(ISERROR(VLOOKUP(F396,Bowler_Name,1,FALSE)),\"\",INDIRECT(\"'Individual Scores'!\"&ADDRESS(MATCH(F396,'Individual Scores'!$D$2:$D$169,0)+1,3)))","v":"F"},199,202,186,null,149,170,127,587,446,1033,null,172.16666666666666]
[2,"North Carolina","16-20","F"]
[2,"North Carolina","16-20","F",null,{"$f":"DGET(Constants!$C$1:$D$4,1,E382:E383)&\" \"&G383&\" \"&F383","v":"NC F 16-20"},null,null,null,{"$f":"SUM(J386:J396)-MIN(J386:J396)","v":1911},{"$f":"SUM(K385:K397)-MIN(K385:K397)","v":1868},2023,null,1691,1629,1633,{"$f":"SUM(J398:L398)","v":5802},{"$f":"SUM(N398:P398)","v":4953},{"$f":"SUM(Q398:R398)","v":10755}]
[2,null,null,null,null,"Warning Row:  should be hidden",null,null,null,{"$f":"IF(COUNT(J385:J397)=0,\"\",IF(COUNT(J385:J397)<ROWS(J385:J397)-2,1,\"\"))","v":""},"","",null,"","",""]
[2]
[{"$f":"H404","v":2},{"$f":"E404","v":"North Carolina"},{"$f":"F404","v":"16-20"},{"$f":"G404","v":"M"},"Tournament",{"$f":"DGET('Tournament Locations'!$B$1:$C$4,\"Location\",H403:H404)","v":"Royal Lanes, Goose Creek, SC"}]
[{"$f":"A401","v":2},{"$f":"B401","v":"North Carolina"},{"$f":"C401","v":"16-20"},{"$f":"D401","v":"M"},null,null,null,null,null,null,null,"High Game",null,{"$f":"MAX(J407:P417)","v":279},null,{"$f":"IF(SUM(J420:P420)>0,\"Warning:  Not enough scores to drop lowest score.  Be sure zeros are entered for any vacant bowler\",\"\")","v":""}]
[{"$f":"A402","v":2},"North Carolina","16-20","M","State","Age","Gender","Tournament",null,null,null,"High Series",null,{"$f":"MAX(Q407:R417)","v":801}]
[2,"North Carolina","16-20","M",{"$f":"E341","v":"North Carolina"},{"$f":"F383","v":"16-20"},"M",{"$f":"H257","v":2},null,null,null,"High Pins",null,{"$f":"MAX(S407:S417)","v":1532}]
[2,"North Carolina","16-20","M"]
[2,"North Carolina","16-20","M","Player Number","Full Name","Flag","Actual Age","Gender","Game 1","Game 2","Game 3",null,"Game 4","Game 5","Game 6","Series 1","Series 2","Total"]
[2,"North Carolina","16-20","M",1,"Jay Hargrove",{"$f":"IF(ISERROR(VLOOKUP(F407,Bowler_Name,1,FALSE)),\"Not Entered\",IF(H407>F$404,\"Too Old\",IF(I407<>G$404,\"Wrong Gender\",\"\")))","v":""},{"$f":"IF(ISERROR(VLOOKUP(F407,Bowler_Name,1,FALSE)),\"\",INDIRECT(\"'Individual Scores'!\"&ADDRESS(MATCH(F407,'Individual Scores'!$D$2:$D$169,0)+1,2)))","v":"16-20"},{"$f":"IF(ISERROR(VLOOKUP(F407,Bowler_Name,1,FALSE)),\"\",INDIRECT(\"'Individual Scores'!\"&ADDRESS(MATCH(F407,'Individual Scores'!$D$2:$D$169,0)+1,3)))","v":"M"},224,181,199,null,156,187,201,{"$f":"SUM(J407:L407)","v":604},{"$f":"SUM(N407:P407)","v":544},{"$f":"SUM(Q407:R407)","v":1148},null,{"$f":"S407/6","v":191.33333333333334}]
[2,"North Carolina","16-20","M",{"$f":"E407+1","v":2},"Trevor Cross","",{"$f":"IF(ISERROR(VLOOKUP(F408,Bowler_Name,1,FALSE)),\"\",INDIRECT(\"'Individual Scores'!\"&ADDRESS(MATCH(F408,'Individual Scores'!$D$2:$D$169,0)+1,2)))","v":"16-20"},{"$f":"IF(ISERROR(VLOOKUP(F408,Bowler_Name,1,FALSE)),\"\",INDIRECT(\"'Individual Scores'!\"&ADDRESS(MATCH(F408,'Individual Scores'!$D$2:$D$169,0)+1,3)))","v":"M"},152,209,179,null,212,195,195,540,{"$f":"SUM(N408:P408)","v":602},{"$f":"SUM(Q408:R408)","v":1142},null,{"$f":"S408/6","v":190.33333333333334}]
[2,"North Carolina","16-20","M",{"$f":"E408+1","v":3},"Troy White","",{"$f":"IF(ISERROR(VLOOKUP(F409,Bowler_Name,1,FALSE)),\"\",INDIRECT(\"'Individual Scores'!\"&ADDRESS(MATCH(F409,'Individual Scores'!$D$2:$D$169,0)+1,2)))","v":"16-20"},{"$f":"IF(ISERROR(VLOOKUP(F409,Bowler_Name,1,FALSE)),\"\",INDIRECT(\"'Individual Scores'!\"&ADDRESS(MATCH(F409,'Individual Scores'!$D$2:$D$169,0)+1,3)))","v":"M"},212,241,278,null,265,257,279,731,801,1532,null,255.33333333333334]
[2,"North Carolina","16-20","M",4,"Taylor Butgereit","",{"$f":"IF(ISERROR(VLOOKUP(F410,Bowler_Name,1,FALSE)),\"\",INDIRECT(\"'Individual Scores'!\"&ADDRESS(MATCH(F410,'Individual Scores'!$D$2:$D$169,0)+1,2)))","v":"16-20"},{"$f":"IF(ISERROR(VLOOKUP(F410,Bowler_Name,1,FALSE)),\"\",INDIRECT(\"'Individual Scores'!\"&ADDRESS(MATCH(F410,'Individual Scores'!$D$2:$D$169,0)+1,3)))","v":"M"},166,213,196,null,223,257,224,575,704,1279,null,213.16666666666666]
[2,"North Carolina","16-20","M",5,"Zac Ludwig","",{"$f":"IF(ISERROR(VLOOKUP(F411,Bowler_Name,1,FALSE)),\"\",INDIRECT(\"'Individual Scores'!\"&ADDRESS(MATCH(F411,'Individual Scores'!$D$2:$D$169,0)+1,2)))","v":"16-20"},{"$f":"IF(ISERROR(VLOOKUP(F411,Bowler_Name,1,FALSE)),\"\",INDIRECT(\"'Individual Scores'!\"&ADDRESS(MATCH(F411,'Individual Scores'!$D$2:$D$169,0)+1,3)))","v":"M"},200,190,210,null,234,191,214,600,639,1239,null,206.5]
[2,"North Carolina","16-20","M",6,"Matt Wyant","",{"$f":"IF(ISERROR(VLOOKUP(F412,Bowler_Name,1,FALSE)),\"\",INDIRECT(\"'Individual Scores'!\"&ADDRESS(MATCH(F412,'Individual Scores'!$D$2:$D$169,0)+1,2)))","v":"16-20"},{"$f":"IF(ISERROR(VLOOKUP(F412,Bowler_Name,1,FALSE)),\"\",INDIRECT(\"'Individual Scores'!\"&ADDRESS(MATCH(F412,'Individual Scores'!$D$2:$D$169,0)+1,3)))","v":"M"},226,188,215,null,202,215,178,629,595,1224,null,204]
[2,"North Carolina","16-20","M",7,"Alex Scott","",{"$f":"IF(ISERROR(VLOOKUP(F413,Bowler_Name,1,FALSE)),\"\",INDIRECT(\"'Individual Scores'!\"&ADDRESS(MATCH(F413,'Individual Scores'!$D$2:$D$169,0)+1,2)))","v":"16-20"},{"$f":"IF(ISERROR(VLOOKUP(F413,Bowler_Name,1,FALSE)),\"\",INDIRECT(\"'Individual Scores'!\"&ADDRESS(MATCH(F413,'Individual Scores'!$D$2:$D$169,0)+1,3)))","v":"M"},213,181,203,null,199,223,202,597,624,1221,null,203.5]
[2,"North Carolina","16-20","M",8,"Quan Bethea","",{"$f":"IF(ISERROR(VLOOKUP(F414,Bowler_Name,1,FALSE)),\"\",INDIRECT(\"'Individual Scores'!\"&ADDRESS(MATCH(F414,'Individual Scores'!$D$2:$D$169,0)+1,2)))","v":"16-20"},{"$f":"IF(ISERROR(VLOOKUP(F414,Bowler_Name,1,FALSE)),\"\",INDIRECT(\"'Individual Scores'!\"&ADDRESS(MATCH(F414,'Individual Scores'!$D$2:$D$169,0)+1,3)))","v":"M"},204,234,185,null,195,234,209,623,638,1261,null,210.16666666666666]
[2,"North Carolina","16-20","M",9,"Ben Estes","",{"$f":"IF(ISERROR(VLOOKUP(F415,Bowler_Name,1,FALSE)),\"\",INDIRECT(\"'Individual Scores'!\"&ADDRESS(MATCH(F415,'Individual Scores'!$D$2:$D$169,0)+1,2)))","v":"16-20"},{"$f":"IF(ISERROR(VLOOKUP(F415,Bowler_Name,1,FALSE)),\"\",INDIRECT(\"'Individual Scores'!\"&ADDRESS(MATCH(F415,'Individual Scores'!$D$2:$D$169,0)+1,3)))","v":"M"},0,0,0,null,0,0,0,0,0,0,null,0]
[2,"North Carolina","16-20","M",10,"Nahshon Bennett","",{"$f":"IF(ISERROR(VLOOKUP(F416,Bowler_Name,1,FALSE)),\"\",INDIRECT(\"'Individual Scores'!\"&ADDRESS(MATCH(F416,'Individual Scores'!$D$2:$D$169,0)+1,2)))","v":"16-20"},{"$f":"IF(ISERROR(VLOOKUP(F416,Bowler_Name,1,FALSE)),\"\",INDIRECT(\"'Individual Scores'!\"&ADDRESS(MATCH(F416,'Individual Scores'!$D$2:$D$169,0)+1,3)))","v":"M"},194,235,246,null,259,243,252,675,754,1429,null,238.16666666666666]
[2,"North Carolina","16-20","M",11,"Jacob Horne","",{"$f":"IF(ISERROR(VLOOKUP(F417,Bowler_Name,1,FALSE)),\"\",INDIRECT(\"'Individual Scores'!\"&ADDRESS(MATCH(F417,'Individual Scores'!$D$2:$D$169,0)+1,2)))","v":"16-20"},{"$f":"IF(ISERROR(VLOOKUP(F417,Bowler_Name,1,FALSE)),\"\",INDIRECT(\"'Individual Scores'!\"&ADDRESS(MATCH(F417,'Individual Scores'!$D$2:$D$169,0)+1,3)))","v":"M"},211,197,244,null,279,194,192,652,665,1317,null,219.5]
[2,"North Carolina","16-20","M"]
[2,"North Carolina","16-20","M",null,{"$f":"DGET(Constants!$C$1:$D$4,1,E403:E404)&\" \"&G404&\" \"&F404","v":"NC M 16-20"},null,null,null,{"$f":"SUM(J407:J417)-MIN(J407:J417)","v":2002},{"$f":"SUM(K406:K418)-MIN(K406:K418)","v":2069},2155,null,2224,2196,2146,{"$f":"SUM(J419:L419)","v":6226},{"$f":"SUM(N419:P419)","v":6566},{"$f":"SUM(Q419:R419)","v":12792}]
[2,null,null,null,null,"Warning Row:  should be hidden",null,null,null,{"$f":"IF(COUNT(J406:J418)=0,\"\",IF(COUNT(J406:J418)<ROWS(J406:J418)-2,1,\"\"))","v":""},"","",null,"","",""]
[2]
[{"$f":"H425","v":2},{"$f":"E425","v":"South Carolina"},{"$f":"F425","v":"15 & <"},{"$f":"G425","v":"F"},"Tournament",{"$f":"DGET('Tournament Locations'!$B$1:$C$4,\"Location\",H424:H425)","v":"Royal Lanes, Goose Creek, SC"}]
[{"$f":"A422","v":2},{"$f":"B422","v":"South Carolina"},{"$f":"C422","v":"15 & <"},{"$f":"D422","v":"F"},null,null,null,null,null,null,null,"High Game",null,{"$f":"MAX(J428:P439)","v":237},null,{"$f":"IF(SUM(J441:P441)>0,\"Warning:  Not enough scores to drop lowest score.  Be sure zeros are entered for any vacant bowler\",\"\")","v":""}]
[{"$f":"A423","v":2},"South Carolina","15 & <","F","State","Age","Gender","Tournament",null,null,null,"High Series",null,{"$f":"MAX(Q428:R439)","v":630}]
[2,"South Carolina","15 & <","F","South Carolina","15 & <","F",{"$f":"H257","v":2},null,null,null,"High Pins",null,{"$f":"MAX(S428:S439)","v":1188}]
[2,"South Carolina","15 & <","F"]
[2,"South Carolina","15 & <","F","Player Number","Full Name","Flag","Actual Age","Gender","Game 1","Game 2","Game 3",null,"Game 4","Game 5","Game 6","Series 1","Series 2","Total"]
[2,"South Carolina","15 & <","F",1,"Claire Marshall",{"$f":"IF(ISERROR(VLOOKUP(F428,Bowler_Name,1,FALSE)),\"Not Entered\",IF(H428>F$425,\"Too Old\",IF(I428<>G$425,\"Wrong Gender\",\"\")))","v":""},{"$f":"IF(ISERROR(VLOOKUP(F428,Bowler_Name,1,FALSE)),\"\",INDIRECT(\"'Individual Scores'!\"&ADDRESS(MATCH(F428,'Individual Scores'!$D$2:$D$169,0)+1,2)))","v":"15 & <"},{"$f":"IF(ISERROR(VLOOKUP(F428,Bowler_Name,1,FALSE)),\"\",INDIRECT(\"'Individual Scores'!\"&ADDRESS(MATCH(F428,'Individual Scores'!$D$2:$D$169,0)+1,3)))","v":"F"},178,162,182,null,198,161,159,{"$f":"SUM(J428:L428)","v":522},{"$f":"SUM(N428:P428)","v":518},{"$f":"SUM(Q428:R428)","v":1040}]
[2,"South Carolina","15 & <","F",{"$f":"E428+1","v":2},"Stephanie Murphy","",{"$f":"IF(ISERROR(VLOOKUP(F429,Bowler_Name,1,FALSE)),\"\",INDIRECT(\"'Individual Scores'!\"&ADDRESS(MATCH(F429,'Individual Scores'!$D$2:$D$169,0)+1,2)))","v":"15 & <"},{"$f":"IF(ISERROR(VLOOKUP(F429,Bowler_Name,1,FALSE)),\"\",INDIRECT(\"'Individual Scores'!\"&ADDRESS(MATCH(F429,'Individual Scores'!$D$2:$D$169,0)+1,3)))","v":"F"},113,224,160,null,138,139,119,497,{"$f":"SUM(N429:P429)","v":396},{"$f":"SUM(Q429:R429)","v":893}]
[2,"South Carolina","15 & <","F",3,"Sharlie Walker","",{"$f":"IF(ISERROR(VLOOKUP(F430,Bowler_Name,1,FALSE)),\"\",INDIRECT(\"'Individual Scores'!\"&ADDRESS(MATCH(F430,'Individual Scores'!$D$2:$D$169,0)+1,2)))","v":"15 & <"},{"$f":"IF(ISERROR(VLOOKUP(F430,Bowler_Name,1,FALSE)),\"\",INDIRECT(\"'Individual Scores'!\"&ADDRESS(MATCH(F430,'Individual Scores'!$D$2:$D$169,0)+1,3)))","v":"F"},139,145,113,null,136,130,141,397,407,804]
[2,"South Carolina","15 & <","F",4,"Jaycee McCarthy","",{"$f":"IF(ISERROR(VLOOKUP(F431,Bowler_Name,1,FALSE)),\"\",INDIRECT(\"'Individual Scores'!\"&ADDRESS(MATCH(F431,'Individual Scores'!$D$2:$D$169,0)+1,2)))","v":"15 & <"},{"$f":"IF(ISERROR(VLOOKUP(F431,Bowler_Name,1,FALSE)),\"\",INDIRECT(\"'Individual Scores'!\"&ADDRESS(MATCH(F431,'Individual Scores'!$D$2:$D$169,0)+1,3)))","v":"F"},147,193,115,null,129,130,162,455,421,876]
[2,"South Carolina","15 & <","F",5,"Madison Janack","",{"$f":"IF(ISERROR(VLOOKUP(F432,Bowler_Name,1,FALSE)),\"\",INDIRECT(\"'Individual Scores'!\"&ADDRESS(MATCH(F432,'Individual Scores'!$D$2:$D$169,0)+1,2)))","v":"15 & <"},{"$f":"IF(ISERROR(VLOOKUP(F432,Bowler_Name,1,FALSE)),\"\",INDIRECT(\"'Individual Scores'!\"&ADDRESS(MATCH(F432,'Individual Scores'!$D$2:$D$169,0)+1,3)))","v":"F"},214,213,203,null,212,166,157,630,535,1165]
[2,"South Carolina","15 & <","F",6,"Kaylin Hurayt","",{"$f":"IF(ISERROR(VLOOKUP(F433,Bowler_Name,1,FALSE)),\"\",INDIRECT(\"'Individual Scores'!\"&ADDRESS(MATCH(F433,'Individual Scores'!$D$2:$D$169,0)+1,2)))","v":"15 & <"},{"$f":"IF(ISERROR(VLOOKUP(F433,Bowler_Name,1,FALSE)),\"\",INDIRECT(\"'Individual Scores'!\"&ADDRESS(MATCH(F433,'Individual Scores'!$D$2:$D$169,0)+1,3)))","v":"F"},103,108,150,null,135,144,124,361,403,764]
[2,"South Carolina","15 & <","F",7,"Hailee Shields","",{"$f":"IF(ISERROR(VLOOKUP(F434,Bowler_Name,1,FALSE)),\"\",INDIRECT(\"'Individual Scores'!\"&ADDRESS(MATCH(F434,'Individual Scores'!$D$2:$D$169,0)+1,2)))","v":"15 & <"},{"$f":"IF(ISERROR(VLOOKUP(F434,Bowler_Name,1,FALSE)),\"\",INDIRECT(\"'Individual Scores'!\"&ADDRESS(MATCH(F434,'Individual Scores'!$D$2:$D$169,0)+1,3)))","v":"F"},158,158,184,null,153,99,134,500,386,886]
[2,"South Carolina","15 & <","F",8,"Hannah Simmons","",{"$f":"IF(ISERROR(VLOOKUP(F435,Bowler_Name,1,FALSE)),\"\",INDIRECT(\"'Individual Scores'!\"&ADDRESS(MATCH(F435,'Individual Scores'!$D$2:$D$169,0)+1,2)))","v":"15 & <"},{"$f":"IF(ISERROR(VLOOKUP(F435,Bowler_Name,1,FALSE)),\"\",INDIRECT(\"'Individual Scores'!\"&ADDRESS(MATCH(F435,'Individual Scores'!$D$2:$D$169,0)+1,3)))","v":"F"},142,120,113,null,125,111,95,375,331,706]
[2,"South Carolina","15 & <","F",9,"Torie Libby","",{"$f":"IF(ISERROR(VLOOKUP(F436,Bowler_Name,1,FALSE)),\"\",INDIRECT(\"'Individual Scores'!\"&ADDRESS(MATCH(F436,'Individual Scores'!$D$2:$D$169,0)+1,2)))","v":"15 & <"},{"$f":"IF(ISERROR(VLOOKUP(F436,Bowler_Name,1,FALSE)),\"\",INDIRECT(\"'Individual Scores'!\"&ADDRESS(MATCH(F436,'Individual Scores'!$D$2:$D$169,0)+1,3)))","v":"F"},178,170,201,null,159,171,211,549,541,1090]
[2,"South Carolina","15 & <","F",10,"Danielle Lane","",{"$f":"IF(ISERROR(VLOOKUP(F437,Bowler_Name,1,FALSE)),\"\",INDIRECT(\"'Individual Scores'!\"&ADDRESS(MATCH(F437,'Individual Scores'!$D$2:$D$169,0)+1,2)))","v":"15 & <"},{"$f":"IF(ISERROR(VLOOKUP(F437,Bowler_Name,1,FALSE)),\"\",INDIRECT(\"'Individual Scores'!\"&ADDRESS(MATCH(F437,'Individual Scores'!$D$2:$D$169,0)+1,3)))","v":"F"},237,168,225,null,237,178,143,630,558,1188]
[2,"South Carolina","15 & <","F",11,"April Anne Calatrava","",{"$f":"IF(ISERROR(VLOOKUP(F438,Bowler_Name,1,FALSE)),\"\",INDIRECT(\"'Individual Scores'!\"&ADDRESS(MATCH(F438,'Individual Scores'!$D$2:$D$169,0)+1,2)))","v":"15 & <"},{"$f":"IF(ISERROR(VLOOKUP(F438,Bowler_Name,1,FALSE)),\"\",INDIRECT(\"'Individual Scores'!\"&ADDRESS(MATCH(F438,'Individual Scores'!$D$2:$D$169,0)+1,3)))","v":"F"},160,149,154,null,146,168,169,463,483,946]
[2,"South Carolina","15 & <","F"]
[2,"South Carolina","15 & <","F",null,{"$f":"DGET(Constants!$C$1:$D$4,1,E424:E425)&\" \"&G425&\" \"&F425","v":"SC F 15 & <"},null,null,null,{"$f":"SUM(J428:J438)-MIN(J428:J438)","v":1666},{"$f":"SUM(K427:K439)-MIN(K427:K439)","v":1702},1687,null,1643,1498,1519,{"$f":"SUM(J440:L440)","v":5055},{"$f":"SUM(N440:P440)","v":4660},{"$f":"SUM(Q440:R440)","v":9715}]
[2,null,null,null,null,"Warning Row:  should be hidden",null,null,null,{"$f":"IF(COUNT(J427:J439)=0,\"\",IF(COUNT(J427:J439)<ROWS(J427:J439)-2,1,\"\"))","v":""},"","",null,"","",""]
[2]
[{"$f":"H446","v":2},{"$f":"E446","v":"South Carolina"},{"$f":"F446","v":"15 & <"},{"$f":"G446","v":"M"},"Tournament",{"$f":"DGET('Tournament Locations'!$B$1:$C$4,\"Location\",H445:H446)","v":"Royal Lanes, Goose Creek, SC"}]
[{"$f":"A443","v":2},{"$f":"B443","v":"South Carolina"},{"$f":"C443","v":"15 & <"},{"$f":"D443","v":"M"},null,null,null,null,null,null,null,"High Game",null,{"$f":"MAX(J449:P460)","v":248},null,{"$f":"IF(SUM(J462:P462)>0,\"Warning:  Not enough scores to drop lowest score.  Be sure zeros are entered for any vacant bowler\",\"\")","v":""}]
[{"$f":"A444","v":2},"South Carolina","15 & <","M","State","Age","Gender","Tournament",null,null,null,"High Series",null,{"$f":"MAX(Q449:R460)","v":649}]
[2,"South Carolina","15 & <","M",{"$f":"E425","v":"South Carolina"},{"$f":"F425","v":"15 & <"},"M",{"$f":"H257","v":2},null,null,null,"High Pins",null,{"$f":"MAX(S449:S460)","v":1277}]
[2,"South Carolina","15 & <","M"]
[2,"South Carolina","15 & <","M","Player Number","Full Name","Flag","Actual Age","Gender","Game 1","Game 2","Game 3",null,"Game 4","Game 5","Game 6","Series 1","Series 2","Total"]
[2,"South Carolina","15 & <","M",1,"Blake Kempfer",{"$f":"IF(ISERROR(VLOOKUP(F449,Bowler_Name,1,FALSE)),\"Not Entered\",IF(H449>F$446,\"Too Old\",IF(I449<>G$446,\"Wrong Gender\",\"\")))","v":""},{"$f":"IF(ISERROR(VLOOKUP(F449,Bowler_Name,1,FALSE)),\"\",INDIRECT(\"'Individual Scores'!\"&ADDRESS(MATCH(F449,'Individual Scores'!$D$2:$D$169,0)+1,2)))","v":"15 & <"},{"$f":"IF(ISERROR(VLOOKUP(F449,Bowler_Name,1,FALSE)),\"\",INDIRECT(\"'Individual Scores'!\"&ADDRESS(MATCH(F449,'Individual Scores'!$D$2:$D$169,0)+1,3)))","v":"M"},215,152,160,null,167,172,150,{"$f":"SUM(J449:L449)","v":527},{"$f":"SUM(N449:P449)","v":489},{"$f":"SUM(Q449:R449)","v":1016}]
[2,"South Carolina","15 & <","M",{"$f":"E449+1","v":2},"Ryan Lapano","",{"$f":"IF(ISERROR(VLOOKUP(F450,Bowler_Name,1,FALSE)),\"\",INDIRECT(\"'Individual Scores'!\"&ADDRESS(MATCH(F450,'Individual Scores'!$D$2:$D$169,0)+1,2)))","v":"15 & <"},{"$f":"IF(ISERROR(VLOOKUP(F450,Bowler_Name,1,FALSE)),\"\",INDIRECT(\"'Individual Scores'!\"&ADDRESS(MATCH(F450,'Individual Scores'!$D$2:$D$169,0)+1,3)))","v":"M"},203,189,211,null,212,162,158,603,{"$f":"SUM(N450:P450)","v":532},{"$f":"SUM(Q450:R450)","v":1135}]
[2,"South Carolina","15 & <","M",3,"David Root","",{"$f":"IF(ISERROR(VLOOKUP(F451,Bowler_Name,1,FALSE)),\"\",INDIRECT(\"'Individual Scores'!\"&ADDRESS(MATCH(F451,'Individual Scores'!$D$2:$D$169,0)+1,2)))","v":"15 & <"},{"$f":"IF(ISERROR(VLOOKUP(F451,Bowler_Name,1,FALSE)),\"\",INDIRECT(\"'Individual Scores'!\"&ADDRESS(MATCH(F451,'Individual Scores'!$D$2:$D$169,0)+1,3)))","v":"M"},202,246,201,null,146,222,216,649,584,1233]
[2,"South Carolina","15 & <","M",4,"Zack Wofford","",{"$f":"IF(ISERROR(VLOOKUP(F452,Bowler_Name,1,FALSE)),\"\",INDIRECT(\"'Individual Scores'!\"&ADDRESS(MATCH(F452,'Individual Scores'!$D$2:$D$169,0)+1,2)))","v":"15 & <"},{"$f":"IF(ISERROR(VLOOKUP(F452,Bowler_Name,1,FALSE)),\"\",INDIRECT(\"'Individual Scores'!\"&ADDRESS(MATCH(F452,'Individual Scores'!$D$2:$D$169,0)+1,3)))","v":"M"},169,181,174,null,154,167,145,524,466,990]
[2,"South Carolina","15 & <","M",5,"Jonathan Lovett","",{"$f":"IF(ISERROR(VLOOKUP(F453,Bowler_Name,1,FALSE)),\"\",INDIRECT(\"'Individual Scores'!\"&ADDRESS(MATCH(F453,'Individual Scores'!$D$2:$D$169,0)+1,2)))","v":"15 & <"},{"$f":"IF(ISERROR(VLOOKUP(F453,Bowler_Name,1,FALSE)),\"\",INDIRECT(\"'Individual Scores'!\"&ADDRESS(MATCH(F453,'Individual Scores'!$D$2:$D$169,0)+1,3)))","v":"M"},165,196,192,null,214,204,208,553,626,1179]
[2,"South Carolina","15 & <","M",6,"Tyler Britt","",{"$f":"IF(ISERROR(VLOOKUP(F454,Bowler_Name,1,FALSE)),\"\",INDIRECT(\"'Individual Scores'!\"&ADDRESS(MATCH(F454,'Individual Scores'!$D$2:$D$169,0)+1,2)))","v":"15 & <"},{"$f":"IF(ISERROR(VLOOKUP(F454,Bowler_Name,1,FALSE)),\"\",INDIRECT(\"'Individual Scores'!\"&ADDRESS(MATCH(F454,'Individual Scores'!$D$2:$D$169,0)+1,3)))","v":"M"},200,214,235,null,206,189,204,649,599,1248]
[2,"South Carolina","15 & <","M",7,"Josh Hendricks","",{"$f":"IF(ISERROR(VLOOKUP(F455,Bowler_Name,1,FALSE)),\"\",INDIRECT(\"'Individual Scores'!\"&ADDRESS(MATCH(F455,'Individual Scores'!$D$2:$D$169,0)+1,2)))","v":"15 & <"},{"$f":"IF(ISERROR(VLOOKUP(F455,Bowler_Name,1,FALSE)),\"\",INDIRECT(\"'Individual Scores'!\"&ADDRESS(MATCH(F455,'Individual Scores'!$D$2:$D$169,0)+1,3)))","v":"M"},190,195,223,null,186,157,215,608,558,1166]
[2,"South Carolina","15 & <","M",8,"Kevin King","",{"$f":"IF(ISERROR(VLOOKUP(F456,Bowler_Name,1,FALSE)),\"\",INDIRECT(\"'Individual Scores'!\"&ADDRESS(MATCH(F456,'Individual Scores'!$D$2:$D$169,0)+1,2)))","v":"15 & <"},{"$f":"IF(ISERROR(VLOOKUP(F456,Bowler_Name,1,FALSE)),\"\",INDIRECT(\"'Individual Scores'!\"&ADDRESS(MATCH(F456,'Individual Scores'!$D$2:$D$169,0)+1,3)))","v":"M"},158,158,195,null,165,170,205,511,540,1051]
[2,"South Carolina","15 & <","M",9,"Josh Larnish","",{"$f":"IF(ISERROR(VLOOKUP(F457,Bowler_Name,1,FALSE)),\"\",INDIRECT(\"'Individual Scores'!\"&ADDRESS(MATCH(F457,'Individual Scores'!$D$2:$D$169,0)+1,2)))","v":"15 & <"},{"$f":"IF(ISERROR(VLOOKUP(F457,Bowler_Name,1,FALSE)),\"\",INDIRECT(\"'Individual Scores'!\"&ADDRESS(MATCH(F457,'Individual Scores'!$D$2:$D$169,0)+1,3)))","v":"M"},161,205,149,null,193,170,167,515,530,1045]
[2,"South Carolina","15 & <","M",10,"Brandon Magennis","",{"$f":"IF(ISERROR(VLOOKUP(F458,Bowler_Name,1,FALSE)),\"\",INDIRECT(\"'Individual Scores'!\"&ADDRESS(MATCH(F458,'Individual Scores'!$D$2:$D$169,0)+1,2)))","v":"15 & <"},{"$f":"IF(ISERROR(VLOOKUP(F458,Bowler_Name,1,FALSE)),\"\",INDIRECT(\"'Individual Scores'!\"&ADDRESS(MATCH(F458,'Individual Scores'!$D$2:$D$169,0)+1,3)))","v":"M"},248,156,242,null,208,201,222,646,631,1277]
[2,"South Carolina","15 & <","M",11,"Chris Hartzell","",{"$f":"IF(ISERROR(VLOOKUP(F459,Bowler_Name,1,FALSE)),\"\",INDIRECT(\"'Individual Scores'!\"&ADDRESS(MATCH(F459,'Individual Scores'!$D$2:$D$169,0)+1,2)))","v":"15 & <"},{"$f":"IF(ISERROR(VLOOKUP(F459,Bowler_Name,1,FALSE)),\"\",INDIRECT(\"'Individual Scores'!\"&ADDRESS(MATCH(F459,'Individual Scores'!$D$2:$D$169,0)+1,3)))","v":"M"},110,169,121,null,172,186,220,400,578,978]
[2,"South Carolina","15 & <","M"]
[2,"South Carolina","15 & <","M",null,{"$f":"DGET(Constants!$C$1:$D$4,1,E445:E446)&\" \"&G446&\" \"&F446","v":"SC M 15 & <"},null,null,null,{"$f":"SUM(J449:J459)-MIN(J449:J459)","v":1911},{"$f":"SUM(K448:K460)-MIN(K448:K460)","v":1909},1982,null,1877,1843,1965,{"$f":"SUM(J461:L461)","v":5802},{"$f":"SUM(N461:P461)","v":5685},{"$f":"SUM(Q461:R461)","v":11487}]
[2,null,null,null,null,"Warning Row:  should be hidden",null,null,null,{"$f":"IF(COUNT(J448:J460)=0,\"\",IF(COUNT(J448:J460)<ROWS(J448:J460)-2,1,\"\"))","v":""},"","",null,"","",""]
[2]
[{"$f":"H467","v":2},{"$f":"E467","v":"South Carolina"},{"$f":"F467","v":"16-20"},{"$f":"G467","v":"F"},"Tournament",{"$f":"DGET('Tournament Locations'!$B$1:$C$4,\"Location\",H466:H467)","v":"Royal Lanes, Goose Creek, SC"}]
[{"$f":"A464","v":2},{"$f":"B464","v":"South Carolina"},{"$f":"C464","v":"16-20"},{"$f":"D464","v":"F"},null,null,null,null,null,null,null,"High Game",null,{"$f":"MAX(J470:P480)","v":241},null,{"$f":"IF(SUM(J483:P483)>0,\"Warning:  Not enough scores to drop lowest score.  Be sure zeros are entered for any vacant bowler\",\"\")","v":""}]
[{"$f":"A465","v":2},"South Carolina","16-20","F","State","Age","Gender","Tournament",null,null,null,"High Series",null,{"$f":"MAX(Q470:R480)","v":653}]
[2,"South Carolina","16-20","F",{"$f":"E425","v":"South Carolina"},"16-20","F",{"$f":"H257","v":2},null,null,null,"High Pins",null,{"$f":"MAX(S470:S480)","v":1231}]
[2,"South Carolina","16-20","F"]
[2,"South Carolina","16-20","F","Player Number","Full Name","Flag","Actual Age","Gender","Game 1","Game 2","Game 3",null,"Game 4","Game 5","Game 6","Series 1","Series 2","Total"]
[2,"South Carolina","16-20","F",1,"Jordan Matter",{"$f":"IF(ISERROR(VLOOKUP(F470,Bowler_Name,1,FALSE)),\"Not Entered\",IF(H470>F$467,\"Too Old\",IF(I470<>G$467,\"Wrong Gender\",\"\")))","v":""},{"$f":"IF(ISERROR(VLOOKUP(F470,Bowler_Name,1,FALSE)),\"\",INDIRECT(\"'Individual Scores'!\"&ADDRESS(MATCH(F470,'Individual Scores'!$D$2:$D$169,0)+1,2)))","v":"16-20"},{"$f":"IF(ISERROR(VLOOKUP(F470,Bowler_Name,1,FALSE)),\"\",INDIRECT(\"'Individual Scores'!\"&ADDRESS(MATCH(F470,'Individual Scores'!$D$2:$D$169,0)+1,3)))","v":"F"},196,165,171,null,204,173,137,{"$f":"SUM(J470:L470)","v":532},{"$f":"SUM(N470:P470)","v":514},{"$f":"SUM(Q470:R470)","v":1046}]
[2,"South Carolina","16-20","F",{"$f":"E470+1","v":2},"Sarah O'Conner","",{"$f":"IF(ISERROR(VLOOKUP(F471,Bowler_Name,1,FALSE)),\"\",INDIRECT(\"'Individual Scores'!\"&ADDRESS(MATCH(F471,'Individual Scores'!$D$2:$D$169,0)+1,2)))","v":"16-20"},{"$f":"IF(ISERROR(VLOOKUP(F471,Bowler_Name,1,FALSE)),\"\",INDIRECT(\"'Individual Scores'!\"&ADDRESS(MATCH(F471,'Individual Scores'!$D$2:$D$169,0)+1,3)))","v":"F"},181,185,146,null,186,177,162,512,{"$f":"SUM(N471:P471)","v":525},{"$f":"SUM(Q471:R471)","v":1037}]
[2,"South Carolina","16-20","F",{"$f":"E471+1","v":3},"Lizzi O'Brien","",{"$f":"IF(ISERROR(VLOOKUP(F472,Bowler_Name,1,FALSE)),\"\",INDIRECT(\"'Individual Scores'!\"&ADDRESS(MATCH(F472,'Individual Scores'!$D$2:$D$169,0)+1,2)))","v":"16-20"},{"$f":"IF(ISERROR(VLOOKUP(F472,Bowler_Name,1,FALSE)),\"\",INDIRECT(\"'Individual Scores'!\"&ADDRESS(MATCH(F472,'Individual Scores'!$D$2:$D$169,0)+1,3)))","v":"F"},188,199,139,null,149,175,129,526,453,979]
[2,"South Carolina","16-20","F",4,"Emily Bolton","",{"$f":"IF(ISERROR(VLOOKUP(F473,Bowler_Name,1,FALSE)),\"\",INDIRECT(\"'Individual Scores'!\"&ADDRESS(MATCH(F473,'Individual Scores'!$D$2:$D$169,0)+1,2)))","v":"16-20"},{"$f":"IF(ISERROR(VLOOKUP(F473,Bowler_Name,1,FALSE)),\"\",INDIRECT(\"'Individual Scores'!\"&ADDRESS(MATCH(F473,'Individual Scores'!$D$2:$D$169,0)+1,3)))","v":"F"},162,193,148,null,190,176,153,503,519,1022]
[2,"South Carolina","16-20","F",5,"Danielle Brock","",{"$f":"IF(ISERROR(VLOOKUP(F474,Bowler_Name,1,FALSE)),\"\",INDIRECT(\"'Individual Scores'!\"&ADDRESS(MATCH(F474,'Individual Scores'!$D$2:$D$169,0)+1,2)))","v":"16-20"},{"$f":"IF(ISERROR(VLOOKUP(F474,Bowler_Name,1,FALSE)),\"\",INDIRECT(\"'Individual Scores'!\"&ADDRESS(MATCH(F474,'Individual Scores'!$D$2:$D$169,0)+1,3)))","v":"F"},232,165,193,null,209,138,180,590,{"$f":"SUM(N474:P474)","v":527},1117]
[2,"South Carolina","16-20","F",6,"Kimberlee Lambert","",{"$f":"IF(ISERROR(VLOOKUP(F475,Bowler_Name,1,FALSE)),\"\",INDIRECT(\"'Individual Scores'!\"&ADDRESS(MATCH(F475,'Individual Scores'!$D$2:$D$169,0)+1,2)))","v":"16-20"},{"$f":"IF(ISERROR(VLOOKUP(F475,Bowler_Name,1,FALSE)),\"\",INDIRECT(\"'Individual Scores'!\"&ADDRESS(MATCH(F475,'Individual Scores'!$D$2:$D$169,0)+1,3)))","v":"F"},161,176,125,null,174,156,150,462,480,942]
[2,"South Carolina","16-20","F",7,"Kasey Smith","",{"$f":"IF(ISERROR(VLOOKUP(F476,Bowler_Name,1,FALSE)),\"\",INDIRECT(\"'Individual Scores'!\"&ADDRESS(MATCH(F476,'Individual Scores'!$D$2:$D$169,0)+1,2)))","v":"16-20"},{"$f":"IF(ISERROR(VLOOKUP(F476,Bowler_Name,1,FALSE)),\"\",INDIRECT(\"'Individual Scores'!\"&ADDRESS(MATCH(F476,'Individual Scores'!$D$2:$D$169,0)+1,3)))","v":"F"},206,205,167,null,208,234,211,578,653,1231]
[2,"South Carolina","16-20","F",8,"Kelly Hutchinson","",{"$f":"IF(ISERROR(VLOOKUP(F477,Bowler_Name,1,FALSE)),\"\",INDIRECT(\"'Individual Scores'!\"&ADDRESS(MATCH(F477,'Individual Scores'!$D$2:$D$169,0)+1,2)))","v":"16-20"},{"$f":"IF(ISERROR(VLOOKUP(F477,Bowler_Name,1,FALSE)),\"\",INDIRECT(\"'Individual Scores'!\"&ADDRESS(MATCH(F477,'Individual Scores'!$D$2:$D$169,0)+1,3)))","v":"F"},198,125,181,null,171,194,172,504,537,1041]
[2,"South Carolina","16-20","F",9,"Hannah Krietemeyer","",{"$f":"IF(ISERROR(VLOOKUP(F478,Bowler_Name,1,FALSE)),\"\",INDIRECT(\"'Individual Scores'!\"&ADDRESS(MATCH(F478,'Individual Scores'!$D$2:$D$169,0)+1,2)))","v":"16-20"},{"$f":"IF(ISERROR(VLOOKUP(F478,Bowler_Name,1,FALSE)),\"\",INDIRECT(\"'Individual Scores'!\"&ADDRESS(MATCH(F478,'Individual Scores'!$D$2:$D$169,0)+1,3)))","v":"F"},170,241,177,null,125,153,147,588,425,1013]
[2,"South Carolina","16-20","F",10,"Ashley Griffin","",{"$f":"IF(ISERROR(VLOOKUP(F479,Bowler_Name,1,FALSE)),\"\",INDIRECT(\"'Individual Scores'!\"&ADDRESS(MATCH(F479,'Individual Scores'!$D$2:$D$169,0)+1,2)))","v":"16-20"},{"$f":"IF(ISERROR(VLOOKUP(F479,Bowler_Name,1,FALSE)),\"\",INDIRECT(\"'Individual Scores'!\"&ADDRESS(MATCH(F479,'Individual Scores'!$D$2:$D$169,0)+1,3)))","v":"F"},134,169,182,null,156,189,144,485,489,974]
[2,"South Carolina","16-20","F",11,"Andrea Hawkins","",{"$f":"IF(ISERROR(VLOOKUP(F480,Bowler_Name,1,FALSE)),\"\",INDIRECT(\"'Individual Scores'!\"&ADDRESS(MATCH(F480,'Individual Scores'!$D$2:$D$169,0)+1,2)))","v":"16-20"},{"$f":"IF(ISERROR(VLOOKUP(F480,Bowler_Name,1,FALSE)),\"\",INDIRECT(\"'Individual Scores'!\"&ADDRESS(MATCH(F480,'Individual Scores'!$D$2:$D$169,0)+1,3)))","v":"F"},198,170,203,null,143,215,203,571,561,1132]
[2,"South Carolina","16-20","F"]
[2,"South Carolina","16-20","F",null,{"$f":"DGET(Constants!$C$1:$D$4,1,E466:E467)&\" \"&G467&\" \"&F467","v":"SC F 16-20"},null,null,null,{"$f":"SUM(J470:J480)-MIN(J470:J480)","v":1892},{"$f":"SUM(K469:K481)-MIN(K469:K481)","v":1868},1707,null,1790,1842,1659,{"$f":"SUM(J482:L482)","v":5467},{"$f":"SUM(N482:P482)","v":5291},{"$f":"SUM(Q482:R482)","v":10758}]
[2,null,null,null,null,"Warning Row:  should be hidden",null,null,null,{"$f":"IF(COUNT(J469:J481)=0,\"\",IF(COUNT(J469:J481)<ROWS(J469:J481)-2,1,\"\"))","v":""},"","",null,"","",""]
[2]
[{"$f":"H488","v":2},{"$f":"E488","v":"South Carolina"},{"$f":"F488","v":"16-20"},{"$f":"G488","v":"M"},"Tournament",{"$f":"DGET('Tournament Locations'!$B$1:$C$4,\"Location\",H487:H488)","v":"Royal Lanes, Goose Creek, SC"}]
[{"$f":"A485","v":2},{"$f":"B485","v":"South Carolina"},{"$f":"C485","v":"16-20"},{"$f":"D485","v":"M"},null,null,null,null,null,null,null,"High Game",null,{"$f":"MAX(J491:P501)","v":246},null,{"$f":"IF(SUM(J504:P504)>0,\"Warning:  Not enough scores to drop lowest score.  Be sure zeros are entered for any vacant bowler\",\"\")","v":""}]
[{"$f":"A486","v":2},"South Carolina","16-20","M","State","Age","Gender","Tournament",null,null,null,"High Series",null,{"$f":"MAX(Q491:R501)","v":692}]
[2,"South Carolina","16-20","M",{"$f":"E425","v":"South Carolina"},{"$f":"F467","v":"16-20"},"M",{"$f":"H257","v":2},null,null,null,"High Pins",null,{"$f":"MAX(S491:S501)","v":1259}]
[2,"South Carolina","16-20","M"]
[2,"South Carolina","16-20","M","Player Number","Full Name","Flag","Actual Age","Gender","Game 1","Game 2","Game 3",null,"Game 4","Game 5","Game 6","Series 1","Series 2","Total"]
[2,"South Carolina","16-20","M",1,"Eric Smith",{"$f":"IF(ISERROR(VLOOKUP(F491,Bowler_Name,1,FALSE)),\"Not Entered\",IF(H491>F$488,\"Too Old\",IF(I491<>G$488,\"Wrong Gender\",\"\")))","v":""},{"$f":"IF(ISERROR(VLOOKUP(F491,Bowler_Name,1,FALSE)),\"\",INDIRECT(\"'Individual Scores'!\"&ADDRESS(MATCH(F491,'Individual Scores'!$D$2:$D$169,0)+1,2)))","v":"16-20"},{"$f":"IF(ISERROR(VLOOKUP(F491,Bowler_Name,1,FALSE)),\"\",INDIRECT(\"'Individual Scores'!\"&ADDRESS(MATCH(F491,'Individual Scores'!$D$2:$D$169,0)+1,3)))","v":"M"},178,202,176,null,147,163,177,{"$f":"SUM(J491:L491)","v":556},{"$f":"SUM(N491:P491)","v":487},{"$f":"SUM(Q491:R491)","v":1043}]
[2,"South Carolina","16-20","M",{"$f":"E491+1","v":2},"Joshua Manz","",{"$f":"IF(ISERROR(VLOOKUP(F492,Bowler_Name,1,FALSE)),\"\",INDIRECT(\"'Individual Scores'!\"&ADDRESS(MATCH(F492,'Individual Scores'!$D$2:$D$169,0)+1,2)))","v":"16-20"},{"$f":"IF(ISERROR(VLOOKUP(F492,Bowler_Name,1,FALSE)),\"\",INDIRECT(\"'Individual Scores'!\"&ADDRESS(MATCH(F492,'Individual Scores'!$D$2:$D$169,0)+1,3)))","v":"M"},191,150,165,null,166,156,181,506,{"$f":"SUM(N492:P492)","v":503},{"$f":"SUM(Q492:R492)","v":1009}]
[2,"South Carolina","16-20","M",{"$f":"E492+1","v":3},"Travis Smith","",{"$f":"IF(ISERROR(VLOOKUP(F493,Bowler_Name,1,FALSE)),\"\",INDIRECT(\"'Individual Scores'!\"&ADDRESS(MATCH(F493,'Individual Scores'!$D$2:$D$169,0)+1,2)))","v":"16-20"},{"$f":"IF(ISERROR(VLOOKUP(F493,Bowler_Name,1,FALSE)),\"\",INDIRECT(\"'Individual Scores'!\"&ADDRESS(MATCH(F493,'Individual Scores'!$D$2:$D$169,0)+1,3)))","v":"M"},133,147,188,null,175,165,180,468,520,988]
[2,"South Carolina","16-20","M",4,"Luke Willis","",{"$f":"IF(ISERROR(VLOOKUP(F494,Bowler_Name,1,FALSE)),\"\",INDIRECT(\"'Individual Scores'!\"&ADDRESS(MATCH(F494,'Individual Scores'!$D$2:$D$169,0)+1,2)))","v":"16-20"},{"$f":"IF(ISERROR(VLOOKUP(F494,Bowler_Name,1,FALSE)),\"\",INDIRECT(\"'Individual Scores'!\"&ADDRESS(MATCH(F494,'Individual Scores'!$D$2:$D$169,0)+1,3)))","v":"M"},235,168,183,null,195,222,192,586,609,1195]
[2,"South Carolina","16-20","M",5,"Christian Gurney","",{"$f":"IF(ISERROR(VLOOKUP(F495,Bowler_Name,1,FALSE)),\"\",INDIRECT(\"'Individual Scores'!\"&ADDRESS(MATCH(F495,'Individual Scores'!$D$2:$D$169,0)+1,2)))","v":"16-20"},{"$f":"IF(ISERROR(VLOOKUP(F495,Bowler_Name,1,FALSE)),\"\",INDIRECT(\"'Individual Scores'!\"&ADDRESS(MATCH(F495,'Individual Scores'!$D$2:$D$169,0)+1,3)))","v":"M"},246,224,222,null,211,165,191,692,567,1259]
[2,"South Carolina","16-20","M",6,"Junnell Calatrava","",{"$f":"IF(ISERROR(VLOOKUP(F496,Bowler_Name,1,FALSE)),\"\",INDIRECT(\"'Individual Scores'!\"&ADDRESS(MATCH(F496,'Individual Scores'!$D$2:$D$169,0)+1,2)))","v":"16-20"},{"$f":"IF(ISERROR(VLOOKUP(F496,Bowler_Name,1,FALSE)),\"\",INDIRECT(\"'Individual Scores'!\"&ADDRESS(MATCH(F496,'Individual Scores'!$D$2:$D$169,0)+1,3)))","v":"M"},181,195,200,null,169,183,185,576,537,1113]
[2,"South Carolina","16-20","M",7,"Zachary Beckham","",{"$f":"IF(ISERROR(VLOOKUP(F497,Bowler_Name,1,FALSE)),\"\",INDIRECT(\"'Individual Scores'!\"&ADDRESS(MATCH(F497,'Individual Scores'!$D$2:$D$169,0)+1,2)))","v":"16-20"},{"$f":"IF(ISERROR(VLOOKUP(F497,Bowler_Name,1,FALSE)),\"\",INDIRECT(\"'Individual Scores'!\"&ADDRESS(MATCH(F497,'Individual Scores'!$D$2:$D$169,0)+1,3)))","v":"M"},182,184,171,null,177,200,162,537,539,1076]
[2,"South Carolina","16-20","M",8,"Bradley Bright","",{"$f":"IF(ISERROR(VLOOKUP(F498,Bowler_Name,1,FALSE)),\"\",INDIRECT(\"'Individual Scores'!\"&ADDRESS(MATCH(F498,'Individual Scores'!$D$2:$D$169,0)+1,2)))","v":"16-20"},{"$f":"IF(ISERROR(VLOOKUP(F498,Bowler_Name,1,FALSE)),\"\",INDIRECT(\"'Individual Scores'!\"&ADDRESS(MATCH(F498,'Individual Scores'!$D$2:$D$169,0)+1,3)))","v":"M"},195,169,233,null,194,192,170,597,556,1153]
[2,"South Carolina","16-20","M",9,"Dennis Lane Jr","",{"$f":"IF(ISERROR(VLOOKUP(F499,Bowler_Name,1,FALSE)),\"\",INDIRECT(\"'Individual Scores'!\"&ADDRESS(MATCH(F499,'Individual Scores'!$D$2:$D$169,0)+1,2)))","v":"16-20"},{"$f":"IF(ISERROR(VLOOKUP(F499,Bowler_Name,1,FALSE)),\"\",INDIRECT(\"'Individual Scores'!\"&ADDRESS(MATCH(F499,'Individual Scores'!$D$2:$D$169,0)+1,3)))","v":"M"},200,157,212,null,179,178,223,569,580,1149]
[2,"South Carolina","16-20","M",10,"Bryan Hahlen","",{"$f":"IF(ISERROR(VLOOKUP(F500,Bowler_Name,1,FALSE)),\"\",INDIRECT(\"'Individual Scores'!\"&ADDRESS(MATCH(F500,'Individual Scores'!$D$2:$D$169,0)+1,2)))","v":"16-20"},{"$f":"IF(ISERROR(VLOOKUP(F500,Bowler_Name,1,FALSE)),\"\",INDIRECT(\"'Individual Scores'!\"&ADDRESS(MATCH(F500,'Individual Scores'!$D$2:$D$169,0)+1,3)))","v":"M"},159,196,192,null,207,186,171,547,564,1111]
[2,"South Carolina","16-20","M",11,"Drew Weather","",{"$f":"IF(ISERROR(VLOOKUP(F501,Bowler_Name,1,FALSE)),\"\",INDIRECT(\"'Individual Scores'!\"&ADDRESS(MATCH(F501,'Individual Scores'!$D$2:$D$169,0)+1,2)))","v":"16-20"},{"$f":"IF(ISERROR(VLOOKUP(F501,Bowler_Name,1,FALSE)),\"\",INDIRECT(\"'Individual Scores'!\"&ADDRESS(MATCH(F501,'Individual Scores'!$D$2:$D$169,0)+1,3)))","v":"M"},0,0,0,null,0,0,0,0,0,0]
[2,"South Carolina","16-20","M"]
[2,"South Carolina","16-20","M",null,{"$f":"DGET(Constants!$C$1:$D$4,1,E487:E488)&\" \"&G488&\" \"&F488","v":"SC M 16-20"},null,null,null,{"$f":"SUM(J491:J501)-MIN(J491:J501)","v":1900},{"$f":"SUM(K490:K502)-MIN(K490:K502)","v":1792},1942,null,1820,1810,1832,{"$f":"SUM(J503:L503)","v":5634},{"$f":"SUM(N503:P503)","v":5462},{"$f":"SUM(Q503:R503)","v":11096}]
[2,null,null,null,null,"Warning Row:  should be hidden",null,null,null,{"$f":"IF(COUNT(J490:J502)=0,\"\",IF(COUNT(J490:J502)<ROWS(J490:J502)-2,1,\"\"))","v":""},"","",null,"","",""]
[2]
[{"$f":"H509","v":3},{"$f":"E509","v":"Georgia"},{"$f":"F509","v":"15 & <"},{"$f":"G509","v":"F"},"Tournament",{"$f":"DGET('Tournament Locations'!$B$1:$C$4,\"Location\",H508:H509)","v":"High Point Bowling Center, High Point, NC"}]
[{"$f":"A506","v":3},{"$f":"B506","v":"Georgia"},{"$f":"C506","v":"15 & <"},{"$f":"D506","v":"F"},null,null,null,null,null,null,null,"High Game",null,{"$f":"MAX(J512:P523)","v":0},null,{"$f":"IF(SUM(J525:P525)>0,\"Warning:  Not enough scores to drop lowest score.  Be sure zeros are entered for any vacant bowler\",\"\")","v":""}]
[{"$f":"A507","v":3},"Georgia","15 & <","F","State","Age","Gender","Tournament",null,null,null,"High Series",null,{"$f":"MAX(Q512:R523)","v":0}]
[3,"Georgia","15 & <","F","Georgia","15 & <","F",3,null,null,null,"High Pins",null,{"$f":"MAX(S512:S523)","v":0}]
[3,"Georgia","15 & <","F"]
[3,"Georgia","15 & <","F","Player Number","Full Name","Flag","Actual Age","Gender","Game 1","Game 2","Game 3",null,"Game 4","Game 5","Game 6","Series 1","Series 2","Total"]
[3,"Georgia","15 & <","F",1,null,{"$f":"IF(ISERROR(VLOOKUP(F512,Bowler_Name,1,FALSE)),\"Not Entered\",IF(H512>F$509,\"Too Old\",IF(I512<>G$509,\"Wrong Gender\",\"\")))","v":"Not Entered"},{"$f":"IF(ISERROR(VLOOKUP(F512,Bowler_Name,1,FALSE)),\"\",INDIRECT(\"'Individual Scores'!\"&ADDRESS(MATCH(F512,'Individual Scores'!$D$2:$D$169,0)+1,2)))","v":""},{"$f":"IF(ISERROR(VLOOKUP(F512,Bowler_Name,1,FALSE)),\"\",INDIRECT(\"'Individual Scores'!\"&ADDRESS(MATCH(F512,'Individual Scores'!$D$2:$D$169,0)+1,3)))","v":""},null,null,null,null,null,null,null,{"$f":"SUM(J512:L512)","v":0},{"$f":"SUM(N512:P512)","v":0},{"$f":"SUM(Q512:R512)","v":0},null,{"$f":"S512/6","v":0}]
[3,"Georgia","15 & <","F",{"$f":"E512+1","v":2},null,"Not Entered",{"$f":"IF(ISERROR(VLOOKUP(F513,Bowler_Name,1,FALSE)),\"\",INDIRECT(\"'Individual Scores'!\"&ADDRESS(MATCH(F513,'Individual Scores'!$D$2:$D$169,0)+1,2)))","v":""},{"$f":"IF(ISERROR(VLOOKUP(F513,Bowler_Name,1,FALSE)),\"\",INDIRECT(\"'Individual Scores'!\"&ADDRESS(MATCH(F513,'Individual Scores'!$D$2:$D$169,0)+1,3)))","v":""},null,null,null,null,null,null,null,0,{"$f":"SUM(N513:P513)","v":0},{"$f":"SUM(Q513:R513)","v":0},null,{"$f":"S513/6","v":0}]
[3,"Georgia","15 & <","F",3,null,"Not Entered",{"$f":"IF(ISERROR(VLOOKUP(F514,Bowler_Name,1,FALSE)),\"\",INDIRECT(\"'Individual Scores'!\"&ADDRESS(MATCH(F514,'Individual Scores'!$D$2:$D$169,0)+1,2)))","v":""},{"$f":"IF(ISERROR(VLOOKUP(F514,Bowler_Name,1,FALSE)),\"\",INDIRECT(\"'Individual Scores'!\"&ADDRESS(MATCH(F514,'Individual Scores'!$D$2:$D$169,0)+1,3)))","v":""},null,null,null,null,null,null,null,0,0,0,null,0]
[3,"Georgia","15 & <","F",4,null,"Not Entered",{"$f":"IF(ISERROR(VLOOKUP(F515,Bowler_Name,1,FALSE)),\"\",INDIRECT(\"'Individual Scores'!\"&ADDRESS(MATCH(F515,'Individual Scores'!$D$2:$D$169,0)+1,2)))","v":""},{"$f":"IF(ISERROR(VLOOKUP(F515,Bowler_Name,1,FALSE)),\"\",INDIRECT(\"'Individual Scores'!\"&ADDRESS(MATCH(F515,'Individual Scores'!$D$2:$D$169,0)+1,3)))","v":""},null,null,null,null,null,null,null,0,0,0,null,0]
[3,"Georgia","15 & <","F",5,null,"Not Entered",{"$f":"IF(ISERROR(VLOOKUP(F516,Bowler_Name,1,FALSE)),\"\",INDIRECT(\"'Individual Scores'!\"&ADDRESS(MATCH(F516,'Individual Scores'!$D$2:$D$169,0)+1,2)))","v":""},{"$f":"IF(ISERROR(VLOOKUP(F516,Bowler_Name,1,FALSE)),\"\",INDIRECT(\"'Individual Scores'!\"&ADDRESS(MATCH(F516,'Individual Scores'!$D$2:$D$169,0)+1,3)))","v":""},null,null,null,null,null,null,null,0,0,0,null,0]
[3,"Georgia","15 & <","F",6,null,"Not Entered",{"$f":"IF(ISERROR(VLOOKUP(F517,Bowler_Name,1,FALSE)),\"\",INDIRECT(\"'Individual Scores'!\"&ADDRESS(MATCH(F517,'Individual Scores'!$D$2:$D$169,0)+1,2)))","v":""},{"$f":"IF(ISERROR(VLOOKUP(F517,Bowler_Name,1,FALSE)),\"\",INDIRECT(\"'Individual Scores'!\"&ADDRESS(MATCH(F517,'Individual Scores'!$D$2:$D$169,0)+1,3)))","v":""},null,null,null,null,null,null,null,0,0,0,null,0]
[3,"Georgia","15 & <","F",7,null,"Not Entered",{"$f":"IF(ISERROR(VLOOKUP(F518,Bowler_Name,1,FALSE)),\"\",INDIRECT(\"'Individual Scores'!\"&ADDRESS(MATCH(F518,'Individual Scores'!$D$2:$D$169,0)+1,2)))","v":""},{"$f":"IF(ISERROR(VLOOKUP(F518,Bowler_Name,1,FALSE)),\"\",INDIRECT(\"'Individual Scores'!\"&ADDRESS(MATCH(F518,'Individual Scores'!$D$2:$D$169,0)+1,3)))","v":""},null,null,null,null,null,null,null,0,0,0,null,0]
[3,"Georgia","15 & <","F",8,null,"Not Entered",{"$f":"IF(ISERROR(VLOOKUP(F519,Bowler_Name,1,FALSE)),\"\",INDIRECT(\"'Individual Scores'!\"&ADDRESS(MATCH(F519,'Individual Scores'!$D$2:$D$169,0)+1,2)))","v":""},{"$f":"IF(ISERROR(VLOOKUP(F519,Bowler_Name,1,FALSE)),\"\",INDIRECT(\"'Individual Scores'!\"&ADDRESS(MATCH(F519,'Individual Scores'!$D$2:$D$169,0)+1,3)))","v":""},null,null,null,null,null,null,null,0,0,0,null,0]
[3,"Georgia","15 & <","F",9,null,"Not Entered",{"$f":"IF(ISERROR(VLOOKUP(F520,Bowler_Name,1,FALSE)),\"\",INDIRECT(\"'Individual Scores'!\"&ADDRESS(MATCH(F520,'Individual Scores'!$D$2:$D$169,0)+1,2)))","v":""},{"$f":"IF(ISERROR(VLOOKUP(F520,Bowler_Name,1,FALSE)),\"\",INDIRECT(\"'Individual Scores'!\"&ADDRESS(MATCH(F520,'Individual Scores'!$D$2:$D$169,0)+1,3)))","v":""},null,null,null,null,null,null,null,0,0,0,null,0]
[3,"Georgia","15 & <","F",10,null,"Not Entered",{"$f":"IF(ISERROR(VLOOKUP(F521,Bowler_Name,1,FALSE)),\"\",INDIRECT(\"'Individual Scores'!\"&ADDRESS(MATCH(F521,'Individual Scores'!$D$2:$D$169,0)+1,2)))","v":""},{"$f":"IF(ISERROR(VLOOKUP(F521,Bowler_Name,1,FALSE)),\"\",INDIRECT(\"'Individual Scores'!\"&ADDRESS(MATCH(F521,'Individual Scores'!$D$2:$D$169,0)+1,3)))","v":""},null,null,null,null,null,null,null,0,0,0,null,0]
[3,"Georgia","15 & <","F",11,null,"Not Entered",{"$f":"IF(ISERROR(VLOOKUP(F522,Bowler_Name,1,FALSE)),\"\",INDIRECT(\"'Individual Scores'!\"&ADDRESS(MATCH(F522,'Individual Scores'!$D$2:$D$169,0)+1,2)))","v":""},{"$f":"IF(ISERROR(VLOOKUP(F522,Bowler_Name,1,FALSE)),\"\",INDIRECT(\"'Individual Scores'!\"&ADDRESS(MATCH(F522,'Individual Scores'!$D$2:$D$169,0)+1,3)))","v":""},null,null,null,null,null,null,null,0,0,0,null,0]
[3,"Georgia","15 & <","F"]
[3,"Georgia","15 & <","F",null,{"$f":"DGET(Constants!$C$1:$D$4,1,E508:E509)&\" \"&G509&\" \"&F509","v":"GA F 15 & <"},null,null,null,{"$f":"SUM(J511:J523)-MIN(J511:J523)","v":0},0,0,null,0,0,0,{"$f":"SUM(J524:L524)","v":0},{"$f":"SUM(N524:P524)","v":0},{"$f":"SUM(Q524:R524)","v":0}]
[3,null,null,null,null,"Warning Row:  should be hidden",null,null,null,{"$f":"IF(COUNT(J511:J523)=0,\"\",IF(COUNT(J511:J523)<ROWS(J511:J523)-2,1,\"\"))","v":""},"","",null,"","",""]
[3]
[{"$f":"H530","v":3},{"$f":"E530","v":"Georgia"},{"$f":"F530","v":"15 & <"},{"$f":"G530","v":"M"},"Tournament",{"$f":"DGET('Tournament Locations'!$B$1:$C$4,\"Location\",H529:H530)","v":"High Point Bowling Center, High Point, NC"}]
[{"$f":"A527","v":3},{"$f":"B527","v":"Georgia"},{"$f":"C527","v":"15 & <"},{"$f":"D527","v":"M"},null,null,null,null,null,null,null,"High Game",null,{"$f":"MAX(J533:P544)","v":0},null,{"$f":"IF(SUM(J546:P546)>0,\"Warning:  Not enough scores to drop lowest score.  Be sure zeros are entered for any vacant bowler\",\"\")","v":""}]
[{"$f":"A528","v":3},"Georgia","15 & <","M","State","Age","Gender","Tournament",null,null,null,"High Series",null,{"$f":"MAX(Q533:R544)","v":0}]
[3,"Georgia","15 & <","M",{"$f":"E509","v":"Georgia"},{"$f":"F509","v":"15 & <"},"M",{"$f":"H509","v":3},null,null,null,"High Pins",null,{"$f":"MAX(S533:S544)","v":0}]
[3,"Georgia","15 & <","M"]
[3,"Georgia","15 & <","M","Player Number","Full Name","Flag","Actual Age","Gender","Game 1","Game 2","Game 3",null,"Game 4","Game 5","Game 6","Series 1","Series 2","Total"]
[3,"Georgia","15 & <","M",1,null,{"$f":"IF(ISERROR(VLOOKUP(F533,Bowler_Name,1,FALSE)),\"Not Entered\",IF(H533>F$530,\"Too Old\",IF(I533<>G$530,\"Wrong Gender\",\"\")))","v":"Not Entered"},{"$f":"IF(ISERROR(VLOOKUP(F533,Bowler_Name,1,FALSE)),\"\",INDIRECT(\"'Individual Scores'!\"&ADDRESS(MATCH(F533,'Individual Scores'!$D$2:$D$169,0)+1,2)))","v":""},{"$f":"IF(ISERROR(VLOOKUP(F533,Bowler_Name,1,FALSE)),\"\",INDIRECT(\"'Individual Scores'!\"&ADDRESS(MATCH(F533,'Individual Scores'!$D$2:$D$169,0)+1,3)))","v":""},null,null,null,null,null,null,null,{"$f":"SUM(J533:L533)","v":0},{"$f":"SUM(N533:P533)","v":0},{"$f":"SUM(Q533:R533)","v":0},null,{"$f":"S533/6","v":0}]
[3,"Georgia","15 & <","M",{"$f":"E533+1","v":2},null,"Not Entered",{"$f":"IF(ISERROR(VLOOKUP(F534,Bowler_Name,1,FALSE)),\"\",INDIRECT(\"'Individual Scores'!\"&ADDRESS(MATCH(F534,'Individual Scores'!$D$2:$D$169,0)+1,2)))","v":""},{"$f":"IF(ISERROR(VLOOKUP(F534,Bowler_Name,1,FALSE)),\"\",INDIRECT(\"'Individual Scores'!\"&ADDRESS(MATCH(F534,'Individual Scores'!$D$2:$D$169,0)+1,3)))","v":""},null,null,null,null,null,null,null,0,{"$f":"SUM(N534:P534)","v":0},{"$f":"SUM(Q534:R534)","v":0},null,{"$f":"S534/6","v":0}]
[3,"Georgia","15 & <","M",3,null,"Not Entered",{"$f":"IF(ISERROR(VLOOKUP(F535,Bowler_Name,1,FALSE)),\"\",INDIRECT(\"'Individual Scores'!\"&ADDRESS(MATCH(F535,'Individual Scores'!$D$2:$D$169,0)+1,2)))","v":""},{"$f":"IF(ISERROR(VLOOKUP(F535,Bowler_Name,1,FALSE)),\"\",INDIRECT(\"'Individual Scores'!\"&ADDRESS(MATCH(F535,'Individual Scores'!$D$2:$D$169,0)+1,3)))","v":""},null,null,null,null,null,null,null,0,0,0,null,0]
[3,"Georgia","15 & <","M",4,null,"Not Entered",{"$f":"IF(ISERROR(VLOOKUP(F536,Bowler_Name,1,FALSE)),\"\",INDIRECT(\"'Individual Scores'!\"&ADDRESS(MATCH(F536,'Individual Scores'!$D$2:$D$169,0)+1,2)))","v":""},{"$f":"IF(ISERROR(VLOOKUP(F536,Bowler_Name,1,FALSE)),\"\",INDIRECT(\"'Individual Scores'!\"&ADDRESS(MATCH(F536,'Individual Scores'!$D$2:$D$169,0)+1,3)))","v":""},null,null,null,null,null,null,null,0,0,0,null,0]
[3,"Georgia","15 & <","M",5,null,"Not Entered",{"$f":"IF(ISERROR(VLOOKUP(F537,Bowler_Name,1,FALSE)),\"\",INDIRECT(\"'Individual Scores'!\"&ADDRESS(MATCH(F537,'Individual Scores'!$D$2:$D$169,0)+1,2)))","v":""},{"$f":"IF(ISERROR(VLOOKUP(F537,Bowler_Name,1,FALSE)),\"\",INDIRECT(\"'Individual Scores'!\"&ADDRESS(MATCH(F537,'Individual Scores'!$D$2:$D$169,0)+1,3)))","v":""},null,null,null,null,null,null,null,0,0,0,null,0]
[3,"Georgia","15 & <","M",6,null,"Not Entered",{"$f":"IF(ISERROR(VLOOKUP(F538,Bowler_Name,1,FALSE)),\"\",INDIRECT(\"'Individual Scores'!\"&ADDRESS(MATCH(F538,'Individual Scores'!$D$2:$D$169,0)+1,2)))","v":""},{"$f":"IF(ISERROR(VLOOKUP(F538,Bowler_Name,1,FALSE)),\"\",INDIRECT(\"'Individual Scores'!\"&ADDRESS(MATCH(F538,'Individual Scores'!$D$2:$D$169,0)+1,3)))","v":""},null,null,null,null,null,null,null,0,0,0,null,0]
[3,"Georgia","15 & <","M",7,null,"Not Entered",{"$f":"IF(ISERROR(VLOOKUP(F539,Bowler_Name,1,FALSE)),\"\",INDIRECT(\"'Individual Scores'!\"&ADDRESS(MATCH(F539,'Individual Scores'!$D$2:$D$169,0)+1,2)))","v":""},{"$f":"IF(ISERROR(VLOOKUP(F539,Bowler_Name,1,FALSE)),\"\",INDIRECT(\"'Individual Scores'!\"&ADDRESS(MATCH(F539,'Individual Scores'!$D$2:$D$169,0)+1,3)))","v":""},null,null,null,null,null,null,null,0,0,0,null,0]
[3,"Georgia","15 & <","M",8,null,"Not Entered",{"$f":"IF(ISERROR(VLOOKUP(F540,Bowler_Name,1,FALSE)),\"\",INDIRECT(\"'Individual Scores'!\"&ADDRESS(MATCH(F540,'Individual Scores'!$D$2:$D$169,0)+1,2)))","v":""},{"$f":"IF(ISERROR(VLOOKUP(F540,Bowler_Name,1,FALSE)),\"\",INDIRECT(\"'Individual Scores'!\"&ADDRESS(MATCH(F540,'Individual Scores'!$D$2:$D$169,0)+1,3)))","v":""},null,null,null,null,null,null,null,0,0,0,null,0]
[3,"Georgia","15 & <","M",9,null,"Not Entered",{"$f":"IF(ISERROR(VLOOKUP(F541,Bowler_Name,1,FALSE)),\"\",INDIRECT(\"'Individual Scores'!\"&ADDRESS(MATCH(F541,'Individual Scores'!$D$2:$D$169,0)+1,2)))","v":""},{"$f":"IF(ISERROR(VLOOKUP(F541,Bowler_Name,1,FALSE)),\"\",INDIRECT(\"'Individual Scores'!\"&ADDRESS(MATCH(F541,'Individual Scores'!$D$2:$D$169,0)+1,3)))","v":""},null,null,null,null,null,null,null,0,0,0,null,0]
[3,"Georgia","15 & <","M",10,null,"Not Entered",{"$f":"IF(ISERROR(VLOOKUP(F542,Bowler_Name,1,FALSE)),\"\",INDIRECT(\"'Individual Scores'!\"&ADDRESS(MATCH(F542,'Individual Scores'!$D$2:$D$169,0)+1,2)))","v":""},{"$f":"IF(ISERROR(VLOOKUP(F542,Bowler_Name,1,FALSE)),\"\",INDIRECT(\"'Individual Scores'!\"&ADDRESS(MATCH(F542,'Individual Scores'!$D$2:$D$169,0)+1,3)))","v":""},null,null,null,null,null,null,null,0,0,0,null,0]
[3,"Georgia","15 & <","M",11,null,"Not Entered",{"$f":"IF(ISERROR(VLOOKUP(F543,Bowler_Name,1,FALSE)),\"\",INDIRECT(\"'Individual Scores'!\"&ADDRESS(MATCH(F543,'Individual Scores'!$D$2:$D$169,0)+1,2)))","v":""},{"$f":"IF(ISERROR(VLOOKUP(F543,Bowler_Name,1,FALSE)),\"\",INDIRECT(\"'Individual Scores'!\"&ADDRESS(MATCH(F543,'Individual Scores'!$D$2:$D$169,0)+1,3)))","v":""},null,null,null,null,null,null,null,0,0,0,null,0]
[3,"Georgia","15 & <","M"]
[3,"Georgia","15 & <","M",null,{"$f":"DGET(Constants!$C$1:$D$4,1,E529:E530)&\" \"&G530&\" \"&F530","v":"GA M 15 & <"},null,null,null,{"$f":"SUM(J532:J544)-MIN(J532:J544)","v":0},0,0,null,0,0,0,{"$f":"SUM(J545:L545)","v":0},{"$f":"SUM(N545:P545)","v":0},{"$f":"SUM(Q545:R545)","v":0}]
[3,null,null,null,null,"Warning Row:  should be hidden",null,null,null,{"$f":"IF(COUNT(J532:J544)=0,\"\",IF(COUNT(J532:J544)<ROWS(J532:J544)-2,1,\"\"))","v":""},"","",null,"","",""]
[3]
[{"$f":"H551","v":3},{"$f":"E551","v":"Georgia"},{"$f":"F551","v":"16-20"},{"$f":"G551","v":"F"},"Tournament",{"$f":"DGET('Tournament Locations'!$B$1:$C$4,\"Location\",H550:H551)","v":"High Point Bowling Center, High Point, NC"}]
[{"$f":"A548","v":3},{"$f":"B548","v":"Georgia"},{"$f":"C548","v":"16-20"},{"$f":"D548","v":"F"},null,null,null,null,null,null,null,"High Game",null,{"$f":"MAX(J554:P564)","v":0},null,{"$f":"IF(SUM(J567:P567)>0,\"Warning:  Not enough scores to drop lowest score.  Be sure zeros are entered for any vacant bowler\",\"\")","v":""}]
[{"$f":"A549","v":3},"Georgia","16-20","F","State","Age","Gender","Tournament",null,null,null,"High Series",null,{"$f":"MAX(Q554:R564)","v":0}]
[3,"Georgia","16-20","F",{"$f":"E509","v":"Georgia"},"16-20","F",{"$f":"H509","v":3},null,null,null,"High Pins",null,{"$f":"MAX(S554:S564)","v":0}]
[3,"Georgia","16-20","F"]
[3,"Georgia","16-20","F","Player Number","Full Name","Flag","Actual Age","Gender","Game 1","Game 2","Game 3",null,"Game 4","Game 5","Game 6","Series 1","Series 2","Total"]
[3,"Georgia","16-20","F",1,null,{"$f":"IF(ISERROR(VLOOKUP(F554,Bowler_Name,1,FALSE)),\"Not Entered\",IF(H554>F$551,\"Too Old\",IF(I554<>G$551,\"Wrong Gender\",\"\")))","v":"Not Entered"},{"$f":"IF(ISERROR(VLOOKUP(F554,Bowler_Name,1,FALSE)),\"\",INDIRECT(\"'Individual Scores'!\"&ADDRESS(MATCH(F554,'Individual Scores'!$D$2:$D$169,0)+1,2)))","v":""},{"$f":"IF(ISERROR(VLOOKUP(F554,Bowler_Name,1,FALSE)),\"\",INDIRECT(\"'Individual Scores'!\"&ADDRESS(MATCH(F554,'Individual Scores'!$D$2:$D$169,0)+1,3)))","v":""},null,null,null,null,null,null,null,{"$f":"SUM(J554:L554)","v":0},{"$f":"SUM(N554:P554)","v":0},{"$f":"SUM(Q554:R554)","v":0},null,{"$f":"S554/6","v":0}]
[3,"Georgia","16-20","F",{"$f":"E554+1","v":2},null,"Not Entered",{"$f":"IF(ISERROR(VLOOKUP(F555,Bowler_Name,1,FALSE)),\"\",INDIRECT(\"'Individual Scores'!\"&ADDRESS(MATCH(F555,'Individual Scores'!$D$2:$D$169,0)+1,2)))","v":""},{"$f":"IF(ISERROR(VLOOKUP(F555,Bowler_Name,1,FALSE)),\"\",INDIRECT(\"'Individual Scores'!\"&ADDRESS(MATCH(F555,'Individual Scores'!$D$2:$D$169,0)+1,3)))","v":""},null,null,null,null,null,null,null,{"$f":"SUM(J555:L555)","v":0},{"$f":"SUM(N555:P555)","v":0},{"$f":"SUM(Q555:R555)","v":0},null,{"$f":"S555/6","v":0}]
[3,"Georgia","16-20","F",{"$f":"E555+1","v":3},null,"Not Entered",{"$f":"IF(ISERROR(VLOOKUP(F556,Bowler_Name,1,FALSE)),\"\",INDIRECT(\"'Individual Scores'!\"&ADDRESS(MATCH(F556,'Individual Scores'!$D$2:$D$169,0)+1,2)))","v":""},{"$f":"IF(ISERROR(VLOOKUP(F556,Bowler_Name,1,FALSE)),\"\",INDIRECT(\"'Individual Scores'!\"&ADDRESS(MATCH(F556,'Individual Scores'!$D$2:$D$169,0)+1,3)))","v":""},null,null,null,null,null,null,null,0,0,0,null,0]
[3,"Georgia","16-20","F",4,null,"Not Entered",{"$f":"IF(ISERROR(VLOOKUP(F557,Bowler_Name,1,FALSE)),\"\",INDIRECT(\"'Individual Scores'!\"&ADDRESS(MATCH(F557,'Individual Scores'!$D$2:$D$169,0)+1,2)))","v":""},{"$f":"IF(ISERROR(VLOOKUP(F557,Bowler_Name,1,FALSE)),\"\",INDIRECT(\"'Individual Scores'!\"&ADDRESS(MATCH(F557,'Individual Scores'!$D$2:$D$169,0)+1,3)))","v":""},null,null,null,null,null,null,null,0,0,0,null,0]
[3,"Georgia","16-20","F",5,null,"Not Entered",{"$f":"IF(ISERROR(VLOOKUP(F558,Bowler_Name,1,FALSE)),\"\",INDIRECT(\"'Individual Scores'!\"&ADDRESS(MATCH(F558,'Individual Scores'!$D$2:$D$169,0)+1,2)))","v":""},{"$f":"IF(ISERROR(VLOOKUP(F558,Bowler_Name,1,FALSE)),\"\",INDIRECT(\"'Individual Scores'!\"&ADDRESS(MATCH(F558,'Individual Scores'!$D$2:$D$169,0)+1,3)))","v":""},null,null,null,null,null,null,null,0,0,0,null,0]
[3,"Georgia","16-20","F",6,null,"Not Entered",{"$f":"IF(ISERROR(VLOOKUP(F559,Bowler_Name,1,FALSE)),\"\",INDIRECT(\"'Individual Scores'!\"&ADDRESS(MATCH(F559,'Individual Scores'!$D$2:$D$169,0)+1,2)))","v":""},{"$f":"IF(ISERROR(VLOOKUP(F559,Bowler_Name,1,FALSE)),\"\",INDIRECT(\"'Individual Scores'!\"&ADDRESS(MATCH(F559,'Individual Scores'!$D$2:$D$169,0)+1,3)))","v":""},null,null,null,null,null,null,null,0,0,0,null,0]
[3,"Georgia","16-20","F",7,null,"Not Entered",{"$f":"IF(ISERROR(VLOOKUP(F560,Bowler_Name,1,FALSE)),\"\",INDIRECT(\"'Individual Scores'!\"&ADDRESS(MATCH(F560,'Individual Scores'!$D$2:$D$169,0)+1,2)))","v":""},{"$f":"IF(ISERROR(VLOOKUP(F560,Bowler_Name,1,FALSE)),\"\",INDIRECT(\"'Individual Scores'!\"&ADDRESS(MATCH(F560,'Individual Scores'!$D$2:$D$169,0)+1,3)))","v":""},null,null,null,null,null,null,null,0,0,0,null,0]
[3,"Georgia","16-20","F",8,null,"Not Entered",{"$f":"IF(ISERROR(VLOOKUP(F561,Bowler_Name,1,FALSE)),\"\",INDIRECT(\"'Individual Scores'!\"&ADDRESS(MATCH(F561,'Individual Scores'!$D$2:$D$169,0)+1,2)))","v":""},{"$f":"IF(ISERROR(VLOOKUP(F561,Bowler_Name,1,FALSE)),\"\",INDIRECT(\"'Individual Scores'!\"&ADDRESS(MATCH(F561,'Individual Scores'!$D$2:$D$169,0)+1,3)))","v":""},null,null,null,null,null,null,null,0,0,0,null,0]
[3,"Georgia","16-20","F",9,null,"Not Entered",{"$f":"IF(ISERROR(VLOOKUP(F562,Bowler_Name,1,FALSE)),\"\",INDIRECT(\"'Individual Scores'!\"&ADDRESS(MATCH(F562,'Individual Scores'!$D$2:$D$169,0)+1,2)))","v":""},{"$f":"IF(ISERROR(VLOOKUP(F562,Bowler_Name,1,FALSE)),\"\",INDIRECT(\"'Individual Scores'!\"&ADDRESS(MATCH(F562,'Individual Scores'!$D$2:$D$169,0)+1,3)))","v":""},null,null,null,null,null,null,null,0,0,0,null,0]
[3,"Georgia","16-20","F",10,null,"Not Entered",{"$f":"IF(ISERROR(VLOOKUP(F563,Bowler_Name,1,FALSE)),\"\",INDIRECT(\"'Individual Scores'!\"&ADDRESS(MATCH(F563,'Individual Scores'!$D$2:$D$169,0)+1,2)))","v":""},{"$f":"IF(ISERROR(VLOOKUP(F563,Bowler_Name,1,FALSE)),\"\",INDIRECT(\"'Individual Scores'!\"&ADDRESS(MATCH(F563,'Individual Scores'!$D$2:$D$169,0)+1,3)))","v":""},null,null,null,null,null,null,null,0,0,0,null,0]
[3,"Georgia","16-20","F",11,null,"Not Entered",{"$f":"IF(ISERROR(VLOOKUP(F564,Bowler_Name,1,FALSE)),\"\",INDIRECT(\"'Individual Scores'!\"&ADDRESS(MATCH(F564,'Individual Scores'!$D$2:$D$169,0)+1,2)))","v":""},{"$f":"IF(ISERROR(VLOOKUP(F564,Bowler_Name,1,FALSE)),\"\",INDIRECT(\"'Individual Scores'!\"&ADDRESS(MATCH(F564,'Individual Scores'!$D$2:$D$169,0)+1,3)))","v":""},null,null,null,null,null,null,null,0,0,0,null,0]
[3,"Georgia","16-20","F"]
[3,"Georgia","16-20","F",null,{"$f":"DGET(Constants!$C$1:$D$4,1,E550:E551)&\" \"&G551&\" \"&F551","v":"GA F 16-20"},null,null,null,{"$f":"SUM(J553:J565)-MIN(J553:J565)","v":0},0,0,null,0,0,0,{"$f":"SUM(J566:L566)","v":0},{"$f":"SUM(N566:P566)","v":0},{"$f":"SUM(Q566:R566)","v":0}]
[3,null,null,null,null,"Warning Row:  should be hidden",null,null,null,{"$f":"IF(COUNT(J553:J565)=0,\"\",IF(COUNT(J553:J565)<ROWS(J553:J565)-2,1,\"\"))","v":""},"","",null,"","",""]
[3]
[{"$f":"H572","v":3},{"$f":"E572","v":"Georgia"},{"$f":"F572","v":"16-20"},{"$f":"G572","v":"M"},"Tournament",{"$f":"DGET('Tournament Locations'!$B$1:$C$4,\"Location\",H571:H572)","v":"High Point Bowling Center, High Point, NC"}]
[{"$f":"A569","v":3},{"$f":"B569","v":"Georgia"},{"$f":"C569","v":"16-20"},{"$f":"D569","v":"M"},null,null,null,null,null,null,null,"High Game",null,{"$f":"MAX(J575:P585)","v":0},null,{"$f":"IF(SUM(J588:P588)>0,\"Warning:  Not enough scores to drop lowest score.  Be sure zeros are entered for any vacant bowler\",\"\")","v":""}]
[{"$f":"A570","v":3},"Georgia","16-20","M","State","Age","Gender","Tournament",null,null,null,"High Series",null,{"$f":"MAX(Q575:R585)","v":0}]
[3,"Georgia","16-20","M",{"$f":"E509","v":"Georgia"},{"$f":"F551","v":"16-20"},"M",{"$f":"H509","v":3},null,null,null,"High Pins",null,{"$f":"MAX(S575:S585)","v":0}]
[3,"Georgia","16-20","M"]
[3,"Georgia","16-20","M","Player Number","Full Name","Flag","Actual Age","Gender","Game 1","Game 2","Game 3",null,"Game 4","Game 5","Game 6","Series 1","Series 2","Total"]
[3,"Georgia","16-20","M",1,null,{"$f":"IF(ISERROR(VLOOKUP(F575,Bowler_Name,1,FALSE)),\"Not Entered\",IF(H575>F$572,\"Too Old\",IF(I575<>G$572,\"Wrong Gender\",\"\")))","v":"Not Entered"},{"$f":"IF(ISERROR(VLOOKUP(F575,Bowler_Name,1,FALSE)),\"\",INDIRECT(\"'Individual Scores'!\"&ADDRESS(MATCH(F575,'Individual Scores'!$D$2:$D$169,0)+1,2)))","v":""},{"$f":"IF(ISERROR(VLOOKUP(F575,Bowler_Name,1,FALSE)),\"\",INDIRECT(\"'Individual Scores'!\"&ADDRESS(MATCH(F575,'Individual Scores'!$D$2:$D$169,0)+1,3)))","v":""},null,null,null,null,null,null,null,{"$f":"SUM(J575:L575)","v":0},{"$f":"SUM(N575:P575)","v":0},{"$f":"SUM(Q575:R575)","v":0},null,{"$f":"S575/6","v":0}]
[3,"Georgia","16-20","M",{"$f":"E575+1","v":2},null,"Not Entered",{"$f":"IF(ISERROR(VLOOKUP(F576,Bowler_Name,1,FALSE)),\"\",INDIRECT(\"'Individual Scores'!\"&ADDRESS(MATCH(F576,'Individual Scores'!$D$2:$D$169,0)+1,2)))","v":""},{"$f":"IF(ISERROR(VLOOKUP(F576,Bowler_Name,1,FALSE)),\"\",INDIRECT(\"'Individual Scores'!\"&ADDRESS(MATCH(F576,'Individual Scores'!$D$2:$D$169,0)+1,3)))","v":""},null,null,null,null,null,null,null,0,{"$f":"SUM(N576:P576)","v":0},{"$f":"SUM(Q576:R576)","v":0},null,{"$f":"S576/6","v":0}]
[3,"Georgia","16-20","M",{"$f":"E576+1","v":3},null,"Not Entered",{"$f":"IF(ISERROR(VLOOKUP(F577,Bowler_Name,1,FALSE)),\"\",INDIRECT(\"'Individual Scores'!\"&ADDRESS(MATCH(F577,'Individual Scores'!$D$2:$D$169,0)+1,2)))","v":""},{"$f":"IF(ISERROR(VLOOKUP(F577,Bowler_Name,1,FALSE)),\"\",INDIRECT(\"'Individual Scores'!\"&ADDRESS(MATCH(F577,'Individual Scores'!$D$2:$D$169,0)+1,3)))","v":""},null,null,null,null,null,null,null,0,0,0,null,0]
[3,"Georgia","16-20","M",4,null,"Not Entered",{"$f":"IF(ISERROR(VLOOKUP(F578,Bowler_Name,1,FALSE)),\"\",INDIRECT(\"'Individual Scores'!\"&ADDRESS(MATCH(F578,'Individual Scores'!$D$2:$D$169,0)+1,2)))","v":""},{"$f":"IF(ISERROR(VLOOKUP(F578,Bowler_Name,1,FALSE)),\"\",INDIRECT(\"'Individual Scores'!\"&ADDRESS(MATCH(F578,'Individual Scores'!$D$2:$D$169,0)+1,3)))","v":""},null,null,null,null,null,null,null,0,0,0,null,0]
[3,"Georgia","16-20","M",5,null,"Not Entered",{"$f":"IF(ISERROR(VLOOKUP(F579,Bowler_Name,1,FALSE)),\"\",INDIRECT(\"'Individual Scores'!\"&ADDRESS(MATCH(F579,'Individual Scores'!$D$2:$D$169,0)+1,2)))","v":""},{"$f":"IF(ISERROR(VLOOKUP(F579,Bowler_Name,1,FALSE)),\"\",INDIRECT(\"'Individual Scores'!\"&ADDRESS(MATCH(F579,'Individual Scores'!$D$2:$D$169,0)+1,3)))","v":""},null,null,null,null,null,null,null,0,0,0,null,0]
[3,"Georgia","16-20","M",6,null,"Not Entered",{"$f":"IF(ISERROR(VLOOKUP(F580,Bowler_Name,1,FALSE)),\"\",INDIRECT(\"'Individual Scores'!\"&ADDRESS(MATCH(F580,'Individual Scores'!$D$2:$D$169,0)+1,2)))","v":""},{"$f":"IF(ISERROR(VLOOKUP(F580,Bowler_Name,1,FALSE)),\"\",INDIRECT(\"'Individual Scores'!\"&ADDRESS(MATCH(F580,'Individual Scores'!$D$2:$D$169,0)+1,3)))","v":""},null,null,null,null,null,null,null,0,0,0,null,0]
[3,"Georgia","16-20","M",7,null,"Not Entered",{"$f":"IF(ISERROR(VLOOKUP(F581,Bowler_Name,1,FALSE)),\"\",INDIRECT(\"'Individual Scores'!\"&ADDRESS(MATCH(F581,'Individual Scores'!$D$2:$D$169,0)+1,2)))","v":""},{"$f":"IF(ISERROR(VLOOKUP(F581,Bowler_Name,1,FALSE)),\"\",INDIRECT(\"'Individual Scores'!\"&ADDRESS(MATCH(F581,'Individual Scores'!$D$2:$D$169,0)+1,3)))","v":""},null,null,null,null,null,null,null,{"$f":"SUM(J581:L581)","v":0},0,0,null,0]
[3,"Georgia","16-20","M",8,null,"Not Entered",{"$f":"IF(ISERROR(VLOOKUP(F582,Bowler_Name,1,FALSE)),\"\",INDIRECT(\"'Individual Scores'!\"&ADDRESS(MATCH(F582,'Individual Scores'!$D$2:$D$169,0)+1,2)))","v":""},{"$f":"IF(ISERROR(VLOOKUP(F582,Bowler_Name,1,FALSE)),\"\",INDIRECT(\"'Individual Scores'!\"&ADDRESS(MATCH(F582,'Individual Scores'!$D$2:$D$169,0)+1,3)))","v":""},null,null,null,null,null,null,null,0,0,0,null,0]
[3,"Georgia","16-20","M",9,null,"Not Entered",{"$f":"IF(ISERROR(VLOOKUP(F583,Bowler_Name,1,FALSE)),\"\",INDIRECT(\"'Individual Scores'!\"&ADDRESS(MATCH(F583,'Individual Scores'!$D$2:$D$169,0)+1,2)))","v":""},{"$f":"IF(ISERROR(VLOOKUP(F583,Bowler_Name,1,FALSE)),\"\",INDIRECT(\"'Individual Scores'!\"&ADDRESS(MATCH(F583,'Individual Scores'!$D$2:$D$169,0)+1,3)))","v":""},null,null,null,null,null,null,null,0,0,0,null,0]
[3,"Georgia","16-20","M",10,null,"Not Entered",{"$f":"IF(ISERROR(VLOOKUP(F584,Bowler_Name,1,FALSE)),\"\",INDIRECT(\"'Individual Scores'!\"&ADDRESS(MATCH(F584,'Individual Scores'!$D$2:$D$169,0)+1,2)))","v":""},{"$f":"IF(ISERROR(VLOOKUP(F584,Bowler_Name,1,FALSE)),\"\",INDIRECT(\"'Individual Scores'!\"&ADDRESS(MATCH(F584,'Individual Scores'!$D$2:$D$169,0)+1,3)))","v":""},null,null,null,null,null,null,null,0,0,0,null,0]
[3,"Georgia","16-20","M",11,null,"Not Entered",{"$f":"IF(ISERROR(VLOOKUP(F585,Bowler_Name,1,FALSE)),\"\",INDIRECT(\"'Individual Scores'!\"&ADDRESS(MATCH(F585,'Individual Scores'!$D$2:$D$169,0)+1,2)))","v":""},{"$f":"IF(ISERROR(VLOOKUP(F585,Bowler_Name,1,FALSE)),\"\",INDIRECT(\"'Individual Scores'!\"&ADDRESS(MATCH(F585,'Individual Scores'!$D$2:$D$169,0)+1,3)))","v":""},null,null,null,null,null,null,null,0,0,0,null,0]
[3,"Georgia","16-20","M"]
[3,"Georgia","16-20","M",null,{"$f":"DGET(Constants!$C$1:$D$4,1,E571:E572)&\" \"&G572&\" \"&F572","v":"GA M 16-20"},null,null,null,{"$f":"SUM(J574:J586)-MIN(J574:J586)","v":0},0,0,null,0,0,0,{"$f":"SUM(J587:L587)","v":0},{"$f":"SUM(N587:P587)","v":0},{"$f":"SUM(Q587:R587)","v":0}]
[3,null,null,null,null,"Warning Row:  should be hidden",null,null,null,{"$f":"IF(COUNT(J574:J586)=0,\"\",IF(COUNT(J574:J586)<ROWS(J574:J586)-2,1,\"\"))","v":""},"","",null,"","",""]
[3]
[{"$f":"H593","v":3},{"$f":"E593","v":"North Carolina"},{"$f":"F593","v":"15 & <"},{"$f":"G593","v":"F"},"Tournament",{"$f":"DGET('Tournament Locations'!$B$1:$C$4,\"Location\",H592:H593)","v":"High Point Bowling Center, High Point, NC"}]
[{"$f":"A590","v":3},{"$f":"B590","v":"North Carolina"},{"$f":"C590","v":"15 & <"},{"$f":"D590","v":"F"},null,null,null,null,null,null,null,"High Game",null,{"$f":"MAX(J596:P607)","v":0},null,{"$f":"IF(SUM(J609:P609)>0,\"Warning:  Not enough scores to drop lowest score.  Be sure zeros are entered for any vacant bowler\",\"\")","v":""}]
[{"$f":"A591","v":3},"North Carolina","15 & <","F","State","Age","Gender","Tournament",null,null,null,"High Series",null,{"$f":"MAX(Q596:R607)","v":0}]
[3,"North Carolina","15 & <","F","North Carolina","15 & <","F",{"$f":"H509","v":3},null,null,null,"High Pins",null,{"$f":"MAX(S596:S607)","v":0}]
[3,"North Carolina","15 & <","F"]
[3,"North Carolina","15 & <","F","Player Number","Full Name","Flag","Actual Age","Gender","Game 1","Game 2","Game 3",null,"Game 4","Game 5","Game 6","Series 1","Series 2","Total"]
[3,"North Carolina","15 & <","F",1,null,{"$f":"IF(ISERROR(VLOOKUP(F596,Bowler_Name,1,FALSE)),\"Not Entered\",IF(H596>F$593,\"Too Old\",IF(I596<>G$593,\"Wrong Gender\",\"\")))","v":"Not Entered"},{"$f":"IF(ISERROR(VLOOKUP(F596,Bowler_Name,1,FALSE)),\"\",INDIRECT(\"'Individual Scores'!\"&ADDRESS(MATCH(F596,'Individual Scores'!$D$2:$D$169,0)+1,2)))","v":""},{"$f":"IF(ISERROR(VLOOKUP(F596,Bowler_Name,1,FALSE)),\"\",INDIRECT(\"'Individual Scores'!\"&ADDRESS(MATCH(F596,'Individual Scores'!$D$2:$D$169,0)+1,3)))","v":""},null,null,null,null,null,null,null,{"$f":"SUM(J596:L596)","v":0},{"$f":"SUM(N596:P596)","v":0},{"$f":"SUM(Q596:R596)","v":0},null,{"$f":"S596/6","v":0}]
[3,"North Carolina","15 & <","F",{"$f":"E596+1","v":2},null,"Not Entered",{"$f":"IF(ISERROR(VLOOKUP(F597,Bowler_Name,1,FALSE)),\"\",INDIRECT(\"'Individual Scores'!\"&ADDRESS(MATCH(F597,'Individual Scores'!$D$2:$D$169,0)+1,2)))","v":""},{"$f":"IF(ISERROR(VLOOKUP(F597,Bowler_Name,1,FALSE)),\"\",INDIRECT(\"'Individual Scores'!\"&ADDRESS(MATCH(F597,'Individual Scores'!$D$2:$D$169,0)+1,3)))","v":""},null,null,null,null,null,null,null,0,{"$f":"SUM(N597:P597)","v":0},{"$f":"SUM(Q597:R597)","v":0},null,{"$f":"S597/6","v":0}]
[3,"North Carolina","15 & <","F",3,null,"Not Entered",{"$f":"IF(ISERROR(VLOOKUP(F598,Bowler_Name,1,FALSE)),\"\",INDIRECT(\"'Individual Scores'!\"&ADDRESS(MATCH(F598,'Individual Scores'!$D$2:$D$169,0)+1,2)))","v":""},{"$f":"IF(ISERROR(VLOOKUP(F598,Bowler_Name,1,FALSE)),\"\",INDIRECT(\"'Individual Scores'!\"&ADDRESS(MATCH(F598,'Individual Scores'!$D$2:$D$169,0)+1,3)))","v":""},null,null,null,null,null,null,null,0,0,0,null,0]
[3,"North Carolina","15 & <","F",4,null,"Not Entered",{"$f":"IF(ISERROR(VLOOKUP(F599,Bowler_Name,1,FALSE)),\"\",INDIRECT(\"'Individual Scores'!\"&ADDRESS(MATCH(F599,'Individual Scores'!$D$2:$D$169,0)+1,2)))","v":""},{"$f":"IF(ISERROR(VLOOKUP(F599,Bowler_Name,1,FALSE)),\"\",INDIRECT(\"'Individual Scores'!\"&ADDRESS(MATCH(F599,'Individual Scores'!$D$2:$D$169,0)+1,3)))","v":""},null,null,null,null,null,null,null,0,0,0,null,0]
[3,"North Carolina","15 & <","F",5,null,"Not Entered",{"$f":"IF(ISERROR(VLOOKUP(F600,Bowler_Name,1,FALSE)),\"\",INDIRECT(\"'Individual Scores'!\"&ADDRESS(MATCH(F600,'Individual Scores'!$D$2:$D$169,0)+1,2)))","v":""},{"$f":"IF(ISERROR(VLOOKUP(F600,Bowler_Name,1,FALSE)),\"\",INDIRECT(\"'Individual Scores'!\"&ADDRESS(MATCH(F600,'Individual Scores'!$D$2:$D$169,0)+1,3)))","v":""},null,null,null,null,null,null,null,0,0,0,null,0]
[3,"North Carolina","15 & <","F",6,null,"Not Entered",{"$f":"IF(ISERROR(VLOOKUP(F601,Bowler_Name,1,FALSE)),\"\",INDIRECT(\"'Individual Scores'!\"&ADDRESS(MATCH(F601,'Individual Scores'!$D$2:$D$169,0)+1,2)))","v":""},{"$f":"IF(ISERROR(VLOOKUP(F601,Bowler_Name,1,FALSE)),\"\",INDIRECT(\"'Individual Scores'!\"&ADDRESS(MATCH(F601,'Individual Scores'!$D$2:$D$169,0)+1,3)))","v":""},null,null,null,null,null,null,null,0,0,0,null,0]
[3,"North Carolina","15 & <","F",7,null,"Not Entered",{"$f":"IF(ISERROR(VLOOKUP(F602,Bowler_Name,1,FALSE)),\"\",INDIRECT(\"'Individual Scores'!\"&ADDRESS(MATCH(F602,'Individual Scores'!$D$2:$D$169,0)+1,2)))","v":""},{"$f":"IF(ISERROR(VLOOKUP(F602,Bowler_Name,1,FALSE)),\"\",INDIRECT(\"'Individual Scores'!\"&ADDRESS(MATCH(F602,'Individual Scores'!$D$2:$D$169,0)+1,3)))","v":""},null,null,null,null,null,null,null,0,0,0,null,0]
[3,"North Carolina","15 & <","F",8,null,"Not Entered",{"$f":"IF(ISERROR(VLOOKUP(F603,Bowler_Name,1,FALSE)),\"\",INDIRECT(\"'Individual Scores'!\"&ADDRESS(MATCH(F603,'Individual Scores'!$D$2:$D$169,0)+1,2)))","v":""},{"$f":"IF(ISERROR(VLOOKUP(F603,Bowler_Name,1,FALSE)),\"\",INDIRECT(\"'Individual Scores'!\"&ADDRESS(MATCH(F603,'Individual Scores'!$D$2:$D$169,0)+1,3)))","v":""},null,null,null,null,null,null,null,0,0,0,null,0]
[3,"North Carolina","15 & <","F",9,null,"Not Entered",{"$f":"IF(ISERROR(VLOOKUP(F604,Bowler_Name,1,FALSE)),\"\",INDIRECT(\"'Individual Scores'!\"&ADDRESS(MATCH(F604,'Individual Scores'!$D$2:$D$169,0)+1,2)))","v":""},{"$f":"IF(ISERROR(VLOOKUP(F604,Bowler_Name,1,FALSE)),\"\",INDIRECT(\"'Individual Scores'!\"&ADDRESS(MATCH(F604,'Individual Scores'!$D$2:$D$169,0)+1,3)))","v":""},null,null,null,null,null,null,null,0,0,0,null,0]
[3,"North Carolina","15 & <","F",10,null,"Not Entered",{"$f":"IF(ISERROR(VLOOKUP(F605,Bowler_Name,1,FALSE)),\"\",INDIRECT(\"'Individual Scores'!\"&ADDRESS(MATCH(F605,'Individual Scores'!$D$2:$D$169,0)+1,2)))","v":""},{"$f":"IF(ISERROR(VLOOKUP(F605,Bowler_Name,1,FALSE)),\"\",INDIRECT(\"'Individual Scores'!\"&ADDRESS(MATCH(F605,'Individual Scores'!$D$2:$D$169,0)+1,3)))","v":""},null,null,null,null,null,null,null,0,0,0,null,0]
[3,"North Carolina","15 & <","F",11,null,"Not Entered",{"$f":"IF(ISERROR(VLOOKUP(F606,Bowler_Name,1,FALSE)),\"\",INDIRECT(\"'Individual Scores'!\"&ADDRESS(MATCH(F606,'Individual Scores'!$D$2:$D$169,0)+1,2)))","v":""},{"$f":"IF(ISERROR(VLOOKUP(F606,Bowler_Name,1,FALSE)),\"\",INDIRECT(\"'Individual Scores'!\"&ADDRESS(MATCH(F606,'Individual Scores'!$D$2:$D$169,0)+1,3)))","v":""},null,null,null,null,null,null,null,0,0,0,null,0]
[3,"North Carolina","15 & <","F"]
[3,"North Carolina","15 & <","F",null,{"$f":"DGET(Constants!$C$1:$D$4,1,E592:E593)&\" \"&G593&\" \"&F593","v":"NC F 15 & <"},null,null,null,{"$f":"SUM(J595:J607)-MIN(J595:J607)","v":0},0,0,null,0,0,0,{"$f":"SUM(J608:L608)","v":0},{"$f":"SUM(N608:P608)","v":0},{"$f":"SUM(Q608:R608)","v":0}]
[3,null,null,null,null,"Warning Row:  should be hidden",null,null,null,{"$f":"IF(COUNT(J595:J607)=0,\"\",IF(COUNT(J595:J607)<ROWS(J595:J607)-2,1,\"\"))","v":""},"","",null,"","",""]
[3]
[{"$f":"H614","v":3},{"$f":"E614","v":"North Carolina"},{"$f":"F614","v":"15 & <"},{"$f":"G614","v":"M"},"Tournament",{"$f":"DGET('Tournament Locations'!$B$1:$C$4,\"Location\",H613:H614)","v":"High Point Bowling Center, High Point, NC"}]
[{"$f":"A611","v":3},{"$f":"B611","v":"North Carolina"},{"$f":"C611","v":"15 & <"},{"$f":"D611","v":"M"},null,null,null,null,null,null,null,"High Game",null,{"$f":"MAX(J617:P628)","v":0},null,{"$f":"IF(SUM(J630:P630)>0,\"Warning:  Not enough scores to drop lowest score.  Be sure zeros are entered for any vacant bowler\",\"\")","v":""}]
[{"$f":"A612","v":3},"North Carolina","15 & <","M","State","Age","Gender","Tournament",null,null,null,"High Series",null,{"$f":"MAX(Q617:R628)","v":0}]
[3,"North Carolina","15 & <","M",{"$f":"E593","v":"North Carolina"},{"$f":"F593","v":"15 & <"},"M",{"$f":"H509","v":3},null,null,null,"High Pins",null,{"$f":"MAX(S617:S628)","v":0}]
[3,"North Carolina","15 & <","M"]
[3,"North Carolina","15 & <","M","Player Number","Full Name","Flag","Actual Age","Gender","Game 1","Game 2","Game 3",null,"Game 4","Game 5","Game 6","Series 1","Series 2","Total"]
[3,"North Carolina","15 & <","M",1,null,{"$f":"IF(ISERROR(VLOOKUP(F617,Bowler_Name,1,FALSE)),\"Not Entered\",IF(H617>F$614,\"Too Old\",IF(I617<>G$614,\"Wrong Gender\",\"\")))","v":"Not Entered"},{"$f":"IF(ISERROR(VLOOKUP(F617,Bowler_Name,1,FALSE)),\"\",INDIRECT(\"'Individual Scores'!\"&ADDRESS(MATCH(F617,'Individual Scores'!$D$2:$D$169,0)+1,2)))","v":""},{"$f":"IF(ISERROR(VLOOKUP(F617,Bowler_Name,1,FALSE)),\"\",INDIRECT(\"'Individual Scores'!\"&ADDRESS(MATCH(F617,'Individual Scores'!$D$2:$D$169,0)+1,3)))","v":""},null,null,null,null,null,null,null,{"$f":"SUM(J617:L617)","v":0},{"$f":"SUM(N617:P617)","v":0},{"$f":"SUM(Q617:R617)","v":0},null,{"$f":"S617/6","v":0}]
[3,"North Carolina","15 & <","M",{"$f":"E617+1","v":2},null,"Not Entered",{"$f":"IF(ISERROR(VLOOKUP(F618,Bowler_Name,1,FALSE)),\"\",INDIRECT(\"'Individual Scores'!\"&ADDRESS(MATCH(F618,'Individual Scores'!$D$2:$D$169,0)+1,2)))","v":""},{"$f":"IF(ISERROR(VLOOKUP(F618,Bowler_Name,1,FALSE)),\"\",INDIRECT(\"'Individual Scores'!\"&ADDRESS(MATCH(F618,'Individual Scores'!$D$2:$D$169,0)+1,3)))","v":""},null,null,null,null,null,null,null,0,{"$f":"SUM(N618:P618)","v":0},{"$f":"SUM(Q618:R618)","v":0},null,{"$f":"S618/6","v":0}]
[3,"North Carolina","15 & <","M",3,null,"Not Entered",{"$f":"IF(ISERROR(VLOOKUP(F619,Bowler_Name,1,FALSE)),\"\",INDIRECT(\"'Individual Scores'!\"&ADDRESS(MATCH(F619,'Individual Scores'!$D$2:$D$169,0)+1,2)))","v":""},{"$f":"IF(ISERROR(VLOOKUP(F619,Bowler_Name,1,FALSE)),\"\",INDIRECT(\"'Individual Scores'!\"&ADDRESS(MATCH(F619,'Individual Scores'!$D$2:$D$169,0)+1,3)))","v":""},null,null,null,null,null,null,null,0,0,0,null,0]
[3,"North Carolina","15 & <","M",4,null,"Not Entered",{"$f":"IF(ISERROR(VLOOKUP(F620,Bowler_Name,1,FALSE)),\"\",INDIRECT(\"'Individual Scores'!\"&ADDRESS(MATCH(F620,'Individual Scores'!$D$2:$D$169,0)+1,2)))","v":""},{"$f":"IF(ISERROR(VLOOKUP(F620,Bowler_Name,1,FALSE)),\"\",INDIRECT(\"'Individual Scores'!\"&ADDRESS(MATCH(F620,'Individual Scores'!$D$2:$D$169,0)+1,3)))","v":""},null,null,null,null,null,null,null,0,0,0,null,0]
[3,"North Carolina","15 & <","M",5,null,"Not Entered",{"$f":"IF(ISERROR(VLOOKUP(F621,Bowler_Name,1,FALSE)),\"\",INDIRECT(\"'Individual Scores'!\"&ADDRESS(MATCH(F621,'Individual Scores'!$D$2:$D$169,0)+1,2)))","v":""},{"$f":"IF(ISERROR(VLOOKUP(F621,Bowler_Name,1,FALSE)),\"\",INDIRECT(\"'Individual Scores'!\"&ADDRESS(MATCH(F621,'Individual Scores'!$D$2:$D$169,0)+1,3)))","v":""},null,null,null,null,null,null,null,0,0,0,null,0]
[3,"North Carolina","15 & <","M",6,null,"Not Entered",{"$f":"IF(ISERROR(VLOOKUP(F622,Bowler_Name,1,FALSE)),\"\",INDIRECT(\"'Individual Scores'!\"&ADDRESS(MATCH(F622,'Individual Scores'!$D$2:$D$169,0)+1,2)))","v":""},{"$f":"IF(ISERROR(VLOOKUP(F622,Bowler_Name,1,FALSE)),\"\",INDIRECT(\"'Individual Scores'!\"&ADDRESS(MATCH(F622,'Individual Scores'!$D$2:$D$169,0)+1,3)))","v":""},null,null,null,null,null,null,null,0,0,0,null,0]
[3,"North Carolina","15 & <","M",7,null,"Not Entered",{"$f":"IF(ISERROR(VLOOKUP(F623,Bowler_Name,1,FALSE)),\"\",INDIRECT(\"'Individual Scores'!\"&ADDRESS(MATCH(F623,'Individual Scores'!$D$2:$D$169,0)+1,2)))","v":""},{"$f":"IF(ISERROR(VLOOKUP(F623,Bowler_Name,1,FALSE)),\"\",INDIRECT(\"'Individual Scores'!\"&ADDRESS(MATCH(F623,'Individual Scores'!$D$2:$D$169,0)+1,3)))","v":""},null,null,null,null,null,null,null,0,0,0,null,0]
[3,"North Carolina","15 & <","M",8,null,"Not Entered",{"$f":"IF(ISERROR(VLOOKUP(F624,Bowler_Name,1,FALSE)),\"\",INDIRECT(\"'Individual Scores'!\"&ADDRESS(MATCH(F624,'Individual Scores'!$D$2:$D$169,0)+1,2)))","v":""},{"$f":"IF(ISERROR(VLOOKUP(F624,Bowler_Name,1,FALSE)),\"\",INDIRECT(\"'Individual Scores'!\"&ADDRESS(MATCH(F624,'Individual Scores'!$D$2:$D$169,0)+1,3)))","v":""},null,null,null,null,null,null,null,0,0,0,null,0]
[3,"North Carolina","15 & <","M",9,null,"Not Entered",{"$f":"IF(ISERROR(VLOOKUP(F625,Bowler_Name,1,FALSE)),\"\",INDIRECT(\"'Individual Scores'!\"&ADDRESS(MATCH(F625,'Individual Scores'!$D$2:$D$169,0)+1,2)))","v":""},{"$f":"IF(ISERROR(VLOOKUP(F625,Bowler_Name,1,FALSE)),\"\",INDIRECT(\"'Individual Scores'!\"&ADDRESS(MATCH(F625,'Individual Scores'!$D$2:$D$169,0)+1,3)))","v":""},null,null,null,null,null,null,null,0,0,0,null,0]
[3,"North Carolina","15 & <","M",10,null,"Not Entered",{"$f":"IF(ISERROR(VLOOKUP(F626,Bowler_Name,1,FALSE)),\"\",INDIRECT(\"'Individual Scores'!\"&ADDRESS(MATCH(F626,'Individual Scores'!$D$2:$D$169,0)+1,2)))","v":""},{"$f":"IF(ISERROR(VLOOKUP(F626,Bowler_Name,1,FALSE)),\"\",INDIRECT(\"'Individual Scores'!\"&ADDRESS(MATCH(F626,'Individual Scores'!$D$2:$D$169,0)+1,3)))","v":""},null,null,null,null,null,null,null,0,0,0,null,0]
[3,"North Carolina","15 & <","M",11,null,"Not Entered",{"$f":"IF(ISERROR(VLOOKUP(F627,Bowler_Name,1,FALSE)),\"\",INDIRECT(\"'Individual Scores'!\"&ADDRESS(MATCH(F627,'Individual Scores'!$D$2:$D$169,0)+1,2)))","v":""},{"$f":"IF(ISERROR(VLOOKUP(F627,Bowler_Name,1,FALSE)),\"\",INDIRECT(\"'Individual Scores'!\"&ADDRESS(MATCH(F627,'Individual Scores'!$D$2:$D$169,0)+1,3)))","v":""},null,null,null,null,null,null,null,0,0,0,null,0]
[3,"North Carolina","15 & <","M"]
[3,"North Carolina","15 & <","M",null,{"$f":"DGET(Constants!$C$1:$D$4,1,E613:E614)&\" \"&G614&\" \"&F614","v":"NC M 15 & <"},null,null,null,{"$f":"SUM(J616:J628)-MIN(J616:J628)","v":0},0,0,null,0,0,0,{"$f":"SUM(J629:L629)","v":0},{"$f":"SUM(N629:P629)","v":0},{"$f":"SUM(Q629:R629)","v":0}]
[3,null,null,null,null,"Warning Row:  should be hidden",null,null,null,{"$f":"IF(COUNT(J616:J628)=0,\"\",IF(COUNT(J616:J628)<ROWS(J616:J628)-2,1,\"\"))","v":""},"","",null,"","",""]
[3]
[{"$f":"H635","v":3},{"$f":"E635","v":"North Carolina"},{"$f":"F635","v":"16-20"},{"$f":"G635","v":"F"},"Tournament",{"$f":"DGET('Tournament Locations'!$B$1:$C$4,\"Location\",H634:H635)","v":"High Point Bowling Center, High Point, NC"}]
[{"$f":"A632","v":3},{"$f":"B632","v":"North Carolina"},{"$f":"C632","v":"16-20"},{"$f":"D632","v":"F"},null,null,null,null,null,null,null,"High Game",null,{"$f":"MAX(J638:P648)","v":0},null,{"$f":"IF(SUM(J651:P651)>0,\"Warning:  Not enough scores to drop lowest score.  Be sure zeros are entered for any vacant bowler\",\"\")","v":""}]
[{"$f":"A633","v":3},"North Carolina","16-20","F","State","Age","Gender","Tournament",null,null,null,"High Series",null,{"$f":"MAX(Q638:R648)","v":0}]
[3,"North Carolina","16-20","F",{"$f":"E593","v":"North Carolina"},"16-20","F",{"$f":"H509","v":3},null,null,null,"High Pins",null,{"$f":"MAX(S638:S648)","v":0}]
[3,"North Carolina","16-20","F"]
[3,"North Carolina","16-20","F","Player Number","Full Name","Flag","Actual Age","Gender","Game 1","Game 2","Game 3",null,"Game 4","Game 5","Game 6","Series 1","Series 2","Total"]
[3,"North Carolina","16-20","F",1,null,{"$f":"IF(ISERROR(VLOOKUP(F638,Bowler_Name,1,FALSE)),\"Not Entered\",IF(H638>F$635,\"Too Old\",IF(I638<>G$635,\"Wrong Gender\",\"\")))","v":"Not Entered"},{"$f":"IF(ISERROR(VLOOKUP(F638,Bowler_Name,1,FALSE)),\"\",INDIRECT(\"'Individual Scores'!\"&ADDRESS(MATCH(F638,'Individual Scores'!$D$2:$D$169,0)+1,2)))","v":""},{"$f":"IF(ISERROR(VLOOKUP(F638,Bowler_Name,1,FALSE)),\"\",INDIRECT(\"'Individual Scores'!\"&ADDRESS(MATCH(F638,'Individual Scores'!$D$2:$D$169,0)+1,3)))","v":""},null,null,null,null,null,null,null,{"$f":"SUM(J638:L638)","v":0},{"$f":"SUM(N638:P638)","v":0},{"$f":"SUM(Q638:R638)","v":0},null,{"$f":"S638/6","v":0}]
[3,"North Carolina","16-20","F",{"$f":"E638+1","v":2},null,"Not Entered",{"$f":"IF(ISERROR(VLOOKUP(F639,Bowler_Name,1,FALSE)),\"\",INDIRECT(\"'Individual Scores'!\"&ADDRESS(MATCH(F639,'Individual Scores'!$D$2:$D$169,0)+1,2)))","v":""},{"$f":"IF(ISERROR(VLOOKUP(F639,Bowler_Name,1,FALSE)),\"\",INDIRECT(\"'Individual Scores'!\"&ADDRESS(MATCH(F639,'Individual Scores'!$D$2:$D$169,0)+1,3)))","v":""},null,null,null,null,null,null,null,0,{"$f":"SUM(N639:P639)","v":0},{"$f":"SUM(Q639:R639)","v":0},null,{"$f":"S639/6","v":0}]
[3,"North Carolina","16-20","F",{"$f":"E639+1","v":3},null,"Not Entered",{"$f":"IF(ISERROR(VLOOKUP(F640,Bowler_Name,1,FALSE)),\"\",INDIRECT(\"'Individual Scores'!\"&ADDRESS(MATCH(F640,'Individual Scores'!$D$2:$D$169,0)+1,2)))","v":""},{"$f":"IF(ISERROR(VLOOKUP(F640,Bowler_Name,1,FALSE)),\"\",INDIRECT(\"'Individual Scores'!\"&ADDRESS(MATCH(F640,'Individual Scores'!$D$2:$D$169,0)+1,3)))","v":""},null,null,null,null,null,null,null,0,0,0,null,0]
[3,"North Carolina","16-20","F",4,null,"Not Entered",{"$f":"IF(ISERROR(VLOOKUP(F641,Bowler_Name,1,FALSE)),\"\",INDIRECT(\"'Individual Scores'!\"&ADDRESS(MATCH(F641,'Individual Scores'!$D$2:$D$169,0)+1,2)))","v":""},{"$f":"IF(ISERROR(VLOOKUP(F641,Bowler_Name,1,FALSE)),\"\",INDIRECT(\"'Individual Scores'!\"&ADDRESS(MATCH(F641,'Individual Scores'!$D$2:$D$169,0)+1,3)))","v":""},null,null,null,null,null,null,null,0,0,0,null,0]
[3,"North Carolina","16-20","F",5,null,"Not Entered",{"$f":"IF(ISERROR(VLOOKUP(F642,Bowler_Name,1,FALSE)),\"\",INDIRECT(\"'Individual Scores'!\"&ADDRESS(MATCH(F642,'Individual Scores'!$D$2:$D$169,0)+1,2)))","v":""},{"$f":"IF(ISERROR(VLOOKUP(F642,Bowler_Name,1,FALSE)),\"\",INDIRECT(\"'Individual Scores'!\"&ADDRESS(MATCH(F642,'Individual Scores'!$D$2:$D$169,0)+1,3)))","v":""},null,null,null,null,null,null,null,0,0,0,null,0]
[3,"North Carolina","16-20","F",6,null,"Not Entered",{"$f":"IF(ISERROR(VLOOKUP(F643,Bowler_Name,1,FALSE)),\"\",INDIRECT(\"'Individual Scores'!\"&ADDRESS(MATCH(F643,'Individual Scores'!$D$2:$D$169,0)+1,2)))","v":""},{"$f":"IF(ISERROR(VLOOKUP(F643,Bowler_Name,1,FALSE)),\"\",INDIRECT(\"'Individual Scores'!\"&ADDRESS(MATCH(F643,'Individual Scores'!$D$2:$D$169,0)+1,3)))","v":""},null,null,null,null,null,null,null,0,0,0,null,0]
[3,"North Carolina","16-20","F",7,null,"Not Entered",{"$f":"IF(ISERROR(VLOOKUP(F644,Bowler_Name,1,FALSE)),\"\",INDIRECT(\"'Individual Scores'!\"&ADDRESS(MATCH(F644,'Individual Scores'!$D$2:$D$169,0)+1,2)))","v":""},{"$f":"IF(ISERROR(VLOOKUP(F644,Bowler_Name,1,FALSE)),\"\",INDIRECT(\"'Individual Scores'!\"&ADDRESS(MATCH(F644,'Individual Scores'!$D$2:$D$169,0)+1,3)))","v":""},null,null,null,null,null,null,null,0,0,0,null,0]
[3,"North Carolina","16-20","F",8,null,"Not Entered",{"$f":"IF(ISERROR(VLOOKUP(F645,Bowler_Name,1,FALSE)),\"\",INDIRECT(\"'Individual Scores'!\"&ADDRESS(MATCH(F645,'Individual Scores'!$D$2:$D$169,0)+1,2)))","v":""},{"$f":"IF(ISERROR(VLOOKUP(F645,Bowler_Name,1,FALSE)),\"\",INDIRECT(\"'Individual Scores'!\"&ADDRESS(MATCH(F645,'Individual Scores'!$D$2:$D$169,0)+1,3)))","v":""},null,null,null,null,null,null,null,0,0,0,null,0]
[3,"North Carolina","16-20","F",9,null,"Not Entered",{"$f":"IF(ISERROR(VLOOKUP(F646,Bowler_Name,1,FALSE)),\"\",INDIRECT(\"'Individual Scores'!\"&ADDRESS(MATCH(F646,'Individual Scores'!$D$2:$D$169,0)+1,2)))","v":""},{"$f":"IF(ISERROR(VLOOKUP(F646,Bowler_Name,1,FALSE)),\"\",INDIRECT(\"'Individual Scores'!\"&ADDRESS(MATCH(F646,'Individual Scores'!$D$2:$D$169,0)+1,3)))","v":""},null,null,null,null,null,null,null,0,0,0,null,0]
[3,"North Carolina","16-20","F",10,null,"Not Entered",{"$f":"IF(ISERROR(VLOOKUP(F647,Bowler_Name,1,FALSE)),\"\",INDIRECT(\"'Individual Scores'!\"&ADDRESS(MATCH(F647,'Individual Scores'!$D$2:$D$169,0)+1,2)))","v":""},{"$f":"IF(ISERROR(VLOOKUP(F647,Bowler_Name,1,FALSE)),\"\",INDIRECT(\"'Individual Scores'!\"&ADDRESS(MATCH(F647,'Individual Scores'!$D$2:$D$169,0)+1,3)))","v":""},null,null,null,null,null,null,null,0,0,0,null,0]
[3,"North Carolina","16-20","F",11,null,"Not Entered",{"$f":"IF(ISERROR(VLOOKUP(F648,Bowler_Name,1,FALSE)),\"\",INDIRECT(\"'Individual Scores'!\"&ADDRESS(MATCH(F648,'Individual Scores'!$D$2:$D$169,0)+1,2)))","v":""},{"$f":"IF(ISERROR(VLOOKUP(F648,Bowler_Name,1,FALSE)),\"\",INDIRECT(\"'Individual Scores'!\"&ADDRESS(MATCH(F648,'Individual Scores'!$D$2:$D$169,0)+1,3)))","v":""},null,null,null,null,null,null,null,0,0,0,null,0]
[3,"North Carolina","16-20","F"]
[3,"North Carolina","16-20","F",null,{"$f":"DGET(Constants!$C$1:$D$4,1,E634:E635)&\" \"&G635&\" \"&F635","v":"NC F 16-20"},null,null,null,{"$f":"SUM(J637:J649)-MIN(J637:J649)","v":0},0,0,null,0,0,0,{"$f":"SUM(J650:L650)","v":0},{"$f":"SUM(N650:P650)","v":0},{"$f":"SUM(Q650:R650)","v":0}]
[3,null,null,null,null,"Warning Row:  should be hidden",null,null,null,{"$f":"IF(COUNT(J637:J649)=0,\"\",IF(COUNT(J637:J649)<ROWS(J637:J649)-2,1,\"\"))","v":""},"","",null,"","",""]
[3]
[{"$f":"H656","v":3},{"$f":"E656","v":"North Carolina"},{"$f":"F656","v":"16-20"},{"$f":"G656","v":"M"},"Tournament",{"$f":"DGET('Tournament Locations'!$B$1:$C$4,\"Location\",H655:H656)","v":"High Point Bowling Center, High Point, NC"}]
[{"$f":"A653","v":3},{"$f":"B653","v":"North Carolina"},{"$f":"C653","v":"16-20"},{"$f":"D653","v":"M"},null,null,null,null,null,null,null,"High Game",null,{"$f":"MAX(J659:P669)","v":0},null,{"$f":"IF(SUM(J672:P672)>0,\"Warning:  Not enough scores to drop lowest score.  Be sure zeros are entered for any vacant bowler\",\"\")","v":""}]
[{"$f":"A654","v":3},"North Carolina","16-20","M","State","Age","Gender","Tournament",null,null,null,"High Series",null,{"$f":"MAX(Q659:R669)","v":0}]
[3,"North Carolina","16-20","M",{"$f":"E593","v":"North Carolina"},{"$f":"F635","v":"16-20"},"M",{"$f":"H509","v":3},null,null,null,"High Pins",null,{"$f":"MAX(S659:S669)","v":0}]
[3,"North Carolina","16-20","M"]
[3,"North Carolina","16-20","M","Player Number","Full Name","Flag","Actual Age","Gender","Game 1","Game 2","Game 3",null,"Game 4","Game 5","Game 6","Series 1","Series 2","Total"]
[3,"North Carolina","16-20","M",1,null,{"$f":"IF(ISERROR(VLOOKUP(F659,Bowler_Name,1,FALSE)),\"Not Entered\",IF(H659>F$656,\"Too Old\",IF(I659<>G$656,\"Wrong Gender\",\"\")))","v":"Not Entered"},{"$f":"IF(ISERROR(VLOOKUP(F659,Bowler_Name,1,FALSE)),\"\",INDIRECT(\"'Individual Scores'!\"&ADDRESS(MATCH(F659,'Individual Scores'!$D$2:$D$169,0)+1,2)))","v":""},{"$f":"IF(ISERROR(VLOOKUP(F659,Bowler_Name,1,FALSE)),\"\",INDIRECT(\"'Individual Scores'!\"&ADDRESS(MATCH(F659,'Individual Scores'!$D$2:$D$169,0)+1,3)))","v":""},null,null,null,null,null,null,null,{"$f":"SUM(J659:L659)","v":0},{"$f":"SUM(N659:P659)","v":0},{"$f":"SUM(Q659:R659)","v":0},null,{"$f":"S659/6","v":0}]
[3,"North Carolina","16-20","M",{"$f":"E659+1","v":2},null,"Not Entered",{"$f":"IF(ISERROR(VLOOKUP(F660,Bowler_Name,1,FALSE)),\"\",INDIRECT(\"'Individual Scores'!\"&ADDRESS(MATCH(F660,'Individual Scores'!$D$2:$D$169,0)+1,2)))","v":""},{"$f":"IF(ISERROR(VLOOKUP(F660,Bowler_Name,1,FALSE)),\"\",INDIRECT(\"'Individual Scores'!\"&ADDRESS(MATCH(F660,'Individual Scores'!$D$2:$D$169,0)+1,3)))","v":""},null,null,null,null,null,null,null,0,{"$f":"SUM(N660:P660)","v":0},{"$f":"SUM(Q660:R660)","v":0},null,{"$f":"S660/6","v":0}]
[3,"North Carolina","16-20","M",{"$f":"E660+1","v":3},null,"Not Entered",{"$f":"IF(ISERROR(VLOOKUP(F661,Bowler_Name,1,FALSE)),\"\",INDIRECT(\"'Individual Scores'!\"&ADDRESS(MATCH(F661,'Individual Scores'!$D$2:$D$169,0)+1,2)))","v":""},{"$f":"IF(ISERROR(VLOOKUP(F661,Bowler_Name,1,FALSE)),\"\",INDIRECT(\"'Individual Scores'!\"&ADDRESS(MATCH(F661,'Individual Scores'!$D$2:$D$169,0)+1,3)))","v":""},null,null,null,null,null,null,null,0,0,0,null,0]
[3,"North Carolina","16-20","M",4,null,"Not Entered",{"$f":"IF(ISERROR(VLOOKUP(F662,Bowler_Name,1,FALSE)),\"\",INDIRECT(\"'Individual Scores'!\"&ADDRESS(MATCH(F662,'Individual Scores'!$D$2:$D$169,0)+1,2)))","v":""},{"$f":"IF(ISERROR(VLOOKUP(F662,Bowler_Name,1,FALSE)),\"\",INDIRECT(\"'Individual Scores'!\"&ADDRESS(MATCH(F662,'Individual Scores'!$D$2:$D$169,0)+1,3)))","v":""},null,null,null,null,null,null,null,0,0,0,null,0]
[3,"North Carolina","16-20","M",5,null,"Not Entered",{"$f":"IF(ISERROR(VLOOKUP(F663,Bowler_Name,1,FALSE)),\"\",INDIRECT(\"'Individual Scores'!\"&ADDRESS(MATCH(F663,'Individual Scores'!$D$2:$D$169,0)+1,2)))","v":""},{"$f":"IF(ISERROR(VLOOKUP(F663,Bowler_Name,1,FALSE)),\"\",INDIRECT(\"'Individual Scores'!\"&ADDRESS(MATCH(F663,'Individual Scores'!$D$2:$D$169,0)+1,3)))","v":""},null,null,null,null,null,null,null,0,0,0,null,0]
[3,"North Carolina","16-20","M",6,null,"Not Entered",{"$f":"IF(ISERROR(VLOOKUP(F664,Bowler_Name,1,FALSE)),\"\",INDIRECT(\"'Individual Scores'!\"&ADDRESS(MATCH(F664,'Individual Scores'!$D$2:$D$169,0)+1,2)))","v":""},{"$f":"IF(ISERROR(VLOOKUP(F664,Bowler_Name,1,FALSE)),\"\",INDIRECT(\"'Individual Scores'!\"&ADDRESS(MATCH(F664,'Individual Scores'!$D$2:$D$169,0)+1,3)))","v":""},null,null,null,null,null,null,null,0,0,0,null,0]
[3,"North Carolina","16-20","M",7,null,"Not Entered",{"$f":"IF(ISERROR(VLOOKUP(F665,Bowler_Name,1,FALSE)),\"\",INDIRECT(\"'Individual Scores'!\"&ADDRESS(MATCH(F665,'Individual Scores'!$D$2:$D$169,0)+1,2)))","v":""},{"$f":"IF(ISERROR(VLOOKUP(F665,Bowler_Name,1,FALSE)),\"\",INDIRECT(\"'Individual Scores'!\"&ADDRESS(MATCH(F665,'Individual Scores'!$D$2:$D$169,0)+1,3)))","v":""},null,null,null,null,null,null,null,0,0,0,null,0]
[3,"North Carolina","16-20","M",8,null,"Not Entered",{"$f":"IF(ISERROR(VLOOKUP(F666,Bowler_Name,1,FALSE)),\"\",INDIRECT(\"'Individual Scores'!\"&ADDRESS(MATCH(F666,'Individual Scores'!$D$2:$D$169,0)+1,2)))","v":""},{"$f":"IF(ISERROR(VLOOKUP(F666,Bowler_Name,1,FALSE)),\"\",INDIRECT(\"'Individual Scores'!\"&ADDRESS(MATCH(F666,'Individual Scores'!$D$2:$D$169,0)+1,3)))","v":""},null,null,null,null,null,null,null,0,0,0,null,0]
[3,"North Carolina","16-20","M",9,null,"Not Entered",{"$f":"IF(ISERROR(VLOOKUP(F667,Bowler_Name,1,FALSE)),\"\",INDIRECT(\"'Individual Scores'!\"&ADDRESS(MATCH(F667,'Individual Scores'!$D$2:$D$169,0)+1,2)))","v":""},{"$f":"IF(ISERROR(VLOOKUP(F667,Bowler_Name,1,FALSE)),\"\",INDIRECT(\"'Individual Scores'!\"&ADDRESS(MATCH(F667,'Individual Scores'!$D$2:$D$169,0)+1,3)))","v":""},null,null,null,null,null,null,null,0,0,0,null,0]
[3,"North Carolina","16-20","M",10,null,"Not Entered",{"$f":"IF(ISERROR(VLOOKUP(F668,Bowler_Name,1,FALSE)),\"\",INDIRECT(\"'Individual Scores'!\"&ADDRESS(MATCH(F668,'Individual Scores'!$D$2:$D$169,0)+1,2)))","v":""},{"$f":"IF(ISERROR(VLOOKUP(F668,Bowler_Name,1,FALSE)),\"\",INDIRECT(\"'Individual Scores'!\"&ADDRESS(MATCH(F668,'Individual Scores'!$D$2:$D$169,0)+1,3)))","v":""},null,null,null,null,null,null,null,0,0,0,null,0]
[3,"North Carolina","16-20","M",11,null,"Not Entered",{"$f":"IF(ISERROR(VLOOKUP(F669,Bowler_Name,1,FALSE)),\"\",INDIRECT(\"'Individual Scores'!\"&ADDRESS(MATCH(F669,'Individual Scores'!$D$2:$D$169,0)+1,2)))","v":""},{"$f":"IF(ISERROR(VLOOKUP(F669,Bowler_Name,1,FALSE)),\"\",INDIRECT(\"'Individual Scores'!\"&ADDRESS(MATCH(F669,'Individual Scores'!$D$2:$D$169,0)+1,3)))","v":""},null,null,null,null,null,null,null,0,0,0,null,0]
[3,"North Carolina","16-20","M"]
[3,"North Carolina","16-20","M",null,{"$f":"DGET(Constants!$C$1:$D$4,1,E655:E656)&\" \"&G656&\" \"&F656","v":"NC M 16-20"},null,null,null,{"$f":"SUM(J658:J670)-MIN(J658:J670)","v":0},0,0,null,0,0,0,{"$f":"SUM(J671:L671)","v":0},{"$f":"SUM(N671:P671)","v":0},{"$f":"SUM(Q671:R671)","v":0}]
[3,null,null,null,null,"Warning Row:  should be hidden",null,null,null,{"$f":"IF(COUNT(J658:J670)=0,\"\",IF(COUNT(J658:J670)<ROWS(J658:J670)-2,1,\"\"))","v":""},"","",null,"","",""]
[3]
[{"$f":"H677","v":3},{"$f":"E677","v":"South Carolina"},{"$f":"F677","v":"15 & <"},{"$f":"G677","v":"F"},"Tournament",{"$f":"DGET('Tournament Locations'!$B$1:$C$4,\"Location\",H676:H677)","v":"High Point Bowling Center, High Point, NC"}]
[{"$f":"A674","v":3},{"$f":"B674","v":"South Carolina"},{"$f":"C674","v":"15 & <"},{"$f":"D674","v":"F"},null,null,null,null,null,null,null,"High Game",null,{"$f":"MAX(J680:P691)","v":0},null,{"$f":"IF(SUM(J693:P693)>0,\"Warning:  Not enough scores to drop lowest score.  Be sure zeros are entered for any vacant bowler\",\"\")","v":""}]
[{"$f":"A675","v":3},"South Carolina","15 & <","F","State","Age","Gender","Tournament",null,null,null,"High Series",null,{"$f":"MAX(Q680:R691)","v":0}]
[3,"South Carolina","15 & <","F","South Carolina","15 & <","F",{"$f":"H509","v":3},null,null,null,"High Pins",null,{"$f":"MAX(S680:S691)","v":0}]
[3,"South Carolina","15 & <","F"]
[3,"South Carolina","15 & <","F","Player Number","Full Name","Flag","Actual Age","Gender","Game 1","Game 2","Game 3",null,"Game 4","Game 5","Game 6","Series 1","Series 2","Total"]
[3,"South Carolina","15 & <","F",1,null,{"$f":"IF(ISERROR(VLOOKUP(F680,Bowler_Name,1,FALSE)),\"Not Entered\",IF(H680>F$677,\"Too Old\",IF(I680<>G$677,\"Wrong Gender\",\"\")))","v":"Not Entered"},{"$f":"IF(ISERROR(VLOOKUP(F680,Bowler_Name,1,FALSE)),\"\",INDIRECT(\"'Individual Scores'!\"&ADDRESS(MATCH(F680,'Individual Scores'!$D$2:$D$169,0)+1,2)))","v":""},{"$f":"IF(ISERROR(VLOOKUP(F680,Bowler_Name,1,FALSE)),\"\",INDIRECT(\"'Individual Scores'!\"&ADDRESS(MATCH(F680,'Individual Scores'!$D$2:$D$169,0)+1,3)))","v":""},null,null,null,null,null,null,null,{"$f":"SUM(J680:L680)","v":0},{"$f":"SUM(N680:P680)","v":0},{"$f":"SUM(Q680:R680)","v":0}]
[3,"South Carolina","15 & <","F",{"$f":"E680+1","v":2},null,"Not Entered",{"$f":"IF(ISERROR(VLOOKUP(F681,Bowler_Name,1,FALSE)),\"\",INDIRECT(\"'Individual Scores'!\"&ADDRESS(MATCH(F681,'Individual Scores'!$D$2:$D$169,0)+1,2)))","v":""},{"$f":"IF(ISERROR(VLOOKUP(F681,Bowler_Name,1,FALSE)),\"\",INDIRECT(\"'Individual Scores'!\"&ADDRESS(MATCH(F681,'Individual Scores'!$D$2:$D$169,0)+1,3)))","v":""},null,null,null,null,null,null,null,0,{"$f":"SUM(N681:P681)","v":0},{"$f":"SUM(Q681:R681)","v":0}]
[3,"South Carolina","15 & <","F",3,null,"Not Entered",{"$f":"IF(ISERROR(VLOOKUP(F682,Bowler_Name,1,FALSE)),\"\",INDIRECT(\"'Individual Scores'!\"&ADDRESS(MATCH(F682,'Individual Scores'!$D$2:$D$169,0)+1,2)))","v":""},{"$f":"IF(ISERROR(VLOOKUP(F682,Bowler_Name,1,FALSE)),\"\",INDIRECT(\"'Individual Scores'!\"&ADDRESS(MATCH(F682,'Individual Scores'!$D$2:$D$169,0)+1,3)))","v":""},null,null,null,null,null,null,null,0,0,0]
[3,"South Carolina","15 & <","F",4,null,"Not Entered",{"$f":"IF(ISERROR(VLOOKUP(F683,Bowler_Name,1,FALSE)),\"\",INDIRECT(\"'Individual Scores'!\"&ADDRESS(MATCH(F683,'Individual Scores'!$D$2:$D$169,0)+1,2)))","v":""},{"$f":"IF(ISERROR(VLOOKUP(F683,Bowler_Name,1,FALSE)),\"\",INDIRECT(\"'Individual Scores'!\"&ADDRESS(MATCH(F683,'Individual Scores'!$D$2:$D$169,0)+1,3)))","v":""},null,null,null,null,null,null,null,0,0,0]
[3,"South Carolina","15 & <","F",5,null,"Not Entered",{"$f":"IF(ISERROR(VLOOKUP(F684,Bowler_Name,1,FALSE)),\"\",INDIRECT(\"'Individual Scores'!\"&ADDRESS(MATCH(F684,'Individual Scores'!$D$2:$D$169,0)+1,2)))","v":""},{"$f":"IF(ISERROR(VLOOKUP(F684,Bowler_Name,1,FALSE)),\"\",INDIRECT(\"'Individual Scores'!\"&ADDRESS(MATCH(F684,'Individual Scores'!$D$2:$D$169,0)+1,3)))","v":""},null,null,null,null,null,null,null,0,0,0]
[3,"South Carolina","15 & <","F",6,null,"Not Entered",{"$f":"IF(ISERROR(VLOOKUP(F685,Bowler_Name,1,FALSE)),\"\",INDIRECT(\"'Individual Scores'!\"&ADDRESS(MATCH(F685,'Individual Scores'!$D$2:$D$169,0)+1,2)))","v":""},{"$f":"IF(ISERROR(VLOOKUP(F685,Bowler_Name,1,FALSE)),\"\",INDIRECT(\"'Individual Scores'!\"&ADDRESS(MATCH(F685,'Individual Scores'!$D$2:$D$169,0)+1,3)))","v":""},null,null,null,null,null,null,null,0,0,0]
[3,"South Carolina","15 & <","F",7,null,"Not Entered",{"$f":"IF(ISERROR(VLOOKUP(F686,Bowler_Name,1,FALSE)),\"\",INDIRECT(\"'Individual Scores'!\"&ADDRESS(MATCH(F686,'Individual Scores'!$D$2:$D$169,0)+1,2)))","v":""},{"$f":"IF(ISERROR(VLOOKUP(F686,Bowler_Name,1,FALSE)),\"\",INDIRECT(\"'Individual Scores'!\"&ADDRESS(MATCH(F686,'Individual Scores'!$D$2:$D$169,0)+1,3)))","v":""},null,null,null,null,null,null,null,0,0,0]
[3,"South Carolina","15 & <","F",8,null,"Not Entered",{"$f":"IF(ISERROR(VLOOKUP(F687,Bowler_Name,1,FALSE)),\"\",INDIRECT(\"'Individual Scores'!\"&ADDRESS(MATCH(F687,'Individual Scores'!$D$2:$D$169,0)+1,2)))","v":""},{"$f":"IF(ISERROR(VLOOKUP(F687,Bowler_Name,1,FALSE)),\"\",INDIRECT(\"'Individual Scores'!\"&ADDRESS(MATCH(F687,'Individual Scores'!$D$2:$D$169,0)+1,3)))","v":""},null,null,null,null,null,null,null,0,0,0]
[3,"South Carolina","15 & <","F",9,null,"Not Entered",{"$f":"IF(ISERROR(VLOOKUP(F688,Bowler_Name,1,FALSE)),\"\",INDIRECT(\"'Individual Scores'!\"&ADDRESS(MATCH(F688,'Individual Scores'!$D$2:$D$169,0)+1,2)))","v":""},{"$f":"IF(ISERROR(VLOOKUP(F688,Bowler_Name,1,FALSE)),\"\",INDIRECT(\"'Individual Scores'!\"&ADDRESS(MATCH(F688,'Individual Scores'!$D$2:$D$169,0)+1,3)))","v":""},null,null,null,null,null,null,null,0,0,0]
[3,"South Carolina","15 & <","F",10,null,"Not Entered",{"$f":"IF(ISERROR(VLOOKUP(F689,Bowler_Name,1,FALSE)),\"\",INDIRECT(\"'Individual Scores'!\"&ADDRESS(MATCH(F689,'Individual Scores'!$D$2:$D$169,0)+1,2)))","v":""},{"$f":"IF(ISERROR(VLOOKUP(F689,Bowler_Name,1,FALSE)),\"\",INDIRECT(\"'Individual Scores'!\"&ADDRESS(MATCH(F689,'Individual Scores'!$D$2:$D$169,0)+1,3)))","v":""},null,null,null,null,null,null,null,0,0,0]
[3,"South Carolina","15 & <","F",11,null,"Not Entered",{"$f":"IF(ISERROR(VLOOKUP(F690,Bowler_Name,1,FALSE)),\"\",INDIRECT(\"'Individual Scores'!\"&ADDRESS(MATCH(F690,'Individual Scores'!$D$2:$D$169,0)+1,2)))","v":""},{"$f":"IF(ISERROR(VLOOKUP(F690,Bowler_Name,1,FALSE)),\"\",INDIRECT(\"'Individual Scores'!\"&ADDRESS(MATCH(F690,'Individual Scores'!$D$2:$D$169,0)+1,3)))","v":""},null,null,null,null,null,null,null,0,0,0]
[3,"South Carolina","15 & <","F"]
[3,"South Carolina","15 & <","F",null,{"$f":"DGET(Constants!$C$1:$D$4,1,E676:E677)&\" \"&G677&\" \"&F677","v":"SC F 15 & <"},null,null,null,{"$f":"SUM(J679:J691)-MIN(J679:J691)","v":0},0,0,null,0,0,0,{"$f":"SUM(J692:L692)","v":0},{"$f":"SUM(N692:P692)","v":0},{"$f":"SUM(Q692:R692)","v":0}]
[3,null,null,null,null,"Warning Row:  should be hidden",null,null,null,{"$f":"IF(COUNT(J679:J691)=0,\"\",IF(COUNT(J679:J691)<ROWS(J679:J691)-2,1,\"\"))","v":""},"","",null,"","",""]
[3]
[{"$f":"H698","v":3},{"$f":"E698","v":"South Carolina"},{"$f":"F698","v":"15 & <"},{"$f":"G698","v":"M"},"Tournament",{"$f":"DGET('Tournament Locations'!$B$1:$C$4,\"Location\",H697:H698)","v":"High Point Bowling Center, High Point, NC"}]
[{"$f":"A695","v":3},{"$f":"B695","v":"South Carolina"},{"$f":"C695","v":"15 & <"},{"$f":"D695","v":"M"},null,null,null,null,null,null,null,"High Game",null,{"$f":"MAX(J701:P712)","v":0},null,{"$f":"IF(SUM(J714:P714)>0,\"Warning:  Not enough scores to drop lowest score.  Be sure zeros are entered for any vacant bowler\",\"\")","v":""}]
[{"$f":"A696","v":3},"South Carolina","15 & <","M","State","Age","Gender","Tournament",null,null,null,"High Series",null,{"$f":"MAX(Q701:R712)","v":0}]
[3,"South Carolina","15 & <","M",{"$f":"E677","v":"South Carolina"},{"$f":"F677","v":"15 & <"},"M",{"$f":"H509","v":3},null,null,null,"High Pins",null,{"$f":"MAX(S701:S712)","v":0}]
[3,"South Carolina","15 & <","M"]
[3,"South Carolina","15 & <","M","Player Number","Full Name","Flag","Actual Age","Gender","Game 1","Game 2","Game 3",null,"Game 4","Game 5","Game 6","Series 1","Series 2","Total"]
[3,"South Carolina","15 & <","M",1,null,{"$f":"IF(ISERROR(VLOOKUP(F701,Bowler_Name,1,FALSE)),\"Not Entered\",IF(H701>F$698,\"Too Old\",IF(I701<>G$698,\"Wrong Gender\",\"\")))","v":"Not Entered"},{"$f":"IF(ISERROR(VLOOKUP(F701,Bowler_Name,1,FALSE)),\"\",INDIRECT(\"'Individual Scores'!\"&ADDRESS(MATCH(F701,'Individual Scores'!$D$2:$D$169,0)+1,2)))","v":""},{"$f":"IF(ISERROR(VLOOKUP(F701,Bowler_Name,1,FALSE)),\"\",INDIRECT(\"'Individual Scores'!\"&ADDRESS(MATCH(F701,'Individual Scores'!$D$2:$D$169,0)+1,3)))","v":""},null,null,null,null,null,null,null,{"$f":"SUM(J701:L701)","v":0},{"$f":"SUM(N701:P701)","v":0},{"$f":"SUM(Q701:R701)","v":0}]
[3,"South Carolina","15 & <","M",{"$f":"E701+1","v":2},null,"Not Entered",{"$f":"IF(ISERROR(VLOOKUP(F702,Bowler_Name,1,FALSE)),\"\",INDIRECT(\"'Individual Scores'!\"&ADDRESS(MATCH(F702,'Individual Scores'!$D$2:$D$169,0)+1,2)))","v":""},{"$f":"IF(ISERROR(VLOOKUP(F702,Bowler_Name,1,FALSE)),\"\",INDIRECT(\"'Individual Scores'!\"&ADDRESS(MATCH(F702,'Individual Scores'!$D$2:$D$169,0)+1,3)))","v":""},null,null,null,null,null,null,null,0,{"$f":"SUM(N702:P702)","v":0},{"$f":"SUM(Q702:R702)","v":0}]
[3,"South Carolina","15 & <","M",3,null,"Not Entered",{"$f":"IF(ISERROR(VLOOKUP(F703,Bowler_Name,1,FALSE)),\"\",INDIRECT(\"'Individual Scores'!\"&ADDRESS(MATCH(F703,'Individual Scores'!$D$2:$D$169,0)+1,2)))","v":""},{"$f":"IF(ISERROR(VLOOKUP(F703,Bowler_Name,1,FALSE)),\"\",INDIRECT(\"'Individual Scores'!\"&ADDRESS(MATCH(F703,'Individual Scores'!$D$2:$D$169,0)+1,3)))","v":""},null,null,null,null,null,null,null,0,0,0]
[3,"South Carolina","15 & <","M",4,null,"Not Entered",{"$f":"IF(ISERROR(VLOOKUP(F704,Bowler_Name,1,FALSE)),\"\",INDIRECT(\"'Individual Scores'!\"&ADDRESS(MATCH(F704,'Individual Scores'!$D$2:$D$169,0)+1,2)))","v":""},{"$f":"IF(ISERROR(VLOOKUP(F704,Bowler_Name,1,FALSE)),\"\",INDIRECT(\"'Individual Scores'!\"&ADDRESS(MATCH(F704,'Individual Scores'!$D$2:$D$169,0)+1,3)))","v":""},null,null,null,null,null,null,null,0,0,0]
[3,"South Carolina","15 & <","M",5,null,"Not Entered",{"$f":"IF(ISERROR(VLOOKUP(F705,Bowler_Name,1,FALSE)),\"\",INDIRECT(\"'Individual Scores'!\"&ADDRESS(MATCH(F705,'Individual Scores'!$D$2:$D$169,0)+1,2)))","v":""},{"$f":"IF(ISERROR(VLOOKUP(F705,Bowler_Name,1,FALSE)),\"\",INDIRECT(\"'Individual Scores'!\"&ADDRESS(MATCH(F705,'Individual Scores'!$D$2:$D$169,0)+1,3)))","v":""},null,null,null,null,null,null,null,0,0,0]
[3,"South Carolina","15 & <","M",6,null,"Not Entered",{"$f":"IF(ISERROR(VLOOKUP(F706,Bowler_Name,1,FALSE)),\"\",INDIRECT(\"'Individual Scores'!\"&ADDRESS(MATCH(F706,'Individual Scores'!$D$2:$D$169,0)+1,2)))","v":""},{"$f":"IF(ISERROR(VLOOKUP(F706,Bowler_Name,1,FALSE)),\"\",INDIRECT(\"'Individual Scores'!\"&ADDRESS(MATCH(F706,'Individual Scores'!$D$2:$D$169,0)+1,3)))","v":""},null,null,null,null,null,null,null,0,0,0]
[3,"South Carolina","15 & <","M",7,null,"Not Entered",{"$f":"IF(ISERROR(VLOOKUP(F707,Bowler_Name,1,FALSE)),\"\",INDIRECT(\"'Individual Scores'!\"&ADDRESS(MATCH(F707,'Individual Scores'!$D$2:$D$169,0)+1,2)))","v":""},{"$f":"IF(ISERROR(VLOOKUP(F707,Bowler_Name,1,FALSE)),\"\",INDIRECT(\"'Individual Scores'!\"&ADDRESS(MATCH(F707,'Individual Scores'!$D$2:$D$169,0)+1,3)))","v":""},null,null,null,null,null,null,null,0,0,0]
[3,"South Carolina","15 & <","M",8,null,"Not Entered",{"$f":"IF(ISERROR(VLOOKUP(F708,Bowler_Name,1,FALSE)),\"\",INDIRECT(\"'Individual Scores'!\"&ADDRESS(MATCH(F708,'Individual Scores'!$D$2:$D$169,0)+1,2)))","v":""},{"$f":"IF(ISERROR(VLOOKUP(F708,Bowler_Name,1,FALSE)),\"\",INDIRECT(\"'Individual Scores'!\"&ADDRESS(MATCH(F708,'Individual Scores'!$D$2:$D$169,0)+1,3)))","v":""},null,null,null,null,null,null,null,0,0,0]
[3,"South Carolina","15 & <","M",9,null,"Not Entered",{"$f":"IF(ISERROR(VLOOKUP(F709,Bowler_Name,1,FALSE)),\"\",INDIRECT(\"'Individual Scores'!\"&ADDRESS(MATCH(F709,'Individual Scores'!$D$2:$D$169,0)+1,2)))","v":""},{"$f":"IF(ISERROR(VLOOKUP(F709,Bowler_Name,1,FALSE)),\"\",INDIRECT(\"'Individual Scores'!\"&ADDRESS(MATCH(F709,'Individual Scores'!$D$2:$D$169,0)+1,3)))","v":""},null,null,null,null,null,null,null,0,0,0]
[3,"South Carolina","15 & <","M",10,null,"Not Entered",{"$f":"IF(ISERROR(VLOOKUP(F710,Bowler_Name,1,FALSE)),\"\",INDIRECT(\"'Individual Scores'!\"&ADDRESS(MATCH(F710,'Individual Scores'!$D$2:$D$169,0)+1,2)))","v":""},{"$f":"IF(ISERROR(VLOOKUP(F710,Bowler_Name,1,FALSE)),\"\",INDIRECT(\"'Individual Scores'!\"&ADDRESS(MATCH(F710,'Individual Scores'!$D$2:$D$169,0)+1,3)))","v":""},null,null,null,null,null,null,null,0,0,0]
[3,"South Carolina","15 & <","M",11,null,"Not Entered",{"$f":"IF(ISERROR(VLOOKUP(F711,Bowler_Name,1,FALSE)),\"\",INDIRECT(\"'Individual Scores'!\"&ADDRESS(MATCH(F711,'Individual Scores'!$D$2:$D$169,0)+1,2)))","v":""},{"$f":"IF(ISERROR(VLOOKUP(F711,Bowler_Name,1,FALSE)),\"\",INDIRECT(\"'Individual Scores'!\"&ADDRESS(MATCH(F711,'Individual Scores'!$D$2:$D$169,0)+1,3)))","v":""},null,null,null,null,null,null,null,0,0,0]
[3,"South Carolina","15 & <","M"]
[3,"South Carolina","15 & <","M",null,{"$f":"DGET(Constants!$C$1:$D$4,1,E697:E698)&\" \"&G698&\" \"&F698","v":"SC M 15 & <"},null,null,null,{"$f":"SUM(J700:J712)-MIN(J700:J712)","v":0},0,0,null,0,0,0,{"$f":"SUM(J713:L713)","v":0},{"$f":"SUM(N713:P713)","v":0},{"$f":"SUM(Q713:R713)","v":0}]
[3,null,null,null,null,"Warning Row:  should be hidden",null,null,null,{"$f":"IF(COUNT(J700:J712)=0,\"\",IF(COUNT(J700:J712)<ROWS(J700:J712)-2,1,\"\"))","v":""},"","",null,"","",""]
[3]
[{"$f":"H719","v":3},{"$f":"E719","v":"South Carolina"},{"$f":"F719","v":"16-20"},{"$f":"G719","v":"F"},"Tournament",{"$f":"DGET('Tournament Locations'!$B$1:$C$4,\"Location\",H718:H719)","v":"High Point Bowling Center, High Point, NC"}]
[{"$f":"A716","v":3},{"$f":"B716","v":"South Carolina"},{"$f":"C716","v":"16-20"},{"$f":"D716","v":"F"},null,null,null,null,null,null,null,"High Game",null,{"$f":"MAX(J722:P732)","v":0},null,{"$f":"IF(SUM(J735:P735)>0,\"Warning:  Not enough scores to drop lowest score.  Be sure zeros are entered for any vacant bowler\",\"\")","v":""}]
[{"$f":"A717","v":3},"South Carolina","16-20","F","State","Age","Gender","Tournament",null,null,null,"High Series",null,{"$f":"MAX(Q722:R732)","v":0}]
[3,"South Carolina","16-20","F",{"$f":"E677","v":"South Carolina"},"16-20","F",{"$f":"H509","v":3},null,null,null,"High Pins",null,{"$f":"MAX(S722:S732)","v":0}]
[3,"South Carolina","16-20","F"]
[3,"South Carolina","16-20","F","Player Number","Full Name","Flag","Actual Age","Gender","Game 1","Game 2","Game 3",null,"Game 4","Game 5","Game 6","Series 1","Series 2","Total"]
[3,"South Carolina","16-20","F",1,null,{"$f":"IF(ISERROR(VLOOKUP(F722,Bowler_Name,1,FALSE)),\"Not Entered\",IF(H722>F$719,\"Too Old\",IF(I722<>G$719,\"Wrong Gender\",\"\")))","v":"Not Entered"},{"$f":"IF(ISERROR(VLOOKUP(F722,Bowler_Name,1,FALSE)),\"\",INDIRECT(\"'Individual Scores'!\"&ADDRESS(MATCH(F722,'Individual Scores'!$D$2:$D$169,0)+1,2)))","v":""},{"$f":"IF(ISERROR(VLOOKUP(F722,Bowler_Name,1,FALSE)),\"\",INDIRECT(\"'Individual Scores'!\"&ADDRESS(MATCH(F722,'Individual Scores'!$D$2:$D$169,0)+1,3)))","v":""},null,null,null,null,null,null,null,{"$f":"SUM(J722:L722)","v":0},{"$f":"SUM(N722:P722)","v":0},{"$f":"SUM(Q722:R722)","v":0}]
[3,"South Carolina","16-20","F",{"$f":"E722+1","v":2},null,"Not Entered",{"$f":"IF(ISERROR(VLOOKUP(F723,Bowler_Name,1,FALSE)),\"\",INDIRECT(\"'Individual Scores'!\"&ADDRESS(MATCH(F723,'Individual Scores'!$D$2:$D$169,0)+1,2)))","v":""},{"$f":"IF(ISERROR(VLOOKUP(F723,Bowler_Name,1,FALSE)),\"\",INDIRECT(\"'Individual Scores'!\"&ADDRESS(MATCH(F723,'Individual Scores'!$D$2:$D$169,0)+1,3)))","v":""},null,null,null,null,null,null,null,0,{"$f":"SUM(N723:P723)","v":0},{"$f":"SUM(Q723:R723)","v":0}]
[3,"South Carolina","16-20","F",{"$f":"E723+1","v":3},null,"Not Entered",{"$f":"IF(ISERROR(VLOOKUP(F724,Bowler_Name,1,FALSE)),\"\",INDIRECT(\"'Individual Scores'!\"&ADDRESS(MATCH(F724,'Individual Scores'!$D$2:$D$169,0)+1,2)))","v":""},{"$f":"IF(ISERROR(VLOOKUP(F724,Bowler_Name,1,FALSE)),\"\",INDIRECT(\"'Individual Scores'!\"&ADDRESS(MATCH(F724,'Individual Scores'!$D$2:$D$169,0)+1,3)))","v":""},null,null,null,null,null,null,null,0,0,0]
[3,"South Carolina","16-20","F",4,null,"Not Entered",{"$f":"IF(ISERROR(VLOOKUP(F725,Bowler_Name,1,FALSE)),\"\",INDIRECT(\"'Individual Scores'!\"&ADDRESS(MATCH(F725,'Individual Scores'!$D$2:$D$169,0)+1,2)))","v":""},{"$f":"IF(ISERROR(VLOOKUP(F725,Bowler_Name,1,FALSE)),\"\",INDIRECT(\"'Individual Scores'!\"&ADDRESS(MATCH(F725,'Individual Scores'!$D$2:$D$169,0)+1,3)))","v":""},null,null,null,null,null,null,null,0,0,0]
[3,"South Carolina","16-20","F",5,null,"Not Entered",{"$f":"IF(ISERROR(VLOOKUP(F726,Bowler_Name,1,FALSE)),\"\",INDIRECT(\"'Individual Scores'!\"&ADDRESS(MATCH(F726,'Individual Scores'!$D$2:$D$169,0)+1,2)))","v":""},{"$f":"IF(ISERROR(VLOOKUP(F726,Bowler_Name,1,FALSE)),\"\",INDIRECT(\"'Individual Scores'!\"&ADDRESS(MATCH(F726,'Individual Scores'!$D$2:$D$169,0)+1,3)))","v":""},null,null,null,null,null,null,null,0,0,0]
[3,"South Carolina","16-20","F",6,null,"Not Entered",{"$f":"IF(ISERROR(VLOOKUP(F727,Bowler_Name,1,FALSE)),\"\",INDIRECT(\"'Individual Scores'!\"&ADDRESS(MATCH(F727,'Individual Scores'!$D$2:$D$169,0)+1,2)))","v":""},{"$f":"IF(ISERROR(VLOOKUP(F727,Bowler_Name,1,FALSE)),\"\",INDIRECT(\"'Individual Scores'!\"&ADDRESS(MATCH(F727,'Individual Scores'!$D$2:$D$169,0)+1,3)))","v":""},null,null,null,null,null,null,null,0,0,0]
[3,"South Carolina","16-20","F",7,null,"Not Entered",{"$f":"IF(ISERROR(VLOOKUP(F728,Bowler_Name,1,FALSE)),\"\",INDIRECT(\"'Individual Scores'!\"&ADDRESS(MATCH(F728,'Individual Scores'!$D$2:$D$169,0)+1,2)))","v":""},{"$f":"IF(ISERROR(VLOOKUP(F728,Bowler_Name,1,FALSE)),\"\",INDIRECT(\"'Individual Scores'!\"&ADDRESS(MATCH(F728,'Individual Scores'!$D$2:$D$169,0)+1,3)))","v":""},null,null,null,null,null,null,null,0,0,0]
[3,"South Carolina","16-20","F",8,null,"Not Entered",{"$f":"IF(ISERROR(VLOOKUP(F729,Bowler_Name,1,FALSE)),\"\",INDIRECT(\"'Individual Scores'!\"&ADDRESS(MATCH(F729,'Individual Scores'!$D$2:$D$169,0)+1,2)))","v":""},{"$f":"IF(ISERROR(VLOOKUP(F729,Bowler_Name,1,FALSE)),\"\",INDIRECT(\"'Individual Scores'!\"&ADDRESS(MATCH(F729,'Individual Scores'!$D$2:$D$169,0)+1,3)))","v":""},null,null,null,null,null,null,null,0,0,0]
[3,"South Carolina","16-20","F",9,null,"Not Entered",{"$f":"IF(ISERROR(VLOOKUP(F730,Bowler_Name,1,FALSE)),\"\",INDIRECT(\"'Individual Scores'!\"&ADDRESS(MATCH(F730,'Individual Scores'!$D$2:$D$169,0)+1,2)))","v":""},{"$f":"IF(ISERROR(VLOOKUP(F730,Bowler_Name,1,FALSE)),\"\",INDIRECT(\"'Individual Scores'!\"&ADDRESS(MATCH(F730,'Individual Scores'!$D$2:$D$169,0)+1,3)))","v":""},null,null,null,null,null,null,null,0,0,0]
[3,"South Carolina","16-20","F",10,null,"Not Entered",{"$f":"IF(ISERROR(VLOOKUP(F731,Bowler_Name,1,FALSE)),\"\",INDIRECT(\"'Individual Scores'!\"&ADDRESS(MATCH(F731,'Individual Scores'!$D$2:$D$169,0)+1,2)))","v":""},{"$f":"IF(ISERROR(VLOOKUP(F731,Bowler_Name,1,FALSE)),\"\",INDIRECT(\"'Individual Scores'!\"&ADDRESS(MATCH(F731,'Individual Scores'!$D$2:$D$169,0)+1,3)))","v":""},null,null,null,null,null,null,null,0,0,0]
[3,"South Carolina","16-20","F",11,null,"Not Entered",{"$f":"IF(ISERROR(VLOOKUP(F732,Bowler_Name,1,FALSE)),\"\",INDIRECT(\"'Individual Scores'!\"&ADDRESS(MATCH(F732,'Individual Scores'!$D$2:$D$169,0)+1,2)))","v":""},{"$f":"IF(ISERROR(VLOOKUP(F732,Bowler_Name,1,FALSE)),\"\",INDIRECT(\"'Individual Scores'!\"&ADDRESS(MATCH(F732,'Individual Scores'!$D$2:$D$169,0)+1,3)))","v":""},null,null,null,null,null,null,null,0,0,0]
[3,"South Carolina","16-20","F"]
[3,"South Carolina","16-20","F",null,{"$f":"DGET(Constants!$C$1:$D$4,1,E718:E719)&\" \"&G719&\" \"&F719","v":"SC F 16-20"},null,null,null,{"$f":"SUM(J721:J733)-MIN(J721:J733)","v":0},0,0,null,0,0,0,{"$f":"SUM(J734:L734)","v":0},{"$f":"SUM(N734:P734)","v":0},{"$f":"SUM(Q734:R734)","v":0}]
[3,null,null,null,null,"Warning Row:  should be hidden",null,null,null,{"$f":"IF(COUNT(J721:J733)=0,\"\",IF(COUNT(J721:J733)<ROWS(J721:J733)-2,1,\"\"))","v":""},"","",null,"","",""]
[3]
[{"$f":"H740","v":3},{"$f":"E740","v":"South Carolina"},{"$f":"F740","v":"16-20"},{"$f":"G740","v":"M"},"Tournament",{"$f":"DGET('Tournament Locations'!$B$1:$C$4,\"Location\",H739:H740)","v":"High Point Bowling Center, High Point, NC"}]
[{"$f":"A737","v":3},{"$f":"B737","v":"South Carolina"},{"$f":"C737","v":"16-20"},{"$f":"D737","v":"M"},null,null,null,null,null,null,null,"High Game",null,{"$f":"MAX(J743:P753)","v":0},null,{"$f":"IF(SUM(J756:P756)>0,\"Warning:  Not enough scores to drop lowest score.  Be sure zeros are entered for any vacant bowler\",\"\")","v":""}]
[{"$f":"A738","v":3},"South Carolina","16-20","M","State","Age","Gender","Tournament",null,null,null,"High Series",null,{"$f":"MAX(Q743:R753)","v":0}]
[3,"South Carolina","16-20","M",{"$f":"E677","v":"South Carolina"},{"$f":"F719","v":"16-20"},"M",{"$f":"H509","v":3},null,null,null,"High Pins",null,{"$f":"MAX(S743:S753)","v":0}]
[3,"South Carolina","16-20","M"]
[3,"South Carolina","16-20","M","Player Number","Full Name","Flag","Actual Age","Gender","Game 1","Game 2","Game 3",null,"Game 4","Game 5","Game 6","Series 1","Series 2","Total"]
[3,"South Carolina","16-20","M",1,null,{"$f":"IF(ISERROR(VLOOKUP(F743,Bowler_Name,1,FALSE)),\"Not Entered\",IF(H743>F$740,\"Too Old\",IF(I743<>G$740,\"Wrong Gender\",\"\")))","v":"Not Entered"},{"$f":"IF(ISERROR(VLOOKUP(F743,Bowler_Name,1,FALSE)),\"\",INDIRECT(\"'Individual Scores'!\"&ADDRESS(MATCH(F743,'Individual Scores'!$D$2:$D$169,0)+1,2)))","v":""},"M",null,null,null,null,null,null,null,{"$f":"SUM(J743:L743)","v":0},{"$f":"SUM(N743:P743)","v":0},{"$f":"SUM(Q743:R743)","v":0}]
[3,"South Carolina","16-20","M",{"$f":"E743+1","v":2},null,"Not Entered",{"$f":"IF(ISERROR(VLOOKUP(F744,Bowler_Name,1,FALSE)),\"\",INDIRECT(\"'Individual Scores'!\"&ADDRESS(MATCH(F744,'Individual Scores'!$D$2:$D$169,0)+1,2)))","v":""},{"$f":"IF(ISERROR(VLOOKUP(F744,Bowler_Name,1,FALSE)),\"\",INDIRECT(\"'Individual Scores'!\"&ADDRESS(MATCH(F744,'Individual Scores'!$D$2:$D$169,0)+1,3)))","v":""},null,null,null,null,null,null,null,0,{"$f":"SUM(N744:P744)","v":0},{"$f":"SUM(Q744:R744)","v":0}]
[3,"South Carolina","16-20","M",{"$f":"E744+1","v":3},null,"Not Entered",{"$f":"IF(ISERROR(VLOOKUP(F745,Bowler_Name,1,FALSE)),\"\",INDIRECT(\"'Individual Scores'!\"&ADDRESS(MATCH(F745,'Individual Scores'!$D$2:$D$169,0)+1,2)))","v":""},{"$f":"IF(ISERROR(VLOOKUP(F745,Bowler_Name,1,FALSE)),\"\",INDIRECT(\"'Individual Scores'!\"&ADDRESS(MATCH(F745,'Individual Scores'!$D$2:$D$169,0)+1,3)))","v":""},null,null,null,null,null,null,null,0,0,0]
[3,"South Carolina","16-20","M",4,null,"Not Entered",{"$f":"IF(ISERROR(VLOOKUP(F746,Bowler_Name,1,FALSE)),\"\",INDIRECT(\"'Individual Scores'!\"&ADDRESS(MATCH(F746,'Individual Scores'!$D$2:$D$169,0)+1,2)))","v":""},{"$f":"IF(ISERROR(VLOOKUP(F746,Bowler_Name,1,FALSE)),\"\",INDIRECT(\"'Individual Scores'!\"&ADDRESS(MATCH(F746,'Individual Scores'!$D$2:$D$169,0)+1,3)))","v":""},null,null,null,null,null,null,null,0,0,0]
[3,"South Carolina","16-20","M",5,null,"Not Entered",{"$f":"IF(ISERROR(VLOOKUP(F747,Bowler_Name,1,FALSE)),\"\",INDIRECT(\"'Individual Scores'!\"&ADDRESS(MATCH(F747,'Individual Scores'!$D$2:$D$169,0)+1,2)))","v":""},{"$f":"IF(ISERROR(VLOOKUP(F747,Bowler_Name,1,FALSE)),\"\",INDIRECT(\"'Individual Scores'!\"&ADDRESS(MATCH(F747,'Individual Scores'!$D$2:$D$169,0)+1,3)))","v":""},null,null,null,null,null,null,null,0,0,0]
[3,"South Carolina","16-20","M",6,null,"Not Entered",{"$f":"IF(ISERROR(VLOOKUP(F748,Bowler_Name,1,FALSE)),\"\",INDIRECT(\"'Individual Scores'!\"&ADDRESS(MATCH(F748,'Individual Scores'!$D$2:$D$169,0)+1,2)))","v":""},{"$f":"IF(ISERROR(VLOOKUP(F748,Bowler_Name,1,FALSE)),\"\",INDIRECT(\"'Individual Scores'!\"&ADDRESS(MATCH(F748,'Individual Scores'!$D$2:$D$169,0)+1,3)))","v":""},null,null,null,null,null,null,null,0,0,0]
[3,"South Carolina","16-20","M",7,null,"Not Entered",{"$f":"IF(ISERROR(VLOOKUP(F749,Bowler_Name,1,FALSE)),\"\",INDIRECT(\"'Individual Scores'!\"&ADDRESS(MATCH(F749,'Individual Scores'!$D$2:$D$169,0)+1,2)))","v":""},{"$f":"IF(ISERROR(VLOOKUP(F749,Bowler_Name,1,FALSE)),\"\",INDIRECT(\"'Individual Scores'!\"&ADDRESS(MATCH(F749,'Individual Scores'!$D$2:$D$169,0)+1,3)))","v":""},null,null,null,null,null,null,null,0,0,0]
[3,"South Carolina","16-20","M",8,null,"Not Entered",{"$f":"IF(ISERROR(VLOOKUP(F750,Bowler_Name,1,FALSE)),\"\",INDIRECT(\"'Individual Scores'!\"&ADDRESS(MATCH(F750,'Individual Scores'!$D$2:$D$169,0)+1,2)))","v":""},{"$f":"IF(ISERROR(VLOOKUP(F750,Bowler_Name,1,FALSE)),\"\",INDIRECT(\"'Individual Scores'!\"&ADDRESS(MATCH(F750,'Individual Scores'!$D$2:$D$169,0)+1,3)))","v":""},null,null,null,null,null,null,null,0,0,0]
[3,"South Carolina","16-20","M",9,null,"Not Entered",{"$f":"IF(ISERROR(VLOOKUP(F751,Bowler_Name,1,FALSE)),\"\",INDIRECT(\"'Individual Scores'!\"&ADDRESS(MATCH(F751,'Individual Scores'!$D$2:$D$169,0)+1,2)))","v":""},{"$f":"IF(ISERROR(VLOOKUP(F751,Bowler_Name,1,FALSE)),\"\",INDIRECT(\"'Individual Scores'!\"&ADDRESS(MATCH(F751,'Individual Scores'!$D$2:$D$169,0)+1,3)))","v":""},null,null,null,null,null,null,null,0,0,0]
[3,"South Carolina","16-20","M",10,null,"Not Entered",{"$f":"IF(ISERROR(VLOOKUP(F752,Bowler_Name,1,FALSE)),\"\",INDIRECT(\"'Individual Scores'!\"&ADDRESS(MATCH(F752,'Individual Scores'!$D$2:$D$169,0)+1,2)))","v":""},{"$f":"IF(ISERROR(VLOOKUP(F752,Bowler_Name,1,FALSE)),\"\",INDIRECT(\"'Individual Scores'!\"&ADDRESS(MATCH(F752,'Individual Scores'!$D$2:$D$169,0)+1,3)))","v":""},null,null,null,null,null,null,null,0,0,0]
[3,"South Carolina","16-20","M",11,null,"Not Entered",{"$f":"IF(ISERROR(VLOOKUP(F753,Bowler_Name,1,FALSE)),\"\",INDIRECT(\"'Individual Scores'!\"&ADDRESS(MATCH(F753,'Individual Scores'!$D$2:$D$169,0)+1,2)))","v":""},{"$f":"IF(ISERROR(VLOOKUP(F753,Bowler_Name,1,FALSE)),\"\",INDIRECT(\"'Individual Scores'!\"&ADDRESS(MATCH(F753,'Individual Scores'!$D$2:$D$169,0)+1,3)))","v":""},null,null,null,null,null,null,null,0,0,0]
[3,"South Carolina","16-20","M"]
[3,"South Carolina","16-20","M",null,{"$f":"DGET(Constants!$C$1:$D$4,1,E739:E740)&\" \"&G740&\" \"&F740","v":"SC M 16-20"},null,null,null,{"$f":"SUM(J742:J754)-MIN(J742:J754)","v":0},0,0,null,0,0,0,{"$f":"SUM(J755:L755)","v":0},{"$f":"SUM(N755:P755)","v":0},{"$f":"SUM(Q755:R755)","v":0}]
[3,null,null,null,null,"Warning Row:  should be hidden",null,null,null,{"$f":"IF(COUNT(J742:J754)=0,\"\",IF(COUNT(J742:J754)<ROWS(J742:J754)-2,1,\"\"))","v":""},"","",null,"","",""]
[3]

{"sheet":"Low Scores","index":3,"n_rows":21,"n_cols":9,"rows_kept":21,"cut":false,"hidden":true,"merged":[]}
["Low Scores",null,null,"Note: SMALL returns the 2nd smallest number in the array"]
[null,null,null,null,"This is suppose to count for the 0 if you got one but doesn't take into account"]
[null,null,null,null,"if there are two low numbers with one smaller than the other"]
[]
[]
[]
[null,"Age","Gender","Game 1","Game 2","Game 3","Game 4","Game 5","Game 6"]
[{"$f":"Scores!A8","v":1},{"$f":"Scores!C8","v":"15 & <"},{"$f":"Scores!I8","v":"F"},{"$f":"MIN(SMALL(Scores!J8:J18,2),SMALL(Scores!J92:J102,2),SMALL(Scores!J176:J186,2))","v":114},{"$f":"MIN(SMALL(Scores!K8:K18,2),SMALL(Scores!K92:K102,2),SMALL(Scores!K176:K186,2))","v":124},{"$f":"MIN(SMALL(Scores!L8:L18,2),SMALL(Scores!L92:L102,2),SMALL(Scores!L176:L186,2))","v":106},{"$f":"MIN(SMALL(Scores!N8:N18,2),SMALL(Scores!N92:N102,2),SMALL(Scores!N176:N186,2))","v":116},{"$f":"MIN(SMALL(Scores!O8:O18,2),SMALL(Scores!O92:O102,2),SMALL(Scores!O176:O186,2))","v":117},{"$f":"MIN(SMALL(Scores!P8:P18,2),SMALL(Scores!P92:P102,2),SMALL(Scores!P176:P186,2))","v":138}]
[{"$f":"Scores!A29","v":1},{"$f":"Scores!C29","v":"15 & <"},{"$f":"Scores!I29","v":"M"},{"$f":"MIN(SMALL(Scores!J29:J39,2),SMALL(Scores!J113:J123,2),SMALL(Scores!J197:J207,2))","v":122},{"$f":"MIN(SMALL(Scores!K29:K39,2),SMALL(Scores!K113:K123,2),SMALL(Scores!K197:K207,2))","v":114},{"$f":"MIN(SMALL(Scores!L29:L39,2),SMALL(Scores!L113:L123,2),SMALL(Scores!L197:L207,2))","v":113},{"$f":"MIN(SMALL(Scores!N29:N39,2),SMALL(Scores!N113:N123,2),SMALL(Scores!N197:N207,2))","v":107},{"$f":"MIN(SMALL(Scores!O29:O39,2),SMALL(Scores!O113:O123,2),SMALL(Scores!O197:O207,2))","v":98},{"$f":"MIN(SMALL(Scores!P29:P39,2),SMALL(Scores!P113:P123,2),SMALL(Scores!P197:P207,2))","v":125}]
[{"$f":"Scores!A50","v":1},{"$f":"Scores!C50","v":"16-20"},{"$f":"Scores!I50","v":"F"},{"$f":"MIN(SMALL(Scores!J50:J60,2),SMALL(Scores!J134:J144,2),SMALL(Scores!J218:J228,2))","v":124},{"$f":"MIN(SMALL(Scores!K50:K60,2),SMALL(Scores!K134:K144,2),SMALL(Scores!K218:K228,2))","v":121},{"$f":"MIN(SMALL(Scores!L50:L60,2),SMALL(Scores!L134:L144,2),SMALL(Scores!L218:L228,2))","v":115},{"$f":"MIN(SMALL(Scores!N50:N60,2),SMALL(Scores!N134:N144,2),SMALL(Scores!N218:N228,2))","v":125},{"$f":"MIN(SMALL(Scores!O50:O60,2),SMALL(Scores!O134:O144,2),SMALL(Scores!O218:O228,2))","v":112},{"$f":"MIN(SMALL(Scores!P50:P60,2),SMALL(Scores!P134:P144,2),SMALL(Scores!P218:P228,2))","v":116}]
[{"$f":"Scores!A71","v":1},{"$f":"Scores!C71","v":"16-20"},{"$f":"Scores!I71","v":"M"},{"$f":"MIN(SMALL(Scores!J71:J81,2),SMALL(Scores!J155:J165,2),SMALL(Scores!J239:J249,2))","v":143},{"$f":"MIN(SMALL(Scores!K71:K81,2),SMALL(Scores!K155:K165,2),SMALL(Scores!K239:K249,2))","v":147},{"$f":"MIN(SMALL(Scores!L71:L81,2),SMALL(Scores!L155:L165,2),SMALL(Scores!L239:L249,2))","v":130},{"$f":"MIN(SMALL(Scores!N71:N81,2),SMALL(Scores!N155:N165,2),SMALL(Scores!N239:N249,2))","v":126},{"$f":"MIN(SMALL(Scores!O71:O81,2),SMALL(Scores!O155:O165,2),SMALL(Scores!O239:O249,2))","v":111},{"$f":"MIN(SMALL(Scores!P71:P81,2),SMALL(Scores!P155:P165,2),SMALL(Scores!P239:P249,2))","v":150}]
[]
[{"$f":"Scores!A260","v":2},{"$f":"Scores!C260","v":"15 & <"},{"$f":"Scores!I260","v":"F"},{"$f":"MIN(SMALL(Scores!J260:J270,2),SMALL(Scores!J344:J354,2),SMALL(Scores!J428:J438,2))","v":113},{"$f":"MIN(SMALL(Scores!K260:K270,2),SMALL(Scores!K344:K354,2),SMALL(Scores!K428:K438,2))","v":120},{"$f":"MIN(SMALL(Scores!L260:L270,2),SMALL(Scores!L344:L354,2),SMALL(Scores!L428:L438,2))","v":113},{"$f":"MIN(SMALL(Scores!N260:N270,2),SMALL(Scores!N344:N354,2),SMALL(Scores!N428:N438,2))","v":124},{"$f":"MIN(SMALL(Scores!O260:O270,2),SMALL(Scores!O344:O354,2),SMALL(Scores!O428:O438,2))","v":111},{"$f":"MIN(SMALL(Scores!P260:P270,2),SMALL(Scores!P344:P354,2),SMALL(Scores!P428:P438,2))","v":119}]
[{"$f":"Scores!A281","v":2},{"$f":"Scores!C281","v":"15 & <"},{"$f":"Scores!I281","v":"M"},{"$f":"MIN(SMALL(Scores!J281:J291,2),SMALL(Scores!J365:J375,2),SMALL(Scores!J449:J459,2))","v":158},{"$f":"MIN(SMALL(Scores!K281:K291,2),SMALL(Scores!K365:K375,2),SMALL(Scores!K449:K459,2))","v":156},{"$f":"MIN(SMALL(Scores!L281:L291,2),SMALL(Scores!L365:L375,2),SMALL(Scores!L449:L459,2))","v":147},{"$f":"MIN(SMALL(Scores!N281:N291,2),SMALL(Scores!N365:N375,2),SMALL(Scores!N449:N459,2))","v":153},{"$f":"MIN(SMALL(Scores!O281:O291,2),SMALL(Scores!O365:O375,2),SMALL(Scores!O449:O459,2))","v":158},{"$f":"MIN(SMALL(Scores!P281:P291,2),SMALL(Scores!P365:P375,2),SMALL(Scores!P449:P459,2))","v":150}]
[{"$f":"Scores!A302","v":2},{"$f":"Scores!C302","v":"16-20"},{"$f":"Scores!I302","v":"F"},{"$f":"MIN(SMALL(Scores!J302:J312,2),SMALL(Scores!J386:J396,2),SMALL(Scores!J470:J480,2))","v":132},{"$f":"MIN(SMALL(Scores!K302:K312,2),SMALL(Scores!K386:K396,2),SMALL(Scores!K470:K480,2))","v":132},{"$f":"MIN(SMALL(Scores!L302:L312,2),SMALL(Scores!L386:L396,2),SMALL(Scores!L470:L480,2))","v":139},{"$f":"MIN(SMALL(Scores!N302:N312,2),SMALL(Scores!N386:N396,2),SMALL(Scores!N470:N479,2))","v":127},{"$f":"MIN(SMALL(Scores!O302:O312,2),SMALL(Scores!O386:O396,2),SMALL(Scores!O470:O480,2))","v":133},{"$f":"MIN(SMALL(Scores!P302:P312,2),SMALL(Scores!P386:P396,2),SMALL(Scores!P470:P480,2))","v":134}]
[{"$f":"Scores!A323","v":2},{"$f":"Scores!C323","v":"16-20"},{"$f":"Scores!I323","v":"M"},{"$f":"MIN(SMALL(Scores!J323:J333,2),SMALL(Scores!J407:J417,2),SMALL(Scores!J491:J501,2))","v":133},{"$f":"MIN(SMALL(Scores!K323:K333,2),SMALL(Scores!K407:K417,2),SMALL(Scores!K491:K501,2))","v":147},{"$f":"MIN(SMALL(Scores!L323:L333,2),SMALL(Scores!L407:L417,2),SMALL(Scores!L491:L501,2))","v":165},{"$f":"MIN(SMALL(Scores!N323:N333,2),SMALL(Scores!N407:N417,2),SMALL(Scores!N491:N501,2))","v":147},{"$f":"MIN(SMALL(Scores!O323:O333,2),SMALL(Scores!O407:O417,2),SMALL(Scores!O491:O501,2))","v":156},{"$f":"MIN(SMALL(Scores!P323:P333,2),SMALL(Scores!P407:P417,2),SMALL(Scores!P491:P501,2))","v":162}]
[]
[{"$f":"Scores!A512","v":3},{"$f":"Scores!C512","v":"15 & <"},{"$f":"Scores!I512","v":""},{"$f":"MIN(SMALL(Scores!J512:J522,2),SMALL(Scores!J596:J606,2),SMALL(Scores!J680:J690,2))","v":{"$error":"#NUM!"}},{"$f":"MIN(SMALL(Scores!K512:K522,2),SMALL(Scores!K596:K606,2),SMALL(Scores!K680:K690,2))","v":{"$error":"#NUM!"}},{"$f":"MIN(SMALL(Scores!L512:L522,2),SMALL(Scores!L596:L606,2),SMALL(Scores!L680:L690,2))","v":{"$error":"#NUM!"}},{"$f":"MIN(SMALL(Scores!N512:N522,2),SMALL(Scores!N596:N606,2),SMALL(Scores!N680:N690,2))","v":{"$error":"#NUM!"}},{"$f":"MIN(SMALL(Scores!O512:O522,2),SMALL(Scores!O596:O606,2),SMALL(Scores!O680:O690,2))","v":{"$error":"#NUM!"}},{"$f":"MIN(SMALL(Scores!P512:P522,2),SMALL(Scores!P596:P606,2),SMALL(Scores!P680:P690,2))","v":{"$error":"#NUM!"}}]
[{"$f":"Scores!A533","v":3},{"$f":"Scores!C533","v":"15 & <"},{"$f":"Scores!I533","v":""},{"$f":"MIN(SMALL(Scores!J533:J543,2),SMALL(Scores!J617:J627,2),SMALL(Scores!J701:J711,2))","v":{"$error":"#NUM!"}},{"$f":"MIN(SMALL(Scores!K533:K543,2),SMALL(Scores!K617:K627,2),SMALL(Scores!K701:K711,2))","v":{"$error":"#NUM!"}},{"$f":"MIN(SMALL(Scores!L533:L543,2),SMALL(Scores!L617:L627,2),SMALL(Scores!L701:L711,2))","v":{"$error":"#NUM!"}},{"$f":"MIN(SMALL(Scores!N533:N543,2),SMALL(Scores!N617:N627,2),SMALL(Scores!N701:N711,2))","v":{"$error":"#NUM!"}},{"$f":"MIN(SMALL(Scores!O533:O543,2),SMALL(Scores!O617:O627,2),SMALL(Scores!O701:O711,2))","v":{"$error":"#NUM!"}},{"$f":"MIN(SMALL(Scores!P533:P543,2),SMALL(Scores!P617:P627,2),SMALL(Scores!P701:P711,2))","v":{"$error":"#NUM!"}}]
[{"$f":"Scores!A554","v":3},{"$f":"Scores!C554","v":"16-20"},{"$f":"Scores!I554","v":""},{"$f":"MIN(SMALL(Scores!J554:J564,2),SMALL(Scores!J638:J648,2),SMALL(Scores!J722:J732,2))","v":{"$error":"#NUM!"}},{"$f":"MIN(SMALL(Scores!K554:K564,2),SMALL(Scores!K638:K648,2),SMALL(Scores!K722:K732,2))","v":{"$error":"#NUM!"}},{"$f":"MIN(SMALL(Scores!L554:L564,2),SMALL(Scores!L638:L648,2),SMALL(Scores!L722:L732,2))","v":{"$error":"#NUM!"}},{"$f":"MIN(SMALL(Scores!N554:N564,2),SMALL(Scores!N638:N648,2),SMALL(Scores!N722:N732,2))","v":{"$error":"#NUM!"}},{"$f":"MIN(SMALL(Scores!O554:O564,2),SMALL(Scores!O638:O648,2),SMALL(Scores!O722:O732,2))","v":{"$error":"#NUM!"}},{"$f":"MIN(SMALL(Scores!P554:P564,2),SMALL(Scores!P638:P648,2),SMALL(Scores!P722:P732,2))","v":{"$error":"#NUM!"}}]
[{"$f":"Scores!A575","v":3},{"$f":"Scores!C575","v":"16-20"},{"$f":"Scores!I575","v":""},{"$f":"MIN(SMALL(Scores!J575:J585,2),SMALL(Scores!J659:J669,2),SMALL(Scores!J743:J753,2))","v":{"$error":"#NUM!"}},{"$f":"MIN(SMALL(Scores!K575:K585,2),SMALL(Scores!K659:K669,2),SMALL(Scores!K743:K753,2))","v":{"$error":"#NUM!"}},{"$f":"MIN(SMALL(Scores!L575:L585,2),SMALL(Scores!L659:L669,2),SMALL(Scores!L743:L753,2))","v":{"$error":"#NUM!"}},{"$f":"MIN(SMALL(Scores!N575:N585,2),SMALL(Scores!N659:N669,2),SMALL(Scores!N743:N753,2))","v":{"$error":"#NUM!"}},{"$f":"MIN(SMALL(Scores!O575:O585,2),SMALL(Scores!O659:O669,2),SMALL(Scores!O743:O753,2))","v":{"$error":"#NUM!"}},{"$f":"MIN(SMALL(Scores!P575:P585,2),SMALL(Scores!P659:P669,2),SMALL(Scores!P743:P753,2))","v":{"$error":"#NUM!"}}]

{"sheet":"Tournament 2 Histogram Data","index":4,"n_rows":42,"n_cols":18,"rows_kept":42,"cut":false,"hidden":true,"merged":[]}
[]
[null,{"$f":"'Individual Scores'!$B$1","v":"Age Group"},{"$f":"'Individual Scores'!$C$1","v":"Gender"},{"$f":"'Individual Scores'!$F$1","v":"Tournament 2"},{"$f":"D2","v":"Tournament 2"},null,null,"Scores",{"$f":"B3&\" \"&C3","v":"15 & < F"},null,{"$f":"'Individual Scores'!$B$1","v":"Age Group"},{"$f":"'Individual Scores'!$C$1","v":"Gender"},{"$f":"D2","v":"Tournament 2"},{"$f":"M2","v":"Tournament 2"},null,null,"Scores",{"$f":"K3&\" \"&L3","v":"16-20 F"}]
[null,{"$f":"Constants!B2","v":"15 & <"},"F",{"$f":"\"1-\"&G3","v":"1-900"},null,null,900,{"$f":"D3","v":"1-900"},{"$f":"DCOUNT(Individual_Scores,D2,B2:D3)","v":0},null,{"$f":"Constants!B3","v":"16-20"},{"$f":"C3","v":"F"},{"$f":"D3","v":"1-900"},null,null,900,{"$f":"M3","v":"1-900"},{"$f":"DCOUNT(Individual_Scores,M2,K2:M3)","v":0}]
[null,{"$f":"B2","v":"Age Group"},"Gender","Tournament 2",{"$f":"D4","v":"Tournament 2"},null,{"$f":"G3+50","v":950},{"$f":"G3&\"-\"&G4","v":"900-950"},{"$f":"DCOUNT(Individual_Scores,D4,B4:E5)","v":8},null,{"$f":"K2","v":"Age Group"},"Gender","Tournament 2",{"$f":"M4","v":"Tournament 2"},null,{"$f":"P3+50","v":950},{"$f":"P3&\"-\"&P4-1","v":"900-949"},{"$f":"DCOUNT(Individual_Scores,M4,K4:N5)","v":2}]
[null,"15 & <","F",{"$f":"\">=\"&G3","v":">=900"},{"$f":"\"<\"&G4","v":"<950"},null,1000,{"$f":"G4&\"-\"&G5","v":"950-1000"},{"$f":"DCOUNT(Individual_Scores,D6,B6:E7)","v":6},null,"16-20","F",{"$f":"\">=\"&P3","v":">=900"},{"$f":"\"<\"&P4","v":"<950"},null,1000,"950-999",{"$f":"DCOUNT(Individual_Scores,M6,K6:N7)","v":7}]
[null,"Age Group","Gender","Tournament 2",{"$f":"D6","v":"Tournament 2"},null,1050,"1000-1050",{"$f":"DCOUNT(Individual_Scores,D8,B8:E9)","v":7},null,"Age Group","Gender","Tournament 2",{"$f":"M6","v":"Tournament 2"},null,1050,"1000-1049",{"$f":"DCOUNT(Individual_Scores,M8,K8:N9)","v":8}]
[null,"15 & <","F",{"$f":"\">=\"&G4","v":">=950"},{"$f":"\"<\"&G5","v":"<1000"},null,1100,"1050-1100",{"$f":"DCOUNT(Individual_Scores,D10,B10:E11)","v":3},null,"16-20","F",{"$f":"\">=\"&P4","v":">=950"},{"$f":"\"<\"&P5","v":"<1000"},null,1100,"1050-1099",{"$f":"DCOUNT(Individual_Scores,M10,K10:N11)","v":2}]
[null,"Age Group","Gender","Tournament 2",{"$f":"D8","v":"Tournament 2"},null,1150,"1100-1150",{"$f":"DCOUNT(Individual_Scores,D12,B12:E13)","v":3},null,"Age Group","Gender","Tournament 2",{"$f":"M8","v":"Tournament 2"},null,1150,"1100-1149",{"$f":"DCOUNT(Individual_Scores,M12,K12:N13)","v":4}]
[null,"15 & <","F",{"$f":"\">=\"&G5","v":">=1000"},{"$f":"\"<\"&G6","v":"<1050"},null,1200,"1150-1200",{"$f":"DCOUNT(Individual_Scores,D14,B14:E15)","v":3},null,"16-20","F",{"$f":"\">=\"&P5","v":">=1000"},{"$f":"\"<\"&P6","v":"<1050"},null,1200,"1150-1199",{"$f":"DCOUNT(Individual_Scores,M14,K14:N15)","v":1}]
[null,"Age Group","Gender","Tournament 2",{"$f":"D10","v":"Tournament 2"},null,1250,"1200-1250",{"$f":"DCOUNT(Individual_Scores,D16,B16:E17)","v":0},null,"Age Group","Gender","Tournament 2",{"$f":"M10","v":"Tournament 2"},null,1250,"1200-1249",{"$f":"DCOUNT(Individual_Scores,M16,K16:N17)","v":3}]
[null,"15 & <","F",{"$f":"\">=\"&G6","v":">=1050"},{"$f":"\"<\"&G7","v":"<1100"},null,1300,"1250-1300",{"$f":"DCOUNT(Individual_Scores,D18,B18:E19)","v":0},null,"16-20","F",{"$f":"\">=\"&P6","v":">=1050"},{"$f":"\"<\"&P7","v":"<1100"},null,1300,"1250-1299",{"$f":"DCOUNT(Individual_Scores,M18,K18:N19)","v":0}]
[null,"Age Group","Gender","Tournament 2",{"$f":"D12","v":"Tournament 2"},null,1350,{"$f":"\">1300\"","v":">1300"},{"$f":"DCOUNT(Individual_Scores,D20,B20:E21)","v":0},null,"Age Group","Gender","Tournament 2",{"$f":"M12","v":"Tournament 2"},null,1350,{"$f":"\">=1300\"","v":">=1300"},{"$f":"DCOUNT(Individual_Scores,M20,K20:N21)","v":0}]
[null,"15 & <","F",{"$f":"\">=\"&G7","v":">=1100"},{"$f":"\"<\"&G8","v":"<1150"},null,null,null,null,null,"16-20","F",{"$f":"\">=\"&P7","v":">=1100"},{"$f":"\"<\"&P8","v":"<1150"}]
[null,"Age Group","Gender","Tournament 2",{"$f":"D14","v":"Tournament 2"},null,null,null,null,null,"Age Group","Gender","Tournament 2",{"$f":"M14","v":"Tournament 2"}]
[null,"15 & <","F",{"$f":"\">=\"&G8","v":">=1150"},{"$f":"\"<\"&G9","v":"<1200"},null,null,null,null,null,"16-20","F",{"$f":"\">=\"&P8","v":">=1150"},{"$f":"\"<\"&P9","v":"<1200"}]
[null,"Age Group","Gender","Tournament 2",{"$f":"D16","v":"Tournament 2"},null,null,null,null,null,"Age Group","Gender","Tournament 2",{"$f":"M16","v":"Tournament 2"}]
[null,"15 & <","F",{"$f":"\">=\"&G9","v":">=1200"},{"$f":"\"<\"&G10","v":"<1250"},null,null,null,null,null,"16-20","F",{"$f":"\">=\"&P9","v":">=1200"},{"$f":"\"<\"&P10","v":"<1250"}]
[null,"Age Group","Gender","Tournament 2",{"$f":"D18","v":"Tournament 2"},null,null,null,null,null,"Age Group","Gender","Tournament 2",{"$f":"M18","v":"Tournament 2"}]
[null,"15 & <","F",{"$f":"\">=\"&G10","v":">=1250"},{"$f":"\"<\"&G11","v":"<1300"},null,null,null,null,null,"16-20","F",{"$f":"\">=\"&P10","v":">=1250"},{"$f":"\"<\"&P11","v":"<1300"}]
[null,{"$f":"B18","v":"Age Group"},"Gender","Tournament 2",null,null,null,null,null,null,{"$f":"K18","v":"Age Group"},"Gender","Tournament 2"]
[null,"15 & <","F",{"$f":"\">=\"&G11","v":">=1300"},null,null,null,null,null,null,"16-20","F",{"$f":"\">=\"&P11","v":">=1300"}]
[]
[null,{"$f":"'Individual Scores'!$B$1","v":"Age Group"},{"$f":"'Individual Scores'!$C$1","v":"Gender"},{"$f":"D2","v":"Tournament 2"},{"$f":"D23","v":"Tournament 2"},null,null,"Scores",{"$f":"B24&\" \"&C24","v":"15 & < M"},null,{"$f":"'Individual Scores'!$B$1","v":"Age Group"},{"$f":"'Individual Scores'!$C$1","v":"Gender"},{"$f":"D23","v":"Tournament 2"},{"$f":"M23","v":"Tournament 2"},null,null,"Scores",{"$f":"K24&\" \"&L24","v":"16-20 M"}]
[null,{"$f":"B3","v":"15 & <"},"M",{"$f":"\"1-\"&G24","v":"1-900"},null,null,900,{"$f":"D24","v":"1-900"},{"$f":"DCOUNT(Individual_Scores,D23,B23:D24)","v":0},null,{"$f":"K3","v":"16-20"},{"$f":"C24","v":"M"},{"$f":"D24","v":"1-900"},null,null,900,{"$f":"M24","v":"1-900"},{"$f":"DCOUNT(Individual_Scores,M23,K23:M24)","v":0}]
[null,{"$f":"B23","v":"Age Group"},"Gender","Tournament 2",{"$f":"D25","v":"Tournament 2"},null,{"$f":"G24+50","v":950},{"$f":"G24&\"-\"&G25","v":"900-950"},{"$f":"DCOUNT(Individual_Scores,D25,B25:E26)","v":1},null,{"$f":"K23","v":"Age Group"},"Gender","Tournament 2",{"$f":"M25","v":"Tournament 2"},null,{"$f":"P24+50","v":950},{"$f":"P24&\"-\"&P25","v":"900-950"},{"$f":"DCOUNT(Individual_Scores,M25,K25:N26)","v":0}]
[null,"15 & <","M",{"$f":"\">=\"&G24","v":">=900"},{"$f":"\"<\"&G25","v":"<950"},null,1000,{"$f":"G25&\"-\"&G26","v":"950-1000"},{"$f":"DCOUNT(Individual_Scores,D27,B27:E28)","v":2},null,"16-20","M",{"$f":"\">=\"&P24","v":">=900"},{"$f":"\"<\"&P25","v":"<950"},null,1000,{"$f":"P25&\"-\"&P26","v":"950-1000"},{"$f":"DCOUNT(Individual_Scores,M27,K27:N28)","v":1}]
[null,"Age Group","Gender","Tournament 2",{"$f":"D27","v":"Tournament 2"},null,1050,"1000-1050",{"$f":"DCOUNT(Individual_Scores,D29,B29:E30)","v":3},null,"Age Group","Gender","Tournament 2",{"$f":"M27","v":"Tournament 2"},null,1050,"1000-1050",{"$f":"DCOUNT(Individual_Scores,M29,K29:N30)","v":3}]
[null,"15 & <","M",{"$f":"\">=\"&G25","v":">=950"},{"$f":"\"<\"&G26","v":"<1000"},null,1100,"1050-1100",{"$f":"DCOUNT(Individual_Scores,D31,B31:E32)","v":6},null,"16-20","M",{"$f":"\">=\"&P25","v":">=950"},{"$f":"\"<\"&P26","v":"<1000"},null,1100,"1050-1100",{"$f":"DCOUNT(Individual_Scores,M31,K31:N32)","v":1}]
[null,"Age Group","Gender","Tournament 2",{"$f":"D29","v":"Tournament 2"},null,1150,"1100-1150",{"$f":"DCOUNT(Individual_Scores,D33,B33:E34)","v":10},null,"Age Group","Gender","Tournament 2",{"$f":"M29","v":"Tournament 2"},null,1150,"1100-1150",{"$f":"DCOUNT(Individual_Scores,M33,K33:N34)","v":5}]
[null,"15 & <","M",{"$f":"\">=\"&G26","v":">=1000"},{"$f":"\"<\"&G27","v":"<1050"},null,1200,"1150-1200",{"$f":"DCOUNT(Individual_Scores,D35,B35:E36)","v":4},null,"16-20","M",{"$f":"\">=\"&P26","v":">=1000"},{"$f":"\"<\"&P27","v":"<1050"},null,1200,"1150-1200",{"$f":"DCOUNT(Individual_Scores,M35,K35:N36)","v":5}]
[null,"Age Group","Gender","Tournament 2",{"$f":"D31","v":"Tournament 2"},null,1250,"1200-1250",{"$f":"DCOUNT(Individual_Scores,D37,B37:E38)","v":5},null,"Age Group","Gender","Tournament 2",{"$f":"M31","v":"Tournament 2"},null,1250,"1200-1250",{"$f":"DCOUNT(Individual_Scores,M37,K37:N38)","v":6}]
[null,"15 & <","M",{"$f":"\">=\"&G27","v":">=1050"},{"$f":"\"<\"&G28","v":"<1100"},null,1300,"1250-1300",{"$f":"DCOUNT(Individual_Scores,D39,B39:E40)","v":3},null,"16-20","M",{"$f":"\">=\"&P27","v":">=1050"},{"$f":"\"<\"&P28","v":"<1100"},null,1300,"1250-1300",{"$f":"DCOUNT(Individual_Scores,M39,K39:N40)","v":4}]
[null,"Age Group","Gender","Tournament 2",{"$f":"D33","v":"Tournament 2"},null,1350,{"$f":"\">1300\"","v":">1300"},{"$f":"DCOUNT(Individual_Scores,D41,B41:E42)","v":0},null,"Age Group","Gender","Tournament 2",{"$f":"M33","v":"Tournament 2"},null,1350,{"$f":"\">1300\"","v":">1300"},{"$f":"DCOUNT(Individual_Scores,M41,K41:N42)","v":5}]
[null,"15 & <","M",{"$f":"\">=\"&G28","v":">=1100"},{"$f":"\"<\"&G29","v":"<1150"},null,null,null,null,null,"16-20","M",{"$f":"\">=\"&P28","v":">=1100"},{"$f":"\"<\"&P29","v":"<1150"}]
[null,"Age Group","Gender","Tournament 2",{"$f":"D35","v":"Tournament 2"},null,null,null,null,null,"Age Group","Gender","Tournament 2",{"$f":"M35","v":"Tournament 2"}]
[null,"15 & <","M",{"$f":"\">=\"&G29","v":">=1150"},{"$f":"\"<\"&G30","v":"<1200"},null,null,null,null,null,"16-20","M",{"$f":"\">=\"&P29","v":">=1150"},{"$f":"\"<\"&P30","v":"<1200"}]
[null,"Age Group","Gender","Tournament 2",{"$f":"D37","v":"Tournament 2"},null,null,null,null,null,"Age Group","Gender","Tournament 2",{"$f":"M37","v":"Tournament 2"}]
[null,"15 & <","M",{"$f":"\">=\"&G30","v":">=1200"},{"$f":"\"<\"&G31","v":"<1250"},null,null,null,null,null,"16-20","M",{"$f":"\">=\"&P30","v":">=1200"},{"$f":"\"<\"&P31","v":"<1250"}]
[null,"Age Group","Gender","Tournament 2",{"$f":"D39","v":"Tournament 2"},null,null,null,null,null,"Age Group","Gender","Tournament 2",{"$f":"M39","v":"Tournament 2"}]
[null,"15 & <","M",{"$f":"\">=\"&G31","v":">=1250"},{"$f":"\"<\"&G32","v":"<1300"},null,null,null,null,null,"16-20","M",{"$f":"\">=\"&P31","v":">=1250"},{"$f":"\"<\"&P32","v":"<1300"}]
[null,{"$f":"B39","v":"Age Group"},"Gender","Tournament 2",null,null,null,null,null,null,{"$f":"K39","v":"Age Group"},"Gender","Tournament 2"]
[null,"15 & <","M",{"$f":"\">=\"&G32","v":">=1300"},null,null,null,null,null,null,"16-20","M",{"$f":"\">=\"&P32","v":">=1300"}]

{"sheet":"All Events Div Histogram Data","index":5,"n_rows":42,"n_cols":27,"rows_kept":42,"cut":false,"hidden":true,"merged":[]}
[]
[null,null,{"$f":"'Individual Scores'!$C$1","v":"Gender"},{"$f":"'Individual Scores'!$L$1","v":"Average"},{"$f":"D2","v":"Average"},null,null,"Scores",{"$f":"B3&\" \"&C3","v":" F"},null,null,{"$f":"'Individual Scores'!$C$1","v":"Gender"},{"$f":"D2","v":"Average"},{"$f":"M2","v":"Average"},null,null,"Scores",{"$f":"K3&\" \"&L3","v":" F"},null,null,{"$f":"'Individual Scores'!$C$1","v":"Gender"},{"$f":"M2","v":"Average"},{"$f":"V2","v":"Average"},null,null,"Scores",{"$f":"T3&\" \"&U3","v":" F"}]
[null,null,"F",{"$f":"\"<\"&G3","v":"<130"},null,null,{"$f":"130","v":130},{"$f":"D3","v":"<130"},{"$f":"DCOUNT(Individual_Scores,D2,B2:D3)","v":2},null,null,{"$f":"C3","v":"F"},{"$f":"\"<\"&P3","v":"<130"},null,null,{"$f":"G3","v":130},{"$f":"M3","v":"<130"},{"$f":"DCOUNT(Individual_Scores,M2,K2:M3)","v":2},null,null,{"$f":"L3","v":"F"},{"$f":"\"<\"&Y3","v":"<130"},null,null,{"$f":"P3","v":130},{"$f":"V3","v":"<130"},{"$f":"DCOUNT(Individual_Scores,V2,T2:V3)","v":2}]
[null,null,{"$f":"C2","v":"Gender"},"Average",{"$f":"D4","v":"Average"},null,{"$f":"G3+10","v":140},{"$f":"G3&\"-\"&G4","v":"130-140"},{"$f":"DCOUNT(Individual_Scores,D4,B4:E5)","v":3},null,null,{"$f":"L2","v":"Gender"},"Average",{"$f":"M4","v":"Average"},null,{"$f":"G4","v":140},{"$f":"P3&\"-\"&P4-1","v":"130-139"},{"$f":"DCOUNT(Individual_Scores,M4,K4:N5)","v":3},null,null,{"$f":"U2","v":"Gender"},"Average",{"$f":"V4","v":"Average"},null,{"$f":"P4","v":140},{"$f":"Y3&\"-\"&Y4","v":"130-140"},{"$f":"DCOUNT(Individual_Scores,V4,T4:W5)","v":3}]
[null,null,"F",{"$f":"\">=\"&G3","v":">=130"},{"$f":"\"<\"&G4","v":"<140"},null,{"$f":"G4+10","v":150},{"$f":"G4&\"-\"&G5","v":"140-150"},{"$f":"DCOUNT(Individual_Scores,D6,B6:E7)","v":6},null,null,"F",{"$f":"\">=\"&P3","v":">=130"},{"$f":"\"<\"&P4","v":"<140"},null,150,"140-149",{"$f":"DCOUNT(Individual_Scores,M6,K6:N7)","v":6},null,null,"F",{"$f":"\">=\"&Y3","v":">=130"},{"$f":"\"<\"&Y4","v":"<140"},null,150,{"$f":"Y4&\"-\"&Y5","v":"140-150"},{"$f":"DCOUNT(Individual_Scores,V6,T6:W7)","v":6}]
[null,null,"Gender","Average",{"$f":"D6","v":"Average"},null,160,"150-160",{"$f":"DCOUNT(Individual_Scores,D8,B8:E9)","v":10},null,null,"Gender","Average",{"$f":"M6","v":"Average"},null,160,"150-159",{"$f":"DCOUNT(Individual_Scores,M8,K8:N9)","v":10},null,null,"Gender","Average",{"$f":"V6","v":"Average"},null,160,"150-160",{"$f":"DCOUNT(Individual_Scores,V8,T8:W9)","v":10}]
[null,null,"F",{"$f":"\">=\"&G4","v":">=140"},{"$f":"\"<\"&G5","v":"<150"},null,170,"160-170",{"$f":"DCOUNT(Individual_Scores,D10,B10:E11)","v":19},null,null,"F",{"$f":"\">=\"&P4","v":">=140"},{"$f":"\"<\"&P5","v":"<150"},null,170,"160-169",{"$f":"DCOUNT(Individual_Scores,M10,K10:N11)","v":19},null,null,"F",{"$f":"\">=\"&Y4","v":">=140"},{"$f":"\"<\"&Y5","v":"<150"},null,170,"160-170",{"$f":"DCOUNT(Individual_Scores,V10,T10:W11)","v":19}]
[null,null,"Gender","Average",{"$f":"D8","v":"Average"},null,180,"170-180",{"$f":"DCOUNT(Individual_Scores,D12,B12:E13)","v":14},null,null,"Gender","Average",{"$f":"M8","v":"Average"},null,180,"170-179",{"$f":"DCOUNT(Individual_Scores,M12,K12:N13)","v":14},null,null,"Gender","Average",{"$f":"V8","v":"Average"},null,180,"170-180",{"$f":"DCOUNT(Individual_Scores,V12,T12:W13)","v":14}]
[null,null,"F",{"$f":"\">=\"&G5","v":">=150"},{"$f":"\"<\"&G6","v":"<160"},null,190,"180-190",{"$f":"DCOUNT(Individual_Scores,D14,B14:E15)","v":6},null,null,"F",{"$f":"\">=\"&P5","v":">=150"},{"$f":"\"<\"&P6","v":"<160"},null,190,"180-189",{"$f":"DCOUNT(Individual_Scores,M14,K14:N15)","v":6},null,null,"F",{"$f":"\">=\"&Y5","v":">=150"},{"$f":"\"<\"&Y6","v":"<160"},null,190,"180-190",{"$f":"DCOUNT(Individual_Scores,V14,T14:W15)","v":6}]
[null,null,"Gender","Average",{"$f":"D10","v":"Average"},null,200,"190-200",{"$f":"DCOUNT(Individual_Scores,D16,B16:E17)","v":2},null,null,"Gender","Average",{"$f":"M10","v":"Average"},null,200,"190-199",{"$f":"DCOUNT(Individual_Scores,M16,K16:N17)","v":2},null,null,"Gender","Average",{"$f":"V10","v":"Average"},null,200,"190-200",{"$f":"DCOUNT(Individual_Scores,V16,T16:W17)","v":2}]
[null,null,"F",{"$f":"\">=\"&G6","v":">=160"},{"$f":"\"<\"&G7","v":"<170"},null,210,"200-210",{"$f":"DCOUNT(Individual_Scores,D18,B18:E19)","v":4},null,null,"F",{"$f":"\">=\"&P6","v":">=160"},{"$f":"\"<\"&P7","v":"<170"},null,210,"200-209",{"$f":"DCOUNT(Individual_Scores,M18,K18:N19)","v":4},null,null,"F",{"$f":"\">=\"&Y6","v":">=160"},{"$f":"\"<\"&Y7","v":"<170"},null,210,"200-210",{"$f":"DCOUNT(Individual_Scores,V18,T18:W19)","v":4}]
[null,null,"Gender","Average",{"$f":"D12","v":"Average"},null,220,{"$f":"\">1300\"","v":">1300"},{"$f":"DCOUNT(Individual_Scores,D20,B20:E21)","v":0},null,null,"Gender","Average",{"$f":"M12","v":"Average"},null,220,{"$f":"\">=\"&P11","v":">=210"},{"$f":"DCOUNT(Individual_Scores,M20,K20:N21)","v":0},null,null,"Gender","Average",{"$f":"V12","v":"Average"},null,220,{"$f":"\">1300\"","v":">1300"},{"$f":"DCOUNT(Individual_Scores,V20,T20:W21)","v":0}]
[null,null,"F",{"$f":"\">=\"&G7","v":">=170"},{"$f":"\"<\"&G8","v":"<180"},null,null,null,null,null,null,"F",{"$f":"\">=\"&P7","v":">=170"},{"$f":"\"<\"&P8","v":"<180"},null,null,null,null,null,null,"F",{"$f":"\">=\"&Y7","v":">=170"},{"$f":"\"<\"&Y8","v":"<180"}]
[null,null,"Gender","Average",{"$f":"D14","v":"Average"},null,null,null,null,null,null,"Gender","Average",{"$f":"M14","v":"Average"},null,null,null,null,null,null,"Gender","Average",{"$f":"V14","v":"Average"}]
[null,null,"F",{"$f":"\">=\"&G8","v":">=180"},{"$f":"\"<\"&G9","v":"<190"},null,null,null,null,null,null,"F",{"$f":"\">=\"&P8","v":">=180"},{"$f":"\"<\"&P9","v":"<190"},null,null,null,null,null,null,"F",{"$f":"\">=\"&Y8","v":">=180"},{"$f":"\"<\"&Y9","v":"<190"}]
[null,null,"Gender","Average",{"$f":"D16","v":"Average"},null,null,null,null,null,null,"Gender","Average",{"$f":"M16","v":"Average"},null,null,null,null,null,null,"Gender","Average",{"$f":"V16","v":"Average"}]
[null,null,"F",{"$f":"\">=\"&G9","v":">=190"},{"$f":"\"<\"&G10","v":"<200"},null,null,null,null,null,null,"F",{"$f":"\">=\"&P9","v":">=190"},{"$f":"\"<\"&P10","v":"<200"},null,null,null,null,null,null,"F",{"$f":"\">=\"&Y9","v":">=190"},{"$f":"\"<\"&Y10","v":"<200"}]
[null,null,"Gender","Average",{"$f":"D18","v":"Average"},null,null,null,null,null,null,"Gender","Average",{"$f":"M18","v":"Average"},null,null,null,null,null,null,"Gender","Average",{"$f":"V18","v":"Average"}]
[null,null,"F",{"$f":"\">=\"&G10","v":">=200"},{"$f":"\"<\"&G11","v":"<210"},null,null,null,null,null,null,"F",{"$f":"\">=\"&P10","v":">=200"},{"$f":"\"<\"&P11","v":"<210"},null,null,null,null,null,null,"F",{"$f":"\">=\"&Y10","v":">=200"},{"$f":"\"<\"&Y11","v":"<210"}]
[null,null,{"$f":"C18","v":"Gender"},{"$f":"D18","v":"Average"},null,null,null,null,null,null,null,{"$f":"L18","v":"Gender"},{"$f":"M18","v":"Average"},null,null,null,null,null,null,null,{"$f":"U18","v":"Gender"},{"$f":"V18","v":"Average"}]
[null,null,{"$f":"C19","v":"F"},{"$f":"\">=\"&G11","v":">=210"},null,null,null,null,null,null,null,{"$f":"L19","v":"F"},{"$f":"\">=\"&P11","v":">=210"},null,null,null,null,null,null,null,{"$f":"U19","v":"F"},{"$f":"\">=\"&Y11","v":">=210"}]
[]
[null,null,{"$f":"'Individual Scores'!$C$1","v":"Gender"},{"$f":"D2","v":"Average"},{"$f":"D23","v":"Average"},null,null,"Scores",{"$f":"B24&\" \"&C24","v":" M"},null,null,{"$f":"'Individual Scores'!$C$1","v":"Gender"},{"$f":"D23","v":"Average"},{"$f":"M23","v":"Average"},null,null,"Scores",{"$f":"K24&\" \"&L24","v":" M"},null,null,{"$f":"'Individual Scores'!$C$1","v":"Gender"},{"$f":"V2","v":"Average"},{"$f":"V23","v":"Average"},null,null,"Scores",{"$f":"T24&\" \"&U24","v":" M"}]
[null,null,"M",{"$f":"\"<\"&G24","v":"<130"},null,null,{"$f":"G3","v":130},{"$f":"D24","v":"<130"},{"$f":"DCOUNT(Individual_Scores,D23,B23:D24)","v":1},null,null,{"$f":"C24","v":"M"},{"$f":"\"<\"&P24","v":"<130"},null,null,{"$f":"G24","v":130},{"$f":"M24","v":"<130"},{"$f":"DCOUNT(Individual_Scores,M23,K23:M24)","v":1},null,null,{"$f":"L24","v":"M"},{"$f":"\"<\"&Y24","v":"<130"},null,null,{"$f":"P24","v":130},{"$f":"V24","v":"<130"},{"$f":"DCOUNT(Individual_Scores,V23,T23:V24)","v":1}]
[null,null,{"$f":"C23","v":"Gender"},"Average",{"$f":"D25","v":"Average"},null,{"$f":"G4","v":140},{"$f":"G24&\"-\"&G25","v":"130-140"},{"$f":"DCOUNT(Individual_Scores,D25,B25:E26)","v":1},null,null,{"$f":"L23","v":"Gender"},"Average",{"$f":"M25","v":"Average"},null,{"$f":"G25","v":140},{"$f":"P24&\"-\"&P25","v":"130-140"},{"$f":"DCOUNT(Individual_Scores,M25,K25:N26)","v":1},null,null,{"$f":"U23","v":"Gender"},"Average",{"$f":"V25","v":"Average"},null,{"$f":"P25","v":140},{"$f":"Y24&\"-\"&Y25","v":"130-140"},{"$f":"DCOUNT(Individual_Scores,V25,T25:W26)","v":1}]
[null,null,"M",{"$f":"\">=\"&G24","v":">=130"},{"$f":"\"<\"&G25","v":"<140"},null,150,{"$f":"G25&\"-\"&G26","v":"140-150"},{"$f":"DCOUNT(Individual_Scores,D27,B27:E28)","v":0},null,null,"M",{"$f":"\">=\"&P24","v":">=130"},{"$f":"\"<\"&P25","v":"<140"},null,150,{"$f":"P25&\"-\"&P26","v":"140-150"},{"$f":"DCOUNT(Individual_Scores,M27,K27:N28)","v":0},null,null,"M",{"$f":"\">=\"&Y24","v":">=130"},{"$f":"\"<\"&Y25","v":"<140"},null,150,{"$f":"Y25&\"-\"&Y26","v":"140-150"},{"$f":"DCOUNT(Individual_Scores,V27,T27:W28)","v":0}]
[null,null,"Gender","Average",{"$f":"D27","v":"Average"},null,160,"150-160",{"$f":"DCOUNT(Individual_Scores,D29,B29:E30)","v":1},null,null,"Gender","Average",{"$f":"M27","v":"Average"},null,160,"150-160",{"$f":"DCOUNT(Individual_Scores,M29,K29:N30)","v":1},null,null,"Gender","Average",{"$f":"V27","v":"Average"},null,160,"150-160",{"$f":"DCOUNT(Individual_Scores,V29,T29:W30)","v":1}]
[null,null,"M",{"$f":"\">=\"&G25","v":">=140"},{"$f":"\"<\"&G26","v":"<150"},null,170,"160-170",{"$f":"DCOUNT(Individual_Scores,D31,B31:E32)","v":9},null,null,"M",{"$f":"\">=\"&P25","v":">=140"},{"$f":"\"<\"&P26","v":"<150"},null,170,"160-170",{"$f":"DCOUNT(Individual_Scores,M31,K31:N32)","v":9},null,null,"M",{"$f":"\">=\"&Y25","v":">=140"},{"$f":"\"<\"&Y26","v":"<150"},null,170,"160-170",{"$f":"DCOUNT(Individual_Scores,V31,T31:W32)","v":9}]
[null,null,"Gender","Average",{"$f":"D29","v":"Average"},null,180,"170-180",{"$f":"DCOUNT(Individual_Scores,D33,B33:E34)","v":10},null,null,"Gender","Average",{"$f":"M29","v":"Average"},null,180,"170-180",{"$f":"DCOUNT(Individual_Scores,M33,K33:N34)","v":10},null,null,"Gender","Average",{"$f":"V29","v":"Average"},null,180,"170-180",{"$f":"DCOUNT(Individual_Scores,V33,T33:W34)","v":10}]
[null,null,"M",{"$f":"\">=\"&G26","v":">=150"},{"$f":"\"<\"&G27","v":"<160"},null,190,"180-190",{"$f":"DCOUNT(Individual_Scores,D35,B35:E36)","v":15},null,null,"M",{"$f":"\">=\"&P26","v":">=150"},{"$f":"\"<\"&P27","v":"<160"},null,190,"180-190",{"$f":"DCOUNT(Individual_Scores,M35,K35:N36)","v":15},null,null,"M",{"$f":"\">=\"&Y26","v":">=150"},{"$f":"\"<\"&Y27","v":"<160"},null,190,"180-190",{"$f":"DCOUNT(Individual_Scores,V35,T35:W36)","v":15}]
[null,null,"Gender","Average",{"$f":"D31","v":"Average"},null,200,"190-200",{"$f":"DCOUNT(Individual_Scores,D37,B37:E38)","v":11},null,null,"Gender","Average",{"$f":"M31","v":"Average"},null,200,"190-200",{"$f":"DCOUNT(Individual_Scores,M37,K37:N38)","v":11},null,null,"Gender","Average",{"$f":"V31","v":"Average"},null,200,"190-200",{"$f":"DCOUNT(Individual_Scores,V37,T37:W38)","v":11}]
[null,null,"M",{"$f":"\">=\"&G27","v":">=160"},{"$f":"\"<\"&G28","v":"<170"},null,210,"200-210",{"$f":"DCOUNT(Individual_Scores,D39,B39:E40)","v":8},null,null,"M",{"$f":"\">=\"&P27","v":">=160"},{"$f":"\"<\"&P28","v":"<170"},null,210,"200-210",{"$f":"DCOUNT(Individual_Scores,M39,K39:N40)","v":8},null,null,"M",{"$f":"\">=\"&Y27","v":">=160"},{"$f":"\"<\"&Y28","v":"<170"},null,210,"200-210",{"$f":"DCOUNT(Individual_Scores,V39,T39:W40)","v":8}]
[null,null,"Gender","Average",{"$f":"D33","v":"Average"},null,220,{"$f":"\">1300\"","v":">1300"},{"$f":"DCOUNT(Individual_Scores,D41,B41:E42)","v":9},null,null,"Gender","Average",{"$f":"M33","v":"Average"},null,220,{"$f":"\">1300\"","v":">1300"},{"$f":"DCOUNT(Individual_Scores,M41,K41:N42)","v":9},null,null,"Gender","Average",{"$f":"V33","v":"Average"},null,220,{"$f":"\">1300\"","v":">1300"},{"$f":"DCOUNT(Individual_Scores,V41,T41:W42)","v":9}]
[null,null,"M",{"$f":"\">=\"&G28","v":">=170"},{"$f":"\"<\"&G29","v":"<180"},null,null,null,null,null,null,"M",{"$f":"\">=\"&P28","v":">=170"},{"$f":"\"<\"&P29","v":"<180"},null,null,null,null,null,null,"M",{"$f":"\">=\"&Y28","v":">=170"},{"$f":"\"<\"&Y29","v":"<180"}]
[null,null,"Gender","Average",{"$f":"D35","v":"Average"},null,null,null,null,null,null,"Gender","Average",{"$f":"M35","v":"Average"},null,null,null,null,null,null,"Gender","Average",{"$f":"V35","v":"Average"}]
[null,null,"M",{"$f":"\">=\"&G29","v":">=180"},{"$f":"\"<\"&G30","v":"<190"},null,null,null,null,null,null,"M",{"$f":"\">=\"&P29","v":">=180"},{"$f":"\"<\"&P30","v":"<190"},null,null,null,null,null,null,"M",{"$f":"\">=\"&Y29","v":">=180"},{"$f":"\"<\"&Y30","v":"<190"}]
[null,null,"Gender","Average",{"$f":"D37","v":"Average"},null,null,null,null,null,null,"Gender","Average",{"$f":"M37","v":"Average"},null,null,null,null,null,null,"Gender","Average",{"$f":"V37","v":"Average"}]
[null,null,"M",{"$f":"\">=\"&G30","v":">=190"},{"$f":"\"<\"&G31","v":"<200"},null,null,null,null,null,null,"M",{"$f":"\">=\"&P30","v":">=190"},{"$f":"\"<\"&P31","v":"<200"},null,null,null,null,null,null,"M",{"$f":"\">=\"&Y30","v":">=190"},{"$f":"\"<\"&Y31","v":"<200"}]
[null,null,"Gender","Average",{"$f":"D39","v":"Average"},null,null,null,null,null,null,"Gender","Average",{"$f":"M39","v":"Average"},null,null,null,null,null,null,"Gender","Average",{"$f":"V39","v":"Average"}]
[null,null,"M",{"$f":"\">=\"&G31","v":">=200"},{"$f":"\"<\"&G32","v":"<210"},null,null,null,null,null,null,"M",{"$f":"\">=\"&P31","v":">=200"},{"$f":"\"<\"&P32","v":"<210"},null,null,null,null,null,null,"M",{"$f":"\">=\"&Y31","v":">=200"},{"$f":"\"<\"&Y32","v":"<210"}]
[null,null,{"$f":"C39","v":"Gender"},{"$f":"D39","v":"Average"},null,null,null,null,null,null,null,{"$f":"L39","v":"Gender"},{"$f":"M39","v":"Average"},null,null,null,null,null,null,null,{"$f":"U39","v":"Gender"},{"$f":"V39","v":"Average"}]
[null,null,{"$f":"C40","v":"M"},{"$f":"\">=\"&G32","v":">=210"},null,null,null,null,null,null,null,{"$f":"L40","v":"M"},{"$f":"\">=\"&P32","v":">=210"},null,null,null,null,null,null,null,{"$f":"U40","v":"M"},{"$f":"\">=\"&Y32","v":">=210"}]

{"sheet":"All Events Histogram Data","index":6,"n_rows":42,"n_cols":18,"rows_kept":42,"cut":false,"hidden":true,"merged":[]}
[]
[null,{"$f":"'Individual Scores'!$B$1","v":"Age Group"},{"$f":"'Individual Scores'!$C$1","v":"Gender"},{"$f":"'Individual Scores'!$L$1","v":"Average"},{"$f":"D2","v":"Average"},null,null,"Scores",{"$f":"B3&\" \"&C3","v":"15 & < F"},null,{"$f":"'Individual Scores'!$B$1","v":"Age Group"},{"$f":"'Individual Scores'!$C$1","v":"Gender"},{"$f":"D2","v":"Average"},{"$f":"M2","v":"Average"},null,null,"Scores",{"$f":"K3&\" \"&L3","v":"16-20 F"}]
[null,{"$f":"Constants!B2","v":"15 & <"},"F",{"$f":"\"<\"&G3","v":"<130"},null,null,{"$f":"130","v":130},{"$f":"D3","v":"<130"},{"$f":"DCOUNT(Individual_Scores,D2,B2:D3)","v":1},null,{"$f":"Constants!B3","v":"16-20"},{"$f":"C3","v":"F"},{"$f":"\"<\"&P3","v":"<130"},null,null,{"$f":"G3","v":130},{"$f":"M3","v":"<130"},{"$f":"DCOUNT(Individual_Scores,M2,K2:M3)","v":1}]
[null,{"$f":"B2","v":"Age Group"},"Gender","Average",{"$f":"D4","v":"Average"},null,{"$f":"G3+10","v":140},{"$f":"G3&\"-\"&G4","v":"130-140"},{"$f":"DCOUNT(Individual_Scores,D4,B4:E5)","v":3},null,{"$f":"K2","v":"Age Group"},"Gender","Average",{"$f":"M4","v":"Average"},null,{"$f":"G4","v":140},{"$f":"P3&\"-\"&P4-1","v":"130-139"},{"$f":"DCOUNT(Individual_Scores,M4,K4:N5)","v":0}]
[null,"15 & <","F",{"$f":"\">=\"&G3","v":">=130"},{"$f":"\"<\"&G4","v":"<140"},null,{"$f":"G4+10","v":150},{"$f":"G4&\"-\"&G5","v":"140-150"},{"$f":"DCOUNT(Individual_Scores,D6,B6:E7)","v":5},null,"16-20","F",{"$f":"\">=\"&P3","v":">=130"},{"$f":"\"<\"&P4","v":"<140"},null,150,"140-149",{"$f":"DCOUNT(Individual_Scores,M6,K6:N7)","v":1}]
[null,"Age Group","Gender","Average",{"$f":"D6","v":"Average"},null,160,"150-160",{"$f":"DCOUNT(Individual_Scores,D8,B8:E9)","v":6},null,"Age Group","Gender","Average",{"$f":"M6","v":"Average"},null,160,"150-159",{"$f":"DCOUNT(Individual_Scores,M8,K8:N9)","v":4}]
[null,"15 & <","F",{"$f":"\">=\"&G4","v":">=140"},{"$f":"\"<\"&G5","v":"<150"},null,170,"160-170",{"$f":"DCOUNT(Individual_Scores,D10,B10:E11)","v":11},null,"16-20","F",{"$f":"\">=\"&P4","v":">=140"},{"$f":"\"<\"&P5","v":"<150"},null,170,"160-169",{"$f":"DCOUNT(Individual_Scores,M10,K10:N11)","v":8}]
[null,"Age Group","Gender","Average",{"$f":"D8","v":"Average"},null,180,"170-180",{"$f":"DCOUNT(Individual_Scores,D12,B12:E13)","v":6},null,"Age Group","Gender","Average",{"$f":"M8","v":"Average"},null,180,"170-179",{"$f":"DCOUNT(Individual_Scores,M12,K12:N13)","v":8}]
[null,"15 & <","F",{"$f":"\">=\"&G5","v":">=150"},{"$f":"\"<\"&G6","v":"<160"},null,190,"180-190",{"$f":"DCOUNT(Individual_Scores,D14,B14:E15)","v":1},null,"16-20","F",{"$f":"\">=\"&P5","v":">=150"},{"$f":"\"<\"&P6","v":"<160"},null,190,"180-189",{"$f":"DCOUNT(Individual_Scores,M14,K14:N15)","v":5}]
[null,"Age Group","Gender","Average",{"$f":"D10","v":"Average"},null,200,"190-200",{"$f":"DCOUNT(Individual_Scores,D16,B16:E17)","v":1},null,"Age Group","Gender","Average",{"$f":"M10","v":"Average"},null,200,"190-199",{"$f":"DCOUNT(Individual_Scores,M16,K16:N17)","v":1}]
[null,"15 & <","F",{"$f":"\">=\"&G6","v":">=160"},{"$f":"\"<\"&G7","v":"<170"},null,210,"200-210",{"$f":"DCOUNT(Individual_Scores,D18,B18:E19)","v":2},null,"16-20","F",{"$f":"\">=\"&P6","v":">=160"},{"$f":"\"<\"&P7","v":"<170"},null,210,"200-209",{"$f":"DCOUNT(Individual_Scores,M18,K18:N19)","v":2}]
[null,"Age Group","Gender","Average",{"$f":"D12","v":"Average"},null,220,{"$f":"\">1300\"","v":">1300"},{"$f":"DCOUNT(Individual_Scores,D20,B20:E21)","v":0},null,"Age Group","Gender","Average",{"$f":"M12","v":"Average"},null,220,{"$f":"\">=\"&P11","v":">=210"},{"$f":"DCOUNT(Individual_Scores,M20,K20:N21)","v":0}]
[null,"15 & <","F",{"$f":"\">=\"&G7","v":">=170"},{"$f":"\"<\"&G8","v":"<180"},null,null,null,null,null,"16-20","F",{"$f":"\">=\"&P7","v":">=170"},{"$f":"\"<\"&P8","v":"<180"}]
[null,"Age Group","Gender","Average",{"$f":"D14","v":"Average"},null,null,null,null,null,"Age Group","Gender","Average",{"$f":"M14","v":"Average"}]
[null,"15 & <","F",{"$f":"\">=\"&G8","v":">=180"},{"$f":"\"<\"&G9","v":"<190"},null,null,null,null,null,"16-20","F",{"$f":"\">=\"&P8","v":">=180"},{"$f":"\"<\"&P9","v":"<190"}]
[null,"Age Group","Gender","Average",{"$f":"D16","v":"Average"},null,null,null,null,null,"Age Group","Gender","Average",{"$f":"M16","v":"Average"}]
[null,"15 & <","F",{"$f":"\">=\"&G9","v":">=190"},{"$f":"\"<\"&G10","v":"<200"},null,null,null,null,null,"16-20","F",{"$f":"\">=\"&P9","v":">=190"},{"$f":"\"<\"&P10","v":"<200"}]
[null,"Age Group","Gender","Average",{"$f":"D18","v":"Average"},null,null,null,null,null,"Age Group","Gender","Average",{"$f":"M18","v":"Average"}]
[null,"15 & <","F",{"$f":"\">=\"&G10","v":">=200"},{"$f":"\"<\"&G11","v":"<210"},null,null,null,null,null,"16-20","F",{"$f":"\">=\"&P10","v":">=200"},{"$f":"\"<\"&P11","v":"<210"}]
[null,{"$f":"B18","v":"Age Group"},"Gender","Average",null,null,null,null,null,null,{"$f":"K18","v":"Age Group"},"Gender","Average"]
[null,"15 & <","F",{"$f":"\">=\"&G11","v":">=210"},null,null,null,null,null,null,"16-20","F",{"$f":"\">=\"&P11","v":">=210"}]
[]
[null,{"$f":"'Individual Scores'!$B$1","v":"Age Group"},{"$f":"'Individual Scores'!$C$1","v":"Gender"},{"$f":"D2","v":"Average"},{"$f":"D23","v":"Average"},null,null,"Scores",{"$f":"B24&\" \"&C24","v":"15 & < M"},null,{"$f":"'Individual Scores'!$B$1","v":"Age Group"},{"$f":"'Individual Scores'!$C$1","v":"Gender"},{"$f":"D23","v":"Average"},{"$f":"M23","v":"Average"},null,null,"Scores",{"$f":"K24&\" \"&L24","v":"16-20 M"}]
[null,{"$f":"B3","v":"15 & <"},"M",{"$f":"\"<\"&G24","v":"<130"},null,null,{"$f":"G3","v":130},{"$f":"D24","v":"<130"},{"$f":"DCOUNT(Individual_Scores,D23,B23:D24)","v":0},null,{"$f":"K3","v":"16-20"},{"$f":"C24","v":"M"},{"$f":"\"<\"&P24","v":"<130"},null,null,{"$f":"G24","v":130},{"$f":"M24","v":"<130"},{"$f":"DCOUNT(Individual_Scores,M23,K23:M24)","v":1}]
[null,{"$f":"B23","v":"Age Group"},"Gender","Average",{"$f":"D25","v":"Average"},null,{"$f":"G4","v":140},{"$f":"G24&\"-\"&G25","v":"130-140"},{"$f":"DCOUNT(Individual_Scores,D25,B25:E26)","v":1},null,{"$f":"K23","v":"Age Group"},"Gender","Average",{"$f":"M25","v":"Average"},null,{"$f":"G25","v":140},{"$f":"P24&\"-\"&P25","v":"130-140"},{"$f":"DCOUNT(Individual_Scores,M25,K25:N26)","v":0}]
[null,"15 & <","M",{"$f":"\">=\"&G24","v":">=130"},{"$f":"\"<\"&G25","v":"<140"},null,150,{"$f":"G25&\"-\"&G26","v":"140-150"},{"$f":"DCOUNT(Individual_Scores,D27,B27:E28)","v":0},null,"16-20","M",{"$f":"\">=\"&P24","v":">=130"},{"$f":"\"<\"&P25","v":"<140"},null,150,{"$f":"P25&\"-\"&P26","v":"140-150"},{"$f":"DCOUNT(Individual_Scores,M27,K27:N28)","v":0}]
[null,"Age Group","Gender","Average",{"$f":"D27","v":"Average"},null,160,"150-160",{"$f":"DCOUNT(Individual_Scores,D29,B29:E30)","v":0},null,"Age Group","Gender","Average",{"$f":"M27","v":"Average"},null,160,"150-160",{"$f":"DCOUNT(Individual_Scores,M29,K29:N30)","v":1}]
[null,"15 & <","M",{"$f":"\">=\"&G25","v":">=140"},{"$f":"\"<\"&G26","v":"<150"},null,170,"160-170",{"$f":"DCOUNT(Individual_Scores,D31,B31:E32)","v":6},null,"16-20","M",{"$f":"\">=\"&P25","v":">=140"},{"$f":"\"<\"&P26","v":"<150"},null,170,"160-170",{"$f":"DCOUNT(Individual_Scores,M31,K31:N32)","v":3}]
[null,"Age Group","Gender","Average",{"$f":"D29","v":"Average"},null,180,"170-180",{"$f":"DCOUNT(Individual_Scores,D33,B33:E34)","v":7},null,"Age Group","Gender","Average",{"$f":"M29","v":"Average"},null,180,"170-180",{"$f":"DCOUNT(Individual_Scores,M33,K33:N34)","v":3}]
[null,"15 & <","M",{"$f":"\">=\"&G26","v":">=150"},{"$f":"\"<\"&G27","v":"<160"},null,190,"180-190",{"$f":"DCOUNT(Individual_Scores,D35,B35:E36)","v":10},null,"16-20","M",{"$f":"\">=\"&P26","v":">=150"},{"$f":"\"<\"&P27","v":"<160"},null,190,"180-190",{"$f":"DCOUNT(Individual_Scores,M35,K35:N36)","v":5}]
[null,"Age Group","Gender","Average",{"$f":"D31","v":"Average"},null,200,"190-200",{"$f":"DCOUNT(Individual_Scores,D37,B37:E38)","v":5},null,"Age Group","Gender","Average",{"$f":"M31","v":"Average"},null,200,"190-200",{"$f":"DCOUNT(Individual_Scores,M37,K37:N38)","v":6}]
[null,"15 & <","M",{"$f":"\">=\"&G27","v":">=160"},{"$f":"\"<\"&G28","v":"<170"},null,210,"200-210",{"$f":"DCOUNT(Individual_Scores,D39,B39:E40)","v":3},null,"16-20","M",{"$f":"\">=\"&P27","v":">=160"},{"$f":"\"<\"&P28","v":"<170"},null,210,"200-210",{"$f":"DCOUNT(Individual_Scores,M39,K39:N40)","v":5}]
[null,"Age Group","Gender","Average",{"$f":"D33","v":"Average"},null,220,{"$f":"\">1300\"","v":">1300"},{"$f":"DCOUNT(Individual_Scores,D41,B41:E42)","v":2},null,"Age Group","Gender","Average",{"$f":"M33","v":"Average"},null,220,{"$f":"\">1300\"","v":">1300"},{"$f":"DCOUNT(Individual_Scores,M41,K41:N42)","v":7}]
[null,"15 & <","M",{"$f":"\">=\"&G28","v":">=170"},{"$f":"\"<\"&G29","v":"<180"},null,null,null,null,null,"16-20","M",{"$f":"\">=\"&P28","v":">=170"},{"$f":"\"<\"&P29","v":"<180"}]
[null,"Age Group","Gender","Average",{"$f":"D35","v":"Average"},null,null,null,null,null,"Age Group","Gender","Average",{"$f":"M35","v":"Average"}]
[null,"15 & <","M",{"$f":"\">=\"&G29","v":">=180"},{"$f":"\"<\"&G30","v":"<190"},null,null,null,null,null,"16-20","M",{"$f":"\">=\"&P29","v":">=180"},{"$f":"\"<\"&P30","v":"<190"}]
[null,"Age Group","Gender","Average",{"$f":"D37","v":"Average"},null,null,null,null,null,"Age Group","Gender","Average",{"$f":"M37","v":"Average"}]
[null,"15 & <","M",{"$f":"\">=\"&G30","v":">=190"},{"$f":"\"<\"&G31","v":"<200"},null,null,null,null,null,"16-20","M",{"$f":"\">=\"&P30","v":">=190"},{"$f":"\"<\"&P31","v":"<200"}]
[null,"Age Group","Gender","Average",{"$f":"D39","v":"Average"},null,null,null,null,null,"Age Group","Gender","Average",{"$f":"M39","v":"Average"}]
[null,"15 & <","M",{"$f":"\">=\"&G31","v":">=200"},{"$f":"\"<\"&G32","v":"<210"},null,null,null,null,null,"16-20","M",{"$f":"\">=\"&P31","v":">=200"},{"$f":"\"<\"&P32","v":"<210"}]
[null,{"$f":"B39","v":"Age Group"},"Gender","Average",null,null,null,null,null,null,{"$f":"K39","v":"Age Group"},"Gender","Average"]
[null,"15 & <","M",{"$f":"\">=\"&G32","v":">=210"},null,null,null,null,null,null,"16-20","M",{"$f":"\">=\"&P32","v":">=210"}]

{"sheet":"Tournament 3 Histogram Data","index":7,"n_rows":42,"n_cols":18,"rows_kept":42,"cut":false,"hidden":true,"merged":[]}
[]
[null,{"$f":"'Individual Scores'!$B$1","v":"Age Group"},{"$f":"'Individual Scores'!$C$1","v":"Gender"},{"$f":"'Individual Scores'!$G$1","v":"Tournament 3"},{"$f":"D2","v":"Tournament 3"},null,null,"Scores",{"$f":"B3&\" \"&C3","v":"15 & < F"},null,{"$f":"'Individual Scores'!$B$1","v":"Age Group"},{"$f":"'Individual Scores'!$C$1","v":"Gender"},{"$f":"D2","v":"Tournament 3"},{"$f":"M2","v":"Tournament 3"},null,null,"Scores",{"$f":"K3&\" \"&L3","v":"16-20 F"}]
[null,{"$f":"Constants!B2","v":"15 & <"},"F",{"$f":"\"1-\"&G3","v":"1-900"},null,null,900,{"$f":"D3","v":"1-900"},{"$f":"DCOUNT(Individual_Scores,D2,B2:D3)","v":0},null,{"$f":"Constants!B3","v":"16-20"},{"$f":"C3","v":"F"},{"$f":"\"1-\"&P3","v":"1-900"},null,null,900,{"$f":"M3","v":"1-900"},{"$f":"DCOUNT(Individual_Scores,M2,K2:M3)","v":0}]
[null,{"$f":"B2","v":"Age Group"},"Gender","Tournament 3",{"$f":"D4","v":"Tournament 3"},null,{"$f":"G3+50","v":950},{"$f":"G3&\"-\"&G4","v":"900-950"},{"$f":"DCOUNT(Individual_Scores,D4,B4:E5)","v":0},null,{"$f":"K2","v":"Age Group"},"Gender","Tournament 3",{"$f":"M4","v":"Tournament 3"},null,{"$f":"P3+50","v":950},{"$f":"P3&\"-\"&P4-1","v":"900-949"},{"$f":"DCOUNT(Individual_Scores,M4,K4:N5)","v":0}]
[null,"15 & <","F",{"$f":"\">=\"&G3","v":">=900"},{"$f":"\"<\"&G4","v":"<950"},null,1000,{"$f":"G4&\"-\"&G5","v":"950-1000"},{"$f":"DCOUNT(Individual_Scores,D6,B6:E7)","v":0},null,"16-20","F",{"$f":"\">=\"&P3","v":">=900"},{"$f":"\"<\"&P4","v":"<950"},null,1000,"950-999",{"$f":"DCOUNT(Individual_Scores,M6,K6:N7)","v":0}]
[null,"Age Group","Gender","Tournament 3",{"$f":"D6","v":"Tournament 3"},null,1050,"1000-1050",{"$f":"DCOUNT(Individual_Scores,D8,B8:E9)","v":0},null,"Age Group","Gender","Tournament 3",{"$f":"M6","v":"Tournament 3"},null,1050,"1000-1049",{"$f":"DCOUNT(Individual_Scores,M8,K8:N9)","v":0}]
[null,"15 & <","F",{"$f":"\">=\"&G4","v":">=950"},{"$f":"\"<\"&G5","v":"<1000"},null,1100,"1050-1100",{"$f":"DCOUNT(Individual_Scores,D10,B10:E11)","v":0},null,"16-20","F",{"$f":"\">=\"&P4","v":">=950"},{"$f":"\"<\"&P5","v":"<1000"},null,1100,"1050-1099",{"$f":"DCOUNT(Individual_Scores,M10,K10:N11)","v":0}]
[null,"Age Group","Gender","Tournament 3",{"$f":"D8","v":"Tournament 3"},null,1150,"1100-1150",{"$f":"DCOUNT(Individual_Scores,D12,B12:E13)","v":0},null,"Age Group","Gender","Tournament 3",{"$f":"M8","v":"Tournament 3"},null,1150,"1100-1149",{"$f":"DCOUNT(Individual_Scores,M12,K12:N13)","v":0}]
[null,"15 & <","F",{"$f":"\">=\"&G5","v":">=1000"},{"$f":"\"<\"&G6","v":"<1050"},null,1200,"1150-1200",{"$f":"DCOUNT(Individual_Scores,D14,B14:E15)","v":0},null,"16-20","F",{"$f":"\">=\"&P5","v":">=1000"},{"$f":"\"<\"&P6","v":"<1050"},null,1200,"1150-1199",{"$f":"DCOUNT(Individual_Scores,M14,K14:N15)","v":0}]
[null,"Age Group","Gender","Tournament 3",{"$f":"D10","v":"Tournament 3"},null,1250,"1200-1250",{"$f":"DCOUNT(Individual_Scores,D16,B16:E17)","v":0},null,"Age Group","Gender","Tournament 3",{"$f":"M10","v":"Tournament 3"},null,1250,"1200-1249",{"$f":"DCOUNT(Individual_Scores,M16,K16:N17)","v":0}]
[null,"15 & <","F",{"$f":"\">=\"&G6","v":">=1050"},{"$f":"\"<\"&G7","v":"<1100"},null,1300,"1250-1300",{"$f":"DCOUNT(Individual_Scores,D18,B18:E19)","v":0},null,"16-20","F",{"$f":"\">=\"&P6","v":">=1050"},{"$f":"\"<\"&P7","v":"<1100"},null,1300,"1250-1299",{"$f":"DCOUNT(Individual_Scores,M18,K18:N19)","v":0}]
[null,"Age Group","Gender","Tournament 3",{"$f":"D12","v":"Tournament 3"},null,1350,{"$f":"\">1300\"","v":">1300"},{"$f":"DCOUNT(Individual_Scores,D20,B20:E21)","v":0},null,"Age Group","Gender","Tournament 3",{"$f":"M12","v":"Tournament 3"},null,1350,{"$f":"\">=1300\"","v":">=1300"},{"$f":"DCOUNT(Individual_Scores,M20,K20:N21)","v":0}]
[null,"15 & <","F",{"$f":"\">=\"&G7","v":">=1100"},{"$f":"\"<\"&G8","v":"<1150"},null,null,null,null,null,"16-20","F",{"$f":"\">=\"&P7","v":">=1100"},{"$f":"\"<\"&P8","v":"<1150"}]
[null,"Age Group","Gender","Tournament 3",{"$f":"D14","v":"Tournament 3"},null,null,null,null,null,"Age Group","Gender","Tournament 3",{"$f":"M14","v":"Tournament 3"}]
[null,"15 & <","F",{"$f":"\">=\"&G8","v":">=1150"},{"$f":"\"<\"&G9","v":"<1200"},null,null,null,null,null,"16-20","F",{"$f":"\">=\"&P8","v":">=1150"},{"$f":"\"<\"&P9","v":"<1200"}]
[null,"Age Group","Gender","Tournament 3",{"$f":"D16","v":"Tournament 3"},null,null,null,null,null,"Age Group","Gender","Tournament 3",{"$f":"M16","v":"Tournament 3"}]
[null,"15 & <","F",{"$f":"\">=\"&G9","v":">=1200"},{"$f":"\"<\"&G10","v":"<1250"},null,null,null,null,null,"16-20","F",{"$f":"\">=\"&P9","v":">=1200"},{"$f":"\"<\"&P10","v":"<1250"}]
[null,"Age Group","Gender","Tournament 3",{"$f":"D18","v":"Tournament 3"},null,null,null,null,null,"Age Group","Gender","Tournament 3",{"$f":"M18","v":"Tournament 3"}]
[null,"15 & <","F",{"$f":"\">=\"&G10","v":">=1250"},{"$f":"\"<\"&G11","v":"<1300"},null,null,null,null,null,"16-20","F",{"$f":"\">=\"&P10","v":">=1250"},{"$f":"\"<\"&P11","v":"<1300"}]
[null,{"$f":"B18","v":"Age Group"},"Gender","Tournament 3",null,null,null,null,null,null,{"$f":"K18","v":"Age Group"},"Gender","Tournament 3"]
[null,"15 & <","F",{"$f":"\">=\"&G11","v":">=1300"},null,null,null,null,null,null,"16-20","F",{"$f":"\">=\"&P11","v":">=1300"}]
[]
[null,{"$f":"'Individual Scores'!$B$1","v":"Age Group"},{"$f":"'Individual Scores'!$C$1","v":"Gender"},{"$f":"D2","v":"Tournament 3"},{"$f":"D23","v":"Tournament 3"},null,null,"Scores",{"$f":"B24&\" \"&C24","v":"15 & < M"},null,{"$f":"'Individual Scores'!$B$1","v":"Age Group"},{"$f":"'Individual Scores'!$C$1","v":"Gender"},{"$f":"D23","v":"Tournament 3"},{"$f":"M23","v":"Tournament 3"},null,null,"Scores",{"$f":"K24&\" \"&L24","v":"16-20 M"}]
[null,{"$f":"B3","v":"15 & <"},"M",{"$f":"D3","v":"1-900"},null,null,900,{"$f":"D24","v":"1-900"},{"$f":"DCOUNT(Individual_Scores,D23,B23:D24)","v":0},null,{"$f":"K3","v":"16-20"},{"$f":"C24","v":"M"},{"$f":"M3","v":"1-900"},null,null,900,{"$f":"M24","v":"1-900"},{"$f":"DCOUNT(Individual_Scores,M23,K23:M24)","v":0}]
[null,{"$f":"B23","v":"Age Group"},"Gender","Tournament 3",{"$f":"D25","v":"Tournament 3"},null,{"$f":"G24+50","v":950},{"$f":"G24&\"-\"&G25","v":"900-950"},{"$f":"DCOUNT(Individual_Scores,D25,B25:E26)","v":0},null,{"$f":"K23","v":"Age Group"},"Gender","Tournament 3",{"$f":"M25","v":"Tournament 3"},null,{"$f":"P24+50","v":950},{"$f":"P24&\"-\"&P25","v":"900-950"},{"$f":"DCOUNT(Individual_Scores,M25,K25:N26)","v":0}]
[null,"15 & <","M",{"$f":"\">=\"&G24","v":">=900"},{"$f":"\"<\"&G25","v":"<950"},null,1000,{"$f":"G25&\"-\"&G26","v":"950-1000"},{"$f":"DCOUNT(Individual_Scores,D27,B27:E28)","v":0},null,"16-20","M",{"$f":"\">=\"&P24","v":">=900"},{"$f":"\"<\"&P25","v":"<950"},null,1000,{"$f":"P25&\"-\"&P26","v":"950-1000"},{"$f":"DCOUNT(Individual_Scores,M27,K27:N28)","v":0}]
[null,"Age Group","Gender","Tournament 3",{"$f":"D27","v":"Tournament 3"},null,1050,"1000-1050",{"$f":"DCOUNT(Individual_Scores,D29,B29:E30)","v":0},null,"Age Group","Gender","Tournament 3",{"$f":"M27","v":"Tournament 3"},null,1050,"1000-1050",{"$f":"DCOUNT(Individual_Scores,M29,K29:N30)","v":0}]
[null,"15 & <","M",{"$f":"\">=\"&G25","v":">=950"},{"$f":"\"<\"&G26","v":"<1000"},null,1100,"1050-1100",{"$f":"DCOUNT(Individual_Scores,D31,B31:E32)","v":0},null,"16-20","M",{"$f":"\">=\"&P25","v":">=950"},{"$f":"\"<\"&P26","v":"<1000"},null,1100,"1050-1100",{"$f":"DCOUNT(Individual_Scores,M31,K31:N32)","v":0}]
[null,"Age Group","Gender","Tournament 3",{"$f":"D29","v":"Tournament 3"},null,1150,"1100-1150",{"$f":"DCOUNT(Individual_Scores,D33,B33:E34)","v":0},null,"Age Group","Gender","Tournament 3",{"$f":"M29","v":"Tournament 3"},null,1150,"1100-1150",{"$f":"DCOUNT(Individual_Scores,M33,K33:N34)","v":0}]
[null,"15 & <","M",{"$f":"\">=\"&G26","v":">=1000"},{"$f":"\"<\"&G27","v":"<1050"},null,1200,"1150-1200",{"$f":"DCOUNT(Individual_Scores,D35,B35:E36)","v":0},null,"16-20","M",{"$f":"\">=\"&P26","v":">=1000"},{"$f":"\"<\"&P27","v":"<1050"},null,1200,"1150-1200",{"$f":"DCOUNT(Individual_Scores,M35,K35:N36)","v":0}]
[null,"Age Group","Gender","Tournament 3",{"$f":"D31","v":"Tournament 3"},null,1250,"1200-1250",{"$f":"DCOUNT(Individual_Scores,D37,B37:E38)","v":0},null,"Age Group","Gender","Tournament 3",{"$f":"M31","v":"Tournament 3"},null,1250,"1200-1250",{"$f":"DCOUNT(Individual_Scores,M37,K37:N38)","v":0}]
[null,"15 & <","M",{"$f":"\">=\"&G27","v":">=1050"},{"$f":"\"<\"&G28","v":"<1100"},null,1300,"1250-1300",{"$f":"DCOUNT(Individual_Scores,D39,B39:E40)","v":0},null,"16-20","M",{"$f":"\">=\"&P27","v":">=1050"},{"$f":"\"<\"&P28","v":"<1100"},null,1300,"1250-1300",{"$f":"DCOUNT(Individual_Scores,M39,K39:N40)","v":0}]
[null,"Age Group","Gender","Tournament 3",{"$f":"D33","v":"Tournament 3"},null,1350,{"$f":"\">1300\"","v":">1300"},{"$f":"DCOUNT(Individual_Scores,D41,B41:E42)","v":0},null,"Age Group","Gender","Tournament 3",{"$f":"M33","v":"Tournament 3"},null,1350,{"$f":"\">1300\"","v":">1300"},{"$f":"DCOUNT(Individual_Scores,M41,K41:N42)","v":0}]
[null,"15 & <","M",{"$f":"\">=\"&G28","v":">=1100"},{"$f":"\"<\"&G29","v":"<1150"},null,null,null,null,null,"16-20","M",{"$f":"\">=\"&P28","v":">=1100"},{"$f":"\"<\"&P29","v":"<1150"}]
[null,"Age Group","Gender","Tournament 3",{"$f":"D35","v":"Tournament 3"},null,null,null,null,null,"Age Group","Gender","Tournament 3",{"$f":"M35","v":"Tournament 3"}]
[null,"15 & <","M",{"$f":"\">=\"&G29","v":">=1150"},{"$f":"\"<\"&G30","v":"<1200"},null,null,null,null,null,"16-20","M",{"$f":"\">=\"&P29","v":">=1150"},{"$f":"\"<\"&P30","v":"<1200"}]
[null,"Age Group","Gender","Tournament 3",{"$f":"D37","v":"Tournament 3"},null,null,null,null,null,"Age Group","Gender","Tournament 3",{"$f":"M37","v":"Tournament 3"}]
[null,"15 & <","M",{"$f":"\">=\"&G30","v":">=1200"},{"$f":"\"<\"&G31","v":"<1250"},null,null,null,null,null,"16-20","M",{"$f":"\">=\"&P30","v":">=1200"},{"$f":"\"<\"&P31","v":"<1250"}]
[null,"Age Group","Gender","Tournament 3",{"$f":"D39","v":"Tournament 3"},null,null,null,null,null,"Age Group","Gender","Tournament 3",{"$f":"M39","v":"Tournament 3"}]
[null,"15 & <","M",{"$f":"\">=\"&G31","v":">=1250"},{"$f":"\"<\"&G32","v":"<1300"},null,null,null,null,null,"16-20","M",{"$f":"\">=\"&P31","v":">=1250"},{"$f":"\"<\"&P32","v":"<1300"}]
[null,{"$f":"B39","v":"Age Group"},"Gender","Tournament 3",null,null,null,null,null,null,{"$f":"K39","v":"Age Group"},"Gender","Tournament 3"]
[null,"15 & <","M",{"$f":"\">=\"&G32","v":">=1300"},null,null,null,null,null,null,"16-20","M",{"$f":"\">=\"&P32","v":">=1300"}]

{"sheet":"Rpt Tourn 1","index":8,"n_rows":26,"n_cols":13,"rows_kept":26,"cut":false,"hidden":false,"merged":[[22,7,26,12],[0,2,0,5],[0,7,0,10],[0,11,0,12],[2,7,5,8],[2,9,3,9],[4,9,5,9],[6,7,9,8],[6,9,7,9],[8,9,9,9],[10,7,13,8],[10,9,11,9],[12,9,13,9],[14,7,17,8],[14,9,15,9],[16,9,17,9]]}
[]
[null,null,{"$f":"'Team Scores'!C2","v":"Regulation"},{"$f":"'Team Scores'!D2","v":"Baker"},{"$f":"'Team Scores'!E2","v":"Total"},null,null,{"$f":"'Individual Awards'!A2","v":"Individual High Scores -- Tournament"},null,null,null,{"$f":"'Individual Awards'!E2","v":"Name"},{"$f":"'Individual Awards'!F2","v":"Score"}]
[{"$f":"'Team Scores'!A3","v":"All Divisions"},null,null,null,null,null,null,{"$f":"'Individual Awards'!A3","v":"High Game"},null,{"$f":"'Individual Awards'!C3","v":"F"},{"$f":"'Individual Awards'!D3","v":"15 & <"},{"$f":"'Individual Awards'!E3","v":"Danielle Lane (SC)"},{"$f":"'Individual Awards'!F3","v":236}]
[{"$f":"'Team Scores'!A4","v":"Georgia"},null,{"$f":"'Team Scores'!C4","v":41838},{"$f":"'Team Scores'!D4","v":16240},{"$f":"'Team Scores'!E4","v":58078},{"$f":"'Team Scores'!F4","v":-2045},null,null,null,null,{"$f":"'Individual Awards'!D4","v":"16-20"},{"$f":"'Individual Awards'!E4","v":"Breanna Clemmer (NC)"},{"$f":"'Individual Awards'!F4","v":268}]
[{"$f":"'Team Scores'!A5","v":"North Carolina"},null,{"$f":"'Team Scores'!C5","v":42856},{"$f":"'Team Scores'!D5","v":17267},{"$f":"'Team Scores'!E5","v":60123},{"$f":"'Team Scores'!F5","v":0},null,null,null,{"$f":"'Individual Awards'!C5","v":"M"},{"$f":"'Individual Awards'!D5","v":"15 & <"},{"$f":"'Individual Awards'!E5","v":"Brandon Magennis (SC)"},{"$f":"'Individual Awards'!F5","v":265}]
[{"$f":"'Team Scores'!A6","v":"South Carolina"},null,{"$f":"'Team Scores'!C6","v":41425},{"$f":"'Team Scores'!D6","v":16496},{"$f":"'Team Scores'!E6","v":57921},{"$f":"'Team Scores'!F6","v":-2202},null,null,null,null,{"$f":"'Individual Awards'!D6","v":"16-20"},{"$f":"'Individual Awards'!E6","v":"TIE"},{"$f":"'Individual Awards'!F6","v":268}]
[null,null,null,null,null,null,null,{"$f":"'Individual Awards'!A7","v":"High Series"},null,{"$f":"'Individual Awards'!C7","v":"F"},{"$f":"'Individual Awards'!D7","v":"15 & <"},{"$f":"'Individual Awards'!E7","v":"Cameron Strombeck (NC)"},{"$f":"'Individual Awards'!F7","v":646}]
[{"$f":"'Team Scores'!A8","v":"Age 15 & < Girls"},null,null,null,null,null,null,null,null,null,{"$f":"'Individual Awards'!D8","v":"16-20"},{"$f":"'Individual Awards'!E8","v":"Kasey Smith (SC)"},{"$f":"'Individual Awards'!F8","v":656}]
[{"$f":"'Team Scores'!A9","v":"Georgia"},null,{"$f":"'Team Scores'!C9","v":9220},{"$f":"'Team Scores'!D9","v":3974},{"$f":"'Team Scores'!E9","v":13194},{"$f":"'Team Scores'!F9","v":-839},null,null,null,{"$f":"'Individual Awards'!C9","v":"M"},{"$f":"'Individual Awards'!D9","v":"15 & <"},{"$f":"'Individual Awards'!E9","v":"Peyton Smith (GA)"},{"$f":"'Individual Awards'!F9","v":723}]
[{"$f":"'Team Scores'!A10","v":"North Carolina"},null,{"$f":"'Team Scores'!C10","v":10036},{"$f":"'Team Scores'!D10","v":3997},{"$f":"'Team Scores'!E10","v":14033},{"$f":"'Team Scores'!F10","v":0},null,null,null,null,{"$f":"'Individual Awards'!D10","v":"16-20"},{"$f":"'Individual Awards'!E10","v":"Christian Gurney (SC)"},{"$f":"'Individual Awards'!F10","v":686}]
[{"$f":"'Team Scores'!A11","v":"South Carolina"},null,{"$f":"'Team Scores'!C11","v":9806},{"$f":"'Team Scores'!D11","v":3747},{"$f":"'Team Scores'!E11","v":13553},{"$f":"'Team Scores'!F11","v":-480},null,{"$f":"'Individual Awards'!A11","v":"Bowler of the Year"},null,{"$f":"'Individual Awards'!C11","v":"F"},{"$f":"'Individual Awards'!D11","v":"15 & <"},{"$f":"'Individual Awards'!E11","v":"Cameron Strombeck (NC)"},{"$f":"'Individual Awards'!F11","v":2413}]
[null,null,null,null,null,null,null,null,null,null,{"$f":"'Individual Awards'!D12","v":"16-20"},{"$f":"'Individual Awards'!E12","v":"Breanna Clemmer (NC)"},{"$f":"'Individual Awards'!F12","v":2446}]
[{"$f":"'Team Scores'!A13","v":"Age 15 & < Boys"},null,null,null,null,null,null,null,null,{"$f":"'Individual Awards'!C13","v":"M"},{"$f":"'Individual Awards'!D13","v":"15 & <"},{"$f":"'Individual Awards'!E13","v":"Peyton Smith (GA)"},{"$f":"'Individual Awards'!F13","v":2629}]
[{"$f":"'Team Scores'!A14","v":"Georgia"},null,{"$f":"'Team Scores'!C14","v":10378},{"$f":"'Team Scores'!D14","v":4100},{"$f":"'Team Scores'!E14","v":14478},{"$f":"'Team Scores'!F14","v":-437},null,null,null,null,{"$f":"'Individual Awards'!D14","v":"16-20"},{"$f":"'Individual Awards'!E14","v":"Troy White (NC)"},{"$f":"'Individual Awards'!F14","v":2670}]
[{"$f":"'Team Scores'!A15","v":"North Carolina"},null,{"$f":"'Team Scores'!C15","v":10452},{"$f":"'Team Scores'!D15","v":4463},{"$f":"'Team Scores'!E15","v":14915},{"$f":"'Team Scores'!F15","v":0},null,{"$f":"'Individual Awards'!A15","v":"High Total Pins This Tournament"},null,{"$f":"'Individual Awards'!C15","v":"F"},{"$f":"'Individual Awards'!D15","v":"15 & <"},{"$f":"'Individual Awards'!E15","v":"Cameron Strombeck (NC)"},{"$f":"'Individual Awards'!F15","v":1253}]
[{"$f":"'Team Scores'!A16","v":"South Carolina"},null,{"$f":"'Team Scores'!C16","v":10597},{"$f":"'Team Scores'!D16","v":4269},{"$f":"'Team Scores'!E16","v":14866},{"$f":"'Team Scores'!F16","v":-49},null,null,null,null,{"$f":"'Individual Awards'!D16","v":"16-20"},{"$f":"'Individual Awards'!E16","v":"Breanna Clemmer (NC)"},{"$f":"'Individual Awards'!F16","v":1208}]
[null,null,null,null,null,null,null,null,null,{"$f":"'Individual Awards'!C17","v":"M"},{"$f":"'Individual Awards'!D17","v":"15 & <"},{"$f":"'Individual Awards'!E17","v":"Peyton Smith (GA)"},{"$f":"'Individual Awards'!F17","v":1341}]
[{"$f":"'Team Scores'!A18","v":"Age 16-20 Girls"},null,null,null,null,null,null,null,null,null,{"$f":"'Individual Awards'!D18","v":"16-20"},{"$f":"'Individual Awards'!E18","v":"Josh Rondino (GA)"},{"$f":"'Individual Awards'!F18","v":1295}]
[{"$f":"'Team Scores'!A19","v":"Georgia"},null,{"$f":"'Team Scores'!C19","v":10618},{"$f":"'Team Scores'!D19","v":4008},{"$f":"'Team Scores'!E19","v":14626},{"$f":"'Team Scores'!F19","v":0}]
[{"$f":"'Team Scores'!A20","v":"North Carolina"},null,{"$f":"'Team Scores'!C20","v":10471},{"$f":"'Team Scores'!D20","v":4056},{"$f":"'Team Scores'!E20","v":14527},{"$f":"'Team Scores'!F20","v":-99}]
[{"$f":"'Team Scores'!A21","v":"South Carolina"},null,{"$f":"'Team Scores'!C21","v":9963},{"$f":"'Team Scores'!D21","v":3984},{"$f":"'Team Scores'!E21","v":13947},{"$f":"'Team Scores'!F21","v":-679}]
[]
[{"$f":"'Team Scores'!A23","v":"Age 16-20 Boys"},null,null,null,null,null,null,{"$f":"'Individual Awards'!E1","v":"Gold Cup Russell Pkwy, Warner Robins, GA"}]
[{"$f":"'Team Scores'!A24","v":"Georgia"},null,{"$f":"'Team Scores'!C24","v":11622},{"$f":"'Team Scores'!D24","v":4158},{"$f":"'Team Scores'!E24","v":15780},{"$f":"'Team Scores'!F24","v":-868}]
[{"$f":"'Team Scores'!A25","v":"North Carolina"},null,{"$f":"'Team Scores'!C25","v":11897},{"$f":"'Team Scores'!D25","v":4751},{"$f":"'Team Scores'!E25","v":16648},{"$f":"'Team Scores'!F25","v":0}]
[{"$f":"'Team Scores'!A26","v":"South Carolina"},null,{"$f":"'Team Scores'!C26","v":11059},{"$f":"'Team Scores'!D26","v":4496},{"$f":"'Team Scores'!E26","v":15555},{"$f":"'Team Scores'!F26","v":-1093}]

{"sheet":"Individual Scores","index":9,"n_rows":287,"n_cols":45,"rows_kept":287,"cut":false,"hidden":false,"merged":[[262,2,263,2],[264,2,265,2],[270,2,271,2],[272,2,273,2],[266,2,267,2],[268,2,269,2]]}
["State","Age Group","Gender","Full Name","Tournament 1","Tournament 2","Tournament 3","All Events Total","Bowler of Year Pins Back","High Game","High Series","Average","Consistency\n(Avg Deviation from Average)","Avg Range\n(avg +/- Avg Deviation)","counter",null,"T1 Game 1","T1 Game 2","T1 Game 3","T1 Game 4","T1 Game 5","T1 Game 6","T1 Tournament Total","T1 High Game","T1 High Series",null,"T2 Game 1","T2 Game 2","T2 Game 3","T2 Game 4","T2 Game 5","T2 Game 6","T2 Tournament Total","T2 High Game","T2 High Series",null,"T3 Game 1","T3 Game 2","T3 Game 3","T3 Game 4","T3 Game 5","T3 Game 6","T3 Tournament Total","T3 High Game","T3 High Series"]
["GA",null,null,null,null,null,null,null,{"$f":"IF(COUNT(Q2:V2,AA2:AF2,AK2:AP2)>=18/3*'Team Scores'!$Z$1,IF(H2-VLOOKUP(B2&C2,'Individual Awards Computations'!$AY$54:$AZ$58,2,FALSE)=0,\"Leader \"&C2&\":\"&B2,H2-VLOOKUP(B2&C2,'Individual Awards Computations'!$AY$54:$AZ$58,2,FALSE)),\"\")","v":""},{"$f":"IF(H2=0,\"\",MAX(Q2:V2,AA2:AF2,AK2:AP2))","v":""},{"$f":"IF(H2=0,\"\",MAX(SUM(Q2:S2),SUM(T2:V2),SUM(AA2:AC2),SUM(AD2:AF2),SUM(AK2:AM2),SUM(AN2:AP2)))","v":""},{"$f":"IF(H2=0,\"\",AVERAGE(Q2:V2,AA2:AF2,AK2:AP2))","v":""},{"$f":"IF(H2=0,\"\",AVEDEV(Q2:V2,AA2:AF2,AK2:AP2))","v":""},{"$f":"IF(H2=0,\"\",ROUND(L2-M2,0)&\"-\"&ROUND(L2+M2,0))","v":""},{"$f":"COUNTIF($D$3:$D$169,D2)","v":0}]
["GA","15 & <","F","Anita Li",{"$f":"W3","v":994},{"$f":"AG3","v":944},{"$f":"AQ3","v":""},{"$f":"SUM(AQ3,AG3,W3)","v":1938},{"$f":"IF(COUNT(Q3:V3,AA3:AF3,AK3:AP3)>=18/3*'Team Scores'!$Z$1,IF(H3-VLOOKUP(B3&C3,'Individual Awards Computations'!$AY$54:$AZ$58,2,FALSE)=0,\"Leader \"&C3&\":\"&B3,H3-VLOOKUP(B3&C3,'Individual Awards Computations'!$AY$54:$AZ$58,2,FALSE)),\"\")","v":-475},183,509,161.5,12.583333333333334,"149-174",1,null,{"$f":"IF(ISERROR(MATCH('Individual Scores'!$D3,Scores!$F$1:$F$253,0)),\"\",INDIRECT(\"Scores!\"&\"R\"&MATCH('Individual Scores'!$D3,Scores!$F$1:$F$253,0)&\"C\"&COLUMN(Scores!J$1),FALSE))","v":135},{"$f":"IF(ISERROR(MATCH('Individual Scores'!$D3,Scores!$F$1:$F$253,0)),\"\",INDIRECT(\"Scores!\"&\"R\"&MATCH('Individual Scores'!$D3,Scores!$F$1:$F$253,0)&\"C\"&COLUMN(Scores!K$1),FALSE))","v":180},{"$f":"IF(ISERROR(MATCH('Individual Scores'!$D3,Scores!$F$1:$F$253,0)),\"\",INDIRECT(\"Scores!\"&\"R\"&MATCH('Individual Scores'!$D3,Scores!$F$1:$F$253,0)&\"C\"&COLUMN(Scores!L$1),FALSE))","v":170},{"$f":"IF(ISERROR(MATCH('Individual Scores'!$D3,Scores!$F$1:$F$253,0)),\"\",INDIRECT(\"Scores!\"&\"R\"&MATCH('Individual Scores'!$D3,Scores!$F$1:$F$253,0)&\"C\"&COLUMN(Scores!N$1),FALSE))","v":166},{"$f":"IF(ISERROR(MATCH('Individual Scores'!$D3,Scores!$F$1:$F$253,0)),\"\",INDIRECT(\"Scores!\"&\"R\"&MATCH('Individual Scores'!$D3,Scores!$F$1:$F$253,0)&\"C\"&COLUMN(Scores!O$1),FALSE))","v":183},{"$f":"IF(ISERROR(MATCH('Individual Scores'!$D3,Scores!$F$1:$F$253,0)),\"\",INDIRECT(\"Scores!\"&\"R\"&MATCH('Individual Scores'!$D3,Scores!$F$1:$F$253,0)&\"C\"&COLUMN(Scores!P$1),FALSE))","v":160},{"$f":"IF(ISERROR(MATCH('Individual Scores'!$D3,Scores!$F$1:$F$253,0)),\"\",INDIRECT(\"Scores!\"&\"R\"&MATCH('Individual Scores'!$D3,Scores!$F$1:$F$253,0)&\"C\"&COLUMN(Scores!S$1),FALSE))","v":994},{"$f":"IF(MAX('Individual Scores'!Q3:V3)>0,MAX('Individual Scores'!Q3:V3),\"\")","v":183},{"$f":"IF(MAX(SUM('Individual Scores'!Q3:S3),SUM('Individual Scores'!T3:V3))>0,MAX(SUM('Individual Scores'!Q3:S3),SUM('Individual Scores'!T3:V3)),\"\")","v":509},null,{"$f":"IF('Team Scores'!$Z$1<2,\"\",IF(ISERROR(MATCH('Individual Scores'!$D3,Scores!$F$253:$F$506,0)),\"\",INDIRECT(\"Scores!\"&\"R\"&(ROW(Scores!$253:$253)-1+MATCH('Individual Scores'!$D3,Scores!$F$253:$F$505,0))&\"C\"&COLUMN(Scores!J$1),FALSE)))","v":165},{"$f":"IF('Team Scores'!$Z$1<2,\"\",IF(ISERROR(MATCH('Individual Scores'!$D3,Scores!$F$253:$F$506,0)),\"\",INDIRECT(\"Scores!\"&\"R\"&(ROW(Scores!$253:$253)-1+MATCH('Individual Scores'!$D3,Scores!$F$253:$F$505,0))&\"C\"&COLUMN(Scores!K$1),FALSE)))","v":150},{"$f":"IF('Team Scores'!$Z$1<2,\"\",IF(ISERROR(MATCH('Individual Scores'!$D3,Scores!$F$253:$F$506,0)),\"\",INDIRECT(\"Scores!\"&\"R\"&(ROW(Scores!$253:$253)-1+MATCH('Individual Scores'!$D3,Scores!$F$253:$F$505,0))&\"C\"&COLUMN(Scores!L$1),FALSE)))","v":172},{"$f":"IF('Team Scores'!$Z$1<2,\"\",IF(ISERROR(MATCH('Individual Scores'!$D3,Scores!$F$253:$F$506,0)),\"\",INDIRECT(\"Scores!\"&\"R\"&(ROW(Scores!$253:$253)-1+MATCH('Individual Scores'!$D3,Scores!$F$253:$F$505,0))&\"C\"&COLUMN(Scores!N$1),FALSE)))","v":154},{"$f":"IF('Team Scores'!$Z$1<2,\"\",IF(ISERROR(MATCH('Individual Scores'!$D3,Scores!$F$253:$F$506,0)),\"\",INDIRECT(\"Scores!\"&\"R\"&(ROW(Scores!$253:$253)-1+MATCH('Individual Scores'!$D3,Scores!$F$253:$F$505,0))&\"C\"&COLUMN(Scores!O$1),FALSE)))","v":170},{"$f":"IF('Team Scores'!$Z$1<2,\"\",IF(ISERROR(MATCH('Individual Scores'!$D3,Scores!$F$253:$F$506,0)),\"\",INDIRECT(\"Scores!\"&\"R\"&(ROW(Scores!$253:$253)-1+MATCH('Individual Scores'!$D3,Scores!$F$253:$F$505,0))&\"C\"&COLUMN(Scores!P$1),FALSE)))","v":133},{"$f":"IF('Team Scores'!$Z$1<2,\"\",IF(ISERROR(MATCH('Individual Scores'!$D3,Scores!$F$253:$F$506,0)),\"\",INDIRECT(\"Scores!\"&\"R\"&(ROW(Scores!$253:$253)-1+MATCH('Individual Scores'!$D3,Scores!$F$253:$F$505,0))&\"C\"&COLUMN(Scores!S$1),FALSE)))","v":944},{"$f":"IF(MAX(AA3:AF3)>0,MAX(AA3:AF3),\"\")","v":172},{"$f":"IF(MAX(SUM(AA3:AC3),SUM(AD3:AF3))>0,MAX(SUM(AA3:AC3),SUM(AD3:AF3)),\"\")","v":487},null,{"$f":"IF('Team Scores'!$Z$1<3,\"\",IF(ISERROR(MATCH('Individual Scores'!$D3,Scores!$F$506:$F$759,0)),\"\",INDIRECT(\"Scores!\"&\"R\"&(ROW(Scores!$F$506:$F$759)-1+MATCH('Individual Scores'!$D3,Scores!$F$506:$F$759,0))&\"C\"&COLUMN(Scores!J$1),FALSE)))","v":""},{"$f":"IF('Team Scores'!$Z$1<3,\"\",IF(ISERROR(MATCH('Individual Scores'!$D3,Scores!$F$506:$F$759,0)),\"\",INDIRECT(\"Scores!\"&\"R\"&(ROW(Scores!$F$506:$F$759)-1+MATCH('Individual Scores'!$D3,Scores!$F$506:$F$759,0))&\"C\"&COLUMN(Scores!K$1),FALSE)))","v":""},{"$f":"IF('Team Scores'!$Z$1<3,\"\",IF(ISERROR(MATCH('Individual Scores'!$D3,Scores!$F$506:$F$759,0)),\"\",INDIRECT(\"Scores!\"&\"R\"&(ROW(Scores!$F$506:$F$759)-1+MATCH('Individual Scores'!$D3,Scores!$F$506:$F$759,0))&\"C\"&COLUMN(Scores!L$1),FALSE)))","v":""},{"$f":"IF('Team Scores'!$Z$1<3,\"\",IF(ISERROR(MATCH('Individual Scores'!$D3,Scores!$F$506:$F$759,0)),\"\",INDIRECT(\"Scores!\"&\"R\"&(ROW(Scores!$F$506:$F$759)-1+MATCH('Individual Scores'!$D3,Scores!$F$506:$F$759,0))&\"C\"&COLUMN(Scores!N$1),FALSE)))","v":""},{"$f":"IF('Team Scores'!$Z$1<3,\"\",IF(ISERROR(MATCH('Individual Scores'!$D3,Scores!$F$506:$F$759,0)),\"\",INDIRECT(\"Scores!\"&\"R\"&(ROW(Scores!$F$506:$F$759)-1+MATCH('Individual Scores'!$D3,Scores!$F$506:$F$759,0))&\"C\"&COLUMN(Scores!O$1),FALSE)))","v":""},{"$f":"IF('Team Scores'!$Z$1<3,\"\",IF(ISERROR(MATCH('Individual Scores'!$D3,Scores!$F$506:$F$759,0)),\"\",INDIRECT(\"Scores!\"&\"R\"&(ROW(Scores!$F$506:$F$759)-1+MATCH('Individual Scores'!$D3,Scores!$F$506:$F$759,0))&\"C\"&COLUMN(Scores!P$1),FALSE)))","v":""},{"$f":"IF('Team Scores'!$Z$1<3,\"\",IF(ISERROR(MATCH('Individual Scores'!$D3,Scores!$F$506:$F$759,0)),\"\",INDIRECT(\"Scores!\"&\"R\"&(ROW(Scores!$F$506:$F$759)-1+MATCH('Individual Scores'!$D3,Scores!$F$506:$F$759,0))&\"C\"&COLUMN(Scores!S$1),FALSE)))","v":""},{"$f":"IF(MAX(AK3:AP3)>0,MAX(AK3:AP3),\"\")","v":""},{"$f":"IF(MAX(SUM(AK3:AM3),SUM(AN3:AP3))>0,MAX(SUM(AK3:AM3),SUM(AN3:AP3)),\"\")","v":""}]
["GA","15 & <","F","Annalise O'Bryant",1012,1136,"",2148,{"$f":"IF(COUNT(Q4:V4,AA4:AF4,AK4:AP4)>=18/3*'Team Scores'!$Z$1,IF(H4-VLOOKUP(B4&C4,'Individual Awards Computations'!$AY$54:$AZ$58,2,FALSE)=0,\"Leader \"&C4&\":\"&B4,H4-VLOOKUP(B4&C4,'Individual Awards Computations'!$AY$54:$AZ$58,2,FALSE)),\"\")","v":-265},{"$f":"IF(H4=0,\"\",MAX(Q4:V4,AA4:AF4,AK4:AP4))","v":212},{"$f":"IF(H4=0,\"\",MAX(SUM(Q4:S4),SUM(T4:V4),SUM(AA4:AC4),SUM(AD4:AF4),SUM(AK4:AM4),SUM(AN4:AP4)))","v":576},{"$f":"IF(H4=0,\"\",AVERAGE(Q4:V4,AA4:AF4,AK4:AP4))","v":179},{"$f":"IF(H4=0,\"\",AVEDEV(Q4:V4,AA4:AF4,AK4:AP4))","v":17},{"$f":"IF(H4=0,\"\",ROUND(L4-M4,0)&\"-\"&ROUND(L4+M4,0))","v":"162-196"},1,null,{"$f":"IF(ISERROR(MATCH('Individual Scores'!$D4,Scores!$F$1:$F$253,0)),\"\",INDIRECT(\"Scores!\"&\"R\"&MATCH('Individual Scores'!$D4,Scores!$F$1:$F$253,0)&\"C\"&COLUMN(Scores!J$1),FALSE))","v":164},{"$f":"IF(ISERROR(MATCH('Individual Scores'!$D4,Scores!$F$1:$F$253,0)),\"\",INDIRECT(\"Scores!\"&\"R\"&MATCH('Individual Scores'!$D4,Scores!$F$1:$F$253,0)&\"C\"&COLUMN(Scores!K$1),FALSE))","v":168},{"$f":"IF(ISERROR(MATCH('Individual Scores'!$D4,Scores!$F$1:$F$253,0)),\"\",INDIRECT(\"Scores!\"&\"R\"&MATCH('Individual Scores'!$D4,Scores!$F$1:$F$253,0)&\"C\"&COLUMN(Scores!L$1),FALSE))","v":170},{"$f":"IF(ISERROR(MATCH('Individual Scores'!$D4,Scores!$F$1:$F$253,0)),\"\",INDIRECT(\"Scores!\"&\"R\"&MATCH('Individual Scores'!$D4,Scores!$F$1:$F$253,0)&\"C\"&COLUMN(Scores!N$1),FALSE))","v":193},{"$f":"IF(ISERROR(MATCH('Individual Scores'!$D4,Scores!$F$1:$F$253,0)),\"\",INDIRECT(\"Scores!\"&\"R\"&MATCH('Individual Scores'!$D4,Scores!$F$1:$F$253,0)&\"C\"&COLUMN(Scores!O$1),FALSE))","v":152},{"$f":"IF(ISERROR(MATCH('Individual Scores'!$D4,Scores!$F$1:$F$253,0)),\"\",INDIRECT(\"Scores!\"&\"R\"&MATCH('Individual Scores'!$D4,Scores!$F$1:$F$253,0)&\"C\"&COLUMN(Scores!P$1),FALSE))","v":165},{"$f":"IF(ISERROR(MATCH('Individual Scores'!$D4,Scores!$F$1:$F$253,0)),\"\",INDIRECT(\"Scores!\"&\"R\"&MATCH('Individual Scores'!$D4,Scores!$F$1:$F$253,0)&\"C\"&COLUMN(Scores!S$1),FALSE))","v":1012},{"$f":"IF(MAX('Individual Scores'!Q4:V4)>0,MAX('Individual Scores'!Q4:V4),\"\")","v":193},{"$f":"IF(MAX(SUM('Individual Scores'!Q4:S4),SUM('Individual Scores'!T4:V4))>0,MAX(SUM('Individual Scores'!Q4:S4),SUM('Individual Scores'!T4:V4)),\"\")","v":510},null,{"$f":"IF('Team Scores'!$Z$1<2,\"\",IF(ISERROR(MATCH('Individual Scores'!$D4,Scores!$F$253:$F$506,0)),\"\",INDIRECT(\"Scores!\"&\"R\"&(ROW(Scores!$253:$253)-1+MATCH('Individual Scores'!$D4,Scores!$F$253:$F$505,0))&\"C\"&COLUMN(Scores!J$1),FALSE)))","v":194},{"$f":"IF('Team Scores'!$Z$1<2,\"\",IF(ISERROR(MATCH('Individual Scores'!$D4,Scores!$F$253:$F$506,0)),\"\",INDIRECT(\"Scores!\"&\"R\"&(ROW(Scores!$253:$253)-1+MATCH('Individual Scores'!$D4,Scores!$F$253:$F$505,0))&\"C\"&COLUMN(Scores!K$1),FALSE)))","v":194},{"$f":"IF('Team Scores'!$Z$1<2,\"\",IF(ISERROR(MATCH('Individual Scores'!$D4,Scores!$F$253:$F$506,0)),\"\",INDIRECT(\"Scores!\"&\"R\"&(ROW(Scores!$253:$253)-1+MATCH('Individual Scores'!$D4,Scores!$F$253:$F$505,0))&\"C\"&COLUMN(Scores!L$1),FALSE)))","v":172},{"$f":"IF('Team Scores'!$Z$1<2,\"\",IF(ISERROR(MATCH('Individual Scores'!$D4,Scores!$F$253:$F$506,0)),\"\",INDIRECT(\"Scores!\"&\"R\"&(ROW(Scores!$253:$253)-1+MATCH('Individual Scores'!$D4,Scores!$F$253:$F$505,0))&\"C\"&COLUMN(Scores!N$1),FALSE)))","v":212},{"$f":"IF('Team Scores'!$Z$1<2,\"\",IF(ISERROR(MATCH('Individual Scores'!$D4,Scores!$F$253:$F$506,0)),\"\",INDIRECT(\"Scores!\"&\"R\"&(ROW(Scores!$253:$253)-1+MATCH('Individual Scores'!$D4,Scores!$F$253:$F$505,0))&\"C\"&COLUMN(Scores!O$1),FALSE)))","v":204},{"$f":"IF('Team Scores'!$Z$1<2,\"\",IF(ISERROR(MATCH('Individual Scores'!$D4,Scores!$F$253:$F$506,0)),\"\",INDIRECT(\"Scores!\"&\"R\"&(ROW(Scores!$253:$253)-1+MATCH('Individual Scores'!$D4,Scores!$F$253:$F$505,0))&\"C\"&COLUMN(Scores!P$1),FALSE)))","v":160},{"$f":"IF('Team Scores'!$Z$1<2,\"\",IF(ISERROR(MATCH('Individual Scores'!$D4,Scores!$F$253:$F$506,0)),\"\",INDIRECT(\"Scores!\"&\"R\"&(ROW(Scores!$253:$253)-1+MATCH('Individual Scores'!$D4,Scores!$F$253:$F$505,0))&\"C\"&COLUMN(Scores!S$1),FALSE)))","v":1136},212,576,null,{"$f":"IF('Team Scores'!$Z$1<3,\"\",IF(ISERROR(MATCH('Individual Scores'!$D4,Scores!$F$506:$F$759,0)),\"\",INDIRECT(\"Scores!\"&\"R\"&(ROW(Scores!$F$506:$F$759)-1+MATCH('Individual Scores'!$D4,Scores!$F$506:$F$759,0))&\"C\"&COLUMN(Scores!J$1),FALSE)))","v":""},{"$f":"IF('Team Scores'!$Z$1<3,\"\",IF(ISERROR(MATCH('Individual Scores'!$D4,Scores!$F$506:$F$759,0)),\"\",INDIRECT(\"Scores!\"&\"R\"&(ROW(Scores!$F$506:$F$759)-1+MATCH('Individual Scores'!$D4,Scores!$F$506:$F$759,0))&\"C\"&COLUMN(Scores!K$1),FALSE)))","v":""},{"$f":"IF('Team Scores'!$Z$1<3,\"\",IF(ISERROR(MATCH('Individual Scores'!$D4,Scores!$F$506:$F$759,0)),\"\",INDIRECT(\"Scores!\"&\"R\"&(ROW(Scores!$F$506:$F$759)-1+MATCH('Individual Scores'!$D4,Scores!$F$506:$F$759,0))&\"C\"&COLUMN(Scores!L$1),FALSE)))","v":""},{"$f":"IF('Team Scores'!$Z$1<3,\"\",IF(ISERROR(MATCH('Individual Scores'!$D4,Scores!$F$506:$F$759,0)),\"\",INDIRECT(\"Scores!\"&\"R\"&(ROW(Scores!$F$506:$F$759)-1+MATCH('Individual Scores'!$D4,Scores!$F$506:$F$759,0))&\"C\"&COLUMN(Scores!N$1),FALSE)))","v":""},{"$f":"IF('Team Scores'!$Z$1<3,\"\",IF(ISERROR(MATCH('Individual Scores'!$D4,Scores!$F$506:$F$759,0)),\"\",INDIRECT(\"Scores!\"&\"R\"&(ROW(Scores!$F$506:$F$759)-1+MATCH('Individual Scores'!$D4,Scores!$F$506:$F$759,0))&\"C\"&COLUMN(Scores!O$1),FALSE)))","v":""},{"$f":"IF('Team Scores'!$Z$1<3,\"\",IF(ISERROR(MATCH('Individual Scores'!$D4,Scores!$F$506:$F$759,0)),\"\",INDIRECT(\"Scores!\"&\"R\"&(ROW(Scores!$F$506:$F$759)-1+MATCH('Individual Scores'!$D4,Scores!$F$506:$F$759,0))&\"C\"&COLUMN(Scores!P$1),FALSE)))","v":""},{"$f":"IF('Team Scores'!$Z$1<3,\"\",IF(ISERROR(MATCH('Individual Scores'!$D4,Scores!$F$506:$F$759,0)),\"\",INDIRECT(\"Scores!\"&\"R\"&(ROW(Scores!$F$506:$F$759)-1+MATCH('Individual Scores'!$D4,Scores!$F$506:$F$759,0))&\"C\"&COLUMN(Scores!S$1),FALSE)))","v":""},{"$f":"IF(MAX(AK4:AP4)>0,MAX(AK4:AP4),\"\")","v":""},{"$f":"IF(MAX(SUM(AK4:AM4),SUM(AN4:AP4))>0,MAX(SUM(AK4:AM4),SUM(AN4:AP4)),\"\")","v":""}]
["GA","15 & <","F","Bethany Noel",959,962,"",1921,{"$f":"IF(COUNT(Q5:V5,AA5:AF5,AK5:AP5)>=18/3*'Team Scores'!$Z$1,IF(H5-VLOOKUP(B5&C5,'Individual Awards Computations'!$AY$54:$AZ$58,2,FALSE)=0,\"Leader \"&C5&\":\"&B5,H5-VLOOKUP(B5&C5,'Individual Awards Computations'!$AY$54:$AZ$58,2,FALSE)),\"\")","v":-492},181,490,160.08333333333334,10.583333333333334,"150-171",1,null,{"$f":"IF(ISERROR(MATCH('Individual Scores'!$D5,Scores!$F$1:$F$253,0)),\"\",INDIRECT(\"Scores!\"&\"R\"&MATCH('Individual Scores'!$D5,Scores!$F$1:$F$253,0)&\"C\"&COLUMN(Scores!J$1),FALSE))","v":137},{"$f":"IF(ISERROR(MATCH('Individual Scores'!$D5,Scores!$F$1:$F$253,0)),\"\",INDIRECT(\"Scores!\"&\"R\"&MATCH('Individual Scores'!$D5,Scores!$F$1:$F$253,0)&\"C\"&COLUMN(Scores!K$1),FALSE))","v":159},{"$f":"IF(ISERROR(MATCH('Individual Scores'!$D5,Scores!$F$1:$F$253,0)),\"\",INDIRECT(\"Scores!\"&\"R\"&MATCH('Individual Scores'!$D5,Scores!$F$1:$F$253,0)&\"C\"&COLUMN(Scores!L$1),FALSE))","v":176},{"$f":"IF(ISERROR(MATCH('Individual Scores'!$D5,Scores!$F$1:$F$253,0)),\"\",INDIRECT(\"Scores!\"&\"R\"&MATCH('Individual Scores'!$D5,Scores!$F$1:$F$253,0)&\"C\"&COLUMN(Scores!N$1),FALSE))","v":181},{"$f":"IF(ISERROR(MATCH('Individual Scores'!$D5,Scores!$F$1:$F$253,0)),\"\",INDIRECT(\"Scores!\"&\"R\"&MATCH('Individual Scores'!$D5,Scores!$F$1:$F$253,0)&\"C\"&COLUMN(Scores!O$1),FALSE))","v":145},{"$f":"IF(ISERROR(MATCH('Individual Scores'!$D5,Scores!$F$1:$F$253,0)),\"\",INDIRECT(\"Scores!\"&\"R\"&MATCH('Individual Scores'!$D5,Scores!$F$1:$F$253,0)&\"C\"&COLUMN(Scores!P$1),FALSE))","v":161},{"$f":"IF(ISERROR(MATCH('Individual Scores'!$D5,Scores!$F$1:$F$253,0)),\"\",INDIRECT(\"Scores!\"&\"R\"&MATCH('Individual Scores'!$D5,Scores!$F$1:$F$253,0)&\"C\"&COLUMN(Scores!S$1),FALSE))","v":959},{"$f":"IF(MAX('Individual Scores'!Q5:V5)>0,MAX('Individual Scores'!Q5:V5),\"\")","v":181},{"$f":"IF(MAX(SUM('Individual Scores'!Q5:S5),SUM('Individual Scores'!T5:V5))>0,MAX(SUM('Individual Scores'!Q5:S5),SUM('Individual Scores'!T5:V5)),\"\")","v":487},null,{"$f":"IF('Team Scores'!$Z$1<2,\"\",IF(ISERROR(MATCH('Individual Scores'!$D5,Scores!$F$253:$F$506,0)),\"\",INDIRECT(\"Scores!\"&\"R\"&(ROW(Scores!$253:$253)-1+MATCH('Individual Scores'!$D5,Scores!$F$253:$F$505,0))&\"C\"&COLUMN(Scores!J$1),FALSE)))","v":169},{"$f":"IF('Team Scores'!$Z$1<2,\"\",IF(ISERROR(MATCH('Individual Scores'!$D5,Scores!$F$253:$F$506,0)),\"\",INDIRECT(\"Scores!\"&\"R\"&(ROW(Scores!$253:$253)-1+MATCH('Individual Scores'!$D5,Scores!$F$253:$F$505,0))&\"C\"&COLUMN(Scores!K$1),FALSE)))","v":173},{"$f":"IF('Team Scores'!$Z$1<2,\"\",IF(ISERROR(MATCH('Individual Scores'!$D5,Scores!$F$253:$F$506,0)),\"\",INDIRECT(\"Scores!\"&\"R\"&(ROW(Scores!$253:$253)-1+MATCH('Individual Scores'!$D5,Scores!$F$253:$F$505,0))&\"C\"&COLUMN(Scores!L$1),FALSE)))","v":148},{"$f":"IF('Team Scores'!$Z$1<2,\"\",IF(ISERROR(MATCH('Individual Scores'!$D5,Scores!$F$253:$F$506,0)),\"\",INDIRECT(\"Scores!\"&\"R\"&(ROW(Scores!$253:$253)-1+MATCH('Individual Scores'!$D5,Scores!$F$253:$F$505,0))&\"C\"&COLUMN(Scores!N$1),FALSE)))","v":160},{"$f":"IF('Team Scores'!$Z$1<2,\"\",IF(ISERROR(MATCH('Individual Scores'!$D5,Scores!$F$253:$F$506,0)),\"\",INDIRECT(\"Scores!\"&\"R\"&(ROW(Scores!$253:$253)-1+MATCH('Individual Scores'!$D5,Scores!$F$253:$F$505,0))&\"C\"&COLUMN(Scores!O$1),FALSE)))","v":148},{"$f":"IF('Team Scores'!$Z$1<2,\"\",IF(ISERROR(MATCH('Individual Scores'!$D5,Scores!$F$253:$F$506,0)),\"\",INDIRECT(\"Scores!\"&\"R\"&(ROW(Scores!$253:$253)-1+MATCH('Individual Scores'!$D5,Scores!$F$253:$F$505,0))&\"C\"&COLUMN(Scores!P$1),FALSE)))","v":164},{"$f":"IF('Team Scores'!$Z$1<2,\"\",IF(ISERROR(MATCH('Individual Scores'!$D5,Scores!$F$253:$F$506,0)),\"\",INDIRECT(\"Scores!\"&\"R\"&(ROW(Scores!$253:$253)-1+MATCH('Individual Scores'!$D5,Scores!$F$253:$F$505,0))&\"C\"&COLUMN(Scores!S$1),FALSE)))","v":962},173,490,null,{"$f":"IF('Team Scores'!$Z$1<3,\"\",IF(ISERROR(MATCH('Individual Scores'!$D5,Scores!$F$506:$F$759,0)),\"\",INDIRECT(\"Scores!\"&\"R\"&(ROW(Scores!$F$506:$F$759)-1+MATCH('Individual Scores'!$D5,Scores!$F$506:$F$759,0))&\"C\"&COLUMN(Scores!J$1),FALSE)))","v":""},{"$f":"IF('Team Scores'!$Z$1<3,\"\",IF(ISERROR(MATCH('Individual Scores'!$D5,Scores!$F$506:$F$759,0)),\"\",INDIRECT(\"Scores!\"&\"R\"&(ROW(Scores!$F$506:$F$759)-1+MATCH('Individual Scores'!$D5,Scores!$F$506:$F$759,0))&\"C\"&COLUMN(Scores!K$1),FALSE)))","v":""},{"$f":"IF('Team Scores'!$Z$1<3,\"\",IF(ISERROR(MATCH('Individual Scores'!$D5,Scores!$F$506:$F$759,0)),\"\",INDIRECT(\"Scores!\"&\"R\"&(ROW(Scores!$F$506:$F$759)-1+MATCH('Individual Scores'!$D5,Scores!$F$506:$F$759,0))&\"C\"&COLUMN(Scores!L$1),FALSE)))","v":""},{"$f":"IF('Team Scores'!$Z$1<3,\"\",IF(ISERROR(MATCH('Individual Scores'!$D5,Scores!$F$506:$F$759,0)),\"\",INDIRECT(\"Scores!\"&\"R\"&(ROW(Scores!$F$506:$F$759)-1+MATCH('Individual Scores'!$D5,Scores!$F$506:$F$759,0))&\"C\"&COLUMN(Scores!N$1),FALSE)))","v":""},{"$f":"IF('Team Scores'!$Z$1<3,\"\",IF(ISERROR(MATCH('Individual Scores'!$D5,Scores!$F$506:$F$759,0)),\"\",INDIRECT(\"Scores!\"&\"R\"&(ROW(Scores!$F$506:$F$759)-1+MATCH('Individual Scores'!$D5,Scores!$F$506:$F$759,0))&\"C\"&COLUMN(Scores!O$1),FALSE)))","v":""},{"$f":"IF('Team Scores'!$Z$1<3,\"\",IF(ISERROR(MATCH('Individual Scores'!$D5,Scores!$F$506:$F$759,0)),\"\",INDIRECT(\"Scores!\"&\"R\"&(ROW(Scores!$F$506:$F$759)-1+MATCH('Individual Scores'!$D5,Scores!$F$506:$F$759,0))&\"C\"&COLUMN(Scores!P$1),FALSE)))","v":""},{"$f":"IF('Team Scores'!$Z$1<3,\"\",IF(ISERROR(MATCH('Individual Scores'!$D5,Scores!$F$506:$F$759,0)),\"\",INDIRECT(\"Scores!\"&\"R\"&(ROW(Scores!$F$506:$F$759)-1+MATCH('Individual Scores'!$D5,Scores!$F$506:$F$759,0))&\"C\"&COLUMN(Scores!S$1),FALSE)))","v":""},{"$f":"IF(MAX(AK5:AP5)>0,MAX(AK5:AP5),\"\")","v":""},{"$f":"IF(MAX(SUM(AK5:AM5),SUM(AN5:AP5))>0,MAX(SUM(AK5:AM5),SUM(AN5:AP5)),\"\")","v":""}]
["GA","15 & <","F","Catherine Friess",824,936,"",1760,{"$f":"IF(COUNT(Q6:V6,AA6:AF6,AK6:AP6)>=18/3*'Team Scores'!$Z$1,IF(H6-VLOOKUP(B6&C6,'Individual Awards Computations'!$AY$54:$AZ$58,2,FALSE)=0,\"Leader \"&C6&\":\"&B6,H6-VLOOKUP(B6&C6,'Individual Awards Computations'!$AY$54:$AZ$58,2,FALSE)),\"\")","v":-653},189,502,146.66666666666666,22.444444444444443,"124-169",1,null,{"$f":"IF(ISERROR(MATCH('Individual Scores'!$D6,Scores!$F$1:$F$253,0)),\"\",INDIRECT(\"Scores!\"&\"R\"&MATCH('Individual Scores'!$D6,Scores!$F$1:$F$253,0)&\"C\"&COLUMN(Scores!J$1),FALSE))","v":136},{"$f":"IF(ISERROR(MATCH('Individual Scores'!$D6,Scores!$F$1:$F$253,0)),\"\",INDIRECT(\"Scores!\"&\"R\"&MATCH('Individual Scores'!$D6,Scores!$F$1:$F$253,0)&\"C\"&COLUMN(Scores!K$1),FALSE))","v":124},{"$f":"IF(ISERROR(MATCH('Individual Scores'!$D6,Scores!$F$1:$F$253,0)),\"\",INDIRECT(\"Scores!\"&\"R\"&MATCH('Individual Scores'!$D6,Scores!$F$1:$F$253,0)&\"C\"&COLUMN(Scores!L$1),FALSE))","v":144},{"$f":"IF(ISERROR(MATCH('Individual Scores'!$D6,Scores!$F$1:$F$253,0)),\"\",INDIRECT(\"Scores!\"&\"R\"&MATCH('Individual Scores'!$D6,Scores!$F$1:$F$253,0)&\"C\"&COLUMN(Scores!N$1),FALSE))","v":168},{"$f":"IF(ISERROR(MATCH('Individual Scores'!$D6,Scores!$F$1:$F$253,0)),\"\",INDIRECT(\"Scores!\"&\"R\"&MATCH('Individual Scores'!$D6,Scores!$F$1:$F$253,0)&\"C\"&COLUMN(Scores!O$1),FALSE))","v":104},{"$f":"IF(ISERROR(MATCH('Individual Scores'!$D6,Scores!$F$1:$F$253,0)),\"\",INDIRECT(\"Scores!\"&\"R\"&MATCH('Individual Scores'!$D6,Scores!$F$1:$F$253,0)&\"C\"&COLUMN(Scores!P$1),FALSE))","v":148},{"$f":"IF(ISERROR(MATCH('Individual Scores'!$D6,Scores!$F$1:$F$253,0)),\"\",INDIRECT(\"Scores!\"&\"R\"&MATCH('Individual Scores'!$D6,Scores!$F$1:$F$253,0)&\"C\"&COLUMN(Scores!S$1),FALSE))","v":824},{"$f":"IF(MAX('Individual Scores'!Q6:V6)>0,MAX('Individual Scores'!Q6:V6),\"\")","v":168},{"$f":"IF(MAX(SUM('Individual Scores'!Q6:S6),SUM('Individual Scores'!T6:V6))>0,MAX(SUM('Individual Scores'!Q6:S6),SUM('Individual Scores'!T6:V6)),\"\")","v":420},null,{"$f":"IF('Team Scores'!$Z$1<2,\"\",IF(ISERROR(MATCH('Individual Scores'!$D6,Scores!$F$253:$F$506,0)),\"\",INDIRECT(\"Scores!\"&\"R\"&(ROW(Scores!$253:$253)-1+MATCH('Individual Scores'!$D6,Scores!$F$253:$F$505,0))&\"C\"&COLUMN(Scores!J$1),FALSE)))","v":176},{"$f":"IF('Team Scores'!$Z$1<2,\"\",IF(ISERROR(MATCH('Individual Scores'!$D6,Scores!$F$253:$F$506,0)),\"\",INDIRECT(\"Scores!\"&\"R\"&(ROW(Scores!$253:$253)-1+MATCH('Individual Scores'!$D6,Scores!$F$253:$F$505,0))&\"C\"&COLUMN(Scores!K$1),FALSE)))","v":115},{"$f":"IF('Team Scores'!$Z$1<2,\"\",IF(ISERROR(MATCH('Individual Scores'!$D6,Scores!$F$253:$F$506,0)),\"\",INDIRECT(\"Scores!\"&\"R\"&(ROW(Scores!$253:$253)-1+MATCH('Individual Scores'!$D6,Scores!$F$253:$F$505,0))&\"C\"&COLUMN(Scores!L$1),FALSE)))","v":143},{"$f":"IF('Team Scores'!$Z$1<2,\"\",IF(ISERROR(MATCH('Individual Scores'!$D6,Scores!$F$253:$F$506,0)),\"\",INDIRECT(\"Scores!\"&\"R\"&(ROW(Scores!$253:$253)-1+MATCH('Individual Scores'!$D6,Scores!$F$253:$F$505,0))&\"C\"&COLUMN(Scores!N$1),FALSE)))","v":126},{"$f":"IF('Team Scores'!$Z$1<2,\"\",IF(ISERROR(MATCH('Individual Scores'!$D6,Scores!$F$253:$F$506,0)),\"\",INDIRECT(\"Scores!\"&\"R\"&(ROW(Scores!$253:$253)-1+MATCH('Individual Scores'!$D6,Scores!$F$253:$F$505,0))&\"C\"&COLUMN(Scores!O$1),FALSE)))","v":187},{"$f":"IF('Team Scores'!$Z$1<2,\"\",IF(ISERROR(MATCH('Individual Scores'!$D6,Scores!$F$253:$F$506,0)),\"\",INDIRECT(\"Scores!\"&\"R\"&(ROW(Scores!$253:$253)-1+MATCH('Individual Scores'!$D6,Scores!$F$253:$F$505,0))&\"C\"&COLUMN(Scores!P$1),FALSE)))","v":189},{"$f":"IF('Team Scores'!$Z$1<2,\"\",IF(ISERROR(MATCH('Individual Scores'!$D6,Scores!$F$253:$F$506,0)),\"\",INDIRECT(\"Scores!\"&\"R\"&(ROW(Scores!$253:$253)-1+MATCH('Individual Scores'!$D6,Scores!$F$253:$F$505,0))&\"C\"&COLUMN(Scores!S$1),FALSE)))","v":936},189,502,null,{"$f":"IF('Team Scores'!$Z$1<3,\"\",IF(ISERROR(MATCH('Individual Scores'!$D6,Scores!$F$506:$F$759,0)),\"\",INDIRECT(\"Scores!\"&\"R\"&(ROW(Scores!$F$506:$F$759)-1+MATCH('Individual Scores'!$D6,Scores!$F$506:$F$759,0))&\"C\"&COLUMN(Scores!J$1),FALSE)))","v":""},{"$f":"IF('Team Scores'!$Z$1<3,\"\",IF(ISERROR(MATCH('Individual Scores'!$D6,Scores!$F$506:$F$759,0)),\"\",INDIRECT(\"Scores!\"&\"R\"&(ROW(Scores!$F$506:$F$759)-1+MATCH('Individual Scores'!$D6,Scores!$F$506:$F$759,0))&\"C\"&COLUMN(Scores!K$1),FALSE)))","v":""},{"$f":"IF('Team Scores'!$Z$1<3,\"\",IF(ISERROR(MATCH('Individual Scores'!$D6,Scores!$F$506:$F$759,0)),\"\",INDIRECT(\"Scores!\"&\"R\"&(ROW(Scores!$F$506:$F$759)-1+MATCH('Individual Scores'!$D6,Scores!$F$506:$F$759,0))&\"C\"&COLUMN(Scores!L$1),FALSE)))","v":""},{"$f":"IF('Team Scores'!$Z$1<3,\"\",IF(ISERROR(MATCH('Individual Scores'!$D6,Scores!$F$506:$F$759,0)),\"\",INDIRECT(\"Scores!\"&\"R\"&(ROW(Scores!$F$506:$F$759)-1+MATCH('Individual Scores'!$D6,Scores!$F$506:$F$759,0))&\"C\"&COLUMN(Scores!N$1),FALSE)))","v":""},{"$f":"IF('Team Scores'!$Z$1<3,\"\",IF(ISERROR(MATCH('Individual Scores'!$D6,Scores!$F$506:$F$759,0)),\"\",INDIRECT(\"Scores!\"&\"R\"&(ROW(Scores!$F$506:$F$759)-1+MATCH('Individual Scores'!$D6,Scores!$F$506:$F$759,0))&\"C\"&COLUMN(Scores!O$1),FALSE)))","v":""},{"$f":"IF('Team Scores'!$Z$1<3,\"\",IF(ISERROR(MATCH('Individual Scores'!$D6,Scores!$F$506:$F$759,0)),\"\",INDIRECT(\"Scores!\"&\"R\"&(ROW(Scores!$F$506:$F$759)-1+MATCH('Individual Scores'!$D6,Scores!$F$506:$F$759,0))&\"C\"&COLUMN(Scores!P$1),FALSE)))","v":""},{"$f":"IF('Team Scores'!$Z$1<3,\"\",IF(ISERROR(MATCH('Individual Scores'!$D6,Scores!$F$506:$F$759,0)),\"\",INDIRECT(\"Scores!\"&\"R\"&(ROW(Scores!$F$506:$F$759)-1+MATCH('Individual Scores'!$D6,Scores!$F$506:$F$759,0))&\"C\"&COLUMN(Scores!S$1),FALSE)))","v":""},"",""]
["GA","15 & <","F","Cheyenne Miller",898,964,"",1862,{"$f":"IF(COUNT(Q7:V7,AA7:AF7,AK7:AP7)>=18/3*'Team Scores'!$Z$1,IF(H7-VLOOKUP(B7&C7,'Individual Awards Computations'!$AY$54:$AZ$58,2,FALSE)=0,\"Leader \"&C7&\":\"&B7,H7-VLOOKUP(B7&C7,'Individual Awards Computations'!$AY$54:$AZ$58,2,FALSE)),\"\")","v":-551},191,486,155.16666666666666,11.138888888888891,"144-166",1,null,{"$f":"IF(ISERROR(MATCH('Individual Scores'!$D7,Scores!$F$1:$F$253,0)),\"\",INDIRECT(\"Scores!\"&\"R\"&MATCH('Individual Scores'!$D7,Scores!$F$1:$F$253,0)&\"C\"&COLUMN(Scores!J$1),FALSE))","v":169},{"$f":"IF(ISERROR(MATCH('Individual Scores'!$D7,Scores!$F$1:$F$253,0)),\"\",INDIRECT(\"Scores!\"&\"R\"&MATCH('Individual Scores'!$D7,Scores!$F$1:$F$253,0)&\"C\"&COLUMN(Scores!K$1),FALSE))","v":159},{"$f":"IF(ISERROR(MATCH('Individual Scores'!$D7,Scores!$F$1:$F$253,0)),\"\",INDIRECT(\"Scores!\"&\"R\"&MATCH('Individual Scores'!$D7,Scores!$F$1:$F$253,0)&\"C\"&COLUMN(Scores!L$1),FALSE))","v":156},{"$f":"IF(ISERROR(MATCH('Individual Scores'!$D7,Scores!$F$1:$F$253,0)),\"\",INDIRECT(\"Scores!\"&\"R\"&MATCH('Individual Scores'!$D7,Scores!$F$1:$F$253,0)&\"C\"&COLUMN(Scores!N$1),FALSE))","v":146},{"$f":"IF(ISERROR(MATCH('Individual Scores'!$D7,Scores!$F$1:$F$253,0)),\"\",INDIRECT(\"Scores!\"&\"R\"&MATCH('Individual Scores'!$D7,Scores!$F$1:$F$253,0)&\"C\"&COLUMN(Scores!O$1),FALSE))","v":136},{"$f":"IF(ISERROR(MATCH('Individual Scores'!$D7,Scores!$F$1:$F$253,0)),\"\",INDIRECT(\"Scores!\"&\"R\"&MATCH('Individual Scores'!$D7,Scores!$F$1:$F$253,0)&\"C\"&COLUMN(Scores!P$1),FALSE))","v":132},{"$f":"IF(ISERROR(MATCH('Individual Scores'!$D7,Scores!$F$1:$F$253,0)),\"\",INDIRECT(\"Scores!\"&\"R\"&MATCH('Individual Scores'!$D7,Scores!$F$1:$F$253,0)&\"C\"&COLUMN(Scores!S$1),FALSE))","v":898},{"$f":"IF(MAX('Individual Scores'!Q7:V7)>0,MAX('Individual Scores'!Q7:V7),\"\")","v":169},{"$f":"IF(MAX(SUM('Individual Scores'!Q7:S7),SUM('Individual Scores'!T7:V7))>0,MAX(SUM('Individual Scores'!Q7:S7),SUM('Individual Scores'!T7:V7)),\"\")","v":484},null,{"$f":"IF('Team Scores'!$Z$1<2,\"\",IF(ISERROR(MATCH('Individual Scores'!$D7,Scores!$F$253:$F$506,0)),\"\",INDIRECT(\"Scores!\"&\"R\"&(ROW(Scores!$253:$253)-1+MATCH('Individual Scores'!$D7,Scores!$F$253:$F$505,0))&\"C\"&COLUMN(Scores!J$1),FALSE)))","v":146},{"$f":"IF('Team Scores'!$Z$1<2,\"\",IF(ISERROR(MATCH('Individual Scores'!$D7,Scores!$F$253:$F$506,0)),\"\",INDIRECT(\"Scores!\"&\"R\"&(ROW(Scores!$253:$253)-1+MATCH('Individual Scores'!$D7,Scores!$F$253:$F$505,0))&\"C\"&COLUMN(Scores!K$1),FALSE)))","v":149},{"$f":"IF('Team Scores'!$Z$1<2,\"\",IF(ISERROR(MATCH('Individual Scores'!$D7,Scores!$F$253:$F$506,0)),\"\",INDIRECT(\"Scores!\"&\"R\"&(ROW(Scores!$253:$253)-1+MATCH('Individual Scores'!$D7,Scores!$F$253:$F$505,0))&\"C\"&COLUMN(Scores!L$1),FALSE)))","v":191},{"$f":"IF('Team Scores'!$Z$1<2,\"\",IF(ISERROR(MATCH('Individual Scores'!$D7,Scores!$F$253:$F$506,0)),\"\",INDIRECT(\"Scores!\"&\"R\"&(ROW(Scores!$253:$253)-1+MATCH('Individual Scores'!$D7,Scores!$F$253:$F$505,0))&\"C\"&COLUMN(Scores!N$1),FALSE)))","v":156},{"$f":"IF('Team Scores'!$Z$1<2,\"\",IF(ISERROR(MATCH('Individual Scores'!$D7,Scores!$F$253:$F$506,0)),\"\",INDIRECT(\"Scores!\"&\"R\"&(ROW(Scores!$253:$253)-1+MATCH('Individual Scores'!$D7,Scores!$F$253:$F$505,0))&\"C\"&COLUMN(Scores!O$1),FALSE)))","v":160},{"$f":"IF('Team Scores'!$Z$1<2,\"\",IF(ISERROR(MATCH('Individual Scores'!$D7,Scores!$F$253:$F$506,0)),\"\",INDIRECT(\"Scores!\"&\"R\"&(ROW(Scores!$253:$253)-1+MATCH('Individual Scores'!$D7,Scores!$F$253:$F$505,0))&\"C\"&COLUMN(Scores!P$1),FALSE)))","v":162},{"$f":"IF('Team Scores'!$Z$1<2,\"\",IF(ISERROR(MATCH('Individual Scores'!$D7,Scores!$F$253:$F$506,0)),\"\",INDIRECT(\"Scores!\"&\"R\"&(ROW(Scores!$253:$253)-1+MATCH('Individual Scores'!$D7,Scores!$F$253:$F$505,0))&\"C\"&COLUMN(Scores!S$1),FALSE)))","v":964},191,486,null,{"$f":"IF('Team Scores'!$Z$1<3,\"\",IF(ISERROR(MATCH('Individual Scores'!$D7,Scores!$F$506:$F$759,0)),\"\",INDIRECT(\"Scores!\"&\"R\"&(ROW(Scores!$F$506:$F$759)-1+MATCH('Individual Scores'!$D7,Scores!$F$506:$F$759,0))&\"C\"&COLUMN(Scores!J$1),FALSE)))","v":""},{"$f":"IF('Team Scores'!$Z$1<3,\"\",IF(ISERROR(MATCH('Individual Scores'!$D7,Scores!$F$506:$F$759,0)),\"\",INDIRECT(\"Scores!\"&\"R\"&(ROW(Scores!$F$506:$F$759)-1+MATCH('Individual Scores'!$D7,Scores!$F$506:$F$759,0))&\"C\"&COLUMN(Scores!K$1),FALSE)))","v":""},{"$f":"IF('Team Scores'!$Z$1<3,\"\",IF(ISERROR(MATCH('Individual Scores'!$D7,Scores!$F$506:$F$759,0)),\"\",INDIRECT(\"Scores!\"&\"R\"&(ROW(Scores!$F$506:$F$759)-1+MATCH('Individual Scores'!$D7,Scores!$F$506:$F$759,0))&\"C\"&COLUMN(Scores!L$1),FALSE)))","v":""},{"$f":"IF('Team Scores'!$Z$1<3,\"\",IF(ISERROR(MATCH('Individual Scores'!$D7,Scores!$F$506:$F$759,0)),\"\",INDIRECT(\"Scores!\"&\"R\"&(ROW(Scores!$F$506:$F$759)-1+MATCH('Individual Scores'!$D7,Scores!$F$506:$F$759,0))&\"C\"&COLUMN(Scores!N$1),FALSE)))","v":""},{"$f":"IF('Team Scores'!$Z$1<3,\"\",IF(ISERROR(MATCH('Individual Scores'!$D7,Scores!$F$506:$F$759,0)),\"\",INDIRECT(\"Scores!\"&\"R\"&(ROW(Scores!$F$506:$F$759)-1+MATCH('Individual Scores'!$D7,Scores!$F$506:$F$759,0))&\"C\"&COLUMN(Scores!O$1),FALSE)))","v":""},{"$f":"IF('Team Scores'!$Z$1<3,\"\",IF(ISERROR(MATCH('Individual Scores'!$D7,Scores!$F$506:$F$759,0)),\"\",INDIRECT(\"Scores!\"&\"R\"&(ROW(Scores!$F$506:$F$759)-1+MATCH('Individual Scores'!$D7,Scores!$F$506:$F$759,0))&\"C\"&COLUMN(Scores!P$1),FALSE)))","v":""},{"$f":"IF('Team Scores'!$Z$1<3,\"\",IF(ISERROR(MATCH('Individual Scores'!$D7,Scores!$F$506:$F$759,0)),\"\",INDIRECT(\"Scores!\"&\"R\"&(ROW(Scores!$F$506:$F$759)-1+MATCH('Individual Scores'!$D7,Scores!$F$506:$F$759,0))&\"C\"&COLUMN(Scores!S$1),FALSE)))","v":""},"",""]
["GA","15 & <","F","Emily Rettig",842,1018,"",1860,{"$f":"IF(COUNT(Q8:V8,AA8:AF8,AK8:AP8)>=18/3*'Team Scores'!$Z$1,IF(H8-VLOOKUP(B8&C8,'Individual Awards Computations'!$AY$54:$AZ$58,2,FALSE)=0,\"Leader \"&C8&\":\"&B8,H8-VLOOKUP(B8&C8,'Individual Awards Computations'!$AY$54:$AZ$58,2,FALSE)),\"\")","v":-553},216,516,155,21.5,"134-177",1,null,{"$f":"IF(ISERROR(MATCH('Individual Scores'!$D8,Scores!$F$1:$F$253,0)),\"\",INDIRECT(\"Scores!\"&\"R\"&MATCH('Individual Scores'!$D8,Scores!$F$1:$F$253,0)&\"C\"&COLUMN(Scores!J$1),FALSE))","v":135},{"$f":"IF(ISERROR(MATCH('Individual Scores'!$D8,Scores!$F$1:$F$253,0)),\"\",INDIRECT(\"Scores!\"&\"R\"&MATCH('Individual Scores'!$D8,Scores!$F$1:$F$253,0)&\"C\"&COLUMN(Scores!K$1),FALSE))","v":128},{"$f":"IF(ISERROR(MATCH('Individual Scores'!$D8,Scores!$F$1:$F$253,0)),\"\",INDIRECT(\"Scores!\"&\"R\"&MATCH('Individual Scores'!$D8,Scores!$F$1:$F$253,0)&\"C\"&COLUMN(Scores!L$1),FALSE))","v":127},{"$f":"IF(ISERROR(MATCH('Individual Scores'!$D8,Scores!$F$1:$F$253,0)),\"\",INDIRECT(\"Scores!\"&\"R\"&MATCH('Individual Scores'!$D8,Scores!$F$1:$F$253,0)&\"C\"&COLUMN(Scores!N$1),FALSE))","v":148},{"$f":"IF(ISERROR(MATCH('Individual Scores'!$D8,Scores!$F$1:$F$253,0)),\"\",INDIRECT(\"Scores!\"&\"R\"&MATCH('Individual Scores'!$D8,Scores!$F$1:$F$253,0)&\"C\"&COLUMN(Scores!O$1),FALSE))","v":137},{"$f":"IF(ISERROR(MATCH('Individual Scores'!$D8,Scores!$F$1:$F$253,0)),\"\",INDIRECT(\"Scores!\"&\"R\"&MATCH('Individual Scores'!$D8,Scores!$F$1:$F$253,0)&\"C\"&COLUMN(Scores!P$1),FALSE))","v":167},{"$f":"IF(ISERROR(MATCH('Individual Scores'!$D8,Scores!$F$1:$F$253,0)),\"\",INDIRECT(\"Scores!\"&\"R\"&MATCH('Individual Scores'!$D8,Scores!$F$1:$F$253,0)&\"C\"&COLUMN(Scores!S$1),FALSE))","v":842},{"$f":"IF(MAX('Individual Scores'!Q8:V8)>0,MAX('Individual Scores'!Q8:V8),\"\")","v":167},{"$f":"IF(MAX(SUM('Individual Scores'!Q8:S8),SUM('Individual Scores'!T8:V8))>0,MAX(SUM('Individual Scores'!Q8:S8),SUM('Individual Scores'!T8:V8)),\"\")","v":452},null,{"$f":"IF('Team Scores'!$Z$1<2,\"\",IF(ISERROR(MATCH('Individual Scores'!$D8,Scores!$F$253:$F$506,0)),\"\",INDIRECT(\"Scores!\"&\"R\"&(ROW(Scores!$253:$253)-1+MATCH('Individual Scores'!$D8,Scores!$F$253:$F$505,0))&\"C\"&COLUMN(Scores!J$1),FALSE)))","v":216},{"$f":"IF('Team Scores'!$Z$1<2,\"\",IF(ISERROR(MATCH('Individual Scores'!$D8,Scores!$F$253:$F$506,0)),\"\",INDIRECT(\"Scores!\"&\"R\"&(ROW(Scores!$253:$253)-1+MATCH('Individual Scores'!$D8,Scores!$F$253:$F$505,0))&\"C\"&COLUMN(Scores!K$1),FALSE)))","v":135},{"$f":"IF('Team Scores'!$Z$1<2,\"\",IF(ISERROR(MATCH('Individual Scores'!$D8,Scores!$F$253:$F$506,0)),\"\",INDIRECT(\"Scores!\"&\"R\"&(ROW(Scores!$253:$253)-1+MATCH('Individual Scores'!$D8,Scores!$F$253:$F$505,0))&\"C\"&COLUMN(Scores!L$1),FALSE)))","v":165},{"$f":"IF('Team Scores'!$Z$1<2,\"\",IF(ISERROR(MATCH('Individual Scores'!$D8,Scores!$F$253:$F$506,0)),\"\",INDIRECT(\"Scores!\"&\"R\"&(ROW(Scores!$253:$253)-1+MATCH('Individual Scores'!$D8,Scores!$F$253:$F$505,0))&\"C\"&COLUMN(Scores!N$1),FALSE)))","v":176},{"$f":"IF('Team Scores'!$Z$1<2,\"\",IF(ISERROR(MATCH('Individual Scores'!$D8,Scores!$F$253:$F$506,0)),\"\",INDIRECT(\"Scores!\"&\"R\"&(ROW(Scores!$253:$253)-1+MATCH('Individual Scores'!$D8,Scores!$F$253:$F$505,0))&\"C\"&COLUMN(Scores!O$1),FALSE)))","v":146},{"$f":"IF('Team Scores'!$Z$1<2,\"\",IF(ISERROR(MATCH('Individual Scores'!$D8,Scores!$F$253:$F$506,0)),\"\",INDIRECT(\"Scores!\"&\"R\"&(ROW(Scores!$253:$253)-1+MATCH('Individual Scores'!$D8,Scores!$F$253:$F$505,0))&\"C\"&COLUMN(Scores!P$1),FALSE)))","v":180},{"$f":"IF('Team Scores'!$Z$1<2,\"\",IF(ISERROR(MATCH('Individual Scores'!$D8,Scores!$F$253:$F$506,0)),\"\",INDIRECT(\"Scores!\"&\"R\"&(ROW(Scores!$253:$253)-1+MATCH('Individual Scores'!$D8,Scores!$F$253:$F$505,0))&\"C\"&COLUMN(Scores!S$1),FALSE)))","v":1018},216,516,null,{"$f":"IF('Team Scores'!$Z$1<3,\"\",IF(ISERROR(MATCH('Individual Scores'!$D8,Scores!$F$506:$F$759,0)),\"\",INDIRECT(\"Scores!\"&\"R\"&(ROW(Scores!$F$506:$F$759)-1+MATCH('Individual Scores'!$D8,Scores!$F$506:$F$759,0))&\"C\"&COLUMN(Scores!J$1),FALSE)))","v":""},{"$f":"IF('Team Scores'!$Z$1<3,\"\",IF(ISERROR(MATCH('Individual Scores'!$D8,Scores!$F$506:$F$759,0)),\"\",INDIRECT(\"Scores!\"&\"R\"&(ROW(Scores!$F$506:$F$759)-1+MATCH('Individual Scores'!$D8,Scores!$F$506:$F$759,0))&\"C\"&COLUMN(Scores!K$1),FALSE)))","v":""},{"$f":"IF('Team Scores'!$Z$1<3,\"\",IF(ISERROR(MATCH('Individual Scores'!$D8,Scores!$F$506:$F$759,0)),\"\",INDIRECT(\"Scores!\"&\"R\"&(ROW(Scores!$F$506:$F$759)-1+MATCH('Individual Scores'!$D8,Scores!$F$506:$F$759,0))&\"C\"&COLUMN(Scores!L$1),FALSE)))","v":""},{"$f":"IF('Team Scores'!$Z$1<3,\"\",IF(ISERROR(MATCH('Individual Scores'!$D8,Scores!$F$506:$F$759,0)),\"\",INDIRECT(\"Scores!\"&\"R\"&(ROW(Scores!$F$506:$F$759)-1+MATCH('Individual Scores'!$D8,Scores!$F$506:$F$759,0))&\"C\"&COLUMN(Scores!N$1),FALSE)))","v":""},{"$f":"IF('Team Scores'!$Z$1<3,\"\",IF(ISERROR(MATCH('Individual Scores'!$D8,Scores!$F$506:$F$759,0)),\"\",INDIRECT(\"Scores!\"&\"R\"&(ROW(Scores!$F$506:$F$759)-1+MATCH('Individual Scores'!$D8,Scores!$F$506:$F$759,0))&\"C\"&COLUMN(Scores!O$1),FALSE)))","v":""},{"$f":"IF('Team Scores'!$Z$1<3,\"\",IF(ISERROR(MATCH('Individual Scores'!$D8,Scores!$F$506:$F$759,0)),\"\",INDIRECT(\"Scores!\"&\"R\"&(ROW(Scores!$F$506:$F$759)-1+MATCH('Individual Scores'!$D8,Scores!$F$506:$F$759,0))&\"C\"&COLUMN(Scores!P$1),FALSE)))","v":""},{"$f":"IF('Team Scores'!$Z$1<3,\"\",IF(ISERROR(MATCH('Individual Scores'!$D8,Scores!$F$506:$F$759,0)),\"\",INDIRECT(\"Scores!\"&\"R\"&(ROW(Scores!$F$506:$F$759)-1+MATCH('Individual Scores'!$D8,Scores!$F$506:$F$759,0))&\"C\"&COLUMN(Scores!S$1),FALSE)))","v":""},"",""]
["GA","15 & <","F","Faith Hardy",858,968,"",1826,{"$f":"IF(COUNT(Q9:V9,AA9:AF9,AK9:AP9)>=18/3*'Team Scores'!$Z$1,IF(H9-VLOOKUP(B9&C9,'Individual Awards Computations'!$AY$54:$AZ$58,2,FALSE)=0,\"Leader \"&C9&\":\"&B9,H9-VLOOKUP(B9&C9,'Individual Awards Computations'!$AY$54:$AZ$58,2,FALSE)),\"\")","v":-587},204,546,152.16666666666666,17.527777777777775,"135-170",1,null,{"$f":"IF(ISERROR(MATCH('Individual Scores'!$D9,Scores!$F$1:$F$253,0)),\"\",INDIRECT(\"Scores!\"&\"R\"&MATCH('Individual Scores'!$D9,Scores!$F$1:$F$253,0)&\"C\"&COLUMN(Scores!J$1),FALSE))","v":123},{"$f":"IF(ISERROR(MATCH('Individual Scores'!$D9,Scores!$F$1:$F$253,0)),\"\",INDIRECT(\"Scores!\"&\"R\"&MATCH('Individual Scores'!$D9,Scores!$F$1:$F$253,0)&\"C\"&COLUMN(Scores!K$1),FALSE))","v":142},{"$f":"IF(ISERROR(MATCH('Individual Scores'!$D9,Scores!$F$1:$F$253,0)),\"\",INDIRECT(\"Scores!\"&\"R\"&MATCH('Individual Scores'!$D9,Scores!$F$1:$F$253,0)&\"C\"&COLUMN(Scores!L$1),FALSE))","v":128},{"$f":"IF(ISERROR(MATCH('Individual Scores'!$D9,Scores!$F$1:$F$253,0)),\"\",INDIRECT(\"Scores!\"&\"R\"&MATCH('Individual Scores'!$D9,Scores!$F$1:$F$253,0)&\"C\"&COLUMN(Scores!N$1),FALSE))","v":148},{"$f":"IF(ISERROR(MATCH('Individual Scores'!$D9,Scores!$F$1:$F$253,0)),\"\",INDIRECT(\"Scores!\"&\"R\"&MATCH('Individual Scores'!$D9,Scores!$F$1:$F$253,0)&\"C\"&COLUMN(Scores!O$1),FALSE))","v":166},{"$f":"IF(ISERROR(MATCH('Individual Scores'!$D9,Scores!$F$1:$F$253,0)),\"\",INDIRECT(\"Scores!\"&\"R\"&MATCH('Individual Scores'!$D9,Scores!$F$1:$F$253,0)&\"C\"&COLUMN(Scores!P$1),FALSE))","v":151},{"$f":"IF(ISERROR(MATCH('Individual Scores'!$D9,Scores!$F$1:$F$253,0)),\"\",INDIRECT(\"Scores!\"&\"R\"&MATCH('Individual Scores'!$D9,Scores!$F$1:$F$253,0)&\"C\"&COLUMN(Scores!S$1),FALSE))","v":858},{"$f":"IF(MAX('Individual Scores'!Q9:V9)>0,MAX('Individual Scores'!Q9:V9),\"\")","v":166},{"$f":"IF(MAX(SUM('Individual Scores'!Q9:S9),SUM('Individual Scores'!T9:V9))>0,MAX(SUM('Individual Scores'!Q9:S9),SUM('Individual Scores'!T9:V9)),\"\")","v":465},null,{"$f":"IF('Team Scores'!$Z$1<2,\"\",IF(ISERROR(MATCH('Individual Scores'!$D9,Scores!$F$253:$F$506,0)),\"\",INDIRECT(\"Scores!\"&\"R\"&(ROW(Scores!$253:$253)-1+MATCH('Individual Scores'!$D9,Scores!$F$253:$F$505,0))&\"C\"&COLUMN(Scores!J$1),FALSE)))","v":204},{"$f":"IF('Team Scores'!$Z$1<2,\"\",IF(ISERROR(MATCH('Individual Scores'!$D9,Scores!$F$253:$F$506,0)),\"\",INDIRECT(\"Scores!\"&\"R\"&(ROW(Scores!$253:$253)-1+MATCH('Individual Scores'!$D9,Scores!$F$253:$F$505,0))&\"C\"&COLUMN(Scores!K$1),FALSE)))","v":165},{"$f":"IF('Team Scores'!$Z$1<2,\"\",IF(ISERROR(MATCH('Individual Scores'!$D9,Scores!$F$253:$F$506,0)),\"\",INDIRECT(\"Scores!\"&\"R\"&(ROW(Scores!$253:$253)-1+MATCH('Individual Scores'!$D9,Scores!$F$253:$F$505,0))&\"C\"&COLUMN(Scores!L$1),FALSE)))","v":177},{"$f":"IF('Team Scores'!$Z$1<2,\"\",IF(ISERROR(MATCH('Individual Scores'!$D9,Scores!$F$253:$F$506,0)),\"\",INDIRECT(\"Scores!\"&\"R\"&(ROW(Scores!$253:$253)-1+MATCH('Individual Scores'!$D9,Scores!$F$253:$F$505,0))&\"C\"&COLUMN(Scores!N$1),FALSE)))","v":154},{"$f":"IF('Team Scores'!$Z$1<2,\"\",IF(ISERROR(MATCH('Individual Scores'!$D9,Scores!$F$253:$F$506,0)),\"\",INDIRECT(\"Scores!\"&\"R\"&(ROW(Scores!$253:$253)-1+MATCH('Individual Scores'!$D9,Scores!$F$253:$F$505,0))&\"C\"&COLUMN(Scores!O$1),FALSE)))","v":131},{"$f":"IF('Team Scores'!$Z$1<2,\"\",IF(ISERROR(MATCH('Individual Scores'!$D9,Scores!$F$253:$F$506,0)),\"\",INDIRECT(\"Scores!\"&\"R\"&(ROW(Scores!$253:$253)-1+MATCH('Individual Scores'!$D9,Scores!$F$253:$F$505,0))&\"C\"&COLUMN(Scores!P$1),FALSE)))","v":137},{"$f":"IF('Team Scores'!$Z$1<2,\"\",IF(ISERROR(MATCH('Individual Scores'!$D9,Scores!$F$253:$F$506,0)),\"\",INDIRECT(\"Scores!\"&\"R\"&(ROW(Scores!$253:$253)-1+MATCH('Individual Scores'!$D9,Scores!$F$253:$F$505,0))&\"C\"&COLUMN(Scores!S$1),FALSE)))","v":968},{"$f":"IF(MAX(AA9:AF9)>0,MAX(AA9:AF9),\"\")","v":204},{"$f":"IF(MAX(SUM(AA9:AC9),SUM(AD9:AF9))>0,MAX(SUM(AA9:AC9),SUM(AD9:AF9)),\"\")","v":546},null,{"$f":"IF('Team Scores'!$Z$1<3,\"\",IF(ISERROR(MATCH('Individual Scores'!$D9,Scores!$F$506:$F$759,0)),\"\",INDIRECT(\"Scores!\"&\"R\"&(ROW(Scores!$F$506:$F$759)-1+MATCH('Individual Scores'!$D9,Scores!$F$506:$F$759,0))&\"C\"&COLUMN(Scores!J$1),FALSE)))","v":""},{"$f":"IF('Team Scores'!$Z$1<3,\"\",IF(ISERROR(MATCH('Individual Scores'!$D9,Scores!$F$506:$F$759,0)),\"\",INDIRECT(\"Scores!\"&\"R\"&(ROW(Scores!$F$506:$F$759)-1+MATCH('Individual Scores'!$D9,Scores!$F$506:$F$759,0))&\"C\"&COLUMN(Scores!K$1),FALSE)))","v":""},{"$f":"IF('Team Scores'!$Z$1<3,\"\",IF(ISERROR(MATCH('Individual Scores'!$D9,Scores!$F$506:$F$759,0)),\"\",INDIRECT(\"Scores!\"&\"R\"&(ROW(Scores!$F$506:$F$759)-1+MATCH('Individual Scores'!$D9,Scores!$F$506:$F$759,0))&\"C\"&COLUMN(Scores!L$1),FALSE)))","v":""},{"$f":"IF('Team Scores'!$Z$1<3,\"\",IF(ISERROR(MATCH('Individual Scores'!$D9,Scores!$F$506:$F$759,0)),\"\",INDIRECT(\"Scores!\"&\"R\"&(ROW(Scores!$F$506:$F$759)-1+MATCH('Individual Scores'!$D9,Scores!$F$506:$F$759,0))&\"C\"&COLUMN(Scores!N$1),FALSE)))","v":""},{"$f":"IF('Team Scores'!$Z$1<3,\"\",IF(ISERROR(MATCH('Individual Scores'!$D9,Scores!$F$506:$F$759,0)),\"\",INDIRECT(\"Scores!\"&\"R\"&(ROW(Scores!$F$506:$F$759)-1+MATCH('Individual Scores'!$D9,Scores!$F$506:$F$759,0))&\"C\"&COLUMN(Scores!O$1),FALSE)))","v":""},{"$f":"IF('Team Scores'!$Z$1<3,\"\",IF(ISERROR(MATCH('Individual Scores'!$D9,Scores!$F$506:$F$759,0)),\"\",INDIRECT(\"Scores!\"&\"R\"&(ROW(Scores!$F$506:$F$759)-1+MATCH('Individual Scores'!$D9,Scores!$F$506:$F$759,0))&\"C\"&COLUMN(Scores!P$1),FALSE)))","v":""},{"$f":"IF('Team Scores'!$Z$1<3,\"\",IF(ISERROR(MATCH('Individual Scores'!$D9,Scores!$F$506:$F$759,0)),\"\",INDIRECT(\"Scores!\"&\"R\"&(ROW(Scores!$F$506:$F$759)-1+MATCH('Individual Scores'!$D9,Scores!$F$506:$F$759,0))&\"C\"&COLUMN(Scores!S$1),FALSE)))","v":""},"",""]
["GA","15 & <","F","Ivyana Hurey Scott",945,1036,"",1981,{"$f":"IF(COUNT(Q10:V10,AA10:AF10,AK10:AP10)>=18/3*'Team Scores'!$Z$1,IF(H10-VLOOKUP(B10&C10,'Individual Awards Computations'!$AY$54:$AZ$58,2,FALSE)=0,\"Leader \"&C10&\":\"&B10,H10-VLOOKUP(B10&C10,'Individual Awards Computations'!$AY$54:$AZ$58,2,FALSE)),\"\")","v":-432},201,558,165.08333333333334,16.597222222222225,"148-182",1,null,{"$f":"IF(ISERROR(MATCH('Individual Scores'!$D10,Scores!$F$1:$F$253,0)),\"\",INDIRECT(\"Scores!\"&\"R\"&MATCH('Individual Scores'!$D10,Scores!$F$1:$F$253,0)&\"C\"&COLUMN(Scores!J$1),FALSE))","v":153},{"$f":"IF(ISERROR(MATCH('Individual Scores'!$D10,Scores!$F$1:$F$253,0)),\"\",INDIRECT(\"Scores!\"&\"R\"&MATCH('Individual Scores'!$D10,Scores!$F$1:$F$253,0)&\"C\"&COLUMN(Scores!K$1),FALSE))","v":141},{"$f":"IF(ISERROR(MATCH('Individual Scores'!$D10,Scores!$F$1:$F$253,0)),\"\",INDIRECT(\"Scores!\"&\"R\"&MATCH('Individual Scores'!$D10,Scores!$F$1:$F$253,0)&\"C\"&COLUMN(Scores!L$1),FALSE))","v":191},{"$f":"IF(ISERROR(MATCH('Individual Scores'!$D10,Scores!$F$1:$F$253,0)),\"\",INDIRECT(\"Scores!\"&\"R\"&MATCH('Individual Scores'!$D10,Scores!$F$1:$F$253,0)&\"C\"&COLUMN(Scores!N$1),FALSE))","v":160},{"$f":"IF(ISERROR(MATCH('Individual Scores'!$D10,Scores!$F$1:$F$253,0)),\"\",INDIRECT(\"Scores!\"&\"R\"&MATCH('Individual Scores'!$D10,Scores!$F$1:$F$253,0)&\"C\"&COLUMN(Scores!O$1),FALSE))","v":141},{"$f":"IF(ISERROR(MATCH('Individual Scores'!$D10,Scores!$F$1:$F$253,0)),\"\",INDIRECT(\"Scores!\"&\"R\"&MATCH('Individual Scores'!$D10,Scores!$F$1:$F$253,0)&\"C\"&COLUMN(Scores!P$1),FALSE))","v":159},{"$f":"IF(ISERROR(MATCH('Individual Scores'!$D10,Scores!$F$1:$F$253,0)),\"\",INDIRECT(\"Scores!\"&\"R\"&MATCH('Individual Scores'!$D10,Scores!$F$1:$F$253,0)&\"C\"&COLUMN(Scores!S$1),FALSE))","v":945},{"$f":"IF(MAX('Individual Scores'!Q10:V10)>0,MAX('Individual Scores'!Q10:V10),\"\")","v":191},{"$f":"IF(MAX(SUM('Individual Scores'!Q10:S10),SUM('Individual Scores'!T10:V10))>0,MAX(SUM('Individual Scores'!Q10:S10),SUM('Individual Scores'!T10:V10)),\"\")","v":485},null,{"$f":"IF('Team Scores'!$Z$1<2,\"\",IF(ISERROR(MATCH('Individual Scores'!$D10,Scores!$F$253:$F$506,0)),\"\",INDIRECT(\"Scores!\"&\"R\"&(ROW(Scores!$253:$253)-1+MATCH('Individual Scores'!$D10,Scores!$F$253:$F$505,0))&\"C\"&COLUMN(Scores!J$1),FALSE)))","v":176},{"$f":"IF('Team Scores'!$Z$1<2,\"\",IF(ISERROR(MATCH('Individual Scores'!$D10,Scores!$F$253:$F$506,0)),\"\",INDIRECT(\"Scores!\"&\"R\"&(ROW(Scores!$253:$253)-1+MATCH('Individual Scores'!$D10,Scores!$F$253:$F$505,0))&\"C\"&COLUMN(Scores!K$1),FALSE)))","v":145},{"$f":"IF('Team Scores'!$Z$1<2,\"\",IF(ISERROR(MATCH('Individual Scores'!$D10,Scores!$F$253:$F$506,0)),\"\",INDIRECT(\"Scores!\"&\"R\"&(ROW(Scores!$253:$253)-1+MATCH('Individual Scores'!$D10,Scores!$F$253:$F$505,0))&\"C\"&COLUMN(Scores!L$1),FALSE)))","v":157},{"$f":"IF('Team Scores'!$Z$1<2,\"\",IF(ISERROR(MATCH('Individual Scores'!$D10,Scores!$F$253:$F$506,0)),\"\",INDIRECT(\"Scores!\"&\"R\"&(ROW(Scores!$253:$253)-1+MATCH('Individual Scores'!$D10,Scores!$F$253:$F$505,0))&\"C\"&COLUMN(Scores!N$1),FALSE)))","v":169},{"$f":"IF('Team Scores'!$Z$1<2,\"\",IF(ISERROR(MATCH('Individual Scores'!$D10,Scores!$F$253:$F$506,0)),\"\",INDIRECT(\"Scores!\"&\"R\"&(ROW(Scores!$253:$253)-1+MATCH('Individual Scores'!$D10,Scores!$F$253:$F$505,0))&\"C\"&COLUMN(Scores!O$1),FALSE)))","v":201},{"$f":"IF('Team Scores'!$Z$1<2,\"\",IF(ISERROR(MATCH('Individual Scores'!$D10,Scores!$F$253:$F$506,0)),\"\",INDIRECT(\"Scores!\"&\"R\"&(ROW(Scores!$253:$253)-1+MATCH('Individual Scores'!$D10,Scores!$F$253:$F$505,0))&\"C\"&COLUMN(Scores!P$1),FALSE)))","v":188},{"$f":"IF('Team Scores'!$Z$1<2,\"\",IF(ISERROR(MATCH('Individual Scores'!$D10,Scores!$F$253:$F$506,0)),\"\",INDIRECT(\"Scores!\"&\"R\"&(ROW(Scores!$253:$253)-1+MATCH('Individual Scores'!$D10,Scores!$F$253:$F$505,0))&\"C\"&COLUMN(Scores!S$1),FALSE)))","v":1036},201,558,null,{"$f":"IF('Team Scores'!$Z$1<3,\"\",IF(ISERROR(MATCH('Individual Scores'!$D10,Scores!$F$506:$F$759,0)),\"\",INDIRECT(\"Scores!\"&\"R\"&(ROW(Scores!$F$506:$F$759)-1+MATCH('Individual Scores'!$D10,Scores!$F$506:$F$759,0))&\"C\"&COLUMN(Scores!J$1),FALSE)))","v":""},{"$f":"IF('Team Scores'!$Z$1<3,\"\",IF(ISERROR(MATCH('Individual Scores'!$D10,Scores!$F$506:$F$759,0)),\"\",INDIRECT(\"Scores!\"&\"R\"&(ROW(Scores!$F$506:$F$759)-1+MATCH('Individual Scores'!$D10,Scores!$F$506:$F$759,0))&\"C\"&COLUMN(Scores!K$1),FALSE)))","v":""},{"$f":"IF('Team Scores'!$Z$1<3,\"\",IF(ISERROR(MATCH('Individual Scores'!$D10,Scores!$F$506:$F$759,0)),\"\",INDIRECT(\"Scores!\"&\"R\"&(ROW(Scores!$F$506:$F$759)-1+MATCH('Individual Scores'!$D10,Scores!$F$506:$F$759,0))&\"C\"&COLUMN(Scores!L$1),FALSE)))","v":""},{"$f":"IF('Team Scores'!$Z$1<3,\"\",IF(ISERROR(MATCH('Individual Scores'!$D10,Scores!$F$506:$F$759,0)),\"\",INDIRECT(\"Scores!\"&\"R\"&(ROW(Scores!$F$506:$F$759)-1+MATCH('Individual Scores'!$D10,Scores!$F$506:$F$759,0))&\"C\"&COLUMN(Scores!N$1),FALSE)))","v":""},{"$f":"IF('Team Scores'!$Z$1<3,\"\",IF(ISERROR(MATCH('Individual Scores'!$D10,Scores!$F$506:$F$759,0)),\"\",INDIRECT(\"Scores!\"&\"R\"&(ROW(Scores!$F$506:$F$759)-1+MATCH('Individual Scores'!$D10,Scores!$F$506:$F$759,0))&\"C\"&COLUMN(Scores!O$1),FALSE)))","v":""},{"$f":"IF('Team Scores'!$Z$1<3,\"\",IF(ISERROR(MATCH('Individual Scores'!$D10,Scores!$F$506:$F$759,0)),\"\",INDIRECT(\"Scores!\"&\"R\"&(ROW(Scores!$F$506:$F$759)-1+MATCH('Individual Scores'!$D10,Scores!$F$506:$F$759,0))&\"C\"&COLUMN(Scores!P$1),FALSE)))","v":""},{"$f":"IF('Team Scores'!$Z$1<3,\"\",IF(ISERROR(MATCH('Individual Scores'!$D10,Scores!$F$506:$F$759,0)),\"\",INDIRECT(\"Scores!\"&\"R\"&(ROW(Scores!$F$506:$F$759)-1+MATCH('Individual Scores'!$D10,Scores!$F$506:$F$759,0))&\"C\"&COLUMN(Scores!S$1),FALSE)))","v":""},"",""]
["GA","15 & <","F","Kathleen Elder",729,906,"",1635,{"$f":"IF(COUNT(Q11:V11,AA11:AF11,AK11:AP11)>=18/3*'Team Scores'!$Z$1,IF(H11-VLOOKUP(B11&C11,'Individual Awards Computations'!$AY$54:$AZ$58,2,FALSE)=0,\"Leader \"&C11&\":\"&B11,H11-VLOOKUP(B11&C11,'Individual Awards Computations'!$AY$54:$AZ$58,2,FALSE)),\"\")","v":-778},181,460,136.25,17.25,"119-154",1,null,{"$f":"IF(ISERROR(MATCH('Individual Scores'!$D11,Scores!$F$1:$F$253,0)),\"\",INDIRECT(\"Scores!\"&\"R\"&MATCH('Individual Scores'!$D11,Scores!$F$1:$F$253,0)&\"C\"&COLUMN(Scores!J$1),FALSE))","v":124},{"$f":"IF(ISERROR(MATCH('Individual Scores'!$D11,Scores!$F$1:$F$253,0)),\"\",INDIRECT(\"Scores!\"&\"R\"&MATCH('Individual Scores'!$D11,Scores!$F$1:$F$253,0)&\"C\"&COLUMN(Scores!K$1),FALSE))","v":108},{"$f":"IF(ISERROR(MATCH('Individual Scores'!$D11,Scores!$F$1:$F$253,0)),\"\",INDIRECT(\"Scores!\"&\"R\"&MATCH('Individual Scores'!$D11,Scores!$F$1:$F$253,0)&\"C\"&COLUMN(Scores!L$1),FALSE))","v":105},{"$f":"IF(ISERROR(MATCH('Individual Scores'!$D11,Scores!$F$1:$F$253,0)),\"\",INDIRECT(\"Scores!\"&\"R\"&MATCH('Individual Scores'!$D11,Scores!$F$1:$F$253,0)&\"C\"&COLUMN(Scores!N$1),FALSE))","v":128},{"$f":"IF(ISERROR(MATCH('Individual Scores'!$D11,Scores!$F$1:$F$253,0)),\"\",INDIRECT(\"Scores!\"&\"R\"&MATCH('Individual Scores'!$D11,Scores!$F$1:$F$253,0)&\"C\"&COLUMN(Scores!O$1),FALSE))","v":126},{"$f":"IF(ISERROR(MATCH('Individual Scores'!$D11,Scores!$F$1:$F$253,0)),\"\",INDIRECT(\"Scores!\"&\"R\"&MATCH('Individual Scores'!$D11,Scores!$F$1:$F$253,0)&\"C\"&COLUMN(Scores!P$1),FALSE))","v":138},{"$f":"IF(ISERROR(MATCH('Individual Scores'!$D11,Scores!$F$1:$F$253,0)),\"\",INDIRECT(\"Scores!\"&\"R\"&MATCH('Individual Scores'!$D11,Scores!$F$1:$F$253,0)&\"C\"&COLUMN(Scores!S$1),FALSE))","v":729},{"$f":"IF(MAX('Individual Scores'!Q11:V11)>0,MAX('Individual Scores'!Q11:V11),\"\")","v":138},{"$f":"IF(MAX(SUM('Individual Scores'!Q11:S11),SUM('Individual Scores'!T11:V11))>0,MAX(SUM('Individual Scores'!Q11:S11),SUM('Individual Scores'!T11:V11)),\"\")","v":392},null,{"$f":"IF('Team Scores'!$Z$1<2,\"\",IF(ISERROR(MATCH('Individual Scores'!$D11,Scores!$F$253:$F$506,0)),\"\",INDIRECT(\"Scores!\"&\"R\"&(ROW(Scores!$253:$253)-1+MATCH('Individual Scores'!$D11,Scores!$F$253:$F$505,0))&\"C\"&COLUMN(Scores!J$1),FALSE)))","v":155},{"$f":"IF('Team Scores'!$Z$1<2,\"\",IF(ISERROR(MATCH('Individual Scores'!$D11,Scores!$F$253:$F$506,0)),\"\",INDIRECT(\"Scores!\"&\"R\"&(ROW(Scores!$253:$253)-1+MATCH('Individual Scores'!$D11,Scores!$F$253:$F$505,0))&\"C\"&COLUMN(Scores!K$1),FALSE)))","v":159},{"$f":"IF('Team Scores'!$Z$1<2,\"\",IF(ISERROR(MATCH('Individual Scores'!$D11,Scores!$F$253:$F$506,0)),\"\",INDIRECT(\"Scores!\"&\"R\"&(ROW(Scores!$253:$253)-1+MATCH('Individual Scores'!$D11,Scores!$F$253:$F$505,0))&\"C\"&COLUMN(Scores!L$1),FALSE)))","v":146},{"$f":"IF('Team Scores'!$Z$1<2,\"\",IF(ISERROR(MATCH('Individual Scores'!$D11,Scores!$F$253:$F$506,0)),\"\",INDIRECT(\"Scores!\"&\"R\"&(ROW(Scores!$253:$253)-1+MATCH('Individual Scores'!$D11,Scores!$F$253:$F$505,0))&\"C\"&COLUMN(Scores!N$1),FALSE)))","v":142},{"$f":"IF('Team Scores'!$Z$1<2,\"\",IF(ISERROR(MATCH('Individual Scores'!$D11,Scores!$F$253:$F$506,0)),\"\",INDIRECT(\"Scores!\"&\"R\"&(ROW(Scores!$253:$253)-1+MATCH('Individual Scores'!$D11,Scores!$F$253:$F$505,0))&\"C\"&COLUMN(Scores!O$1),FALSE)))","v":123},{"$f":"IF('Team Scores'!$Z$1<2,\"\",IF(ISERROR(MATCH('Individual Scores'!$D11,Scores!$F$253:$F$506,0)),\"\",INDIRECT(\"Scores!\"&\"R\"&(ROW(Scores!$253:$253)-1+MATCH('Individual Scores'!$D11,Scores!$F$253:$F$505,0))&\"C\"&COLUMN(Scores!P$1),FALSE)))","v":181},{"$f":"IF('Team Scores'!$Z$1<2,\"\",IF(ISERROR(MATCH('Individual Scores'!$D11,Scores!$F$253:$F$506,0)),\"\",INDIRECT(\"Scores!\"&\"R\"&(ROW(Scores!$253:$253)-1+MATCH('Individual Scores'!$D11,Scores!$F$253:$F$505,0))&\"C\"&COLUMN(Scores!S$1),FALSE)))","v":906},181,460,null,{"$f":"IF('Team Scores'!$Z$1<3,\"\",IF(ISERROR(MATCH('Individual Scores'!$D11,Scores!$F$506:$F$759,0)),\"\",INDIRECT(\"Scores!\"&\"R\"&(ROW(Scores!$F$506:$F$759)-1+MATCH('Individual Scores'!$D11,Scores!$F$506:$F$759,0))&\"C\"&COLUMN(Scores!J$1),FALSE)))","v":""},{"$f":"IF('Team Scores'!$Z$1<3,\"\",IF(ISERROR(MATCH('Individual Scores'!$D11,Scores!$F$506:$F$759,0)),\"\",INDIRECT(\"Scores!\"&\"R\"&(ROW(Scores!$F$506:$F$759)-1+MATCH('Individual Scores'!$D11,Scores!$F$506:$F$759,0))&\"C\"&COLUMN(Scores!K$1),FALSE)))","v":""},{"$f":"IF('Team Scores'!$Z$1<3,\"\",IF(ISERROR(MATCH('Individual Scores'!$D11,Scores!$F$506:$F$759,0)),\"\",INDIRECT(\"Scores!\"&\"R\"&(ROW(Scores!$F$506:$F$759)-1+MATCH('Individual Scores'!$D11,Scores!$F$506:$F$759,0))&\"C\"&COLUMN(Scores!L$1),FALSE)))","v":""},{"$f":"IF('Team Scores'!$Z$1<3,\"\",IF(ISERROR(MATCH('Individual Scores'!$D11,Scores!$F$506:$F$759,0)),\"\",INDIRECT(\"Scores!\"&\"R\"&(ROW(Scores!$F$506:$F$759)-1+MATCH('Individual Scores'!$D11,Scores!$F$506:$F$759,0))&\"C\"&COLUMN(Scores!N$1),FALSE)))","v":""},{"$f":"IF('Team Scores'!$Z$1<3,\"\",IF(ISERROR(MATCH('Individual Scores'!$D11,Scores!$F$506:$F$759,0)),\"\",INDIRECT(\"Scores!\"&\"R\"&(ROW(Scores!$F$506:$F$759)-1+MATCH('Individual Scores'!$D11,Scores!$F$506:$F$759,0))&\"C\"&COLUMN(Scores!O$1),FALSE)))","v":""},{"$f":"IF('Team Scores'!$Z$1<3,\"\",IF(ISERROR(MATCH('Individual Scores'!$D11,Scores!$F$506:$F$759,0)),\"\",INDIRECT(\"Scores!\"&\"R\"&(ROW(Scores!$F$506:$F$759)-1+MATCH('Individual Scores'!$D11,Scores!$F$506:$F$759,0))&\"C\"&COLUMN(Scores!P$1),FALSE)))","v":""},{"$f":"IF('Team Scores'!$Z$1<3,\"\",IF(ISERROR(MATCH('Individual Scores'!$D11,Scores!$F$506:$F$759,0)),\"\",INDIRECT(\"Scores!\"&\"R\"&(ROW(Scores!$F$506:$F$759)-1+MATCH('Individual Scores'!$D11,Scores!$F$506:$F$759,0))&\"C\"&COLUMN(Scores!S$1),FALSE)))","v":""},"",""]
["GA","15 & <","F","Savanna Campbell",996,1004,"",2000,{"$f":"IF(COUNT(Q12:V12,AA12:AF12,AK12:AP12)>=18/3*'Team Scores'!$Z$1,IF(H12-VLOOKUP(B12&C12,'Individual Awards Computations'!$AY$54:$AZ$58,2,FALSE)=0,\"Leader \"&C12&\":\"&B12,H12-VLOOKUP(B12&C12,'Individual Awards Computations'!$AY$54:$AZ$58,2,FALSE)),\"\")","v":-413},216,547,166.66666666666666,17.833333333333332,"149-185",1,null,{"$f":"IF(ISERROR(MATCH('Individual Scores'!$D12,Scores!$F$1:$F$253,0)),\"\",INDIRECT(\"Scores!\"&\"R\"&MATCH('Individual Scores'!$D12,Scores!$F$1:$F$253,0)&\"C\"&COLUMN(Scores!J$1),FALSE))","v":166},{"$f":"IF(ISERROR(MATCH('Individual Scores'!$D12,Scores!$F$1:$F$253,0)),\"\",INDIRECT(\"Scores!\"&\"R\"&MATCH('Individual Scores'!$D12,Scores!$F$1:$F$253,0)&\"C\"&COLUMN(Scores!K$1),FALSE))","v":141},{"$f":"IF(ISERROR(MATCH('Individual Scores'!$D12,Scores!$F$1:$F$253,0)),\"\",INDIRECT(\"Scores!\"&\"R\"&MATCH('Individual Scores'!$D12,Scores!$F$1:$F$253,0)&\"C\"&COLUMN(Scores!L$1),FALSE))","v":185},{"$f":"IF(ISERROR(MATCH('Individual Scores'!$D12,Scores!$F$1:$F$253,0)),\"\",INDIRECT(\"Scores!\"&\"R\"&MATCH('Individual Scores'!$D12,Scores!$F$1:$F$253,0)&\"C\"&COLUMN(Scores!N$1),FALSE))","v":144},{"$f":"IF(ISERROR(MATCH('Individual Scores'!$D12,Scores!$F$1:$F$253,0)),\"\",INDIRECT(\"Scores!\"&\"R\"&MATCH('Individual Scores'!$D12,Scores!$F$1:$F$253,0)&\"C\"&COLUMN(Scores!O$1),FALSE))","v":168},{"$f":"IF(ISERROR(MATCH('Individual Scores'!$D12,Scores!$F$1:$F$253,0)),\"\",INDIRECT(\"Scores!\"&\"R\"&MATCH('Individual Scores'!$D12,Scores!$F$1:$F$253,0)&\"C\"&COLUMN(Scores!P$1),FALSE))","v":192},{"$f":"IF(ISERROR(MATCH('Individual Scores'!$D12,Scores!$F$1:$F$253,0)),\"\",INDIRECT(\"Scores!\"&\"R\"&MATCH('Individual Scores'!$D12,Scores!$F$1:$F$253,0)&\"C\"&COLUMN(Scores!S$1),FALSE))","v":996},{"$f":"IF(MAX('Individual Scores'!Q12:V12)>0,MAX('Individual Scores'!Q12:V12),\"\")","v":192},{"$f":"IF(MAX(SUM('Individual Scores'!Q12:S12),SUM('Individual Scores'!T12:V12))>0,MAX(SUM('Individual Scores'!Q12:S12),SUM('Individual Scores'!T12:V12)),\"\")","v":504},null,{"$f":"IF('Team Scores'!$Z$1<2,\"\",IF(ISERROR(MATCH('Individual Scores'!$D12,Scores!$F$253:$F$506,0)),\"\",INDIRECT(\"Scores!\"&\"R\"&(ROW(Scores!$253:$253)-1+MATCH('Individual Scores'!$D12,Scores!$F$253:$F$505,0))&\"C\"&COLUMN(Scores!J$1),FALSE)))","v":168},{"$f":"IF('Team Scores'!$Z$1<2,\"\",IF(ISERROR(MATCH('Individual Scores'!$D12,Scores!$F$253:$F$506,0)),\"\",INDIRECT(\"Scores!\"&\"R\"&(ROW(Scores!$253:$253)-1+MATCH('Individual Scores'!$D12,Scores!$F$253:$F$505,0))&\"C\"&COLUMN(Scores!K$1),FALSE)))","v":216},{"$f":"IF('Team Scores'!$Z$1<2,\"\",IF(ISERROR(MATCH('Individual Scores'!$D12,Scores!$F$253:$F$506,0)),\"\",INDIRECT(\"Scores!\"&\"R\"&(ROW(Scores!$253:$253)-1+MATCH('Individual Scores'!$D12,Scores!$F$253:$F$505,0))&\"C\"&COLUMN(Scores!L$1),FALSE)))","v":163},{"$f":"IF('Team Scores'!$Z$1<2,\"\",IF(ISERROR(MATCH('Individual Scores'!$D12,Scores!$F$253:$F$506,0)),\"\",INDIRECT(\"Scores!\"&\"R\"&(ROW(Scores!$253:$253)-1+MATCH('Individual Scores'!$D12,Scores!$F$253:$F$505,0))&\"C\"&COLUMN(Scores!N$1),FALSE)))","v":178},{"$f":"IF('Team Scores'!$Z$1<2,\"\",IF(ISERROR(MATCH('Individual Scores'!$D12,Scores!$F$253:$F$506,0)),\"\",INDIRECT(\"Scores!\"&\"R\"&(ROW(Scores!$253:$253)-1+MATCH('Individual Scores'!$D12,Scores!$F$253:$F$505,0))&\"C\"&COLUMN(Scores!O$1),FALSE)))","v":147},{"$f":"IF('Team Scores'!$Z$1<2,\"\",IF(ISERROR(MATCH('Individual Scores'!$D12,Scores!$F$253:$F$506,0)),\"\",INDIRECT(\"Scores!\"&\"R\"&(ROW(Scores!$253:$253)-1+MATCH('Individual Scores'!$D12,Scores!$F$253:$F$505,0))&\"C\"&COLUMN(Scores!P$1),FALSE)))","v":132},{"$f":"IF('Team Scores'!$Z$1<2,\"\",IF(ISERROR(MATCH('Individual Scores'!$D12,Scores!$F$253:$F$506,0)),\"\",INDIRECT(\"Scores!\"&\"R\"&(ROW(Scores!$253:$253)-1+MATCH('Individual Scores'!$D12,Scores!$F$253:$F$505,0))&\"C\"&COLUMN(Scores!S$1),FALSE)))","v":1004},216,547,null,{"$f":"IF('Team Scores'!$Z$1<3,\"\",IF(ISERROR(MATCH('Individual Scores'!$D12,Scores!$F$506:$F$759,0)),\"\",INDIRECT(\"Scores!\"&\"R\"&(ROW(Scores!$F$506:$F$759)-1+MATCH('Individual Scores'!$D12,Scores!$F$506:$F$759,0))&\"C\"&COLUMN(Scores!J$1),FALSE)))","v":""},{"$f":"IF('Team Scores'!$Z$1<3,\"\",IF(ISERROR(MATCH('Individual Scores'!$D12,Scores!$F$506:$F$759,0)),\"\",INDIRECT(\"Scores!\"&\"R\"&(ROW(Scores!$F$506:$F$759)-1+MATCH('Individual Scores'!$D12,Scores!$F$506:$F$759,0))&\"C\"&COLUMN(Scores!K$1),FALSE)))","v":""},{"$f":"IF('Team Scores'!$Z$1<3,\"\",IF(ISERROR(MATCH('Individual Scores'!$D12,Scores!$F$506:$F$759,0)),\"\",INDIRECT(\"Scores!\"&\"R\"&(ROW(Scores!$F$506:$F$759)-1+MATCH('Individual Scores'!$D12,Scores!$F$506:$F$759,0))&\"C\"&COLUMN(Scores!L$1),FALSE)))","v":""},{"$f":"IF('Team Scores'!$Z$1<3,\"\",IF(ISERROR(MATCH('Individual Scores'!$D12,Scores!$F$506:$F$759,0)),\"\",INDIRECT(\"Scores!\"&\"R\"&(ROW(Scores!$F$506:$F$759)-1+MATCH('Individual Scores'!$D12,Scores!$F$506:$F$759,0))&\"C\"&COLUMN(Scores!N$1),FALSE)))","v":""},{"$f":"IF('Team Scores'!$Z$1<3,\"\",IF(ISERROR(MATCH('Individual Scores'!$D12,Scores!$F$506:$F$759,0)),\"\",INDIRECT(\"Scores!\"&\"R\"&(ROW(Scores!$F$506:$F$759)-1+MATCH('Individual Scores'!$D12,Scores!$F$506:$F$759,0))&\"C\"&COLUMN(Scores!O$1),FALSE)))","v":""},{"$f":"IF('Team Scores'!$Z$1<3,\"\",IF(ISERROR(MATCH('Individual Scores'!$D12,Scores!$F$506:$F$759,0)),\"\",INDIRECT(\"Scores!\"&\"R\"&(ROW(Scores!$F$506:$F$759)-1+MATCH('Individual Scores'!$D12,Scores!$F$506:$F$759,0))&\"C\"&COLUMN(Scores!P$1),FALSE)))","v":""},{"$f":"IF('Team Scores'!$Z$1<3,\"\",IF(ISERROR(MATCH('Individual Scores'!$D12,Scores!$F$506:$F$759,0)),\"\",INDIRECT(\"Scores!\"&\"R\"&(ROW(Scores!$F$506:$F$759)-1+MATCH('Individual Scores'!$D12,Scores!$F$506:$F$759,0))&\"C\"&COLUMN(Scores!S$1),FALSE)))","v":""},"",""]
["GA","15 & <","F","Glory Harmon",848,928,"",1776,{"$f":"IF(COUNT(Q13:V13,AA13:AF13,AK13:AP13)>=18/3*'Team Scores'!$Z$1,IF(H13-VLOOKUP(B13&C13,'Individual Awards Computations'!$AY$54:$AZ$58,2,FALSE)=0,\"Leader \"&C13&\":\"&B13,H13-VLOOKUP(B13&C13,'Individual Awards Computations'!$AY$54:$AZ$58,2,FALSE)),\"\")","v":-637},209,527,148,19.166666666666668,"129-167",1,null,{"$f":"IF(ISERROR(MATCH('Individual Scores'!$D13,Scores!$F$1:$F$253,0)),\"\",INDIRECT(\"Scores!\"&\"R\"&MATCH('Individual Scores'!$D13,Scores!$F$1:$F$253,0)&\"C\"&COLUMN(Scores!J$1),FALSE))","v":158},{"$f":"IF(ISERROR(MATCH('Individual Scores'!$D13,Scores!$F$1:$F$253,0)),\"\",INDIRECT(\"Scores!\"&\"R\"&MATCH('Individual Scores'!$D13,Scores!$F$1:$F$253,0)&\"C\"&COLUMN(Scores!K$1),FALSE))","v":143},{"$f":"IF(ISERROR(MATCH('Individual Scores'!$D13,Scores!$F$1:$F$253,0)),\"\",INDIRECT(\"Scores!\"&\"R\"&MATCH('Individual Scores'!$D13,Scores!$F$1:$F$253,0)&\"C\"&COLUMN(Scores!L$1),FALSE))","v":170},{"$f":"IF(ISERROR(MATCH('Individual Scores'!$D13,Scores!$F$1:$F$253,0)),\"\",INDIRECT(\"Scores!\"&\"R\"&MATCH('Individual Scores'!$D13,Scores!$F$1:$F$253,0)&\"C\"&COLUMN(Scores!N$1),FALSE))","v":113},{"$f":"IF(ISERROR(MATCH('Individual Scores'!$D13,Scores!$F$1:$F$253,0)),\"\",INDIRECT(\"Scores!\"&\"R\"&MATCH('Individual Scores'!$D13,Scores!$F$1:$F$253,0)&\"C\"&COLUMN(Scores!O$1),FALSE))","v":117},{"$f":"IF(ISERROR(MATCH('Individual Scores'!$D13,Scores!$F$1:$F$253,0)),\"\",INDIRECT(\"Scores!\"&\"R\"&MATCH('Individual Scores'!$D13,Scores!$F$1:$F$253,0)&\"C\"&COLUMN(Scores!P$1),FALSE))","v":147},{"$f":"IF(ISERROR(MATCH('Individual Scores'!$D13,Scores!$F$1:$F$253,0)),\"\",INDIRECT(\"Scores!\"&\"R\"&MATCH('Individual Scores'!$D13,Scores!$F$1:$F$253,0)&\"C\"&COLUMN(Scores!S$1),FALSE))","v":848},{"$f":"IF(MAX('Individual Scores'!Q13:V13)>0,MAX('Individual Scores'!Q13:V13),\"\")","v":170},{"$f":"IF(MAX(SUM('Individual Scores'!Q13:S13),SUM('Individual Scores'!T13:V13))>0,MAX(SUM('Individual Scores'!Q13:S13),SUM('Individual Scores'!T13:V13)),\"\")","v":471},null,{"$f":"IF('Team Scores'!$Z$1<2,\"\",IF(ISERROR(MATCH('Individual Scores'!$D13,Scores!$F$253:$F$506,0)),\"\",INDIRECT(\"Scores!\"&\"R\"&(ROW(Scores!$253:$253)-1+MATCH('Individual Scores'!$D13,Scores!$F$253:$F$505,0))&\"C\"&COLUMN(Scores!J$1),FALSE)))","v":209},{"$f":"IF('Team Scores'!$Z$1<2,\"\",IF(ISERROR(MATCH('Individual Scores'!$D13,Scores!$F$253:$F$506,0)),\"\",INDIRECT(\"Scores!\"&\"R\"&(ROW(Scores!$253:$253)-1+MATCH('Individual Scores'!$D13,Scores!$F$253:$F$505,0))&\"C\"&COLUMN(Scores!K$1),FALSE)))","v":157},{"$f":"IF('Team Scores'!$Z$1<2,\"\",IF(ISERROR(MATCH('Individual Scores'!$D13,Scores!$F$253:$F$506,0)),\"\",INDIRECT(\"Scores!\"&\"R\"&(ROW(Scores!$253:$253)-1+MATCH('Individual Scores'!$D13,Scores!$F$253:$F$505,0))&\"C\"&COLUMN(Scores!L$1),FALSE)))","v":161},{"$f":"IF('Team Scores'!$Z$1<2,\"\",IF(ISERROR(MATCH('Individual Scores'!$D13,Scores!$F$253:$F$506,0)),\"\",INDIRECT(\"Scores!\"&\"R\"&(ROW(Scores!$253:$253)-1+MATCH('Individual Scores'!$D13,Scores!$F$253:$F$505,0))&\"C\"&COLUMN(Scores!N$1),FALSE)))","v":132},{"$f":"IF('Team Scores'!$Z$1<2,\"\",IF(ISERROR(MATCH('Individual Scores'!$D13,Scores!$F$253:$F$506,0)),\"\",INDIRECT(\"Scores!\"&\"R\"&(ROW(Scores!$253:$253)-1+MATCH('Individual Scores'!$D13,Scores!$F$253:$F$505,0))&\"C\"&COLUMN(Scores!O$1),FALSE)))","v":145},{"$f":"IF('Team Scores'!$Z$1<2,\"\",IF(ISERROR(MATCH('Individual Scores'!$D13,Scores!$F$253:$F$506,0)),\"\",INDIRECT(\"Scores!\"&\"R\"&(ROW(Scores!$253:$253)-1+MATCH('Individual Scores'!$D13,Scores!$F$253:$F$505,0))&\"C\"&COLUMN(Scores!P$1),FALSE)))","v":124},{"$f":"IF('Team Scores'!$Z$1<2,\"\",IF(ISERROR(MATCH('Individual Scores'!$D13,Scores!$F$253:$F$506,0)),\"\",INDIRECT(\"Scores!\"&\"R\"&(ROW(Scores!$253:$253)-1+MATCH('Individual Scores'!$D13,Scores!$F$253:$F$505,0))&\"C\"&COLUMN(Scores!S$1),FALSE)))","v":928},209,527,null,{"$f":"IF('Team Scores'!$Z$1<3,\"\",IF(ISERROR(MATCH('Individual Scores'!$D13,Scores!$F$506:$F$759,0)),\"\",INDIRECT(\"Scores!\"&\"R\"&(ROW(Scores!$F$506:$F$759)-1+MATCH('Individual Scores'!$D13,Scores!$F$506:$F$759,0))&\"C\"&COLUMN(Scores!J$1),FALSE)))","v":""},{"$f":"IF('Team Scores'!$Z$1<3,\"\",IF(ISERROR(MATCH('Individual Scores'!$D13,Scores!$F$506:$F$759,0)),\"\",INDIRECT(\"Scores!\"&\"R\"&(ROW(Scores!$F$506:$F$759)-1+MATCH('Individual Scores'!$D13,Scores!$F$506:$F$759,0))&\"C\"&COLUMN(Scores!K$1),FALSE)))","v":""},{"$f":"IF('Team Scores'!$Z$1<3,\"\",IF(ISERROR(MATCH('Individual Scores'!$D13,Scores!$F$506:$F$759,0)),\"\",INDIRECT(\"Scores!\"&\"R\"&(ROW(Scores!$F$506:$F$759)-1+MATCH('Individual Scores'!$D13,Scores!$F$506:$F$759,0))&\"C\"&COLUMN(Scores!L$1),FALSE)))","v":""},{"$f":"IF('Team Scores'!$Z$1<3,\"\",IF(ISERROR(MATCH('Individual Scores'!$D13,Scores!$F$506:$F$759,0)),\"\",INDIRECT(\"Scores!\"&\"R\"&(ROW(Scores!$F$506:$F$759)-1+MATCH('Individual Scores'!$D13,Scores!$F$506:$F$759,0))&\"C\"&COLUMN(Scores!N$1),FALSE)))","v":""},{"$f":"IF('Team Scores'!$Z$1<3,\"\",IF(ISERROR(MATCH('Individual Scores'!$D13,Scores!$F$506:$F$759,0)),\"\",INDIRECT(\"Scores!\"&\"R\"&(ROW(Scores!$F$506:$F$759)-1+MATCH('Individual Scores'!$D13,Scores!$F$506:$F$759,0))&\"C\"&COLUMN(Scores!O$1),FALSE)))","v":""},{"$f":"IF('Team Scores'!$Z$1<3,\"\",IF(ISERROR(MATCH('Individual Scores'!$D13,Scores!$F$506:$F$759,0)),\"\",INDIRECT(\"Scores!\"&\"R\"&(ROW(Scores!$F$506:$F$759)-1+MATCH('Individual Scores'!$D13,Scores!$F$506:$F$759,0))&\"C\"&COLUMN(Scores!P$1),FALSE)))","v":""},{"$f":"IF('Team Scores'!$Z$1<3,\"\",IF(ISERROR(MATCH('Individual Scores'!$D13,Scores!$F$506:$F$759,0)),\"\",INDIRECT(\"Scores!\"&\"R\"&(ROW(Scores!$F$506:$F$759)-1+MATCH('Individual Scores'!$D13,Scores!$F$506:$F$759,0))&\"C\"&COLUMN(Scores!S$1),FALSE)))","v":""},"",""]
["GA","15 & <","F","Vacant-GA_G_U15","","","",0,{"$f":"IF(COUNT(Q14:V14,AA14:AF14,AK14:AP14)>=18/3*'Team Scores'!$Z$1,IF(H14-VLOOKUP(B14&C14,'Individual Awards Computations'!$AY$54:$AZ$58,2,FALSE)=0,\"Leader \"&C14&\":\"&B14,H14-VLOOKUP(B14&C14,'Individual Awards Computations'!$AY$54:$AZ$58,2,FALSE)),\"\")","v":""},"","","","","",1,null,{"$f":"IF(ISERROR(MATCH('Individual Scores'!$D14,Scores!$F$1:$F$253,0)),\"\",INDIRECT(\"Scores!\"&\"R\"&MATCH('Individual Scores'!$D14,Scores!$F$1:$F$253,0)&\"C\"&COLUMN(Scores!J$1),FALSE))","v":""},{"$f":"IF(ISERROR(MATCH('Individual Scores'!$D14,Scores!$F$1:$F$253,0)),\"\",INDIRECT(\"Scores!\"&\"R\"&MATCH('Individual Scores'!$D14,Scores!$F$1:$F$253,0)&\"C\"&COLUMN(Scores!K$1),FALSE))","v":""},{"$f":"IF(ISERROR(MATCH('Individual Scores'!$D14,Scores!$F$1:$F$253,0)),\"\",INDIRECT(\"Scores!\"&\"R\"&MATCH('Individual Scores'!$D14,Scores!$F$1:$F$253,0)&\"C\"&COLUMN(Scores!L$1),FALSE))","v":""},{"$f":"IF(ISERROR(MATCH('Individual Scores'!$D14,Scores!$F$1:$F$253,0)),\"\",INDIRECT(\"Scores!\"&\"R\"&MATCH('Individual Scores'!$D14,Scores!$F$1:$F$253,0)&\"C\"&COLUMN(Scores!N$1),FALSE))","v":""},{"$f":"IF(ISERROR(MATCH('Individual Scores'!$D14,Scores!$F$1:$F$253,0)),\"\",INDIRECT(\"Scores!\"&\"R\"&MATCH('Individual Scores'!$D14,Scores!$F$1:$F$253,0)&\"C\"&COLUMN(Scores!O$1),FALSE))","v":""},{"$f":"IF(ISERROR(MATCH('Individual Scores'!$D14,Scores!$F$1:$F$253,0)),\"\",INDIRECT(\"Scores!\"&\"R\"&MATCH('Individual Scores'!$D14,Scores!$F$1:$F$253,0)&\"C\"&COLUMN(Scores!P$1),FALSE))","v":""},{"$f":"IF(ISERROR(MATCH('Individual Scores'!$D14,Scores!$F$1:$F$253,0)),\"\",INDIRECT(\"Scores!\"&\"R\"&MATCH('Individual Scores'!$D14,Scores!$F$1:$F$253,0)&\"C\"&COLUMN(Scores!S$1),FALSE))","v":""},{"$f":"IF(MAX('Individual Scores'!Q14:V14)>0,MAX('Individual Scores'!Q14:V14),\"\")","v":""},{"$f":"IF(MAX(SUM('Individual Scores'!Q14:S14),SUM('Individual Scores'!T14:V14))>0,MAX(SUM('Individual Scores'!Q14:S14),SUM('Individual Scores'!T14:V14)),\"\")","v":""},null,{"$f":"IF('Team Scores'!$Z$1<2,\"\",IF(ISERROR(MATCH('Individual Scores'!$D14,Scores!$F$253:$F$506,0)),\"\",INDIRECT(\"Scores!\"&\"R\"&(ROW(Scores!$253:$253)-1+MATCH('Individual Scores'!$D14,Scores!$F$253:$F$505,0))&\"C\"&COLUMN(Scores!J$1),FALSE)))","v":""},{"$f":"IF('Team Scores'!$Z$1<2,\"\",IF(ISERROR(MATCH('Individual Scores'!$D14,Scores!$F$253:$F$506,0)),\"\",INDIRECT(\"Scores!\"&\"R\"&(ROW(Scores!$253:$253)-1+MATCH('Individual Scores'!$D14,Scores!$F$253:$F$505,0))&\"C\"&COLUMN(Scores!K$1),FALSE)))","v":""},{"$f":"IF('Team Scores'!$Z$1<2,\"\",IF(ISERROR(MATCH('Individual Scores'!$D14,Scores!$F$253:$F$506,0)),\"\",INDIRECT(\"Scores!\"&\"R\"&(ROW(Scores!$253:$253)-1+MATCH('Individual Scores'!$D14,Scores!$F$253:$F$505,0))&\"C\"&COLUMN(Scores!L$1),FALSE)))","v":""},{"$f":"IF('Team Scores'!$Z$1<2,\"\",IF(ISERROR(MATCH('Individual Scores'!$D14,Scores!$F$253:$F$506,0)),\"\",INDIRECT(\"Scores!\"&\"R\"&(ROW(Scores!$253:$253)-1+MATCH('Individual Scores'!$D14,Scores!$F$253:$F$505,0))&\"C\"&COLUMN(Scores!N$1),FALSE)))","v":""},{"$f":"IF('Team Scores'!$Z$1<2,\"\",IF(ISERROR(MATCH('Individual Scores'!$D14,Scores!$F$253:$F$506,0)),\"\",INDIRECT(\"Scores!\"&\"R\"&(ROW(Scores!$253:$253)-1+MATCH('Individual Scores'!$D14,Scores!$F$253:$F$505,0))&\"C\"&COLUMN(Scores!O$1),FALSE)))","v":""},{"$f":"IF('Team Scores'!$Z$1<2,\"\",IF(ISERROR(MATCH('Individual Scores'!$D14,Scores!$F$253:$F$506,0)),\"\",INDIRECT(\"Scores!\"&\"R\"&(ROW(Scores!$253:$253)-1+MATCH('Individual Scores'!$D14,Scores!$F$253:$F$505,0))&\"C\"&COLUMN(Scores!P$1),FALSE)))","v":""},{"$f":"IF('Team Scores'!$Z$1<2,\"\",IF(ISERROR(MATCH('Individual Scores'!$D14,Scores!$F$253:$F$506,0)),\"\",INDIRECT(\"Scores!\"&\"R\"&(ROW(Scores!$253:$253)-1+MATCH('Individual Scores'!$D14,Scores!$F$253:$F$505,0))&\"C\"&COLUMN(Scores!S$1),FALSE)))","v":""},"","",null,{"$f":"IF('Team Scores'!$Z$1<3,\"\",IF(ISERROR(MATCH('Individual Scores'!$D14,Scores!$F$506:$F$759,0)),\"\",INDIRECT(\"Scores!\"&\"R\"&(ROW(Scores!$F$506:$F$759)-1+MATCH('Individual Scores'!$D14,Scores!$F$506:$F$759,0))&\"C\"&COLUMN(Scores!J$1),FALSE)))","v":""},{"$f":"IF('Team Scores'!$Z$1<3,\"\",IF(ISERROR(MATCH('Individual Scores'!$D14,Scores!$F$506:$F$759,0)),\"\",INDIRECT(\"Scores!\"&\"R\"&(ROW(Scores!$F$506:$F$759)-1+MATCH('Individual Scores'!$D14,Scores!$F$506:$F$759,0))&\"C\"&COLUMN(Scores!K$1),FALSE)))","v":""},{"$f":"IF('Team Scores'!$Z$1<3,\"\",IF(ISERROR(MATCH('Individual Scores'!$D14,Scores!$F$506:$F$759,0)),\"\",INDIRECT(\"Scores!\"&\"R\"&(ROW(Scores!$F$506:$F$759)-1+MATCH('Individual Scores'!$D14,Scores!$F$506:$F$759,0))&\"C\"&COLUMN(Scores!L$1),FALSE)))","v":""},{"$f":"IF('Team Scores'!$Z$1<3,\"\",IF(ISERROR(MATCH('Individual Scores'!$D14,Scores!$F$506:$F$759,0)),\"\",INDIRECT(\"Scores!\"&\"R\"&(ROW(Scores!$F$506:$F$759)-1+MATCH('Individual Scores'!$D14,Scores!$F$506:$F$759,0))&\"C\"&COLUMN(Scores!N$1),FALSE)))","v":""},{"$f":"IF('Team Scores'!$Z$1<3,\"\",IF(ISERROR(MATCH('Individual Scores'!$D14,Scores!$F$506:$F$759,0)),\"\",INDIRECT(\"Scores!\"&\"R\"&(ROW(Scores!$F$506:$F$759)-1+MATCH('Individual Scores'!$D14,Scores!$F$506:$F$759,0))&\"C\"&COLUMN(Scores!O$1),FALSE)))","v":""},{"$f":"IF('Team Scores'!$Z$1<3,\"\",IF(ISERROR(MATCH('Individual Scores'!$D14,Scores!$F$506:$F$759,0)),\"\",INDIRECT(\"Scores!\"&\"R\"&(ROW(Scores!$F$506:$F$759)-1+MATCH('Individual Scores'!$D14,Scores!$F$506:$F$759,0))&\"C\"&COLUMN(Scores!P$1),FALSE)))","v":""},{"$f":"IF('Team Scores'!$Z$1<3,\"\",IF(ISERROR(MATCH('Individual Scores'!$D14,Scores!$F$506:$F$759,0)),\"\",INDIRECT(\"Scores!\"&\"R\"&(ROW(Scores!$F$506:$F$759)-1+MATCH('Individual Scores'!$D14,Scores!$F$506:$F$759,0))&\"C\"&COLUMN(Scores!S$1),FALSE)))","v":""},"",""]
["GA","15 & <","F",null,"","","",0,{"$f":"IF(COUNT(Q15:V15,AA15:AF15,AK15:AP15)>=18/3*'Team Scores'!$Z$1,IF(H15-VLOOKUP(B15&C15,'Individual Awards Computations'!$AY$54:$AZ$58,2,FALSE)=0,\"Leader \"&C15&\":\"&B15,H15-VLOOKUP(B15&C15,'Individual Awards Computations'!$AY$54:$AZ$58,2,FALSE)),\"\")","v":""},"","","","","",0,null,{"$f":"IF(ISERROR(MATCH('Individual Scores'!$D15,Scores!$F$1:$F$253,0)),\"\",INDIRECT(\"Scores!\"&\"R\"&MATCH('Individual Scores'!$D15,Scores!$F$1:$F$253,0)&\"C\"&COLUMN(Scores!J$1),FALSE))","v":""},{"$f":"IF(ISERROR(MATCH('Individual Scores'!$D15,Scores!$F$1:$F$253,0)),\"\",INDIRECT(\"Scores!\"&\"R\"&MATCH('Individual Scores'!$D15,Scores!$F$1:$F$253,0)&\"C\"&COLUMN(Scores!K$1),FALSE))","v":""},{"$f":"IF(ISERROR(MATCH('Individual Scores'!$D15,Scores!$F$1:$F$253,0)),\"\",INDIRECT(\"Scores!\"&\"R\"&MATCH('Individual Scores'!$D15,Scores!$F$1:$F$253,0)&\"C\"&COLUMN(Scores!L$1),FALSE))","v":""},{"$f":"IF(ISERROR(MATCH('Individual Scores'!$D15,Scores!$F$1:$F$253,0)),\"\",INDIRECT(\"Scores!\"&\"R\"&MATCH('Individual Scores'!$D15,Scores!$F$1:$F$253,0)&\"C\"&COLUMN(Scores!N$1),FALSE))","v":""},{"$f":"IF(ISERROR(MATCH('Individual Scores'!$D15,Scores!$F$1:$F$253,0)),\"\",INDIRECT(\"Scores!\"&\"R\"&MATCH('Individual Scores'!$D15,Scores!$F$1:$F$253,0)&\"C\"&COLUMN(Scores!O$1),FALSE))","v":""},{"$f":"IF(ISERROR(MATCH('Individual Scores'!$D15,Scores!$F$1:$F$253,0)),\"\",INDIRECT(\"Scores!\"&\"R\"&MATCH('Individual Scores'!$D15,Scores!$F$1:$F$253,0)&\"C\"&COLUMN(Scores!P$1),FALSE))","v":""},{"$f":"IF(ISERROR(MATCH('Individual Scores'!$D15,Scores!$F$1:$F$253,0)),\"\",INDIRECT(\"Scores!\"&\"R\"&MATCH('Individual Scores'!$D15,Scores!$F$1:$F$253,0)&\"C\"&COLUMN(Scores!S$1),FALSE))","v":""},{"$f":"IF(MAX('Individual Scores'!Q15:V15)>0,MAX('Individual Scores'!Q15:V15),\"\")","v":""},{"$f":"IF(MAX(SUM('Individual Scores'!Q15:S15),SUM('Individual Scores'!T15:V15))>0,MAX(SUM('Individual Scores'!Q15:S15),SUM('Individual Scores'!T15:V15)),\"\")","v":""},null,{"$f":"IF('Team Scores'!$Z$1<2,\"\",IF(ISERROR(MATCH('Individual Scores'!$D15,Scores!$F$253:$F$506,0)),\"\",INDIRECT(\"Scores!\"&\"R\"&(ROW(Scores!$253:$253)-1+MATCH('Individual Scores'!$D15,Scores!$F$253:$F$505,0))&\"C\"&COLUMN(Scores!J$1),FALSE)))","v":""},{"$f":"IF('Team Scores'!$Z$1<2,\"\",IF(ISERROR(MATCH('Individual Scores'!$D15,Scores!$F$253:$F$506,0)),\"\",INDIRECT(\"Scores!\"&\"R\"&(ROW(Scores!$253:$253)-1+MATCH('Individual Scores'!$D15,Scores!$F$253:$F$505,0))&\"C\"&COLUMN(Scores!K$1),FALSE)))","v":""},{"$f":"IF('Team Scores'!$Z$1<2,\"\",IF(ISERROR(MATCH('Individual Scores'!$D15,Scores!$F$253:$F$506,0)),\"\",INDIRECT(\"Scores!\"&\"R\"&(ROW(Scores!$253:$253)-1+MATCH('Individual Scores'!$D15,Scores!$F$253:$F$505,0))&\"C\"&COLUMN(Scores!L$1),FALSE)))","v":""},{"$f":"IF('Team Scores'!$Z$1<2,\"\",IF(ISERROR(MATCH('Individual Scores'!$D15,Scores!$F$253:$F$506,0)),\"\",INDIRECT(\"Scores!\"&\"R\"&(ROW(Scores!$253:$253)-1+MATCH('Individual Scores'!$D15,Scores!$F$253:$F$505,0))&\"C\"&COLUMN(Scores!N$1),FALSE)))","v":""},{"$f":"IF('Team Scores'!$Z$1<2,\"\",IF(ISERROR(MATCH('Individual Scores'!$D15,Scores!$F$253:$F$506,0)),\"\",INDIRECT(\"Scores!\"&\"R\"&(ROW(Scores!$253:$253)-1+MATCH('Individual Scores'!$D15,Scores!$F$253:$F$505,0))&\"C\"&COLUMN(Scores!O$1),FALSE)))","v":""},{"$f":"IF('Team Scores'!$Z$1<2,\"\",IF(ISERROR(MATCH('Individual Scores'!$D15,Scores!$F$253:$F$506,0)),\"\",INDIRECT(\"Scores!\"&\"R\"&(ROW(Scores!$253:$253)-1+MATCH('Individual Scores'!$D15,Scores!$F$253:$F$505,0))&\"C\"&COLUMN(Scores!P$1),FALSE)))","v":""},{"$f":"IF('Team Scores'!$Z$1<2,\"\",IF(ISERROR(MATCH('Individual Scores'!$D15,Scores!$F$253:$F$506,0)),\"\",INDIRECT(\"Scores!\"&\"R\"&(ROW(Scores!$253:$253)-1+MATCH('Individual Scores'!$D15,Scores!$F$253:$F$505,0))&\"C\"&COLUMN(Scores!S$1),FALSE)))","v":""},"","",null,{"$f":"IF('Team Scores'!$Z$1<3,\"\",IF(ISERROR(MATCH('Individual Scores'!$D15,Scores!$F$506:$F$759,0)),\"\",INDIRECT(\"Scores!\"&\"R\"&(ROW(Scores!$F$506:$F$759)-1+MATCH('Individual Scores'!$D15,Scores!$F$506:$F$759,0))&\"C\"&COLUMN(Scores!J$1),FALSE)))","v":""},{"$f":"IF('Team Scores'!$Z$1<3,\"\",IF(ISERROR(MATCH('Individual Scores'!$D15,Scores!$F$506:$F$759,0)),\"\",INDIRECT(\"Scores!\"&\"R\"&(ROW(Scores!$F$506:$F$759)-1+MATCH('Individual Scores'!$D15,Scores!$F$506:$F$759,0))&\"C\"&COLUMN(Scores!K$1),FALSE)))","v":""},{"$f":"IF('Team Scores'!$Z$1<3,\"\",IF(ISERROR(MATCH('Individual Scores'!$D15,Scores!$F$506:$F$759,0)),\"\",INDIRECT(\"Scores!\"&\"R\"&(ROW(Scores!$F$506:$F$759)-1+MATCH('Individual Scores'!$D15,Scores!$F$506:$F$759,0))&\"C\"&COLUMN(Scores!L$1),FALSE)))","v":""},{"$f":"IF('Team Scores'!$Z$1<3,\"\",IF(ISERROR(MATCH('Individual Scores'!$D15,Scores!$F$506:$F$759,0)),\"\",INDIRECT(\"Scores!\"&\"R\"&(ROW(Scores!$F$506:$F$759)-1+MATCH('Individual Scores'!$D15,Scores!$F$506:$F$759,0))&\"C\"&COLUMN(Scores!N$1),FALSE)))","v":""},{"$f":"IF('Team Scores'!$Z$1<3,\"\",IF(ISERROR(MATCH('Individual Scores'!$D15,Scores!$F$506:$F$759,0)),\"\",INDIRECT(\"Scores!\"&\"R\"&(ROW(Scores!$F$506:$F$759)-1+MATCH('Individual Scores'!$D15,Scores!$F$506:$F$759,0))&\"C\"&COLUMN(Scores!O$1),FALSE)))","v":""},{"$f":"IF('Team Scores'!$Z$1<3,\"\",IF(ISERROR(MATCH('Individual Scores'!$D15,Scores!$F$506:$F$759,0)),\"\",INDIRECT(\"Scores!\"&\"R\"&(ROW(Scores!$F$506:$F$759)-1+MATCH('Individual Scores'!$D15,Scores!$F$506:$F$759,0))&\"C\"&COLUMN(Scores!P$1),FALSE)))","v":""},{"$f":"IF('Team Scores'!$Z$1<3,\"\",IF(ISERROR(MATCH('Individual Scores'!$D15,Scores!$F$506:$F$759,0)),\"\",INDIRECT(\"Scores!\"&\"R\"&(ROW(Scores!$F$506:$F$759)-1+MATCH('Individual Scores'!$D15,Scores!$F$506:$F$759,0))&\"C\"&COLUMN(Scores!S$1),FALSE)))","v":""},"",""]
["GA","15 & <","M","Brandon Campbell",1189,1011,"",2200,{"$f":"IF(COUNT(Q16:V16,AA16:AF16,AK16:AP16)>=18/3*'Team Scores'!$Z$1,IF(H16-VLOOKUP(B16&C16,'Individual Awards Computations'!$AY$54:$AZ$58,2,FALSE)=0,\"Leader \"&C16&\":\"&B16,H16-VLOOKUP(B16&C16,'Individual Awards Computations'!$AY$54:$AZ$58,2,FALSE)),\"\")","v":-429},222,636,183.33333333333334,16.166666666666668,"167-200",1,null,{"$f":"IF(ISERROR(MATCH('Individual Scores'!$D16,Scores!$F$1:$F$253,0)),\"\",INDIRECT(\"Scores!\"&\"R\"&MATCH('Individual Scores'!$D16,Scores!$F$1:$F$253,0)&\"C\"&COLUMN(Scores!J$1),FALSE))","v":176},{"$f":"IF(ISERROR(MATCH('Individual Scores'!$D16,Scores!$F$1:$F$253,0)),\"\",INDIRECT(\"Scores!\"&\"R\"&MATCH('Individual Scores'!$D16,Scores!$F$1:$F$253,0)&\"C\"&COLUMN(Scores!K$1),FALSE))","v":189},{"$f":"IF(ISERROR(MATCH('Individual Scores'!$D16,Scores!$F$1:$F$253,0)),\"\",INDIRECT(\"Scores!\"&\"R\"&MATCH('Individual Scores'!$D16,Scores!$F$1:$F$253,0)&\"C\"&COLUMN(Scores!L$1),FALSE))","v":188},{"$f":"IF(ISERROR(MATCH('Individual Scores'!$D16,Scores!$F$1:$F$253,0)),\"\",INDIRECT(\"Scores!\"&\"R\"&MATCH('Individual Scores'!$D16,Scores!$F$1:$F$253,0)&\"C\"&COLUMN(Scores!N$1),FALSE))","v":205},{"$f":"IF(ISERROR(MATCH('Individual Scores'!$D16,Scores!$F$1:$F$253,0)),\"\",INDIRECT(\"Scores!\"&\"R\"&MATCH('Individual Scores'!$D16,Scores!$F$1:$F$253,0)&\"C\"&COLUMN(Scores!O$1),FALSE))","v":209},{"$f":"IF(ISERROR(MATCH('Individual Scores'!$D16,Scores!$F$1:$F$253,0)),\"\",INDIRECT(\"Scores!\"&\"R\"&MATCH('Individual Scores'!$D16,Scores!$F$1:$F$253,0)&\"C\"&COLUMN(Scores!P$1),FALSE))","v":222},{"$f":"IF(ISERROR(MATCH('Individual Scores'!$D16,Scores!$F$1:$F$253,0)),\"\",INDIRECT(\"Scores!\"&\"R\"&MATCH('Individual Scores'!$D16,Scores!$F$1:$F$253,0)&\"C\"&COLUMN(Scores!S$1),FALSE))","v":1189},{"$f":"IF(MAX('Individual Scores'!Q16:V16)>0,MAX('Individual Scores'!Q16:V16),\"\")","v":222},{"$f":"IF(MAX(SUM('Individual Scores'!Q16:S16),SUM('Individual Scores'!T16:V16))>0,MAX(SUM('Individual Scores'!Q16:S16),SUM('Individual Scores'!T16:V16)),\"\")","v":636},null,{"$f":"IF('Team Scores'!$Z$1<2,\"\",IF(ISERROR(MATCH('Individual Scores'!$D16,Scores!$F$253:$F$506,0)),\"\",INDIRECT(\"Scores!\"&\"R\"&(ROW(Scores!$253:$253)-1+MATCH('Individual Scores'!$D16,Scores!$F$253:$F$505,0))&\"C\"&COLUMN(Scores!J$1),FALSE)))","v":170},{"$f":"IF('Team Scores'!$Z$1<2,\"\",IF(ISERROR(MATCH('Individual Scores'!$D16,Scores!$F$253:$F$506,0)),\"\",INDIRECT(\"Scores!\"&\"R\"&(ROW(Scores!$253:$253)-1+MATCH('Individual Scores'!$D16,Scores!$F$253:$F$505,0))&\"C\"&COLUMN(Scores!K$1),FALSE)))","v":157},{"$f":"IF('Team Scores'!$Z$1<2,\"\",IF(ISERROR(MATCH('Individual Scores'!$D16,Scores!$F$253:$F$506,0)),\"\",INDIRECT(\"Scores!\"&\"R\"&(ROW(Scores!$253:$253)-1+MATCH('Individual Scores'!$D16,Scores!$F$253:$F$505,0))&\"C\"&COLUMN(Scores!L$1),FALSE)))","v":169},{"$f":"IF('Team Scores'!$Z$1<2,\"\",IF(ISERROR(MATCH('Individual Scores'!$D16,Scores!$F$253:$F$506,0)),\"\",INDIRECT(\"Scores!\"&\"R\"&(ROW(Scores!$253:$253)-1+MATCH('Individual Scores'!$D16,Scores!$F$253:$F$505,0))&\"C\"&COLUMN(Scores!N$1),FALSE)))","v":155},{"$f":"IF('Team Scores'!$Z$1<2,\"\",IF(ISERROR(MATCH('Individual Scores'!$D16,Scores!$F$253:$F$506,0)),\"\",INDIRECT(\"Scores!\"&\"R\"&(ROW(Scores!$253:$253)-1+MATCH('Individual Scores'!$D16,Scores!$F$253:$F$505,0))&\"C\"&COLUMN(Scores!O$1),FALSE)))","v":184},{"$f":"IF('Team Scores'!$Z$1<2,\"\",IF(ISERROR(MATCH('Individual Scores'!$D16,Scores!$F$253:$F$506,0)),\"\",INDIRECT(\"Scores!\"&\"R\"&(ROW(Scores!$253:$253)-1+MATCH('Individual Scores'!$D16,Scores!$F$253:$F$505,0))&\"C\"&COLUMN(Scores!P$1),FALSE)))","v":176},{"$f":"IF('Team Scores'!$Z$1<2,\"\",IF(ISERROR(MATCH('Individual Scores'!$D16,Scores!$F$253:$F$506,0)),\"\",INDIRECT(\"Scores!\"&\"R\"&(ROW(Scores!$253:$253)-1+MATCH('Individual Scores'!$D16,Scores!$F$253:$F$505,0))&\"C\"&COLUMN(Scores!S$1),FALSE)))","v":1011},184,515,null,{"$f":"IF('Team Scores'!$Z$1<3,\"\",IF(ISERROR(MATCH('Individual Scores'!$D16,Scores!$F$506:$F$759,0)),\"\",INDIRECT(\"Scores!\"&\"R\"&(ROW(Scores!$F$506:$F$759)-1+MATCH('Individual Scores'!$D16,Scores!$F$506:$F$759,0))&\"C\"&COLUMN(Scores!J$1),FALSE)))","v":""},{"$f":"IF('Team Scores'!$Z$1<3,\"\",IF(ISERROR(MATCH('Individual Scores'!$D16,Scores!$F$506:$F$759,0)),\"\",INDIRECT(\"Scores!\"&\"R\"&(ROW(Scores!$F$506:$F$759)-1+MATCH('Individual Scores'!$D16,Scores!$F$506:$F$759,0))&\"C\"&COLUMN(Scores!K$1),FALSE)))","v":""},{"$f":"IF('Team Scores'!$Z$1<3,\"\",IF(ISERROR(MATCH('Individual Scores'!$D16,Scores!$F$506:$F$759,0)),\"\",INDIRECT(\"Scores!\"&\"R\"&(ROW(Scores!$F$506:$F$759)-1+MATCH('Individual Scores'!$D16,Scores!$F$506:$F$759,0))&\"C\"&COLUMN(Scores!L$1),FALSE)))","v":""},{"$f":"IF('Team Scores'!$Z$1<3,\"\",IF(ISERROR(MATCH('Individual Scores'!$D16,Scores!$F$506:$F$759,0)),\"\",INDIRECT(\"Scores!\"&\"R\"&(ROW(Scores!$F$506:$F$759)-1+MATCH('Individual Scores'!$D16,Scores!$F$506:$F$759,0))&\"C\"&COLUMN(Scores!N$1),FALSE)))","v":""},{"$f":"IF('Team Scores'!$Z$1<3,\"\",IF(ISERROR(MATCH('Individual Scores'!$D16,Scores!$F$506:$F$759,0)),\"\",INDIRECT(\"Scores!\"&\"R\"&(ROW(Scores!$F$506:$F$759)-1+MATCH('Individual Scores'!$D16,Scores!$F$506:$F$759,0))&\"C\"&COLUMN(Scores!O$1),FALSE)))","v":""},{"$f":"IF('Team Scores'!$Z$1<3,\"\",IF(ISERROR(MATCH('Individual Scores'!$D16,Scores!$F$506:$F$759,0)),\"\",INDIRECT(\"Scores!\"&\"R\"&(ROW(Scores!$F$506:$F$759)-1+MATCH('Individual Scores'!$D16,Scores!$F$506:$F$759,0))&\"C\"&COLUMN(Scores!P$1),FALSE)))","v":""},{"$f":"IF('Team Scores'!$Z$1<3,\"\",IF(ISERROR(MATCH('Individual Scores'!$D16,Scores!$F$506:$F$759,0)),\"\",INDIRECT(\"Scores!\"&\"R\"&(ROW(Scores!$F$506:$F$759)-1+MATCH('Individual Scores'!$D16,Scores!$F$506:$F$759,0))&\"C\"&COLUMN(Scores!S$1),FALSE)))","v":""},"",""]
["GA","15 & <","M","Dakota Starling",1056,1132,"",2188,{"$f":"IF(COUNT(Q17:V17,AA17:AF17,AK17:AP17)>=18/3*'Team Scores'!$Z$1,IF(H17-VLOOKUP(B17&C17,'Individual Awards Computations'!$AY$54:$AZ$58,2,FALSE)=0,\"Leader \"&C17&\":\"&B17,H17-VLOOKUP(B17&C17,'Individual Awards Computations'!$AY$54:$AZ$58,2,FALSE)),\"\")","v":-441},223,597,182.33333333333334,23.611111111111114,"159-206",1,null,{"$f":"IF(ISERROR(MATCH('Individual Scores'!$D17,Scores!$F$1:$F$253,0)),\"\",INDIRECT(\"Scores!\"&\"R\"&MATCH('Individual Scores'!$D17,Scores!$F$1:$F$253,0)&\"C\"&COLUMN(Scores!J$1),FALSE))","v":190},{"$f":"IF(ISERROR(MATCH('Individual Scores'!$D17,Scores!$F$1:$F$253,0)),\"\",INDIRECT(\"Scores!\"&\"R\"&MATCH('Individual Scores'!$D17,Scores!$F$1:$F$253,0)&\"C\"&COLUMN(Scores!K$1),FALSE))","v":211},{"$f":"IF(ISERROR(MATCH('Individual Scores'!$D17,Scores!$F$1:$F$253,0)),\"\",INDIRECT(\"Scores!\"&\"R\"&MATCH('Individual Scores'!$D17,Scores!$F$1:$F$253,0)&\"C\"&COLUMN(Scores!L$1),FALSE))","v":196},{"$f":"IF(ISERROR(MATCH('Individual Scores'!$D17,Scores!$F$1:$F$253,0)),\"\",INDIRECT(\"Scores!\"&\"R\"&MATCH('Individual Scores'!$D17,Scores!$F$1:$F$253,0)&\"C\"&COLUMN(Scores!N$1),FALSE))","v":158},{"$f":"IF(ISERROR(MATCH('Individual Scores'!$D17,Scores!$F$1:$F$253,0)),\"\",INDIRECT(\"Scores!\"&\"R\"&MATCH('Individual Scores'!$D17,Scores!$F$1:$F$253,0)&\"C\"&COLUMN(Scores!O$1),FALSE))","v":118},{"$f":"IF(ISERROR(MATCH('Individual Scores'!$D17,Scores!$F$1:$F$253,0)),\"\",INDIRECT(\"Scores!\"&\"R\"&MATCH('Individual Scores'!$D17,Scores!$F$1:$F$253,0)&\"C\"&COLUMN(Scores!P$1),FALSE))","v":183},{"$f":"IF(ISERROR(MATCH('Individual Scores'!$D17,Scores!$F$1:$F$253,0)),\"\",INDIRECT(\"Scores!\"&\"R\"&MATCH('Individual Scores'!$D17,Scores!$F$1:$F$253,0)&\"C\"&COLUMN(Scores!S$1),FALSE))","v":1056},{"$f":"IF(MAX('Individual Scores'!Q17:V17)>0,MAX('Individual Scores'!Q17:V17),\"\")","v":211},{"$f":"IF(MAX(SUM('Individual Scores'!Q17:S17),SUM('Individual Scores'!T17:V17))>0,MAX(SUM('Individual Scores'!Q17:S17),SUM('Individual Scores'!T17:V17)),\"\")","v":597},null,{"$f":"IF('Team Scores'!$Z$1<2,\"\",IF(ISERROR(MATCH('Individual Scores'!$D17,Scores!$F$253:$F$506,0)),\"\",INDIRECT(\"Scores!\"&\"R\"&(ROW(Scores!$253:$253)-1+MATCH('Individual Scores'!$D17,Scores!$F$253:$F$505,0))&\"C\"&COLUMN(Scores!J$1),FALSE)))","v":177},{"$f":"IF('Team Scores'!$Z$1<2,\"\",IF(ISERROR(MATCH('Individual Scores'!$D17,Scores!$F$253:$F$506,0)),\"\",INDIRECT(\"Scores!\"&\"R\"&(ROW(Scores!$253:$253)-1+MATCH('Individual Scores'!$D17,Scores!$F$253:$F$505,0))&\"C\"&COLUMN(Scores!K$1),FALSE)))","v":222},{"$f":"IF('Team Scores'!$Z$1<2,\"\",IF(ISERROR(MATCH('Individual Scores'!$D17,Scores!$F$253:$F$506,0)),\"\",INDIRECT(\"Scores!\"&\"R\"&(ROW(Scores!$253:$253)-1+MATCH('Individual Scores'!$D17,Scores!$F$253:$F$505,0))&\"C\"&COLUMN(Scores!L$1),FALSE)))","v":193},{"$f":"IF('Team Scores'!$Z$1<2,\"\",IF(ISERROR(MATCH('Individual Scores'!$D17,Scores!$F$253:$F$506,0)),\"\",INDIRECT(\"Scores!\"&\"R\"&(ROW(Scores!$253:$253)-1+MATCH('Individual Scores'!$D17,Scores!$F$253:$F$505,0))&\"C\"&COLUMN(Scores!N$1),FALSE)))","v":160},{"$f":"IF('Team Scores'!$Z$1<2,\"\",IF(ISERROR(MATCH('Individual Scores'!$D17,Scores!$F$253:$F$506,0)),\"\",INDIRECT(\"Scores!\"&\"R\"&(ROW(Scores!$253:$253)-1+MATCH('Individual Scores'!$D17,Scores!$F$253:$F$505,0))&\"C\"&COLUMN(Scores!O$1),FALSE)))","v":223},{"$f":"IF('Team Scores'!$Z$1<2,\"\",IF(ISERROR(MATCH('Individual Scores'!$D17,Scores!$F$253:$F$506,0)),\"\",INDIRECT(\"Scores!\"&\"R\"&(ROW(Scores!$253:$253)-1+MATCH('Individual Scores'!$D17,Scores!$F$253:$F$505,0))&\"C\"&COLUMN(Scores!P$1),FALSE)))","v":157},{"$f":"IF('Team Scores'!$Z$1<2,\"\",IF(ISERROR(MATCH('Individual Scores'!$D17,Scores!$F$253:$F$506,0)),\"\",INDIRECT(\"Scores!\"&\"R\"&(ROW(Scores!$253:$253)-1+MATCH('Individual Scores'!$D17,Scores!$F$253:$F$505,0))&\"C\"&COLUMN(Scores!S$1),FALSE)))","v":1132},223,592,null,{"$f":"IF('Team Scores'!$Z$1<3,\"\",IF(ISERROR(MATCH('Individual Scores'!$D17,Scores!$F$506:$F$759,0)),\"\",INDIRECT(\"Scores!\"&\"R\"&(ROW(Scores!$F$506:$F$759)-1+MATCH('Individual Scores'!$D17,Scores!$F$506:$F$759,0))&\"C\"&COLUMN(Scores!J$1),FALSE)))","v":""},{"$f":"IF('Team Scores'!$Z$1<3,\"\",IF(ISERROR(MATCH('Individual Scores'!$D17,Scores!$F$506:$F$759,0)),\"\",INDIRECT(\"Scores!\"&\"R\"&(ROW(Scores!$F$506:$F$759)-1+MATCH('Individual Scores'!$D17,Scores!$F$506:$F$759,0))&\"C\"&COLUMN(Scores!K$1),FALSE)))","v":""},{"$f":"IF('Team Scores'!$Z$1<3,\"\",IF(ISERROR(MATCH('Individual Scores'!$D17,Scores!$F$506:$F$759,0)),\"\",INDIRECT(\"Scores!\"&\"R\"&(ROW(Scores!$F$506:$F$759)-1+MATCH('Individual Scores'!$D17,Scores!$F$506:$F$759,0))&\"C\"&COLUMN(Scores!L$1),FALSE)))","v":""},{"$f":"IF('Team Scores'!$Z$1<3,\"\",IF(ISERROR(MATCH('Individual Scores'!$D17,Scores!$F$506:$F$759,0)),\"\",INDIRECT(\"Scores!\"&\"R\"&(ROW(Scores!$F$506:$F$759)-1+MATCH('Individual Scores'!$D17,Scores!$F$506:$F$759,0))&\"C\"&COLUMN(Scores!N$1),FALSE)))","v":""},{"$f":"IF('Team Scores'!$Z$1<3,\"\",IF(ISERROR(MATCH('Individual Scores'!$D17,Scores!$F$506:$F$759,0)),\"\",INDIRECT(\"Scores!\"&\"R\"&(ROW(Scores!$F$506:$F$759)-1+MATCH('Individual Scores'!$D17,Scores!$F$506:$F$759,0))&\"C\"&COLUMN(Scores!O$1),FALSE)))","v":""},{"$f":"IF('Team Scores'!$Z$1<3,\"\",IF(ISERROR(MATCH('Individual Scores'!$D17,Scores!$F$506:$F$759,0)),\"\",INDIRECT(\"Scores!\"&\"R\"&(ROW(Scores!$F$506:$F$759)-1+MATCH('Individual Scores'!$D17,Scores!$F$506:$F$759,0))&\"C\"&COLUMN(Scores!P$1),FALSE)))","v":""},{"$f":"IF('Team Scores'!$Z$1<3,\"\",IF(ISERROR(MATCH('Individual Scores'!$D17,Scores!$F$506:$F$759,0)),\"\",INDIRECT(\"Scores!\"&\"R\"&(ROW(Scores!$F$506:$F$759)-1+MATCH('Individual Scores'!$D17,Scores!$F$506:$F$759,0))&\"C\"&COLUMN(Scores!S$1),FALSE)))","v":""},"",""]
["GA","15 & <","M","Isaiah Tukes",925,1123,"",2048,{"$f":"IF(COUNT(Q18:V18,AA18:AF18,AK18:AP18)>=18/3*'Team Scores'!$Z$1,IF(H18-VLOOKUP(B18&C18,'Individual Awards Computations'!$AY$54:$AZ$58,2,FALSE)=0,\"Leader \"&C18&\":\"&B18,H18-VLOOKUP(B18&C18,'Individual Awards Computations'!$AY$54:$AZ$58,2,FALSE)),\"\")","v":-581},213,591,170.66666666666666,17.333333333333332,"153-188",1,null,{"$f":"IF(ISERROR(MATCH('Individual Scores'!$D18,Scores!$F$1:$F$253,0)),\"\",INDIRECT(\"Scores!\"&\"R\"&MATCH('Individual Scores'!$D18,Scores!$F$1:$F$253,0)&\"C\"&COLUMN(Scores!J$1),FALSE))","v":136},{"$f":"IF(ISERROR(MATCH('Individual Scores'!$D18,Scores!$F$1:$F$253,0)),\"\",INDIRECT(\"Scores!\"&\"R\"&MATCH('Individual Scores'!$D18,Scores!$F$1:$F$253,0)&\"C\"&COLUMN(Scores!K$1),FALSE))","v":168},{"$f":"IF(ISERROR(MATCH('Individual Scores'!$D18,Scores!$F$1:$F$253,0)),\"\",INDIRECT(\"Scores!\"&\"R\"&MATCH('Individual Scores'!$D18,Scores!$F$1:$F$253,0)&\"C\"&COLUMN(Scores!L$1),FALSE))","v":151},{"$f":"IF(ISERROR(MATCH('Individual Scores'!$D18,Scores!$F$1:$F$253,0)),\"\",INDIRECT(\"Scores!\"&\"R\"&MATCH('Individual Scores'!$D18,Scores!$F$1:$F$253,0)&\"C\"&COLUMN(Scores!N$1),FALSE))","v":148},{"$f":"IF(ISERROR(MATCH('Individual Scores'!$D18,Scores!$F$1:$F$253,0)),\"\",INDIRECT(\"Scores!\"&\"R\"&MATCH('Individual Scores'!$D18,Scores!$F$1:$F$253,0)&\"C\"&COLUMN(Scores!O$1),FALSE))","v":149},{"$f":"IF(ISERROR(MATCH('Individual Scores'!$D18,Scores!$F$1:$F$253,0)),\"\",INDIRECT(\"Scores!\"&\"R\"&MATCH('Individual Scores'!$D18,Scores!$F$1:$F$253,0)&\"C\"&COLUMN(Scores!P$1),FALSE))","v":173},{"$f":"IF(ISERROR(MATCH('Individual Scores'!$D18,Scores!$F$1:$F$253,0)),\"\",INDIRECT(\"Scores!\"&\"R\"&MATCH('Individual Scores'!$D18,Scores!$F$1:$F$253,0)&\"C\"&COLUMN(Scores!S$1),FALSE))","v":925},{"$f":"IF(MAX('Individual Scores'!Q18:V18)>0,MAX('Individual Scores'!Q18:V18),\"\")","v":173},{"$f":"IF(MAX(SUM('Individual Scores'!Q18:S18),SUM('Individual Scores'!T18:V18))>0,MAX(SUM('Individual Scores'!Q18:S18),SUM('Individual Scores'!T18:V18)),\"\")","v":470},null,{"$f":"IF('Team Scores'!$Z$1<2,\"\",IF(ISERROR(MATCH('Individual Scores'!$D18,Scores!$F$253:$F$506,0)),\"\",INDIRECT(\"Scores!\"&\"R\"&(ROW(Scores!$253:$253)-1+MATCH('Individual Scores'!$D18,Scores!$F$253:$F$505,0))&\"C\"&COLUMN(Scores!J$1),FALSE)))","v":200},{"$f":"IF('Team Scores'!$Z$1<2,\"\",IF(ISERROR(MATCH('Individual Scores'!$D18,Scores!$F$253:$F$506,0)),\"\",INDIRECT(\"Scores!\"&\"R\"&(ROW(Scores!$253:$253)-1+MATCH('Individual Scores'!$D18,Scores!$F$253:$F$505,0))&\"C\"&COLUMN(Scores!K$1),FALSE)))","v":213},{"$f":"IF('Team Scores'!$Z$1<2,\"\",IF(ISERROR(MATCH('Individual Scores'!$D18,Scores!$F$253:$F$506,0)),\"\",INDIRECT(\"Scores!\"&\"R\"&(ROW(Scores!$253:$253)-1+MATCH('Individual Scores'!$D18,Scores!$F$253:$F$505,0))&\"C\"&COLUMN(Scores!L$1),FALSE)))","v":178},{"$f":"IF('Team Scores'!$Z$1<2,\"\",IF(ISERROR(MATCH('Individual Scores'!$D18,Scores!$F$253:$F$506,0)),\"\",INDIRECT(\"Scores!\"&\"R\"&(ROW(Scores!$253:$253)-1+MATCH('Individual Scores'!$D18,Scores!$F$253:$F$505,0))&\"C\"&COLUMN(Scores!N$1),FALSE)))","v":174},{"$f":"IF('Team Scores'!$Z$1<2,\"\",IF(ISERROR(MATCH('Individual Scores'!$D18,Scores!$F$253:$F$506,0)),\"\",INDIRECT(\"Scores!\"&\"R\"&(ROW(Scores!$253:$253)-1+MATCH('Individual Scores'!$D18,Scores!$F$253:$F$505,0))&\"C\"&COLUMN(Scores!O$1),FALSE)))","v":168},{"$f":"IF('Team Scores'!$Z$1<2,\"\",IF(ISERROR(MATCH('Individual Scores'!$D18,Scores!$F$253:$F$506,0)),\"\",INDIRECT(\"Scores!\"&\"R\"&(ROW(Scores!$253:$253)-1+MATCH('Individual Scores'!$D18,Scores!$F$253:$F$505,0))&\"C\"&COLUMN(Scores!P$1),FALSE)))","v":190},{"$f":"IF('Team Scores'!$Z$1<2,\"\",IF(ISERROR(MATCH('Individual Scores'!$D18,Scores!$F$253:$F$506,0)),\"\",INDIRECT(\"Scores!\"&\"R\"&(ROW(Scores!$253:$253)-1+MATCH('Individual Scores'!$D18,Scores!$F$253:$F$505,0))&\"C\"&COLUMN(Scores!S$1),FALSE)))","v":1123},213,591,null,{"$f":"IF('Team Scores'!$Z$1<3,\"\",IF(ISERROR(MATCH('Individual Scores'!$D18,Scores!$F$506:$F$759,0)),\"\",INDIRECT(\"Scores!\"&\"R\"&(ROW(Scores!$F$506:$F$759)-1+MATCH('Individual Scores'!$D18,Scores!$F$506:$F$759,0))&\"C\"&COLUMN(Scores!J$1),FALSE)))","v":""},{"$f":"IF('Team Scores'!$Z$1<3,\"\",IF(ISERROR(MATCH('Individual Scores'!$D18,Scores!$F$506:$F$759,0)),\"\",INDIRECT(\"Scores!\"&\"R\"&(ROW(Scores!$F$506:$F$759)-1+MATCH('Individual Scores'!$D18,Scores!$F$506:$F$759,0))&\"C\"&COLUMN(Scores!K$1),FALSE)))","v":""},{"$f":"IF('Team Scores'!$Z$1<3,\"\",IF(ISERROR(MATCH('Individual Scores'!$D18,Scores!$F$506:$F$759,0)),\"\",INDIRECT(\"Scores!\"&\"R\"&(ROW(Scores!$F$506:$F$759)-1+MATCH('Individual Scores'!$D18,Scores!$F$506:$F$759,0))&\"C\"&COLUMN(Scores!L$1),FALSE)))","v":""},{"$f":"IF('Team Scores'!$Z$1<3,\"\",IF(ISERROR(MATCH('Individual Scores'!$D18,Scores!$F$506:$F$759,0)),\"\",INDIRECT(\"Scores!\"&\"R\"&(ROW(Scores!$F$506:$F$759)-1+MATCH('Individual Scores'!$D18,Scores!$F$506:$F$759,0))&\"C\"&COLUMN(Scores!N$1),FALSE)))","v":""},{"$f":"IF('Team Scores'!$Z$1<3,\"\",IF(ISERROR(MATCH('Individual Scores'!$D18,Scores!$F$506:$F$759,0)),\"\",INDIRECT(\"Scores!\"&\"R\"&(ROW(Scores!$F$506:$F$759)-1+MATCH('Individual Scores'!$D18,Scores!$F$506:$F$759,0))&\"C\"&COLUMN(Scores!O$1),FALSE)))","v":""},{"$f":"IF('Team Scores'!$Z$1<3,\"\",IF(ISERROR(MATCH('Individual Scores'!$D18,Scores!$F$506:$F$759,0)),\"\",INDIRECT(\"Scores!\"&\"R\"&(ROW(Scores!$F$506:$F$759)-1+MATCH('Individual Scores'!$D18,Scores!$F$506:$F$759,0))&\"C\"&COLUMN(Scores!P$1),FALSE)))","v":""},{"$f":"IF('Team Scores'!$Z$1<3,\"\",IF(ISERROR(MATCH('Individual Scores'!$D18,Scores!$F$506:$F$759,0)),\"\",INDIRECT(\"Scores!\"&\"R\"&(ROW(Scores!$F$506:$F$759)-1+MATCH('Individual Scores'!$D18,Scores!$F$506:$F$759,0))&\"C\"&COLUMN(Scores!S$1),FALSE)))","v":""},"",""]
["GA","15 & <","M","Josh Monroe",1037,1099,"",2136,{"$f":"IF(COUNT(Q19:V19,AA19:AF19,AK19:AP19)>=18/3*'Team Scores'!$Z$1,IF(H19-VLOOKUP(B19&C19,'Individual Awards Computations'!$AY$54:$AZ$58,2,FALSE)=0,\"Leader \"&C19&\":\"&B19,H19-VLOOKUP(B19&C19,'Individual Awards Computations'!$AY$54:$AZ$58,2,FALSE)),\"\")","v":-493},244,571,178,24.833333333333332,"153-203",1,null,{"$f":"IF(ISERROR(MATCH('Individual Scores'!$D19,Scores!$F$1:$F$253,0)),\"\",INDIRECT(\"Scores!\"&\"R\"&MATCH('Individual Scores'!$D19,Scores!$F$1:$F$253,0)&\"C\"&COLUMN(Scores!J$1),FALSE))","v":174},{"$f":"IF(ISERROR(MATCH('Individual Scores'!$D19,Scores!$F$1:$F$253,0)),\"\",INDIRECT(\"Scores!\"&\"R\"&MATCH('Individual Scores'!$D19,Scores!$F$1:$F$253,0)&\"C\"&COLUMN(Scores!K$1),FALSE))","v":140},{"$f":"IF(ISERROR(MATCH('Individual Scores'!$D19,Scores!$F$1:$F$253,0)),\"\",INDIRECT(\"Scores!\"&\"R\"&MATCH('Individual Scores'!$D19,Scores!$F$1:$F$253,0)&\"C\"&COLUMN(Scores!L$1),FALSE))","v":152},{"$f":"IF(ISERROR(MATCH('Individual Scores'!$D19,Scores!$F$1:$F$253,0)),\"\",INDIRECT(\"Scores!\"&\"R\"&MATCH('Individual Scores'!$D19,Scores!$F$1:$F$253,0)&\"C\"&COLUMN(Scores!N$1),FALSE))","v":143},{"$f":"IF(ISERROR(MATCH('Individual Scores'!$D19,Scores!$F$1:$F$253,0)),\"\",INDIRECT(\"Scores!\"&\"R\"&MATCH('Individual Scores'!$D19,Scores!$F$1:$F$253,0)&\"C\"&COLUMN(Scores!O$1),FALSE))","v":244},{"$f":"IF(ISERROR(MATCH('Individual Scores'!$D19,Scores!$F$1:$F$253,0)),\"\",INDIRECT(\"Scores!\"&\"R\"&MATCH('Individual Scores'!$D19,Scores!$F$1:$F$253,0)&\"C\"&COLUMN(Scores!P$1),FALSE))","v":184},{"$f":"IF(ISERROR(MATCH('Individual Scores'!$D19,Scores!$F$1:$F$253,0)),\"\",INDIRECT(\"Scores!\"&\"R\"&MATCH('Individual Scores'!$D19,Scores!$F$1:$F$253,0)&\"C\"&COLUMN(Scores!S$1),FALSE))","v":1037},{"$f":"IF(MAX('Individual Scores'!Q19:V19)>0,MAX('Individual Scores'!Q19:V19),\"\")","v":244},{"$f":"IF(MAX(SUM('Individual Scores'!Q19:S19),SUM('Individual Scores'!T19:V19))>0,MAX(SUM('Individual Scores'!Q19:S19),SUM('Individual Scores'!T19:V19)),\"\")","v":571},null,{"$f":"IF('Team Scores'!$Z$1<2,\"\",IF(ISERROR(MATCH('Individual Scores'!$D19,Scores!$F$253:$F$506,0)),\"\",INDIRECT(\"Scores!\"&\"R\"&(ROW(Scores!$253:$253)-1+MATCH('Individual Scores'!$D19,Scores!$F$253:$F$505,0))&\"C\"&COLUMN(Scores!J$1),FALSE)))","v":181},{"$f":"IF('Team Scores'!$Z$1<2,\"\",IF(ISERROR(MATCH('Individual Scores'!$D19,Scores!$F$253:$F$506,0)),\"\",INDIRECT(\"Scores!\"&\"R\"&(ROW(Scores!$253:$253)-1+MATCH('Individual Scores'!$D19,Scores!$F$253:$F$505,0))&\"C\"&COLUMN(Scores!K$1),FALSE)))","v":163},{"$f":"IF('Team Scores'!$Z$1<2,\"\",IF(ISERROR(MATCH('Individual Scores'!$D19,Scores!$F$253:$F$506,0)),\"\",INDIRECT(\"Scores!\"&\"R\"&(ROW(Scores!$253:$253)-1+MATCH('Individual Scores'!$D19,Scores!$F$253:$F$505,0))&\"C\"&COLUMN(Scores!L$1),FALSE)))","v":213},{"$f":"IF('Team Scores'!$Z$1<2,\"\",IF(ISERROR(MATCH('Individual Scores'!$D19,Scores!$F$253:$F$506,0)),\"\",INDIRECT(\"Scores!\"&\"R\"&(ROW(Scores!$253:$253)-1+MATCH('Individual Scores'!$D19,Scores!$F$253:$F$505,0))&\"C\"&COLUMN(Scores!N$1),FALSE)))","v":164},{"$f":"IF('Team Scores'!$Z$1<2,\"\",IF(ISERROR(MATCH('Individual Scores'!$D19,Scores!$F$253:$F$506,0)),\"\",INDIRECT(\"Scores!\"&\"R\"&(ROW(Scores!$253:$253)-1+MATCH('Individual Scores'!$D19,Scores!$F$253:$F$505,0))&\"C\"&COLUMN(Scores!O$1),FALSE)))","v":217},{"$f":"IF('Team Scores'!$Z$1<2,\"\",IF(ISERROR(MATCH('Individual Scores'!$D19,Scores!$F$253:$F$506,0)),\"\",INDIRECT(\"Scores!\"&\"R\"&(ROW(Scores!$253:$253)-1+MATCH('Individual Scores'!$D19,Scores!$F$253:$F$505,0))&\"C\"&COLUMN(Scores!P$1),FALSE)))","v":161},{"$f":"IF('Team Scores'!$Z$1<2,\"\",IF(ISERROR(MATCH('Individual Scores'!$D19,Scores!$F$253:$F$506,0)),\"\",INDIRECT(\"Scores!\"&\"R\"&(ROW(Scores!$253:$253)-1+MATCH('Individual Scores'!$D19,Scores!$F$253:$F$505,0))&\"C\"&COLUMN(Scores!S$1),FALSE)))","v":1099},217,557,null,{"$f":"IF('Team Scores'!$Z$1<3,\"\",IF(ISERROR(MATCH('Individual Scores'!$D19,Scores!$F$506:$F$759,0)),\"\",INDIRECT(\"Scores!\"&\"R\"&(ROW(Scores!$F$506:$F$759)-1+MATCH('Individual Scores'!$D19,Scores!$F$506:$F$759,0))&\"C\"&COLUMN(Scores!J$1),FALSE)))","v":""},{"$f":"IF('Team Scores'!$Z$1<3,\"\",IF(ISERROR(MATCH('Individual Scores'!$D19,Scores!$F$506:$F$759,0)),\"\",INDIRECT(\"Scores!\"&\"R\"&(ROW(Scores!$F$506:$F$759)-1+MATCH('Individual Scores'!$D19,Scores!$F$506:$F$759,0))&\"C\"&COLUMN(Scores!K$1),FALSE)))","v":""},{"$f":"IF('Team Scores'!$Z$1<3,\"\",IF(ISERROR(MATCH('Individual Scores'!$D19,Scores!$F$506:$F$759,0)),\"\",INDIRECT(\"Scores!\"&\"R\"&(ROW(Scores!$F$506:$F$759)-1+MATCH('Individual Scores'!$D19,Scores!$F$506:$F$759,0))&\"C\"&COLUMN(Scores!L$1),FALSE)))","v":""},{"$f":"IF('Team Scores'!$Z$1<3,\"\",IF(ISERROR(MATCH('Individual Scores'!$D19,Scores!$F$506:$F$759,0)),\"\",INDIRECT(\"Scores!\"&\"R\"&(ROW(Scores!$F$506:$F$759)-1+MATCH('Individual Scores'!$D19,Scores!$F$506:$F$759,0))&\"C\"&COLUMN(Scores!N$1),FALSE)))","v":""},{"$f":"IF('Team Scores'!$Z$1<3,\"\",IF(ISERROR(MATCH('Individual Scores'!$D19,Scores!$F$506:$F$759,0)),\"\",INDIRECT(\"Scores!\"&\"R\"&(ROW(Scores!$F$506:$F$759)-1+MATCH('Individual Scores'!$D19,Scores!$F$506:$F$759,0))&\"C\"&COLUMN(Scores!O$1),FALSE)))","v":""},{"$f":"IF('Team Scores'!$Z$1<3,\"\",IF(ISERROR(MATCH('Individual Scores'!$D19,Scores!$F$506:$F$759,0)),\"\",INDIRECT(\"Scores!\"&\"R\"&(ROW(Scores!$F$506:$F$759)-1+MATCH('Individual Scores'!$D19,Scores!$F$506:$F$759,0))&\"C\"&COLUMN(Scores!P$1),FALSE)))","v":""},{"$f":"IF('Team Scores'!$Z$1<3,\"\",IF(ISERROR(MATCH('Individual Scores'!$D19,Scores!$F$506:$F$759,0)),\"\",INDIRECT(\"Scores!\"&\"R\"&(ROW(Scores!$F$506:$F$759)-1+MATCH('Individual Scores'!$D19,Scores!$F$506:$F$759,0))&\"C\"&COLUMN(Scores!S$1),FALSE)))","v":""},"",""]
["GA","15 & <","M","Justin Riley",1045,1170,"",2215,{"$f":"IF(COUNT(Q20:V20,AA20:AF20,AK20:AP20)>=18/3*'Team Scores'!$Z$1,IF(H20-VLOOKUP(B20&C20,'Individual Awards Computations'!$AY$54:$AZ$58,2,FALSE)=0,\"Leader \"&C20&\":\"&B20,H20-VLOOKUP(B20&C20,'Individual Awards Computations'!$AY$54:$AZ$58,2,FALSE)),\"\")","v":-414},226,593,184.58333333333334,24.25,"160-209",1,null,{"$f":"IF(ISERROR(MATCH('Individual Scores'!$D20,Scores!$F$1:$F$253,0)),\"\",INDIRECT(\"Scores!\"&\"R\"&MATCH('Individual Scores'!$D20,Scores!$F$1:$F$253,0)&\"C\"&COLUMN(Scores!J$1),FALSE))","v":226},{"$f":"IF(ISERROR(MATCH('Individual Scores'!$D20,Scores!$F$1:$F$253,0)),\"\",INDIRECT(\"Scores!\"&\"R\"&MATCH('Individual Scores'!$D20,Scores!$F$1:$F$253,0)&\"C\"&COLUMN(Scores!K$1),FALSE))","v":201},{"$f":"IF(ISERROR(MATCH('Individual Scores'!$D20,Scores!$F$1:$F$253,0)),\"\",INDIRECT(\"Scores!\"&\"R\"&MATCH('Individual Scores'!$D20,Scores!$F$1:$F$253,0)&\"C\"&COLUMN(Scores!L$1),FALSE))","v":149},{"$f":"IF(ISERROR(MATCH('Individual Scores'!$D20,Scores!$F$1:$F$253,0)),\"\",INDIRECT(\"Scores!\"&\"R\"&MATCH('Individual Scores'!$D20,Scores!$F$1:$F$253,0)&\"C\"&COLUMN(Scores!N$1),FALSE))","v":174},{"$f":"IF(ISERROR(MATCH('Individual Scores'!$D20,Scores!$F$1:$F$253,0)),\"\",INDIRECT(\"Scores!\"&\"R\"&MATCH('Individual Scores'!$D20,Scores!$F$1:$F$253,0)&\"C\"&COLUMN(Scores!O$1),FALSE))","v":146},{"$f":"IF(ISERROR(MATCH('Individual Scores'!$D20,Scores!$F$1:$F$253,0)),\"\",INDIRECT(\"Scores!\"&\"R\"&MATCH('Individual Scores'!$D20,Scores!$F$1:$F$253,0)&\"C\"&COLUMN(Scores!P$1),FALSE))","v":149},{"$f":"IF(ISERROR(MATCH('Individual Scores'!$D20,Scores!$F$1:$F$253,0)),\"\",INDIRECT(\"Scores!\"&\"R\"&MATCH('Individual Scores'!$D20,Scores!$F$1:$F$253,0)&\"C\"&COLUMN(Scores!S$1),FALSE))","v":1045},{"$f":"IF(MAX('Individual Scores'!Q20:V20)>0,MAX('Individual Scores'!Q20:V20),\"\")","v":226},{"$f":"IF(MAX(SUM('Individual Scores'!Q20:S20),SUM('Individual Scores'!T20:V20))>0,MAX(SUM('Individual Scores'!Q20:S20),SUM('Individual Scores'!T20:V20)),\"\")","v":576},null,{"$f":"IF('Team Scores'!$Z$1<2,\"\",IF(ISERROR(MATCH('Individual Scores'!$D20,Scores!$F$253:$F$506,0)),\"\",INDIRECT(\"Scores!\"&\"R\"&(ROW(Scores!$253:$253)-1+MATCH('Individual Scores'!$D20,Scores!$F$253:$F$505,0))&\"C\"&COLUMN(Scores!J$1),FALSE)))","v":213},{"$f":"IF('Team Scores'!$Z$1<2,\"\",IF(ISERROR(MATCH('Individual Scores'!$D20,Scores!$F$253:$F$506,0)),\"\",INDIRECT(\"Scores!\"&\"R\"&(ROW(Scores!$253:$253)-1+MATCH('Individual Scores'!$D20,Scores!$F$253:$F$505,0))&\"C\"&COLUMN(Scores!K$1),FALSE)))","v":205},{"$f":"IF('Team Scores'!$Z$1<2,\"\",IF(ISERROR(MATCH('Individual Scores'!$D20,Scores!$F$253:$F$506,0)),\"\",INDIRECT(\"Scores!\"&\"R\"&(ROW(Scores!$253:$253)-1+MATCH('Individual Scores'!$D20,Scores!$F$253:$F$505,0))&\"C\"&COLUMN(Scores!L$1),FALSE)))","v":175},{"$f":"IF('Team Scores'!$Z$1<2,\"\",IF(ISERROR(MATCH('Individual Scores'!$D20,Scores!$F$253:$F$506,0)),\"\",INDIRECT(\"Scores!\"&\"R\"&(ROW(Scores!$253:$253)-1+MATCH('Individual Scores'!$D20,Scores!$F$253:$F$505,0))&\"C\"&COLUMN(Scores!N$1),FALSE)))","v":220},{"$f":"IF('Team Scores'!$Z$1<2,\"\",IF(ISERROR(MATCH('Individual Scores'!$D20,Scores!$F$253:$F$506,0)),\"\",INDIRECT(\"Scores!\"&\"R\"&(ROW(Scores!$253:$253)-1+MATCH('Individual Scores'!$D20,Scores!$F$253:$F$505,0))&\"C\"&COLUMN(Scores!O$1),FALSE)))","v":169},{"$f":"IF('Team Scores'!$Z$1<2,\"\",IF(ISERROR(MATCH('Individual Scores'!$D20,Scores!$F$253:$F$506,0)),\"\",INDIRECT(\"Scores!\"&\"R\"&(ROW(Scores!$253:$253)-1+MATCH('Individual Scores'!$D20,Scores!$F$253:$F$505,0))&\"C\"&COLUMN(Scores!P$1),FALSE)))","v":188},{"$f":"IF('Team Scores'!$Z$1<2,\"\",IF(ISERROR(MATCH('Individual Scores'!$D20,Scores!$F$253:$F$506,0)),\"\",INDIRECT(\"Scores!\"&\"R\"&(ROW(Scores!$253:$253)-1+MATCH('Individual Scores'!$D20,Scores!$F$253:$F$505,0))&\"C\"&COLUMN(Scores!S$1),FALSE)))","v":1170},220,593,null,{"$f":"IF('Team Scores'!$Z$1<3,\"\",IF(ISERROR(MATCH('Individual Scores'!$D20,Scores!$F$506:$F$759,0)),\"\",INDIRECT(\"Scores!\"&\"R\"&(ROW(Scores!$F$506:$F$759)-1+MATCH('Individual Scores'!$D20,Scores!$F$506:$F$759,0))&\"C\"&COLUMN(Scores!J$1),FALSE)))","v":""},{"$f":"IF('Team Scores'!$Z$1<3,\"\",IF(ISERROR(MATCH('Individual Scores'!$D20,Scores!$F$506:$F$759,0)),\"\",INDIRECT(\"Scores!\"&\"R\"&(ROW(Scores!$F$506:$F$759)-1+MATCH('Individual Scores'!$D20,Scores!$F$506:$F$759,0))&\"C\"&COLUMN(Scores!K$1),FALSE)))","v":""},{"$f":"IF('Team Scores'!$Z$1<3,\"\",IF(ISERROR(MATCH('Individual Scores'!$D20,Scores!$F$506:$F$759,0)),\"\",INDIRECT(\"Scores!\"&\"R\"&(ROW(Scores!$F$506:$F$759)-1+MATCH('Individual Scores'!$D20,Scores!$F$506:$F$759,0))&\"C\"&COLUMN(Scores!L$1),FALSE)))","v":""},{"$f":"IF('Team Scores'!$Z$1<3,\"\",IF(ISERROR(MATCH('Individual Scores'!$D20,Scores!$F$506:$F$759,0)),\"\",INDIRECT(\"Scores!\"&\"R\"&(ROW(Scores!$F$506:$F$759)-1+MATCH('Individual Scores'!$D20,Scores!$F$506:$F$759,0))&\"C\"&COLUMN(Scores!N$1),FALSE)))","v":""},{"$f":"IF('Team Scores'!$Z$1<3,\"\",IF(ISERROR(MATCH('Individual Scores'!$D20,Scores!$F$506:$F$759,0)),\"\",INDIRECT(\"Scores!\"&\"R\"&(ROW(Scores!$F$506:$F$759)-1+MATCH('Individual Scores'!$D20,Scores!$F$506:$F$759,0))&\"C\"&COLUMN(Scores!O$1),FALSE)))","v":""},{"$f":"IF('Team Scores'!$Z$1<3,\"\",IF(ISERROR(MATCH('Individual Scores'!$D20,Scores!$F$506:$F$759,0)),\"\",INDIRECT(\"Scores!\"&\"R\"&(ROW(Scores!$F$506:$F$759)-1+MATCH('Individual Scores'!$D20,Scores!$F$506:$F$759,0))&\"C\"&COLUMN(Scores!P$1),FALSE)))","v":""},{"$f":"IF('Team Scores'!$Z$1<3,\"\",IF(ISERROR(MATCH('Individual Scores'!$D20,Scores!$F$506:$F$759,0)),\"\",INDIRECT(\"Scores!\"&\"R\"&(ROW(Scores!$F$506:$F$759)-1+MATCH('Individual Scores'!$D20,Scores!$F$506:$F$759,0))&\"C\"&COLUMN(Scores!S$1),FALSE)))","v":""},"",""]
["GA","15 & <","M","Leo Kooman","",1102,"",1102,{"$f":"IF(COUNT(Q21:V21,AA21:AF21,AK21:AP21)>=18/3*'Team Scores'!$Z$1,IF(H21-VLOOKUP(B21&C21,'Individual Awards Computations'!$AY$54:$AZ$58,2,FALSE)=0,\"Leader \"&C21&\":\"&B21,H21-VLOOKUP(B21&C21,'Individual Awards Computations'!$AY$54:$AZ$58,2,FALSE)),\"\")","v":""},209,558,183.66666666666666,11.333333333333334,"172-195",1,null,{"$f":"IF(ISERROR(MATCH('Individual Scores'!$D21,Scores!$F$1:$F$253,0)),\"\",INDIRECT(\"Scores!\"&\"R\"&MATCH('Individual Scores'!$D21,Scores!$F$1:$F$253,0)&\"C\"&COLUMN(Scores!J$1),FALSE))","v":""},{"$f":"IF(ISERROR(MATCH('Individual Scores'!$D21,Scores!$F$1:$F$253,0)),\"\",INDIRECT(\"Scores!\"&\"R\"&MATCH('Individual Scores'!$D21,Scores!$F$1:$F$253,0)&\"C\"&COLUMN(Scores!K$1),FALSE))","v":""},{"$f":"IF(ISERROR(MATCH('Individual Scores'!$D21,Scores!$F$1:$F$253,0)),\"\",INDIRECT(\"Scores!\"&\"R\"&MATCH('Individual Scores'!$D21,Scores!$F$1:$F$253,0)&\"C\"&COLUMN(Scores!L$1),FALSE))","v":""},{"$f":"IF(ISERROR(MATCH('Individual Scores'!$D21,Scores!$F$1:$F$253,0)),\"\",INDIRECT(\"Scores!\"&\"R\"&MATCH('Individual Scores'!$D21,Scores!$F$1:$F$253,0)&\"C\"&COLUMN(Scores!N$1),FALSE))","v":""},{"$f":"IF(ISERROR(MATCH('Individual Scores'!$D21,Scores!$F$1:$F$253,0)),\"\",INDIRECT(\"Scores!\"&\"R\"&MATCH('Individual Scores'!$D21,Scores!$F$1:$F$253,0)&\"C\"&COLUMN(Scores!O$1),FALSE))","v":""},{"$f":"IF(ISERROR(MATCH('Individual Scores'!$D21,Scores!$F$1:$F$253,0)),\"\",INDIRECT(\"Scores!\"&\"R\"&MATCH('Individual Scores'!$D21,Scores!$F$1:$F$253,0)&\"C\"&COLUMN(Scores!P$1),FALSE))","v":""},{"$f":"IF(ISERROR(MATCH('Individual Scores'!$D21,Scores!$F$1:$F$253,0)),\"\",INDIRECT(\"Scores!\"&\"R\"&MATCH('Individual Scores'!$D21,Scores!$F$1:$F$253,0)&\"C\"&COLUMN(Scores!S$1),FALSE))","v":""},{"$f":"IF(MAX('Individual Scores'!Q21:V21)>0,MAX('Individual Scores'!Q21:V21),\"\")","v":""},{"$f":"IF(MAX(SUM('Individual Scores'!Q21:S21),SUM('Individual Scores'!T21:V21))>0,MAX(SUM('Individual Scores'!Q21:S21),SUM('Individual Scores'!T21:V21)),\"\")","v":""},null,{"$f":"IF('Team Scores'!$Z$1<2,\"\",IF(ISERROR(MATCH('Individual Scores'!$D21,Scores!$F$253:$F$506,0)),\"\",INDIRECT(\"Scores!\"&\"R\"&(ROW(Scores!$253:$253)-1+MATCH('Individual Scores'!$D21,Scores!$F$253:$F$505,0))&\"C\"&COLUMN(Scores!J$1),FALSE)))","v":180},{"$f":"IF('Team Scores'!$Z$1<2,\"\",IF(ISERROR(MATCH('Individual Scores'!$D21,Scores!$F$253:$F$506,0)),\"\",INDIRECT(\"Scores!\"&\"R\"&(ROW(Scores!$253:$253)-1+MATCH('Individual Scores'!$D21,Scores!$F$253:$F$505,0))&\"C\"&COLUMN(Scores!K$1),FALSE)))","v":191},{"$f":"IF('Team Scores'!$Z$1<2,\"\",IF(ISERROR(MATCH('Individual Scores'!$D21,Scores!$F$253:$F$506,0)),\"\",INDIRECT(\"Scores!\"&\"R\"&(ROW(Scores!$253:$253)-1+MATCH('Individual Scores'!$D21,Scores!$F$253:$F$505,0))&\"C\"&COLUMN(Scores!L$1),FALSE)))","v":173},{"$f":"IF('Team Scores'!$Z$1<2,\"\",IF(ISERROR(MATCH('Individual Scores'!$D21,Scores!$F$253:$F$506,0)),\"\",INDIRECT(\"Scores!\"&\"R\"&(ROW(Scores!$253:$253)-1+MATCH('Individual Scores'!$D21,Scores!$F$253:$F$505,0))&\"C\"&COLUMN(Scores!N$1),FALSE)))","v":164},{"$f":"IF('Team Scores'!$Z$1<2,\"\",IF(ISERROR(MATCH('Individual Scores'!$D21,Scores!$F$253:$F$506,0)),\"\",INDIRECT(\"Scores!\"&\"R\"&(ROW(Scores!$253:$253)-1+MATCH('Individual Scores'!$D21,Scores!$F$253:$F$505,0))&\"C\"&COLUMN(Scores!O$1),FALSE)))","v":185},{"$f":"IF('Team Scores'!$Z$1<2,\"\",IF(ISERROR(MATCH('Individual Scores'!$D21,Scores!$F$253:$F$506,0)),\"\",INDIRECT(\"Scores!\"&\"R\"&(ROW(Scores!$253:$253)-1+MATCH('Individual Scores'!$D21,Scores!$F$253:$F$505,0))&\"C\"&COLUMN(Scores!P$1),FALSE)))","v":209},{"$f":"IF('Team Scores'!$Z$1<2,\"\",IF(ISERROR(MATCH('Individual Scores'!$D21,Scores!$F$253:$F$506,0)),\"\",INDIRECT(\"Scores!\"&\"R\"&(ROW(Scores!$253:$253)-1+MATCH('Individual Scores'!$D21,Scores!$F$253:$F$505,0))&\"C\"&COLUMN(Scores!S$1),FALSE)))","v":1102},209,558,null,{"$f":"IF('Team Scores'!$Z$1<3,\"\",IF(ISERROR(MATCH('Individual Scores'!$D21,Scores!$F$506:$F$759,0)),\"\",INDIRECT(\"Scores!\"&\"R\"&(ROW(Scores!$F$506:$F$759)-1+MATCH('Individual Scores'!$D21,Scores!$F$506:$F$759,0))&\"C\"&COLUMN(Scores!J$1),FALSE)))","v":""},{"$f":"IF('Team Scores'!$Z$1<3,\"\",IF(ISERROR(MATCH('Individual Scores'!$D21,Scores!$F$506:$F$759,0)),\"\",INDIRECT(\"Scores!\"&\"R\"&(ROW(Scores!$F$506:$F$759)-1+MATCH('Individual Scores'!$D21,Scores!$F$506:$F$759,0))&\"C\"&COLUMN(Scores!K$1),FALSE)))","v":""},{"$f":"IF('Team Scores'!$Z$1<3,\"\",IF(ISERROR(MATCH('Individual Scores'!$D21,Scores!$F$506:$F$759,0)),\"\",INDIRECT(\"Scores!\"&\"R\"&(ROW(Scores!$F$506:$F$759)-1+MATCH('Individual Scores'!$D21,Scores!$F$506:$F$759,0))&\"C\"&COLUMN(Scores!L$1),FALSE)))","v":""},{"$f":"IF('Team Scores'!$Z$1<3,\"\",IF(ISERROR(MATCH('Individual Scores'!$D21,Scores!$F$506:$F$759,0)),\"\",INDIRECT(\"Scores!\"&\"R\"&(ROW(Scores!$F$506:$F$759)-1+MATCH('Individual Scores'!$D21,Scores!$F$506:$F$759,0))&\"C\"&COLUMN(Scores!N$1),FALSE)))","v":""},{"$f":"IF('Team Scores'!$Z$1<3,\"\",IF(ISERROR(MATCH('Individual Scores'!$D21,Scores!$F$506:$F$759,0)),\"\",INDIRECT(\"Scores!\"&\"R\"&(ROW(Scores!$F$506:$F$759)-1+MATCH('Individual Scores'!$D21,Scores!$F$506:$F$759,0))&\"C\"&COLUMN(Scores!O$1),FALSE)))","v":""},{"$f":"IF('Team Scores'!$Z$1<3,\"\",IF(ISERROR(MATCH('Individual Scores'!$D21,Scores!$F$506:$F$759,0)),\"\",INDIRECT(\"Scores!\"&\"R\"&(ROW(Scores!$F$506:$F$759)-1+MATCH('Individual Scores'!$D21,Scores!$F$506:$F$759,0))&\"C\"&COLUMN(Scores!P$1),FALSE)))","v":""},{"$f":"IF('Team Scores'!$Z$1<3,\"\",IF(ISERROR(MATCH('Individual Scores'!$D21,Scores!$F$506:$F$759,0)),\"\",INDIRECT(\"Scores!\"&\"R\"&(ROW(Scores!$F$506:$F$759)-1+MATCH('Individual Scores'!$D21,Scores!$F$506:$F$759,0))&\"C\"&COLUMN(Scores!S$1),FALSE)))","v":""},"",""]
["GA","15 & <","M","Logan Mathis",856,1130,"",1986,{"$f":"IF(COUNT(Q22:V22,AA22:AF22,AK22:AP22)>=18/3*'Team Scores'!$Z$1,IF(H22-VLOOKUP(B22&C22,'Individual Awards Computations'!$AY$54:$AZ$58,2,FALSE)=0,\"Leader \"&C22&\":\"&B22,H22-VLOOKUP(B22&C22,'Individual Awards Computations'!$AY$54:$AZ$58,2,FALSE)),\"\")","v":-643},232,575,165.5,24,"142-190",1,null,{"$f":"IF(ISERROR(MATCH('Individual Scores'!$D22,Scores!$F$1:$F$253,0)),\"\",INDIRECT(\"Scores!\"&\"R\"&MATCH('Individual Scores'!$D22,Scores!$F$1:$F$253,0)&\"C\"&COLUMN(Scores!J$1),FALSE))","v":133},{"$f":"IF(ISERROR(MATCH('Individual Scores'!$D22,Scores!$F$1:$F$253,0)),\"\",INDIRECT(\"Scores!\"&\"R\"&MATCH('Individual Scores'!$D22,Scores!$F$1:$F$253,0)&\"C\"&COLUMN(Scores!K$1),FALSE))","v":133},{"$f":"IF(ISERROR(MATCH('Individual Scores'!$D22,Scores!$F$1:$F$253,0)),\"\",INDIRECT(\"Scores!\"&\"R\"&MATCH('Individual Scores'!$D22,Scores!$F$1:$F$253,0)&\"C\"&COLUMN(Scores!L$1),FALSE))","v":132},{"$f":"IF(ISERROR(MATCH('Individual Scores'!$D22,Scores!$F$1:$F$253,0)),\"\",INDIRECT(\"Scores!\"&\"R\"&MATCH('Individual Scores'!$D22,Scores!$F$1:$F$253,0)&\"C\"&COLUMN(Scores!N$1),FALSE))","v":156},{"$f":"IF(ISERROR(MATCH('Individual Scores'!$D22,Scores!$F$1:$F$253,0)),\"\",INDIRECT(\"Scores!\"&\"R\"&MATCH('Individual Scores'!$D22,Scores!$F$1:$F$253,0)&\"C\"&COLUMN(Scores!O$1),FALSE))","v":157},{"$f":"IF(ISERROR(MATCH('Individual Scores'!$D22,Scores!$F$1:$F$253,0)),\"\",INDIRECT(\"Scores!\"&\"R\"&MATCH('Individual Scores'!$D22,Scores!$F$1:$F$253,0)&\"C\"&COLUMN(Scores!P$1),FALSE))","v":145},{"$f":"IF(ISERROR(MATCH('Individual Scores'!$D22,Scores!$F$1:$F$253,0)),\"\",INDIRECT(\"Scores!\"&\"R\"&MATCH('Individual Scores'!$D22,Scores!$F$1:$F$253,0)&\"C\"&COLUMN(Scores!S$1),FALSE))","v":856},{"$f":"IF(MAX('Individual Scores'!Q22:V22)>0,MAX('Individual Scores'!Q22:V22),\"\")","v":157},{"$f":"IF(MAX(SUM('Individual Scores'!Q22:S22),SUM('Individual Scores'!T22:V22))>0,MAX(SUM('Individual Scores'!Q22:S22),SUM('Individual Scores'!T22:V22)),\"\")","v":458},null,{"$f":"IF('Team Scores'!$Z$1<2,\"\",IF(ISERROR(MATCH('Individual Scores'!$D22,Scores!$F$253:$F$506,0)),\"\",INDIRECT(\"Scores!\"&\"R\"&(ROW(Scores!$253:$253)-1+MATCH('Individual Scores'!$D22,Scores!$F$253:$F$505,0))&\"C\"&COLUMN(Scores!J$1),FALSE)))","v":161},{"$f":"IF('Team Scores'!$Z$1<2,\"\",IF(ISERROR(MATCH('Individual Scores'!$D22,Scores!$F$253:$F$506,0)),\"\",INDIRECT(\"Scores!\"&\"R\"&(ROW(Scores!$253:$253)-1+MATCH('Individual Scores'!$D22,Scores!$F$253:$F$505,0))&\"C\"&COLUMN(Scores!K$1),FALSE)))","v":223},{"$f":"IF('Team Scores'!$Z$1<2,\"\",IF(ISERROR(MATCH('Individual Scores'!$D22,Scores!$F$253:$F$506,0)),\"\",INDIRECT(\"Scores!\"&\"R\"&(ROW(Scores!$253:$253)-1+MATCH('Individual Scores'!$D22,Scores!$F$253:$F$505,0))&\"C\"&COLUMN(Scores!L$1),FALSE)))","v":171},{"$f":"IF('Team Scores'!$Z$1<2,\"\",IF(ISERROR(MATCH('Individual Scores'!$D22,Scores!$F$253:$F$506,0)),\"\",INDIRECT(\"Scores!\"&\"R\"&(ROW(Scores!$253:$253)-1+MATCH('Individual Scores'!$D22,Scores!$F$253:$F$505,0))&\"C\"&COLUMN(Scores!N$1),FALSE)))","v":232},{"$f":"IF('Team Scores'!$Z$1<2,\"\",IF(ISERROR(MATCH('Individual Scores'!$D22,Scores!$F$253:$F$506,0)),\"\",INDIRECT(\"Scores!\"&\"R\"&(ROW(Scores!$253:$253)-1+MATCH('Individual Scores'!$D22,Scores!$F$253:$F$505,0))&\"C\"&COLUMN(Scores!O$1),FALSE)))","v":163},{"$f":"IF('Team Scores'!$Z$1<2,\"\",IF(ISERROR(MATCH('Individual Scores'!$D22,Scores!$F$253:$F$506,0)),\"\",INDIRECT(\"Scores!\"&\"R\"&(ROW(Scores!$253:$253)-1+MATCH('Individual Scores'!$D22,Scores!$F$253:$F$505,0))&\"C\"&COLUMN(Scores!P$1),FALSE)))","v":180},{"$f":"IF('Team Scores'!$Z$1<2,\"\",IF(ISERROR(MATCH('Individual Scores'!$D22,Scores!$F$253:$F$506,0)),\"\",INDIRECT(\"Scores!\"&\"R\"&(ROW(Scores!$253:$253)-1+MATCH('Individual Scores'!$D22,Scores!$F$253:$F$505,0))&\"C\"&COLUMN(Scores!S$1),FALSE)))","v":1130},232,575,null,{"$f":"IF('Team Scores'!$Z$1<3,\"\",IF(ISERROR(MATCH('Individual Scores'!$D22,Scores!$F$506:$F$759,0)),\"\",INDIRECT(\"Scores!\"&\"R\"&(ROW(Scores!$F$506:$F$759)-1+MATCH('Individual Scores'!$D22,Scores!$F$506:$F$759,0))&\"C\"&COLUMN(Scores!J$1),FALSE)))","v":""},{"$f":"IF('Team Scores'!$Z$1<3,\"\",IF(ISERROR(MATCH('Individual Scores'!$D22,Scores!$F$506:$F$759,0)),\"\",INDIRECT(\"Scores!\"&\"R\"&(ROW(Scores!$F$506:$F$759)-1+MATCH('Individual Scores'!$D22,Scores!$F$506:$F$759,0))&\"C\"&COLUMN(Scores!K$1),FALSE)))","v":""},{"$f":"IF('Team Scores'!$Z$1<3,\"\",IF(ISERROR(MATCH('Individual Scores'!$D22,Scores!$F$506:$F$759,0)),\"\",INDIRECT(\"Scores!\"&\"R\"&(ROW(Scores!$F$506:$F$759)-1+MATCH('Individual Scores'!$D22,Scores!$F$506:$F$759,0))&\"C\"&COLUMN(Scores!L$1),FALSE)))","v":""},{"$f":"IF('Team Scores'!$Z$1<3,\"\",IF(ISERROR(MATCH('Individual Scores'!$D22,Scores!$F$506:$F$759,0)),\"\",INDIRECT(\"Scores!\"&\"R\"&(ROW(Scores!$F$506:$F$759)-1+MATCH('Individual Scores'!$D22,Scores!$F$506:$F$759,0))&\"C\"&COLUMN(Scores!N$1),FALSE)))","v":""},{"$f":"IF('Team Scores'!$Z$1<3,\"\",IF(ISERROR(MATCH('Individual Scores'!$D22,Scores!$F$506:$F$759,0)),\"\",INDIRECT(\"Scores!\"&\"R\"&(ROW(Scores!$F$506:$F$759)-1+MATCH('Individual Scores'!$D22,Scores!$F$506:$F$759,0))&\"C\"&COLUMN(Scores!O$1),FALSE)))","v":""},{"$f":"IF('Team Scores'!$Z$1<3,\"\",IF(ISERROR(MATCH('Individual Scores'!$D22,Scores!$F$506:$F$759,0)),\"\",INDIRECT(\"Scores!\"&\"R\"&(ROW(Scores!$F$506:$F$759)-1+MATCH('Individual Scores'!$D22,Scores!$F$506:$F$759,0))&\"C\"&COLUMN(Scores!P$1),FALSE)))","v":""},{"$f":"IF('Team Scores'!$Z$1<3,\"\",IF(ISERROR(MATCH('Individual Scores'!$D22,Scores!$F$506:$F$759,0)),\"\",INDIRECT(\"Scores!\"&\"R\"&(ROW(Scores!$F$506:$F$759)-1+MATCH('Individual Scores'!$D22,Scores!$F$506:$F$759,0))&\"C\"&COLUMN(Scores!S$1),FALSE)))","v":""},"",""]
["GA","15 & <","M","Matthew Hickey",993,1129,"",2122,{"$f":"IF(COUNT(Q23:V23,AA23:AF23,AK23:AP23)>=18/3*'Team Scores'!$Z$1,IF(H23-VLOOKUP(B23&C23,'Individual Awards Computations'!$AY$54:$AZ$58,2,FALSE)=0,\"Leader \"&C23&\":\"&B23,H23-VLOOKUP(B23&C23,'Individual Awards Computations'!$AY$54:$AZ$58,2,FALSE)),\"\")","v":-507},231,652,176.83333333333334,27.305555555555561,"150-204",1,null,{"$f":"IF(ISERROR(MATCH('Individual Scores'!$D23,Scores!$F$1:$F$253,0)),\"\",INDIRECT(\"Scores!\"&\"R\"&MATCH('Individual Scores'!$D23,Scores!$F$1:$F$253,0)&\"C\"&COLUMN(Scores!J$1),FALSE))","v":211},{"$f":"IF(ISERROR(MATCH('Individual Scores'!$D23,Scores!$F$1:$F$253,0)),\"\",INDIRECT(\"Scores!\"&\"R\"&MATCH('Individual Scores'!$D23,Scores!$F$1:$F$253,0)&\"C\"&COLUMN(Scores!K$1),FALSE))","v":153},{"$f":"IF(ISERROR(MATCH('Individual Scores'!$D23,Scores!$F$1:$F$253,0)),\"\",INDIRECT(\"Scores!\"&\"R\"&MATCH('Individual Scores'!$D23,Scores!$F$1:$F$253,0)&\"C\"&COLUMN(Scores!L$1),FALSE))","v":163},{"$f":"IF(ISERROR(MATCH('Individual Scores'!$D23,Scores!$F$1:$F$253,0)),\"\",INDIRECT(\"Scores!\"&\"R\"&MATCH('Individual Scores'!$D23,Scores!$F$1:$F$253,0)&\"C\"&COLUMN(Scores!N$1),FALSE))","v":137},{"$f":"IF(ISERROR(MATCH('Individual Scores'!$D23,Scores!$F$1:$F$253,0)),\"\",INDIRECT(\"Scores!\"&\"R\"&MATCH('Individual Scores'!$D23,Scores!$F$1:$F$253,0)&\"C\"&COLUMN(Scores!O$1),FALSE))","v":185},{"$f":"IF(ISERROR(MATCH('Individual Scores'!$D23,Scores!$F$1:$F$253,0)),\"\",INDIRECT(\"Scores!\"&\"R\"&MATCH('Individual Scores'!$D23,Scores!$F$1:$F$253,0)&\"C\"&COLUMN(Scores!P$1),FALSE))","v":144},{"$f":"IF(ISERROR(MATCH('Individual Scores'!$D23,Scores!$F$1:$F$253,0)),\"\",INDIRECT(\"Scores!\"&\"R\"&MATCH('Individual Scores'!$D23,Scores!$F$1:$F$253,0)&\"C\"&COLUMN(Scores!S$1),FALSE))","v":993},{"$f":"IF(MAX('Individual Scores'!Q23:V23)>0,MAX('Individual Scores'!Q23:V23),\"\")","v":211},{"$f":"IF(MAX(SUM('Individual Scores'!Q23:S23),SUM('Individual Scores'!T23:V23))>0,MAX(SUM('Individual Scores'!Q23:S23),SUM('Individual Scores'!T23:V23)),\"\")","v":527},null,{"$f":"IF('Team Scores'!$Z$1<2,\"\",IF(ISERROR(MATCH('Individual Scores'!$D23,Scores!$F$253:$F$506,0)),\"\",INDIRECT(\"Scores!\"&\"R\"&(ROW(Scores!$253:$253)-1+MATCH('Individual Scores'!$D23,Scores!$F$253:$F$505,0))&\"C\"&COLUMN(Scores!J$1),FALSE)))","v":210},{"$f":"IF('Team Scores'!$Z$1<2,\"\",IF(ISERROR(MATCH('Individual Scores'!$D23,Scores!$F$253:$F$506,0)),\"\",INDIRECT(\"Scores!\"&\"R\"&(ROW(Scores!$253:$253)-1+MATCH('Individual Scores'!$D23,Scores!$F$253:$F$505,0))&\"C\"&COLUMN(Scores!K$1),FALSE)))","v":231},{"$f":"IF('Team Scores'!$Z$1<2,\"\",IF(ISERROR(MATCH('Individual Scores'!$D23,Scores!$F$253:$F$506,0)),\"\",INDIRECT(\"Scores!\"&\"R\"&(ROW(Scores!$253:$253)-1+MATCH('Individual Scores'!$D23,Scores!$F$253:$F$505,0))&\"C\"&COLUMN(Scores!L$1),FALSE)))","v":211},{"$f":"IF('Team Scores'!$Z$1<2,\"\",IF(ISERROR(MATCH('Individual Scores'!$D23,Scores!$F$253:$F$506,0)),\"\",INDIRECT(\"Scores!\"&\"R\"&(ROW(Scores!$253:$253)-1+MATCH('Individual Scores'!$D23,Scores!$F$253:$F$505,0))&\"C\"&COLUMN(Scores!N$1),FALSE)))","v":164},{"$f":"IF('Team Scores'!$Z$1<2,\"\",IF(ISERROR(MATCH('Individual Scores'!$D23,Scores!$F$253:$F$506,0)),\"\",INDIRECT(\"Scores!\"&\"R\"&(ROW(Scores!$253:$253)-1+MATCH('Individual Scores'!$D23,Scores!$F$253:$F$505,0))&\"C\"&COLUMN(Scores!O$1),FALSE)))","v":144},{"$f":"IF('Team Scores'!$Z$1<2,\"\",IF(ISERROR(MATCH('Individual Scores'!$D23,Scores!$F$253:$F$506,0)),\"\",INDIRECT(\"Scores!\"&\"R\"&(ROW(Scores!$253:$253)-1+MATCH('Individual Scores'!$D23,Scores!$F$253:$F$505,0))&\"C\"&COLUMN(Scores!P$1),FALSE)))","v":169},{"$f":"IF('Team Scores'!$Z$1<2,\"\",IF(ISERROR(MATCH('Individual Scores'!$D23,Scores!$F$253:$F$506,0)),\"\",INDIRECT(\"Scores!\"&\"R\"&(ROW(Scores!$253:$253)-1+MATCH('Individual Scores'!$D23,Scores!$F$253:$F$505,0))&\"C\"&COLUMN(Scores!S$1),FALSE)))","v":1129},231,652,null,{"$f":"IF('Team Scores'!$Z$1<3,\"\",IF(ISERROR(MATCH('Individual Scores'!$D23,Scores!$F$506:$F$759,0)),\"\",INDIRECT(\"Scores!\"&\"R\"&(ROW(Scores!$F$506:$F$759)-1+MATCH('Individual Scores'!$D23,Scores!$F$506:$F$759,0))&\"C\"&COLUMN(Scores!J$1),FALSE)))","v":""},{"$f":"IF('Team Scores'!$Z$1<3,\"\",IF(ISERROR(MATCH('Individual Scores'!$D23,Scores!$F$506:$F$759,0)),\"\",INDIRECT(\"Scores!\"&\"R\"&(ROW(Scores!$F$506:$F$759)-1+MATCH('Individual Scores'!$D23,Scores!$F$506:$F$759,0))&\"C\"&COLUMN(Scores!K$1),FALSE)))","v":""},{"$f":"IF('Team Scores'!$Z$1<3,\"\",IF(ISERROR(MATCH('Individual Scores'!$D23,Scores!$F$506:$F$759,0)),\"\",INDIRECT(\"Scores!\"&\"R\"&(ROW(Scores!$F$506:$F$759)-1+MATCH('Individual Scores'!$D23,Scores!$F$506:$F$759,0))&\"C\"&COLUMN(Scores!L$1),FALSE)))","v":""},{"$f":"IF('Team Scores'!$Z$1<3,\"\",IF(ISERROR(MATCH('Individual Scores'!$D23,Scores!$F$506:$F$759,0)),\"\",INDIRECT(\"Scores!\"&\"R\"&(ROW(Scores!$F$506:$F$759)-1+MATCH('Individual Scores'!$D23,Scores!$F$506:$F$759,0))&\"C\"&COLUMN(Scores!N$1),FALSE)))","v":""},{"$f":"IF('Team Scores'!$Z$1<3,\"\",IF(ISERROR(MATCH('Individual Scores'!$D23,Scores!$F$506:$F$759,0)),\"\",INDIRECT(\"Scores!\"&\"R\"&(ROW(Scores!$F$506:$F$759)-1+MATCH('Individual Scores'!$D23,Scores!$F$506:$F$759,0))&\"C\"&COLUMN(Scores!O$1),FALSE)))","v":""},{"$f":"IF('Team Scores'!$Z$1<3,\"\",IF(ISERROR(MATCH('Individual Scores'!$D23,Scores!$F$506:$F$759,0)),\"\",INDIRECT(\"Scores!\"&\"R\"&(ROW(Scores!$F$506:$F$759)-1+MATCH('Individual Scores'!$D23,Scores!$F$506:$F$759,0))&\"C\"&COLUMN(Scores!P$1),FALSE)))","v":""},{"$f":"IF('Team Scores'!$Z$1<3,\"\",IF(ISERROR(MATCH('Individual Scores'!$D23,Scores!$F$506:$F$759,0)),\"\",INDIRECT(\"Scores!\"&\"R\"&(ROW(Scores!$F$506:$F$759)-1+MATCH('Individual Scores'!$D23,Scores!$F$506:$F$759,0))&\"C\"&COLUMN(Scores!S$1),FALSE)))","v":""},"",""]
["GA","15 & <","M","Paris Swinson",996,1081,"",2077,{"$f":"IF(COUNT(Q24:V24,AA24:AF24,AK24:AP24)>=18/3*'Team Scores'!$Z$1,IF(H24-VLOOKUP(B24&C24,'Individual Awards Computations'!$AY$54:$AZ$58,2,FALSE)=0,\"Leader \"&C24&\":\"&B24,H24-VLOOKUP(B24&C24,'Individual Awards Computations'!$AY$54:$AZ$58,2,FALSE)),\"\")","v":-552},246,595,173.08333333333334,24.083333333333332,"149-197",1,null,{"$f":"IF(ISERROR(MATCH('Individual Scores'!$D24,Scores!$F$1:$F$253,0)),\"\",INDIRECT(\"Scores!\"&\"R\"&MATCH('Individual Scores'!$D24,Scores!$F$1:$F$253,0)&\"C\"&COLUMN(Scores!J$1),FALSE))","v":214},{"$f":"IF(ISERROR(MATCH('Individual Scores'!$D24,Scores!$F$1:$F$253,0)),\"\",INDIRECT(\"Scores!\"&\"R\"&MATCH('Individual Scores'!$D24,Scores!$F$1:$F$253,0)&\"C\"&COLUMN(Scores!K$1),FALSE))","v":141},{"$f":"IF(ISERROR(MATCH('Individual Scores'!$D24,Scores!$F$1:$F$253,0)),\"\",INDIRECT(\"Scores!\"&\"R\"&MATCH('Individual Scores'!$D24,Scores!$F$1:$F$253,0)&\"C\"&COLUMN(Scores!L$1),FALSE))","v":178},{"$f":"IF(ISERROR(MATCH('Individual Scores'!$D24,Scores!$F$1:$F$253,0)),\"\",INDIRECT(\"Scores!\"&\"R\"&MATCH('Individual Scores'!$D24,Scores!$F$1:$F$253,0)&\"C\"&COLUMN(Scores!N$1),FALSE))","v":141},{"$f":"IF(ISERROR(MATCH('Individual Scores'!$D24,Scores!$F$1:$F$253,0)),\"\",INDIRECT(\"Scores!\"&\"R\"&MATCH('Individual Scores'!$D24,Scores!$F$1:$F$253,0)&\"C\"&COLUMN(Scores!O$1),FALSE))","v":146},{"$f":"IF(ISERROR(MATCH('Individual Scores'!$D24,Scores!$F$1:$F$253,0)),\"\",INDIRECT(\"Scores!\"&\"R\"&MATCH('Individual Scores'!$D24,Scores!$F$1:$F$253,0)&\"C\"&COLUMN(Scores!P$1),FALSE))","v":176},{"$f":"IF(ISERROR(MATCH('Individual Scores'!$D24,Scores!$F$1:$F$253,0)),\"\",INDIRECT(\"Scores!\"&\"R\"&MATCH('Individual Scores'!$D24,Scores!$F$1:$F$253,0)&\"C\"&COLUMN(Scores!S$1),FALSE))","v":996},{"$f":"IF(MAX('Individual Scores'!Q24:V24)>0,MAX('Individual Scores'!Q24:V24),\"\")","v":214},{"$f":"IF(MAX(SUM('Individual Scores'!Q24:S24),SUM('Individual Scores'!T24:V24))>0,MAX(SUM('Individual Scores'!Q24:S24),SUM('Individual Scores'!T24:V24)),\"\")","v":533},null,{"$f":"IF('Team Scores'!$Z$1<2,\"\",IF(ISERROR(MATCH('Individual Scores'!$D24,Scores!$F$253:$F$506,0)),\"\",INDIRECT(\"Scores!\"&\"R\"&(ROW(Scores!$253:$253)-1+MATCH('Individual Scores'!$D24,Scores!$F$253:$F$505,0))&\"C\"&COLUMN(Scores!J$1),FALSE)))","v":169},{"$f":"IF('Team Scores'!$Z$1<2,\"\",IF(ISERROR(MATCH('Individual Scores'!$D24,Scores!$F$253:$F$506,0)),\"\",INDIRECT(\"Scores!\"&\"R\"&(ROW(Scores!$253:$253)-1+MATCH('Individual Scores'!$D24,Scores!$F$253:$F$505,0))&\"C\"&COLUMN(Scores!K$1),FALSE)))","v":179},{"$f":"IF('Team Scores'!$Z$1<2,\"\",IF(ISERROR(MATCH('Individual Scores'!$D24,Scores!$F$253:$F$506,0)),\"\",INDIRECT(\"Scores!\"&\"R\"&(ROW(Scores!$253:$253)-1+MATCH('Individual Scores'!$D24,Scores!$F$253:$F$505,0))&\"C\"&COLUMN(Scores!L$1),FALSE)))","v":138},{"$f":"IF('Team Scores'!$Z$1<2,\"\",IF(ISERROR(MATCH('Individual Scores'!$D24,Scores!$F$253:$F$506,0)),\"\",INDIRECT(\"Scores!\"&\"R\"&(ROW(Scores!$253:$253)-1+MATCH('Individual Scores'!$D24,Scores!$F$253:$F$505,0))&\"C\"&COLUMN(Scores!N$1),FALSE)))","v":246},{"$f":"IF('Team Scores'!$Z$1<2,\"\",IF(ISERROR(MATCH('Individual Scores'!$D24,Scores!$F$253:$F$506,0)),\"\",INDIRECT(\"Scores!\"&\"R\"&(ROW(Scores!$253:$253)-1+MATCH('Individual Scores'!$D24,Scores!$F$253:$F$505,0))&\"C\"&COLUMN(Scores!O$1),FALSE)))","v":190},{"$f":"IF('Team Scores'!$Z$1<2,\"\",IF(ISERROR(MATCH('Individual Scores'!$D24,Scores!$F$253:$F$506,0)),\"\",INDIRECT(\"Scores!\"&\"R\"&(ROW(Scores!$253:$253)-1+MATCH('Individual Scores'!$D24,Scores!$F$253:$F$505,0))&\"C\"&COLUMN(Scores!P$1),FALSE)))","v":159},{"$f":"IF('Team Scores'!$Z$1<2,\"\",IF(ISERROR(MATCH('Individual Scores'!$D24,Scores!$F$253:$F$506,0)),\"\",INDIRECT(\"Scores!\"&\"R\"&(ROW(Scores!$253:$253)-1+MATCH('Individual Scores'!$D24,Scores!$F$253:$F$505,0))&\"C\"&COLUMN(Scores!S$1),FALSE)))","v":1081},246,595,null,{"$f":"IF('Team Scores'!$Z$1<3,\"\",IF(ISERROR(MATCH('Individual Scores'!$D24,Scores!$F$506:$F$759,0)),\"\",INDIRECT(\"Scores!\"&\"R\"&(ROW(Scores!$F$506:$F$759)-1+MATCH('Individual Scores'!$D24,Scores!$F$506:$F$759,0))&\"C\"&COLUMN(Scores!J$1),FALSE)))","v":""},{"$f":"IF('Team Scores'!$Z$1<3,\"\",IF(ISERROR(MATCH('Individual Scores'!$D24,Scores!$F$506:$F$759,0)),\"\",INDIRECT(\"Scores!\"&\"R\"&(ROW(Scores!$F$506:$F$759)-1+MATCH('Individual Scores'!$D24,Scores!$F$506:$F$759,0))&\"C\"&COLUMN(Scores!K$1),FALSE)))","v":""},{"$f":"IF('Team Scores'!$Z$1<3,\"\",IF(ISERROR(MATCH('Individual Scores'!$D24,Scores!$F$506:$F$759,0)),\"\",INDIRECT(\"Scores!\"&\"R\"&(ROW(Scores!$F$506:$F$759)-1+MATCH('Individual Scores'!$D24,Scores!$F$506:$F$759,0))&\"C\"&COLUMN(Scores!L$1),FALSE)))","v":""},{"$f":"IF('Team Scores'!$Z$1<3,\"\",IF(ISERROR(MATCH('Individual Scores'!$D24,Scores!$F$506:$F$759,0)),\"\",INDIRECT(\"Scores!\"&\"R\"&(ROW(Scores!$F$506:$F$759)-1+MATCH('Individual Scores'!$D24,Scores!$F$506:$F$759,0))&\"C\"&COLUMN(Scores!N$1),FALSE)))","v":""},{"$f":"IF('Team Scores'!$Z$1<3,\"\",IF(ISERROR(MATCH('Individual Scores'!$D24,Scores!$F$506:$F$759,0)),\"\",INDIRECT(\"Scores!\"&\"R\"&(ROW(Scores!$F$506:$F$759)-1+MATCH('Individual Scores'!$D24,Scores!$F$506:$F$759,0))&\"C\"&COLUMN(Scores!O$1),FALSE)))","v":""},{"$f":"IF('Team Scores'!$Z$1<3,\"\",IF(ISERROR(MATCH('Individual Scores'!$D24,Scores!$F$506:$F$759,0)),\"\",INDIRECT(\"Scores!\"&\"R\"&(ROW(Scores!$F$506:$F$759)-1+MATCH('Individual Scores'!$D24,Scores!$F$506:$F$759,0))&\"C\"&COLUMN(Scores!P$1),FALSE)))","v":""},{"$f":"IF('Team Scores'!$Z$1<3,\"\",IF(ISERROR(MATCH('Individual Scores'!$D24,Scores!$F$506:$F$759,0)),\"\",INDIRECT(\"Scores!\"&\"R\"&(ROW(Scores!$F$506:$F$759)-1+MATCH('Individual Scores'!$D24,Scores!$F$506:$F$759,0))&\"C\"&COLUMN(Scores!S$1),FALSE)))","v":""},"",""]
["GA","15 & <","M","Sean Espey",1226,1148,"",2374,{"$f":"IF(COUNT(Q25:V25,AA25:AF25,AK25:AP25)>=18/3*'Team Scores'!$Z$1,IF(H25-VLOOKUP(B25&C25,'Individual Awards Computations'!$AY$54:$AZ$58,2,FALSE)=0,\"Leader \"&C25&\":\"&B25,H25-VLOOKUP(B25&C25,'Individual Awards Computations'!$AY$54:$AZ$58,2,FALSE)),\"\")","v":-255},245,639,197.83333333333334,19.361111111111111,"178-217",1,null,{"$f":"IF(ISERROR(MATCH('Individual Scores'!$D25,Scores!$F$1:$F$253,0)),\"\",INDIRECT(\"Scores!\"&\"R\"&MATCH('Individual Scores'!$D25,Scores!$F$1:$F$253,0)&\"C\"&COLUMN(Scores!J$1),FALSE))","v":206},{"$f":"IF(ISERROR(MATCH('Individual Scores'!$D25,Scores!$F$1:$F$253,0)),\"\",INDIRECT(\"Scores!\"&\"R\"&MATCH('Individual Scores'!$D25,Scores!$F$1:$F$253,0)&\"C\"&COLUMN(Scores!K$1),FALSE))","v":188},{"$f":"IF(ISERROR(MATCH('Individual Scores'!$D25,Scores!$F$1:$F$253,0)),\"\",INDIRECT(\"Scores!\"&\"R\"&MATCH('Individual Scores'!$D25,Scores!$F$1:$F$253,0)&\"C\"&COLUMN(Scores!L$1),FALSE))","v":245},{"$f":"IF(ISERROR(MATCH('Individual Scores'!$D25,Scores!$F$1:$F$253,0)),\"\",INDIRECT(\"Scores!\"&\"R\"&MATCH('Individual Scores'!$D25,Scores!$F$1:$F$253,0)&\"C\"&COLUMN(Scores!N$1),FALSE))","v":179},{"$f":"IF(ISERROR(MATCH('Individual Scores'!$D25,Scores!$F$1:$F$253,0)),\"\",INDIRECT(\"Scores!\"&\"R\"&MATCH('Individual Scores'!$D25,Scores!$F$1:$F$253,0)&\"C\"&COLUMN(Scores!O$1),FALSE))","v":205},{"$f":"IF(ISERROR(MATCH('Individual Scores'!$D25,Scores!$F$1:$F$253,0)),\"\",INDIRECT(\"Scores!\"&\"R\"&MATCH('Individual Scores'!$D25,Scores!$F$1:$F$253,0)&\"C\"&COLUMN(Scores!P$1),FALSE))","v":203},{"$f":"IF(ISERROR(MATCH('Individual Scores'!$D25,Scores!$F$1:$F$253,0)),\"\",INDIRECT(\"Scores!\"&\"R\"&MATCH('Individual Scores'!$D25,Scores!$F$1:$F$253,0)&\"C\"&COLUMN(Scores!S$1),FALSE))","v":1226},{"$f":"IF(MAX('Individual Scores'!Q25:V25)>0,MAX('Individual Scores'!Q25:V25),\"\")","v":245},{"$f":"IF(MAX(SUM('Individual Scores'!Q25:S25),SUM('Individual Scores'!T25:V25))>0,MAX(SUM('Individual Scores'!Q25:S25),SUM('Individual Scores'!T25:V25)),\"\")","v":639},null,{"$f":"IF('Team Scores'!$Z$1<2,\"\",IF(ISERROR(MATCH('Individual Scores'!$D25,Scores!$F$253:$F$506,0)),\"\",INDIRECT(\"Scores!\"&\"R\"&(ROW(Scores!$253:$253)-1+MATCH('Individual Scores'!$D25,Scores!$F$253:$F$505,0))&\"C\"&COLUMN(Scores!J$1),FALSE)))","v":137},{"$f":"IF('Team Scores'!$Z$1<2,\"\",IF(ISERROR(MATCH('Individual Scores'!$D25,Scores!$F$253:$F$506,0)),\"\",INDIRECT(\"Scores!\"&\"R\"&(ROW(Scores!$253:$253)-1+MATCH('Individual Scores'!$D25,Scores!$F$253:$F$505,0))&\"C\"&COLUMN(Scores!K$1),FALSE)))","v":204},{"$f":"IF('Team Scores'!$Z$1<2,\"\",IF(ISERROR(MATCH('Individual Scores'!$D25,Scores!$F$253:$F$506,0)),\"\",INDIRECT(\"Scores!\"&\"R\"&(ROW(Scores!$253:$253)-1+MATCH('Individual Scores'!$D25,Scores!$F$253:$F$505,0))&\"C\"&COLUMN(Scores!L$1),FALSE)))","v":188},{"$f":"IF('Team Scores'!$Z$1<2,\"\",IF(ISERROR(MATCH('Individual Scores'!$D25,Scores!$F$253:$F$506,0)),\"\",INDIRECT(\"Scores!\"&\"R\"&(ROW(Scores!$253:$253)-1+MATCH('Individual Scores'!$D25,Scores!$F$253:$F$505,0))&\"C\"&COLUMN(Scores!N$1),FALSE)))","v":235},{"$f":"IF('Team Scores'!$Z$1<2,\"\",IF(ISERROR(MATCH('Individual Scores'!$D25,Scores!$F$253:$F$506,0)),\"\",INDIRECT(\"Scores!\"&\"R\"&(ROW(Scores!$253:$253)-1+MATCH('Individual Scores'!$D25,Scores!$F$253:$F$505,0))&\"C\"&COLUMN(Scores!O$1),FALSE)))","v":203},{"$f":"IF('Team Scores'!$Z$1<2,\"\",IF(ISERROR(MATCH('Individual Scores'!$D25,Scores!$F$253:$F$506,0)),\"\",INDIRECT(\"Scores!\"&\"R\"&(ROW(Scores!$253:$253)-1+MATCH('Individual Scores'!$D25,Scores!$F$253:$F$505,0))&\"C\"&COLUMN(Scores!P$1),FALSE)))","v":181},{"$f":"IF('Team Scores'!$Z$1<2,\"\",IF(ISERROR(MATCH('Individual Scores'!$D25,Scores!$F$253:$F$506,0)),\"\",INDIRECT(\"Scores!\"&\"R\"&(ROW(Scores!$253:$253)-1+MATCH('Individual Scores'!$D25,Scores!$F$253:$F$505,0))&\"C\"&COLUMN(Scores!S$1),FALSE)))","v":1148},235,619,null,{"$f":"IF('Team Scores'!$Z$1<3,\"\",IF(ISERROR(MATCH('Individual Scores'!$D25,Scores!$F$506:$F$759,0)),\"\",INDIRECT(\"Scores!\"&\"R\"&(ROW(Scores!$F$506:$F$759)-1+MATCH('Individual Scores'!$D25,Scores!$F$506:$F$759,0))&\"C\"&COLUMN(Scores!J$1),FALSE)))","v":""},{"$f":"IF('Team Scores'!$Z$1<3,\"\",IF(ISERROR(MATCH('Individual Scores'!$D25,Scores!$F$506:$F$759,0)),\"\",INDIRECT(\"Scores!\"&\"R\"&(ROW(Scores!$F$506:$F$759)-1+MATCH('Individual Scores'!$D25,Scores!$F$506:$F$759,0))&\"C\"&COLUMN(Scores!K$1),FALSE)))","v":""},{"$f":"IF('Team Scores'!$Z$1<3,\"\",IF(ISERROR(MATCH('Individual Scores'!$D25,Scores!$F$506:$F$759,0)),\"\",INDIRECT(\"Scores!\"&\"R\"&(ROW(Scores!$F$506:$F$759)-1+MATCH('Individual Scores'!$D25,Scores!$F$506:$F$759,0))&\"C\"&COLUMN(Scores!L$1),FALSE)))","v":""},{"$f":"IF('Team Scores'!$Z$1<3,\"\",IF(ISERROR(MATCH('Individual Scores'!$D25,Scores!$F$506:$F$759,0)),\"\",INDIRECT(\"Scores!\"&\"R\"&(ROW(Scores!$F$506:$F$759)-1+MATCH('Individual Scores'!$D25,Scores!$F$506:$F$759,0))&\"C\"&COLUMN(Scores!N$1),FALSE)))","v":""},{"$f":"IF('Team Scores'!$Z$1<3,\"\",IF(ISERROR(MATCH('Individual Scores'!$D25,Scores!$F$506:$F$759,0)),\"\",INDIRECT(\"Scores!\"&\"R\"&(ROW(Scores!$F$506:$F$759)-1+MATCH('Individual Scores'!$D25,Scores!$F$506:$F$759,0))&\"C\"&COLUMN(Scores!O$1),FALSE)))","v":""},{"$f":"IF('Team Scores'!$Z$1<3,\"\",IF(ISERROR(MATCH('Individual Scores'!$D25,Scores!$F$506:$F$759,0)),\"\",INDIRECT(\"Scores!\"&\"R\"&(ROW(Scores!$F$506:$F$759)-1+MATCH('Individual Scores'!$D25,Scores!$F$506:$F$759,0))&\"C\"&COLUMN(Scores!P$1),FALSE)))","v":""},{"$f":"IF('Team Scores'!$Z$1<3,\"\",IF(ISERROR(MATCH('Individual Scores'!$D25,Scores!$F$506:$F$759,0)),\"\",INDIRECT(\"Scores!\"&\"R\"&(ROW(Scores!$F$506:$F$759)-1+MATCH('Individual Scores'!$D25,Scores!$F$506:$F$759,0))&\"C\"&COLUMN(Scores!S$1),FALSE)))","v":""},"",""]
["GA","15 & <","M","Tyrell Ingalls",1055,1122,"",2177,{"$f":"IF(COUNT(Q26:V26,AA26:AF26,AK26:AP26)>=18/3*'Team Scores'!$Z$1,IF(H26-VLOOKUP(B26&C26,'Individual Awards Computations'!$AY$54:$AZ$58,2,FALSE)=0,\"Leader \"&C26&\":\"&B26,H26-VLOOKUP(B26&C26,'Individual Awards Computations'!$AY$54:$AZ$58,2,FALSE)),\"\")","v":-452},220,600,181.41666666666666,21.222222222222218,"160-203",1,null,{"$f":"IF(ISERROR(MATCH('Individual Scores'!$D26,Scores!$F$1:$F$253,0)),\"\",INDIRECT(\"Scores!\"&\"R\"&MATCH('Individual Scores'!$D26,Scores!$F$1:$F$253,0)&\"C\"&COLUMN(Scores!J$1),FALSE))","v":167},{"$f":"IF(ISERROR(MATCH('Individual Scores'!$D26,Scores!$F$1:$F$253,0)),\"\",INDIRECT(\"Scores!\"&\"R\"&MATCH('Individual Scores'!$D26,Scores!$F$1:$F$253,0)&\"C\"&COLUMN(Scores!K$1),FALSE))","v":151},{"$f":"IF(ISERROR(MATCH('Individual Scores'!$D26,Scores!$F$1:$F$253,0)),\"\",INDIRECT(\"Scores!\"&\"R\"&MATCH('Individual Scores'!$D26,Scores!$F$1:$F$253,0)&\"C\"&COLUMN(Scores!L$1),FALSE))","v":162},{"$f":"IF(ISERROR(MATCH('Individual Scores'!$D26,Scores!$F$1:$F$253,0)),\"\",INDIRECT(\"Scores!\"&\"R\"&MATCH('Individual Scores'!$D26,Scores!$F$1:$F$253,0)&\"C\"&COLUMN(Scores!N$1),FALSE))","v":142},{"$f":"IF(ISERROR(MATCH('Individual Scores'!$D26,Scores!$F$1:$F$253,0)),\"\",INDIRECT(\"Scores!\"&\"R\"&MATCH('Individual Scores'!$D26,Scores!$F$1:$F$253,0)&\"C\"&COLUMN(Scores!O$1),FALSE))","v":213},{"$f":"IF(ISERROR(MATCH('Individual Scores'!$D26,Scores!$F$1:$F$253,0)),\"\",INDIRECT(\"Scores!\"&\"R\"&MATCH('Individual Scores'!$D26,Scores!$F$1:$F$253,0)&\"C\"&COLUMN(Scores!P$1),FALSE))","v":220},{"$f":"IF(ISERROR(MATCH('Individual Scores'!$D26,Scores!$F$1:$F$253,0)),\"\",INDIRECT(\"Scores!\"&\"R\"&MATCH('Individual Scores'!$D26,Scores!$F$1:$F$253,0)&\"C\"&COLUMN(Scores!S$1),FALSE))","v":1055},{"$f":"IF(MAX('Individual Scores'!Q26:V26)>0,MAX('Individual Scores'!Q26:V26),\"\")","v":220},{"$f":"IF(MAX(SUM('Individual Scores'!Q26:S26),SUM('Individual Scores'!T26:V26))>0,MAX(SUM('Individual Scores'!Q26:S26),SUM('Individual Scores'!T26:V26)),\"\")","v":575},null,{"$f":"IF('Team Scores'!$Z$1<2,\"\",IF(ISERROR(MATCH('Individual Scores'!$D26,Scores!$F$253:$F$506,0)),\"\",INDIRECT(\"Scores!\"&\"R\"&(ROW(Scores!$253:$253)-1+MATCH('Individual Scores'!$D26,Scores!$F$253:$F$505,0))&\"C\"&COLUMN(Scores!J$1),FALSE)))","v":217},{"$f":"IF('Team Scores'!$Z$1<2,\"\",IF(ISERROR(MATCH('Individual Scores'!$D26,Scores!$F$253:$F$506,0)),\"\",INDIRECT(\"Scores!\"&\"R\"&(ROW(Scores!$253:$253)-1+MATCH('Individual Scores'!$D26,Scores!$F$253:$F$505,0))&\"C\"&COLUMN(Scores!K$1),FALSE)))","v":203},{"$f":"IF('Team Scores'!$Z$1<2,\"\",IF(ISERROR(MATCH('Individual Scores'!$D26,Scores!$F$253:$F$506,0)),\"\",INDIRECT(\"Scores!\"&\"R\"&(ROW(Scores!$253:$253)-1+MATCH('Individual Scores'!$D26,Scores!$F$253:$F$505,0))&\"C\"&COLUMN(Scores!L$1),FALSE)))","v":180},{"$f":"IF('Team Scores'!$Z$1<2,\"\",IF(ISERROR(MATCH('Individual Scores'!$D26,Scores!$F$253:$F$506,0)),\"\",INDIRECT(\"Scores!\"&\"R\"&(ROW(Scores!$253:$253)-1+MATCH('Individual Scores'!$D26,Scores!$F$253:$F$505,0))&\"C\"&COLUMN(Scores!N$1),FALSE)))","v":179},{"$f":"IF('Team Scores'!$Z$1<2,\"\",IF(ISERROR(MATCH('Individual Scores'!$D26,Scores!$F$253:$F$506,0)),\"\",INDIRECT(\"Scores!\"&\"R\"&(ROW(Scores!$253:$253)-1+MATCH('Individual Scores'!$D26,Scores!$F$253:$F$505,0))&\"C\"&COLUMN(Scores!O$1),FALSE)))","v":181},{"$f":"IF('Team Scores'!$Z$1<2,\"\",IF(ISERROR(MATCH('Individual Scores'!$D26,Scores!$F$253:$F$506,0)),\"\",INDIRECT(\"Scores!\"&\"R\"&(ROW(Scores!$253:$253)-1+MATCH('Individual Scores'!$D26,Scores!$F$253:$F$505,0))&\"C\"&COLUMN(Scores!P$1),FALSE)))","v":162},{"$f":"IF('Team Scores'!$Z$1<2,\"\",IF(ISERROR(MATCH('Individual Scores'!$D26,Scores!$F$253:$F$506,0)),\"\",INDIRECT(\"Scores!\"&\"R\"&(ROW(Scores!$253:$253)-1+MATCH('Individual Scores'!$D26,Scores!$F$253:$F$505,0))&\"C\"&COLUMN(Scores!S$1),FALSE)))","v":1122},217,600,null,{"$f":"IF('Team Scores'!$Z$1<3,\"\",IF(ISERROR(MATCH('Individual Scores'!$D26,Scores!$F$506:$F$759,0)),\"\",INDIRECT(\"Scores!\"&\"R\"&(ROW(Scores!$F$506:$F$759)-1+MATCH('Individual Scores'!$D26,Scores!$F$506:$F$759,0))&\"C\"&COLUMN(Scores!J$1),FALSE)))","v":""},{"$f":"IF('Team Scores'!$Z$1<3,\"\",IF(ISERROR(MATCH('Individual Scores'!$D26,Scores!$F$506:$F$759,0)),\"\",INDIRECT(\"Scores!\"&\"R\"&(ROW(Scores!$F$506:$F$759)-1+MATCH('Individual Scores'!$D26,Scores!$F$506:$F$759,0))&\"C\"&COLUMN(Scores!K$1),FALSE)))","v":""},{"$f":"IF('Team Scores'!$Z$1<3,\"\",IF(ISERROR(MATCH('Individual Scores'!$D26,Scores!$F$506:$F$759,0)),\"\",INDIRECT(\"Scores!\"&\"R\"&(ROW(Scores!$F$506:$F$759)-1+MATCH('Individual Scores'!$D26,Scores!$F$506:$F$759,0))&\"C\"&COLUMN(Scores!L$1),FALSE)))","v":""},{"$f":"IF('Team Scores'!$Z$1<3,\"\",IF(ISERROR(MATCH('Individual Scores'!$D26,Scores!$F$506:$F$759,0)),\"\",INDIRECT(\"Scores!\"&\"R\"&(ROW(Scores!$F$506:$F$759)-1+MATCH('Individual Scores'!$D26,Scores!$F$506:$F$759,0))&\"C\"&COLUMN(Scores!N$1),FALSE)))","v":""},{"$f":"IF('Team Scores'!$Z$1<3,\"\",IF(ISERROR(MATCH('Individual Scores'!$D26,Scores!$F$506:$F$759,0)),\"\",INDIRECT(\"Scores!\"&\"R\"&(ROW(Scores!$F$506:$F$759)-1+MATCH('Individual Scores'!$D26,Scores!$F$506:$F$759,0))&\"C\"&COLUMN(Scores!O$1),FALSE)))","v":""},{"$f":"IF('Team Scores'!$Z$1<3,\"\",IF(ISERROR(MATCH('Individual Scores'!$D26,Scores!$F$506:$F$759,0)),\"\",INDIRECT(\"Scores!\"&\"R\"&(ROW(Scores!$F$506:$F$759)-1+MATCH('Individual Scores'!$D26,Scores!$F$506:$F$759,0))&\"C\"&COLUMN(Scores!P$1),FALSE)))","v":""},{"$f":"IF('Team Scores'!$Z$1<3,\"\",IF(ISERROR(MATCH('Individual Scores'!$D26,Scores!$F$506:$F$759,0)),\"\",INDIRECT(\"Scores!\"&\"R\"&(ROW(Scores!$F$506:$F$759)-1+MATCH('Individual Scores'!$D26,Scores!$F$506:$F$759,0))&\"C\"&COLUMN(Scores!S$1),FALSE)))","v":""},"",""]
["GA","15 & <","M","Dominick Baglio","","","",0,{"$f":"IF(COUNT(Q27:V27,AA27:AF27,AK27:AP27)>=18/3*'Team Scores'!$Z$1,IF(H27-VLOOKUP(B27&C27,'Individual Awards Computations'!$AY$54:$AZ$58,2,FALSE)=0,\"Leader \"&C27&\":\"&B27,H27-VLOOKUP(B27&C27,'Individual Awards Computations'!$AY$54:$AZ$58,2,FALSE)),\"\")","v":""},"","","","","",1,null,{"$f":"IF(ISERROR(MATCH('Individual Scores'!$D27,Scores!$F$1:$F$253,0)),\"\",INDIRECT(\"Scores!\"&\"R\"&MATCH('Individual Scores'!$D27,Scores!$F$1:$F$253,0)&\"C\"&COLUMN(Scores!J$1),FALSE))","v":""},{"$f":"IF(ISERROR(MATCH('Individual Scores'!$D27,Scores!$F$1:$F$253,0)),\"\",INDIRECT(\"Scores!\"&\"R\"&MATCH('Individual Scores'!$D27,Scores!$F$1:$F$253,0)&\"C\"&COLUMN(Scores!K$1),FALSE))","v":""},{"$f":"IF(ISERROR(MATCH('Individual Scores'!$D27,Scores!$F$1:$F$253,0)),\"\",INDIRECT(\"Scores!\"&\"R\"&MATCH('Individual Scores'!$D27,Scores!$F$1:$F$253,0)&\"C\"&COLUMN(Scores!L$1),FALSE))","v":""},{"$f":"IF(ISERROR(MATCH('Individual Scores'!$D27,Scores!$F$1:$F$253,0)),\"\",INDIRECT(\"Scores!\"&\"R\"&MATCH('Individual Scores'!$D27,Scores!$F$1:$F$253,0)&\"C\"&COLUMN(Scores!N$1),FALSE))","v":""},{"$f":"IF(ISERROR(MATCH('Individual Scores'!$D27,Scores!$F$1:$F$253,0)),\"\",INDIRECT(\"Scores!\"&\"R\"&MATCH('Individual Scores'!$D27,Scores!$F$1:$F$253,0)&\"C\"&COLUMN(Scores!O$1),FALSE))","v":""},{"$f":"IF(ISERROR(MATCH('Individual Scores'!$D27,Scores!$F$1:$F$253,0)),\"\",INDIRECT(\"Scores!\"&\"R\"&MATCH('Individual Scores'!$D27,Scores!$F$1:$F$253,0)&\"C\"&COLUMN(Scores!P$1),FALSE))","v":""},{"$f":"IF(ISERROR(MATCH('Individual Scores'!$D27,Scores!$F$1:$F$253,0)),\"\",INDIRECT(\"Scores!\"&\"R\"&MATCH('Individual Scores'!$D27,Scores!$F$1:$F$253,0)&\"C\"&COLUMN(Scores!S$1),FALSE))","v":""},{"$f":"IF(MAX('Individual Scores'!Q27:V27)>0,MAX('Individual Scores'!Q27:V27),\"\")","v":""},{"$f":"IF(MAX(SUM('Individual Scores'!Q27:S27),SUM('Individual Scores'!T27:V27))>0,MAX(SUM('Individual Scores'!Q27:S27),SUM('Individual Scores'!T27:V27)),\"\")","v":""},null,{"$f":"IF('Team Scores'!$Z$1<2,\"\",IF(ISERROR(MATCH('Individual Scores'!$D27,Scores!$F$253:$F$506,0)),\"\",INDIRECT(\"Scores!\"&\"R\"&(ROW(Scores!$253:$253)-1+MATCH('Individual Scores'!$D27,Scores!$F$253:$F$505,0))&\"C\"&COLUMN(Scores!J$1),FALSE)))","v":""},{"$f":"IF('Team Scores'!$Z$1<2,\"\",IF(ISERROR(MATCH('Individual Scores'!$D27,Scores!$F$253:$F$506,0)),\"\",INDIRECT(\"Scores!\"&\"R\"&(ROW(Scores!$253:$253)-1+MATCH('Individual Scores'!$D27,Scores!$F$253:$F$505,0))&\"C\"&COLUMN(Scores!K$1),FALSE)))","v":""},{"$f":"IF('Team Scores'!$Z$1<2,\"\",IF(ISERROR(MATCH('Individual Scores'!$D27,Scores!$F$253:$F$506,0)),\"\",INDIRECT(\"Scores!\"&\"R\"&(ROW(Scores!$253:$253)-1+MATCH('Individual Scores'!$D27,Scores!$F$253:$F$505,0))&\"C\"&COLUMN(Scores!L$1),FALSE)))","v":""},{"$f":"IF('Team Scores'!$Z$1<2,\"\",IF(ISERROR(MATCH('Individual Scores'!$D27,Scores!$F$253:$F$506,0)),\"\",INDIRECT(\"Scores!\"&\"R\"&(ROW(Scores!$253:$253)-1+MATCH('Individual Scores'!$D27,Scores!$F$253:$F$505,0))&\"C\"&COLUMN(Scores!N$1),FALSE)))","v":""},{"$f":"IF('Team Scores'!$Z$1<2,\"\",IF(ISERROR(MATCH('Individual Scores'!$D27,Scores!$F$253:$F$506,0)),\"\",INDIRECT(\"Scores!\"&\"R\"&(ROW(Scores!$253:$253)-1+MATCH('Individual Scores'!$D27,Scores!$F$253:$F$505,0))&\"C\"&COLUMN(Scores!O$1),FALSE)))","v":""},{"$f":"IF('Team Scores'!$Z$1<2,\"\",IF(ISERROR(MATCH('Individual Scores'!$D27,Scores!$F$253:$F$506,0)),\"\",INDIRECT(\"Scores!\"&\"R\"&(ROW(Scores!$253:$253)-1+MATCH('Individual Scores'!$D27,Scores!$F$253:$F$505,0))&\"C\"&COLUMN(Scores!P$1),FALSE)))","v":""},{"$f":"IF('Team Scores'!$Z$1<2,\"\",IF(ISERROR(MATCH('Individual Scores'!$D27,Scores!$F$253:$F$506,0)),\"\",INDIRECT(\"Scores!\"&\"R\"&(ROW(Scores!$253:$253)-1+MATCH('Individual Scores'!$D27,Scores!$F$253:$F$505,0))&\"C\"&COLUMN(Scores!S$1),FALSE)))","v":""},"","",null,{"$f":"IF('Team Scores'!$Z$1<3,\"\",IF(ISERROR(MATCH('Individual Scores'!$D27,Scores!$F$506:$F$759,0)),\"\",INDIRECT(\"Scores!\"&\"R\"&(ROW(Scores!$F$506:$F$759)-1+MATCH('Individual Scores'!$D27,Scores!$F$506:$F$759,0))&\"C\"&COLUMN(Scores!J$1),FALSE)))","v":""},{"$f":"IF('Team Scores'!$Z$1<3,\"\",IF(ISERROR(MATCH('Individual Scores'!$D27,Scores!$F$506:$F$759,0)),\"\",INDIRECT(\"Scores!\"&\"R\"&(ROW(Scores!$F$506:$F$759)-1+MATCH('Individual Scores'!$D27,Scores!$F$506:$F$759,0))&\"C\"&COLUMN(Scores!K$1),FALSE)))","v":""},{"$f":"IF('Team Scores'!$Z$1<3,\"\",IF(ISERROR(MATCH('Individual Scores'!$D27,Scores!$F$506:$F$759,0)),\"\",INDIRECT(\"Scores!\"&\"R\"&(ROW(Scores!$F$506:$F$759)-1+MATCH('Individual Scores'!$D27,Scores!$F$506:$F$759,0))&\"C\"&COLUMN(Scores!L$1),FALSE)))","v":""},{"$f":"IF('Team Scores'!$Z$1<3,\"\",IF(ISERROR(MATCH('Individual Scores'!$D27,Scores!$F$506:$F$759,0)),\"\",INDIRECT(\"Scores!\"&\"R\"&(ROW(Scores!$F$506:$F$759)-1+MATCH('Individual Scores'!$D27,Scores!$F$506:$F$759,0))&\"C\"&COLUMN(Scores!N$1),FALSE)))","v":""},{"$f":"IF('Team Scores'!$Z$1<3,\"\",IF(ISERROR(MATCH('Individual Scores'!$D27,Scores!$F$506:$F$759,0)),\"\",INDIRECT(\"Scores!\"&\"R\"&(ROW(Scores!$F$506:$F$759)-1+MATCH('Individual Scores'!$D27,Scores!$F$506:$F$759,0))&\"C\"&COLUMN(Scores!O$1),FALSE)))","v":""},{"$f":"IF('Team Scores'!$Z$1<3,\"\",IF(ISERROR(MATCH('Individual Scores'!$D27,Scores!$F$506:$F$759,0)),\"\",INDIRECT(\"Scores!\"&\"R\"&(ROW(Scores!$F$506:$F$759)-1+MATCH('Individual Scores'!$D27,Scores!$F$506:$F$759,0))&\"C\"&COLUMN(Scores!P$1),FALSE)))","v":""},{"$f":"IF('Team Scores'!$Z$1<3,\"\",IF(ISERROR(MATCH('Individual Scores'!$D27,Scores!$F$506:$F$759,0)),\"\",INDIRECT(\"Scores!\"&\"R\"&(ROW(Scores!$F$506:$F$759)-1+MATCH('Individual Scores'!$D27,Scores!$F$506:$F$759,0))&\"C\"&COLUMN(Scores!S$1),FALSE)))","v":""},"",""]
["GA","15 & <","M","Vacant-GA_B_U15",0,"","",0,{"$f":"IF(COUNT(Q28:V28,AA28:AF28,AK28:AP28)>=18/3*'Team Scores'!$Z$1,IF(H28-VLOOKUP(B28&C28,'Individual Awards Computations'!$AY$54:$AZ$58,2,FALSE)=0,\"Leader \"&C28&\":\"&B28,H28-VLOOKUP(B28&C28,'Individual Awards Computations'!$AY$54:$AZ$58,2,FALSE)),\"\")","v":""},"","","","","",1,null,{"$f":"IF(ISERROR(MATCH('Individual Scores'!$D28,Scores!$F$1:$F$253,0)),\"\",INDIRECT(\"Scores!\"&\"R\"&MATCH('Individual Scores'!$D28,Scores!$F$1:$F$253,0)&\"C\"&COLUMN(Scores!J$1),FALSE))","v":0},{"$f":"IF(ISERROR(MATCH('Individual Scores'!$D28,Scores!$F$1:$F$253,0)),\"\",INDIRECT(\"Scores!\"&\"R\"&MATCH('Individual Scores'!$D28,Scores!$F$1:$F$253,0)&\"C\"&COLUMN(Scores!K$1),FALSE))","v":0},{"$f":"IF(ISERROR(MATCH('Individual Scores'!$D28,Scores!$F$1:$F$253,0)),\"\",INDIRECT(\"Scores!\"&\"R\"&MATCH('Individual Scores'!$D28,Scores!$F$1:$F$253,0)&\"C\"&COLUMN(Scores!L$1),FALSE))","v":0},{"$f":"IF(ISERROR(MATCH('Individual Scores'!$D28,Scores!$F$1:$F$253,0)),\"\",INDIRECT(\"Scores!\"&\"R\"&MATCH('Individual Scores'!$D28,Scores!$F$1:$F$253,0)&\"C\"&COLUMN(Scores!N$1),FALSE))","v":0},{"$f":"IF(ISERROR(MATCH('Individual Scores'!$D28,Scores!$F$1:$F$253,0)),\"\",INDIRECT(\"Scores!\"&\"R\"&MATCH('Individual Scores'!$D28,Scores!$F$1:$F$253,0)&\"C\"&COLUMN(Scores!O$1),FALSE))","v":0},{"$f":"IF(ISERROR(MATCH('Individual Scores'!$D28,Scores!$F$1:$F$253,0)),\"\",INDIRECT(\"Scores!\"&\"R\"&MATCH('Individual Scores'!$D28,Scores!$F$1:$F$253,0)&\"C\"&COLUMN(Scores!P$1),FALSE))","v":0},{"$f":"IF(ISERROR(MATCH('Individual Scores'!$D28,Scores!$F$1:$F$253,0)),\"\",INDIRECT(\"Scores!\"&\"R\"&MATCH('Individual Scores'!$D28,Scores!$F$1:$F$253,0)&\"C\"&COLUMN(Scores!S$1),FALSE))","v":0},{"$f":"IF(MAX('Individual Scores'!Q28:V28)>0,MAX('Individual Scores'!Q28:V28),\"\")","v":""},{"$f":"IF(MAX(SUM('Individual Scores'!Q28:S28),SUM('Individual Scores'!T28:V28))>0,MAX(SUM('Individual Scores'!Q28:S28),SUM('Individual Scores'!T28:V28)),\"\")","v":""},null,{"$f":"IF('Team Scores'!$Z$1<2,\"\",IF(ISERROR(MATCH('Individual Scores'!$D28,Scores!$F$253:$F$506,0)),\"\",INDIRECT(\"Scores!\"&\"R\"&(ROW(Scores!$253:$253)-1+MATCH('Individual Scores'!$D28,Scores!$F$253:$F$505,0))&\"C\"&COLUMN(Scores!J$1),FALSE)))","v":""},{"$f":"IF('Team Scores'!$Z$1<2,\"\",IF(ISERROR(MATCH('Individual Scores'!$D28,Scores!$F$253:$F$506,0)),\"\",INDIRECT(\"Scores!\"&\"R\"&(ROW(Scores!$253:$253)-1+MATCH('Individual Scores'!$D28,Scores!$F$253:$F$505,0))&\"C\"&COLUMN(Scores!K$1),FALSE)))","v":""},{"$f":"IF('Team Scores'!$Z$1<2,\"\",IF(ISERROR(MATCH('Individual Scores'!$D28,Scores!$F$253:$F$506,0)),\"\",INDIRECT(\"Scores!\"&\"R\"&(ROW(Scores!$253:$253)-1+MATCH('Individual Scores'!$D28,Scores!$F$253:$F$505,0))&\"C\"&COLUMN(Scores!L$1),FALSE)))","v":""},{"$f":"IF('Team Scores'!$Z$1<2,\"\",IF(ISERROR(MATCH('Individual Scores'!$D28,Scores!$F$253:$F$506,0)),\"\",INDIRECT(\"Scores!\"&\"R\"&(ROW(Scores!$253:$253)-1+MATCH('Individual Scores'!$D28,Scores!$F$253:$F$505,0))&\"C\"&COLUMN(Scores!N$1),FALSE)))","v":""},{"$f":"IF('Team Scores'!$Z$1<2,\"\",IF(ISERROR(MATCH('Individual Scores'!$D28,Scores!$F$253:$F$506,0)),\"\",INDIRECT(\"Scores!\"&\"R\"&(ROW(Scores!$253:$253)-1+MATCH('Individual Scores'!$D28,Scores!$F$253:$F$505,0))&\"C\"&COLUMN(Scores!O$1),FALSE)))","v":""},{"$f":"IF('Team Scores'!$Z$1<2,\"\",IF(ISERROR(MATCH('Individual Scores'!$D28,Scores!$F$253:$F$506,0)),\"\",INDIRECT(\"Scores!\"&\"R\"&(ROW(Scores!$253:$253)-1+MATCH('Individual Scores'!$D28,Scores!$F$253:$F$505,0))&\"C\"&COLUMN(Scores!P$1),FALSE)))","v":""},{"$f":"IF('Team Scores'!$Z$1<2,\"\",IF(ISERROR(MATCH('Individual Scores'!$D28,Scores!$F$253:$F$506,0)),\"\",INDIRECT(\"Scores!\"&\"R\"&(ROW(Scores!$253:$253)-1+MATCH('Individual Scores'!$D28,Scores!$F$253:$F$505,0))&\"C\"&COLUMN(Scores!S$1),FALSE)))","v":""},"","",null,{"$f":"IF('Team Scores'!$Z$1<3,\"\",IF(ISERROR(MATCH('Individual Scores'!$D28,Scores!$F$506:$F$759,0)),\"\",INDIRECT(\"Scores!\"&\"R\"&(ROW(Scores!$F$506:$F$759)-1+MATCH('Individual Scores'!$D28,Scores!$F$506:$F$759,0))&\"C\"&COLUMN(Scores!J$1),FALSE)))","v":""},{"$f":"IF('Team Scores'!$Z$1<3,\"\",IF(ISERROR(MATCH('Individual Scores'!$D28,Scores!$F$506:$F$759,0)),\"\",INDIRECT(\"Scores!\"&\"R\"&(ROW(Scores!$F$506:$F$759)-1+MATCH('Individual Scores'!$D28,Scores!$F$506:$F$759,0))&\"C\"&COLUMN(Scores!K$1),FALSE)))","v":""},{"$f":"IF('Team Scores'!$Z$1<3,\"\",IF(ISERROR(MATCH('Individual Scores'!$D28,Scores!$F$506:$F$759,0)),\"\",INDIRECT(\"Scores!\"&\"R\"&(ROW(Scores!$F$506:$F$759)-1+MATCH('Individual Scores'!$D28,Scores!$F$506:$F$759,0))&\"C\"&COLUMN(Scores!L$1),FALSE)))","v":""},{"$f":"IF('Team Scores'!$Z$1<3,\"\",IF(ISERROR(MATCH('Individual Scores'!$D28,Scores!$F$506:$F$759,0)),\"\",INDIRECT(\"Scores!\"&\"R\"&(ROW(Scores!$F$506:$F$759)-1+MATCH('Individual Scores'!$D28,Scores!$F$506:$F$759,0))&\"C\"&COLUMN(Scores!N$1),FALSE)))","v":""},{"$f":"IF('Team Scores'!$Z$1<3,\"\",IF(ISERROR(MATCH('Individual Scores'!$D28,Scores!$F$506:$F$759,0)),\"\",INDIRECT(\"Scores!\"&\"R\"&(ROW(Scores!$F$506:$F$759)-1+MATCH('Individual Scores'!$D28,Scores!$F$506:$F$759,0))&\"C\"&COLUMN(Scores!O$1),FALSE)))","v":""},{"$f":"IF('Team Scores'!$Z$1<3,\"\",IF(ISERROR(MATCH('Individual Scores'!$D28,Scores!$F$506:$F$759,0)),\"\",INDIRECT(\"Scores!\"&\"R\"&(ROW(Scores!$F$506:$F$759)-1+MATCH('Individual Scores'!$D28,Scores!$F$506:$F$759,0))&\"C\"&COLUMN(Scores!P$1),FALSE)))","v":""},{"$f":"IF('Team Scores'!$Z$1<3,\"\",IF(ISERROR(MATCH('Individual Scores'!$D28,Scores!$F$506:$F$759,0)),\"\",INDIRECT(\"Scores!\"&\"R\"&(ROW(Scores!$F$506:$F$759)-1+MATCH('Individual Scores'!$D28,Scores!$F$506:$F$759,0))&\"C\"&COLUMN(Scores!S$1),FALSE)))","v":""},"",""]
["GA","16-20","F","Amber Beene",1153,1110,"",2263,{"$f":"IF(COUNT(Q29:V29,AA29:AF29,AK29:AP29)>=18/3*'Team Scores'!$Z$1,IF(H29-VLOOKUP(B29&C29,'Individual Awards Computations'!$AY$54:$AZ$58,2,FALSE)=0,\"Leader \"&C29&\":\"&B29,H29-VLOOKUP(B29&C29,'Individual Awards Computations'!$AY$54:$AZ$58,2,FALSE)),\"\")","v":-183},214,604,188.58333333333334,13.916666666666666,"175-203",1,null,{"$f":"IF(ISERROR(MATCH('Individual Scores'!$D29,Scores!$F$1:$F$253,0)),\"\",INDIRECT(\"Scores!\"&\"R\"&MATCH('Individual Scores'!$D29,Scores!$F$1:$F$253,0)&\"C\"&COLUMN(Scores!J$1),FALSE))","v":185},{"$f":"IF(ISERROR(MATCH('Individual Scores'!$D29,Scores!$F$1:$F$253,0)),\"\",INDIRECT(\"Scores!\"&\"R\"&MATCH('Individual Scores'!$D29,Scores!$F$1:$F$253,0)&\"C\"&COLUMN(Scores!K$1),FALSE))","v":205},{"$f":"IF(ISERROR(MATCH('Individual Scores'!$D29,Scores!$F$1:$F$253,0)),\"\",INDIRECT(\"Scores!\"&\"R\"&MATCH('Individual Scores'!$D29,Scores!$F$1:$F$253,0)&\"C\"&COLUMN(Scores!L$1),FALSE))","v":214},{"$f":"IF(ISERROR(MATCH('Individual Scores'!$D29,Scores!$F$1:$F$253,0)),\"\",INDIRECT(\"Scores!\"&\"R\"&MATCH('Individual Scores'!$D29,Scores!$F$1:$F$253,0)&\"C\"&COLUMN(Scores!N$1),FALSE))","v":193},{"$f":"IF(ISERROR(MATCH('Individual Scores'!$D29,Scores!$F$1:$F$253,0)),\"\",INDIRECT(\"Scores!\"&\"R\"&MATCH('Individual Scores'!$D29,Scores!$F$1:$F$253,0)&\"C\"&COLUMN(Scores!O$1),FALSE))","v":186},{"$f":"IF(ISERROR(MATCH('Individual Scores'!$D29,Scores!$F$1:$F$253,0)),\"\",INDIRECT(\"Scores!\"&\"R\"&MATCH('Individual Scores'!$D29,Scores!$F$1:$F$253,0)&\"C\"&COLUMN(Scores!P$1),FALSE))","v":170},{"$f":"IF(ISERROR(MATCH('Individual Scores'!$D29,Scores!$F$1:$F$253,0)),\"\",INDIRECT(\"Scores!\"&\"R\"&MATCH('Individual Scores'!$D29,Scores!$F$1:$F$253,0)&\"C\"&COLUMN(Scores!S$1),FALSE))","v":1153},{"$f":"IF(MAX('Individual Scores'!Q29:V29)>0,MAX('Individual Scores'!Q29:V29),\"\")","v":214},{"$f":"IF(MAX(SUM('Individual Scores'!Q29:S29),SUM('Individual Scores'!T29:V29))>0,MAX(SUM('Individual Scores'!Q29:S29),SUM('Individual Scores'!T29:V29)),\"\")","v":604},null,{"$f":"IF('Team Scores'!$Z$1<2,\"\",IF(ISERROR(MATCH('Individual Scores'!$D29,Scores!$F$253:$F$506,0)),\"\",INDIRECT(\"Scores!\"&\"R\"&(ROW(Scores!$253:$253)-1+MATCH('Individual Scores'!$D29,Scores!$F$253:$F$505,0))&\"C\"&COLUMN(Scores!J$1),FALSE)))","v":190},{"$f":"IF('Team Scores'!$Z$1<2,\"\",IF(ISERROR(MATCH('Individual Scores'!$D29,Scores!$F$253:$F$506,0)),\"\",INDIRECT(\"Scores!\"&\"R\"&(ROW(Scores!$253:$253)-1+MATCH('Individual Scores'!$D29,Scores!$F$253:$F$505,0))&\"C\"&COLUMN(Scores!K$1),FALSE)))","v":212},{"$f":"IF('Team Scores'!$Z$1<2,\"\",IF(ISERROR(MATCH('Individual Scores'!$D29,Scores!$F$253:$F$506,0)),\"\",INDIRECT(\"Scores!\"&\"R\"&(ROW(Scores!$253:$253)-1+MATCH('Individual Scores'!$D29,Scores!$F$253:$F$505,0))&\"C\"&COLUMN(Scores!L$1),FALSE)))","v":149},{"$f":"IF('Team Scores'!$Z$1<2,\"\",IF(ISERROR(MATCH('Individual Scores'!$D29,Scores!$F$253:$F$506,0)),\"\",INDIRECT(\"Scores!\"&\"R\"&(ROW(Scores!$253:$253)-1+MATCH('Individual Scores'!$D29,Scores!$F$253:$F$505,0))&\"C\"&COLUMN(Scores!N$1),FALSE)))","v":171},{"$f":"IF('Team Scores'!$Z$1<2,\"\",IF(ISERROR(MATCH('Individual Scores'!$D29,Scores!$F$253:$F$506,0)),\"\",INDIRECT(\"Scores!\"&\"R\"&(ROW(Scores!$253:$253)-1+MATCH('Individual Scores'!$D29,Scores!$F$253:$F$505,0))&\"C\"&COLUMN(Scores!O$1),FALSE)))","v":201},{"$f":"IF('Team Scores'!$Z$1<2,\"\",IF(ISERROR(MATCH('Individual Scores'!$D29,Scores!$F$253:$F$506,0)),\"\",INDIRECT(\"Scores!\"&\"R\"&(ROW(Scores!$253:$253)-1+MATCH('Individual Scores'!$D29,Scores!$F$253:$F$505,0))&\"C\"&COLUMN(Scores!P$1),FALSE)))","v":187},{"$f":"IF('Team Scores'!$Z$1<2,\"\",IF(ISERROR(MATCH('Individual Scores'!$D29,Scores!$F$253:$F$506,0)),\"\",INDIRECT(\"Scores!\"&\"R\"&(ROW(Scores!$253:$253)-1+MATCH('Individual Scores'!$D29,Scores!$F$253:$F$505,0))&\"C\"&COLUMN(Scores!S$1),FALSE)))","v":1110},212,559,null,{"$f":"IF('Team Scores'!$Z$1<3,\"\",IF(ISERROR(MATCH('Individual Scores'!$D29,Scores!$F$506:$F$759,0)),\"\",INDIRECT(\"Scores!\"&\"R\"&(ROW(Scores!$F$506:$F$759)-1+MATCH('Individual Scores'!$D29,Scores!$F$506:$F$759,0))&\"C\"&COLUMN(Scores!J$1),FALSE)))","v":""},{"$f":"IF('Team Scores'!$Z$1<3,\"\",IF(ISERROR(MATCH('Individual Scores'!$D29,Scores!$F$506:$F$759,0)),\"\",INDIRECT(\"Scores!\"&\"R\"&(ROW(Scores!$F$506:$F$759)-1+MATCH('Individual Scores'!$D29,Scores!$F$506:$F$759,0))&\"C\"&COLUMN(Scores!K$1),FALSE)))","v":""},{"$f":"IF('Team Scores'!$Z$1<3,\"\",IF(ISERROR(MATCH('Individual Scores'!$D29,Scores!$F$506:$F$759,0)),\"\",INDIRECT(\"Scores!\"&\"R\"&(ROW(Scores!$F$506:$F$759)-1+MATCH('Individual Scores'!$D29,Scores!$F$506:$F$759,0))&\"C\"&COLUMN(Scores!L$1),FALSE)))","v":""},{"$f":"IF('Team Scores'!$Z$1<3,\"\",IF(ISERROR(MATCH('Individual Scores'!$D29,Scores!$F$506:$F$759,0)),\"\",INDIRECT(\"Scores!\"&\"R\"&(ROW(Scores!$F$506:$F$759)-1+MATCH('Individual Scores'!$D29,Scores!$F$506:$F$759,0))&\"C\"&COLUMN(Scores!N$1),FALSE)))","v":""},{"$f":"IF('Team Scores'!$Z$1<3,\"\",IF(ISERROR(MATCH('Individual Scores'!$D29,Scores!$F$506:$F$759,0)),\"\",INDIRECT(\"Scores!\"&\"R\"&(ROW(Scores!$F$506:$F$759)-1+MATCH('Individual Scores'!$D29,Scores!$F$506:$F$759,0))&\"C\"&COLUMN(Scores!O$1),FALSE)))","v":""},{"$f":"IF('Team Scores'!$Z$1<3,\"\",IF(ISERROR(MATCH('Individual Scores'!$D29,Scores!$F$506:$F$759,0)),\"\",INDIRECT(\"Scores!\"&\"R\"&(ROW(Scores!$F$506:$F$759)-1+MATCH('Individual Scores'!$D29,Scores!$F$506:$F$759,0))&\"C\"&COLUMN(Scores!P$1),FALSE)))","v":""},{"$f":"IF('Team Scores'!$Z$1<3,\"\",IF(ISERROR(MATCH('Individual Scores'!$D29,Scores!$F$506:$F$759,0)),\"\",INDIRECT(\"Scores!\"&\"R\"&(ROW(Scores!$F$506:$F$759)-1+MATCH('Individual Scores'!$D29,Scores!$F$506:$F$759,0))&\"C\"&COLUMN(Scores!S$1),FALSE)))","v":""},"",""]
["GA","16-20","F","Crystal Fox",1164,1093,"",2257,{"$f":"IF(COUNT(Q30:V30,AA30:AF30,AK30:AP30)>=18/3*'Team Scores'!$Z$1,IF(H30-VLOOKUP(B30&C30,'Individual Awards Computations'!$AY$54:$AZ$58,2,FALSE)=0,\"Leader \"&C30&\":\"&B30,H30-VLOOKUP(B30&C30,'Individual Awards Computations'!$AY$54:$AZ$58,2,FALSE)),\"\")","v":-189},257,606,188.08333333333334,31.763888888888896,"156-220",1,null,{"$f":"IF(ISERROR(MATCH('Individual Scores'!$D30,Scores!$F$1:$F$253,0)),\"\",INDIRECT(\"Scores!\"&\"R\"&MATCH('Individual Scores'!$D30,Scores!$F$1:$F$253,0)&\"C\"&COLUMN(Scores!J$1),FALSE))","v":245},{"$f":"IF(ISERROR(MATCH('Individual Scores'!$D30,Scores!$F$1:$F$253,0)),\"\",INDIRECT(\"Scores!\"&\"R\"&MATCH('Individual Scores'!$D30,Scores!$F$1:$F$253,0)&\"C\"&COLUMN(Scores!K$1),FALSE))","v":179},{"$f":"IF(ISERROR(MATCH('Individual Scores'!$D30,Scores!$F$1:$F$253,0)),\"\",INDIRECT(\"Scores!\"&\"R\"&MATCH('Individual Scores'!$D30,Scores!$F$1:$F$253,0)&\"C\"&COLUMN(Scores!L$1),FALSE))","v":169},{"$f":"IF(ISERROR(MATCH('Individual Scores'!$D30,Scores!$F$1:$F$253,0)),\"\",INDIRECT(\"Scores!\"&\"R\"&MATCH('Individual Scores'!$D30,Scores!$F$1:$F$253,0)&\"C\"&COLUMN(Scores!N$1),FALSE))","v":159},{"$f":"IF(ISERROR(MATCH('Individual Scores'!$D30,Scores!$F$1:$F$253,0)),\"\",INDIRECT(\"Scores!\"&\"R\"&MATCH('Individual Scores'!$D30,Scores!$F$1:$F$253,0)&\"C\"&COLUMN(Scores!O$1),FALSE))","v":212},{"$f":"IF(ISERROR(MATCH('Individual Scores'!$D30,Scores!$F$1:$F$253,0)),\"\",INDIRECT(\"Scores!\"&\"R\"&MATCH('Individual Scores'!$D30,Scores!$F$1:$F$253,0)&\"C\"&COLUMN(Scores!P$1),FALSE))","v":200},{"$f":"IF(ISERROR(MATCH('Individual Scores'!$D30,Scores!$F$1:$F$253,0)),\"\",INDIRECT(\"Scores!\"&\"R\"&MATCH('Individual Scores'!$D30,Scores!$F$1:$F$253,0)&\"C\"&COLUMN(Scores!S$1),FALSE))","v":1164},{"$f":"IF(MAX('Individual Scores'!Q30:V30)>0,MAX('Individual Scores'!Q30:V30),\"\")","v":245},{"$f":"IF(MAX(SUM('Individual Scores'!Q30:S30),SUM('Individual Scores'!T30:V30))>0,MAX(SUM('Individual Scores'!Q30:S30),SUM('Individual Scores'!T30:V30)),\"\")","v":593},null,{"$f":"IF('Team Scores'!$Z$1<2,\"\",IF(ISERROR(MATCH('Individual Scores'!$D30,Scores!$F$253:$F$506,0)),\"\",INDIRECT(\"Scores!\"&\"R\"&(ROW(Scores!$253:$253)-1+MATCH('Individual Scores'!$D30,Scores!$F$253:$F$505,0))&\"C\"&COLUMN(Scores!J$1),FALSE)))","v":132},{"$f":"IF('Team Scores'!$Z$1<2,\"\",IF(ISERROR(MATCH('Individual Scores'!$D30,Scores!$F$253:$F$506,0)),\"\",INDIRECT(\"Scores!\"&\"R\"&(ROW(Scores!$253:$253)-1+MATCH('Individual Scores'!$D30,Scores!$F$253:$F$505,0))&\"C\"&COLUMN(Scores!K$1),FALSE)))","v":217},{"$f":"IF('Team Scores'!$Z$1<2,\"\",IF(ISERROR(MATCH('Individual Scores'!$D30,Scores!$F$253:$F$506,0)),\"\",INDIRECT(\"Scores!\"&\"R\"&(ROW(Scores!$253:$253)-1+MATCH('Individual Scores'!$D30,Scores!$F$253:$F$505,0))&\"C\"&COLUMN(Scores!L$1),FALSE)))","v":257},{"$f":"IF('Team Scores'!$Z$1<2,\"\",IF(ISERROR(MATCH('Individual Scores'!$D30,Scores!$F$253:$F$506,0)),\"\",INDIRECT(\"Scores!\"&\"R\"&(ROW(Scores!$253:$253)-1+MATCH('Individual Scores'!$D30,Scores!$F$253:$F$505,0))&\"C\"&COLUMN(Scores!N$1),FALSE)))","v":166},{"$f":"IF('Team Scores'!$Z$1<2,\"\",IF(ISERROR(MATCH('Individual Scores'!$D30,Scores!$F$253:$F$506,0)),\"\",INDIRECT(\"Scores!\"&\"R\"&(ROW(Scores!$253:$253)-1+MATCH('Individual Scores'!$D30,Scores!$F$253:$F$505,0))&\"C\"&COLUMN(Scores!O$1),FALSE)))","v":156},{"$f":"IF('Team Scores'!$Z$1<2,\"\",IF(ISERROR(MATCH('Individual Scores'!$D30,Scores!$F$253:$F$506,0)),\"\",INDIRECT(\"Scores!\"&\"R\"&(ROW(Scores!$253:$253)-1+MATCH('Individual Scores'!$D30,Scores!$F$253:$F$505,0))&\"C\"&COLUMN(Scores!P$1),FALSE)))","v":165},{"$f":"IF('Team Scores'!$Z$1<2,\"\",IF(ISERROR(MATCH('Individual Scores'!$D30,Scores!$F$253:$F$506,0)),\"\",INDIRECT(\"Scores!\"&\"R\"&(ROW(Scores!$253:$253)-1+MATCH('Individual Scores'!$D30,Scores!$F$253:$F$505,0))&\"C\"&COLUMN(Scores!S$1),FALSE)))","v":1093},{"$f":"IF(MAX(AA30:AF30)>0,MAX(AA30:AF30),\"\")","v":257},{"$f":"IF(MAX(SUM(AA30:AC30),SUM(AD30:AF30))>0,MAX(SUM(AA30:AC30),SUM(AD30:AF30)),\"\")","v":606},null,{"$f":"IF('Team Scores'!$Z$1<3,\"\",IF(ISERROR(MATCH('Individual Scores'!$D30,Scores!$F$506:$F$759,0)),\"\",INDIRECT(\"Scores!\"&\"R\"&(ROW(Scores!$F$506:$F$759)-1+MATCH('Individual Scores'!$D30,Scores!$F$506:$F$759,0))&\"C\"&COLUMN(Scores!J$1),FALSE)))","v":""},{"$f":"IF('Team Scores'!$Z$1<3,\"\",IF(ISERROR(MATCH('Individual Scores'!$D30,Scores!$F$506:$F$759,0)),\"\",INDIRECT(\"Scores!\"&\"R\"&(ROW(Scores!$F$506:$F$759)-1+MATCH('Individual Scores'!$D30,Scores!$F$506:$F$759,0))&\"C\"&COLUMN(Scores!K$1),FALSE)))","v":""},{"$f":"IF('Team Scores'!$Z$1<3,\"\",IF(ISERROR(MATCH('Individual Scores'!$D30,Scores!$F$506:$F$759,0)),\"\",INDIRECT(\"Scores!\"&\"R\"&(ROW(Scores!$F$506:$F$759)-1+MATCH('Individual Scores'!$D30,Scores!$F$506:$F$759,0))&\"C\"&COLUMN(Scores!L$1),FALSE)))","v":""},{"$f":"IF('Team Scores'!$Z$1<3,\"\",IF(ISERROR(MATCH('Individual Scores'!$D30,Scores!$F$506:$F$759,0)),\"\",INDIRECT(\"Scores!\"&\"R\"&(ROW(Scores!$F$506:$F$759)-1+MATCH('Individual Scores'!$D30,Scores!$F$506:$F$759,0))&\"C\"&COLUMN(Scores!N$1),FALSE)))","v":""},{"$f":"IF('Team Scores'!$Z$1<3,\"\",IF(ISERROR(MATCH('Individual Scores'!$D30,Scores!$F$506:$F$759,0)),\"\",INDIRECT(\"Scores!\"&\"R\"&(ROW(Scores!$F$506:$F$759)-1+MATCH('Individual Scores'!$D30,Scores!$F$506:$F$759,0))&\"C\"&COLUMN(Scores!O$1),FALSE)))","v":""},{"$f":"IF('Team Scores'!$Z$1<3,\"\",IF(ISERROR(MATCH('Individual Scores'!$D30,Scores!$F$506:$F$759,0)),\"\",INDIRECT(\"Scores!\"&\"R\"&(ROW(Scores!$F$506:$F$759)-1+MATCH('Individual Scores'!$D30,Scores!$F$506:$F$759,0))&\"C\"&COLUMN(Scores!P$1),FALSE)))","v":""},{"$f":"IF('Team Scores'!$Z$1<3,\"\",IF(ISERROR(MATCH('Individual Scores'!$D30,Scores!$F$506:$F$759,0)),\"\",INDIRECT(\"Scores!\"&\"R\"&(ROW(Scores!$F$506:$F$759)-1+MATCH('Individual Scores'!$D30,Scores!$F$506:$F$759,0))&\"C\"&COLUMN(Scores!S$1),FALSE)))","v":""},"",""]
["GA","15 & <","F","Gabriela Ramkhelawan",1017,1031,"",2048,{"$f":"IF(COUNT(Q31:V31,AA31:AF31,AK31:AP31)>=18/3*'Team Scores'!$Z$1,IF(H31-VLOOKUP(B31&C31,'Individual Awards Computations'!$AY$54:$AZ$58,2,FALSE)=0,\"Leader \"&C31&\":\"&B31,H31-VLOOKUP(B31&C31,'Individual Awards Computations'!$AY$54:$AZ$58,2,FALSE)),\"\")","v":-365},212,557,170.66666666666666,22.166666666666668,"149-193",1,null,{"$f":"IF(ISERROR(MATCH('Individual Scores'!$D31,Scores!$F$1:$F$253,0)),\"\",INDIRECT(\"Scores!\"&\"R\"&MATCH('Individual Scores'!$D31,Scores!$F$1:$F$253,0)&\"C\"&COLUMN(Scores!J$1),FALSE))","v":212},{"$f":"IF(ISERROR(MATCH('Individual Scores'!$D31,Scores!$F$1:$F$253,0)),\"\",INDIRECT(\"Scores!\"&\"R\"&MATCH('Individual Scores'!$D31,Scores!$F$1:$F$253,0)&\"C\"&COLUMN(Scores!K$1),FALSE))","v":159},{"$f":"IF(ISERROR(MATCH('Individual Scores'!$D31,Scores!$F$1:$F$253,0)),\"\",INDIRECT(\"Scores!\"&\"R\"&MATCH('Individual Scores'!$D31,Scores!$F$1:$F$253,0)&\"C\"&COLUMN(Scores!L$1),FALSE))","v":186},{"$f":"IF(ISERROR(MATCH('Individual Scores'!$D31,Scores!$F$1:$F$253,0)),\"\",INDIRECT(\"Scores!\"&\"R\"&MATCH('Individual Scores'!$D31,Scores!$F$1:$F$253,0)&\"C\"&COLUMN(Scores!N$1),FALSE))","v":156},{"$f":"IF(ISERROR(MATCH('Individual Scores'!$D31,Scores!$F$1:$F$253,0)),\"\",INDIRECT(\"Scores!\"&\"R\"&MATCH('Individual Scores'!$D31,Scores!$F$1:$F$253,0)&\"C\"&COLUMN(Scores!O$1),FALSE))","v":164},{"$f":"IF(ISERROR(MATCH('Individual Scores'!$D31,Scores!$F$1:$F$253,0)),\"\",INDIRECT(\"Scores!\"&\"R\"&MATCH('Individual Scores'!$D31,Scores!$F$1:$F$253,0)&\"C\"&COLUMN(Scores!P$1),FALSE))","v":140},{"$f":"IF(ISERROR(MATCH('Individual Scores'!$D31,Scores!$F$1:$F$253,0)),\"\",INDIRECT(\"Scores!\"&\"R\"&MATCH('Individual Scores'!$D31,Scores!$F$1:$F$253,0)&\"C\"&COLUMN(Scores!S$1),FALSE))","v":1017},{"$f":"IF(MAX('Individual Scores'!Q31:V31)>0,MAX('Individual Scores'!Q31:V31),\"\")","v":212},{"$f":"IF(MAX(SUM('Individual Scores'!Q31:S31),SUM('Individual Scores'!T31:V31))>0,MAX(SUM('Individual Scores'!Q31:S31),SUM('Individual Scores'!T31:V31)),\"\")","v":557},null,{"$f":"IF('Team Scores'!$Z$1<2,\"\",IF(ISERROR(MATCH('Individual Scores'!$D31,Scores!$F$253:$F$506,0)),\"\",INDIRECT(\"Scores!\"&\"R\"&(ROW(Scores!$253:$253)-1+MATCH('Individual Scores'!$D31,Scores!$F$253:$F$505,0))&\"C\"&COLUMN(Scores!J$1),FALSE)))","v":139},{"$f":"IF('Team Scores'!$Z$1<2,\"\",IF(ISERROR(MATCH('Individual Scores'!$D31,Scores!$F$253:$F$506,0)),\"\",INDIRECT(\"Scores!\"&\"R\"&(ROW(Scores!$253:$253)-1+MATCH('Individual Scores'!$D31,Scores!$F$253:$F$505,0))&\"C\"&COLUMN(Scores!K$1),FALSE)))","v":210},{"$f":"IF('Team Scores'!$Z$1<2,\"\",IF(ISERROR(MATCH('Individual Scores'!$D31,Scores!$F$253:$F$506,0)),\"\",INDIRECT(\"Scores!\"&\"R\"&(ROW(Scores!$253:$253)-1+MATCH('Individual Scores'!$D31,Scores!$F$253:$F$505,0))&\"C\"&COLUMN(Scores!L$1),FALSE)))","v":171},{"$f":"IF('Team Scores'!$Z$1<2,\"\",IF(ISERROR(MATCH('Individual Scores'!$D31,Scores!$F$253:$F$506,0)),\"\",INDIRECT(\"Scores!\"&\"R\"&(ROW(Scores!$253:$253)-1+MATCH('Individual Scores'!$D31,Scores!$F$253:$F$505,0))&\"C\"&COLUMN(Scores!N$1),FALSE)))","v":171},{"$f":"IF('Team Scores'!$Z$1<2,\"\",IF(ISERROR(MATCH('Individual Scores'!$D31,Scores!$F$253:$F$506,0)),\"\",INDIRECT(\"Scores!\"&\"R\"&(ROW(Scores!$253:$253)-1+MATCH('Individual Scores'!$D31,Scores!$F$253:$F$505,0))&\"C\"&COLUMN(Scores!O$1),FALSE)))","v":133},{"$f":"IF('Team Scores'!$Z$1<2,\"\",IF(ISERROR(MATCH('Individual Scores'!$D31,Scores!$F$253:$F$506,0)),\"\",INDIRECT(\"Scores!\"&\"R\"&(ROW(Scores!$253:$253)-1+MATCH('Individual Scores'!$D31,Scores!$F$253:$F$505,0))&\"C\"&COLUMN(Scores!P$1),FALSE)))","v":207},{"$f":"IF('Team Scores'!$Z$1<2,\"\",IF(ISERROR(MATCH('Individual Scores'!$D31,Scores!$F$253:$F$506,0)),\"\",INDIRECT(\"Scores!\"&\"R\"&(ROW(Scores!$253:$253)-1+MATCH('Individual Scores'!$D31,Scores!$F$253:$F$505,0))&\"C\"&COLUMN(Scores!S$1),FALSE)))","v":1031},210,520,null,{"$f":"IF('Team Scores'!$Z$1<3,\"\",IF(ISERROR(MATCH('Individual Scores'!$D31,Scores!$F$506:$F$759,0)),\"\",INDIRECT(\"Scores!\"&\"R\"&(ROW(Scores!$F$506:$F$759)-1+MATCH('Individual Scores'!$D31,Scores!$F$506:$F$759,0))&\"C\"&COLUMN(Scores!J$1),FALSE)))","v":""},{"$f":"IF('Team Scores'!$Z$1<3,\"\",IF(ISERROR(MATCH('Individual Scores'!$D31,Scores!$F$506:$F$759,0)),\"\",INDIRECT(\"Scores!\"&\"R\"&(ROW(Scores!$F$506:$F$759)-1+MATCH('Individual Scores'!$D31,Scores!$F$506:$F$759,0))&\"C\"&COLUMN(Scores!K$1),FALSE)))","v":""},{"$f":"IF('Team Scores'!$Z$1<3,\"\",IF(ISERROR(MATCH('Individual Scores'!$D31,Scores!$F$506:$F$759,0)),\"\",INDIRECT(\"Scores!\"&\"R\"&(ROW(Scores!$F$506:$F$759)-1+MATCH('Individual Scores'!$D31,Scores!$F$506:$F$759,0))&\"C\"&COLUMN(Scores!L$1),FALSE)))","v":""},{"$f":"IF('Team Scores'!$Z$1<3,\"\",IF(ISERROR(MATCH('Individual Scores'!$D31,Scores!$F$506:$F$759,0)),\"\",INDIRECT(\"Scores!\"&\"R\"&(ROW(Scores!$F$506:$F$759)-1+MATCH('Individual Scores'!$D31,Scores!$F$506:$F$759,0))&\"C\"&COLUMN(Scores!N$1),FALSE)))","v":""},{"$f":"IF('Team Scores'!$Z$1<3,\"\",IF(ISERROR(MATCH('Individual Scores'!$D31,Scores!$F$506:$F$759,0)),\"\",INDIRECT(\"Scores!\"&\"R\"&(ROW(Scores!$F$506:$F$759)-1+MATCH('Individual Scores'!$D31,Scores!$F$506:$F$759,0))&\"C\"&COLUMN(Scores!O$1),FALSE)))","v":""},{"$f":"IF('Team Scores'!$Z$1<3,\"\",IF(ISERROR(MATCH('Individual Scores'!$D31,Scores!$F$506:$F$759,0)),\"\",INDIRECT(\"Scores!\"&\"R\"&(ROW(Scores!$F$506:$F$759)-1+MATCH('Individual Scores'!$D31,Scores!$F$506:$F$759,0))&\"C\"&COLUMN(Scores!P$1),FALSE)))","v":""},{"$f":"IF('Team Scores'!$Z$1<3,\"\",IF(ISERROR(MATCH('Individual Scores'!$D31,Scores!$F$506:$F$759,0)),\"\",INDIRECT(\"Scores!\"&\"R\"&(ROW(Scores!$F$506:$F$759)-1+MATCH('Individual Scores'!$D31,Scores!$F$506:$F$759,0))&\"C\"&COLUMN(Scores!S$1),FALSE)))","v":""},"",""]
["GA","16-20","F","Jasmine Nash",1068,971,"",2039,{"$f":"IF(COUNT(Q32:V32,AA32:AF32,AK32:AP32)>=18/3*'Team Scores'!$Z$1,IF(H32-VLOOKUP(B32&C32,'Individual Awards Computations'!$AY$54:$AZ$58,2,FALSE)=0,\"Leader \"&C32&\":\"&B32,H32-VLOOKUP(B32&C32,'Individual Awards Computations'!$AY$54:$AZ$58,2,FALSE)),\"\")","v":-407},202,559,169.91666666666666,17.111111111111114,"153-187",1,null,{"$f":"IF(ISERROR(MATCH('Individual Scores'!$D32,Scores!$F$1:$F$253,0)),\"\",INDIRECT(\"Scores!\"&\"R\"&MATCH('Individual Scores'!$D32,Scores!$F$1:$F$253,0)&\"C\"&COLUMN(Scores!J$1),FALSE))","v":202},{"$f":"IF(ISERROR(MATCH('Individual Scores'!$D32,Scores!$F$1:$F$253,0)),\"\",INDIRECT(\"Scores!\"&\"R\"&MATCH('Individual Scores'!$D32,Scores!$F$1:$F$253,0)&\"C\"&COLUMN(Scores!K$1),FALSE))","v":180},{"$f":"IF(ISERROR(MATCH('Individual Scores'!$D32,Scores!$F$1:$F$253,0)),\"\",INDIRECT(\"Scores!\"&\"R\"&MATCH('Individual Scores'!$D32,Scores!$F$1:$F$253,0)&\"C\"&COLUMN(Scores!L$1),FALSE))","v":177},{"$f":"IF(ISERROR(MATCH('Individual Scores'!$D32,Scores!$F$1:$F$253,0)),\"\",INDIRECT(\"Scores!\"&\"R\"&MATCH('Individual Scores'!$D32,Scores!$F$1:$F$253,0)&\"C\"&COLUMN(Scores!N$1),FALSE))","v":153},{"$f":"IF(ISERROR(MATCH('Individual Scores'!$D32,Scores!$F$1:$F$253,0)),\"\",INDIRECT(\"Scores!\"&\"R\"&MATCH('Individual Scores'!$D32,Scores!$F$1:$F$253,0)&\"C\"&COLUMN(Scores!O$1),FALSE))","v":170},{"$f":"IF(ISERROR(MATCH('Individual Scores'!$D32,Scores!$F$1:$F$253,0)),\"\",INDIRECT(\"Scores!\"&\"R\"&MATCH('Individual Scores'!$D32,Scores!$F$1:$F$253,0)&\"C\"&COLUMN(Scores!P$1),FALSE))","v":186},{"$f":"IF(ISERROR(MATCH('Individual Scores'!$D32,Scores!$F$1:$F$253,0)),\"\",INDIRECT(\"Scores!\"&\"R\"&MATCH('Individual Scores'!$D32,Scores!$F$1:$F$253,0)&\"C\"&COLUMN(Scores!S$1),FALSE))","v":1068},{"$f":"IF(MAX('Individual Scores'!Q32:V32)>0,MAX('Individual Scores'!Q32:V32),\"\")","v":202},{"$f":"IF(MAX(SUM('Individual Scores'!Q32:S32),SUM('Individual Scores'!T32:V32))>0,MAX(SUM('Individual Scores'!Q32:S32),SUM('Individual Scores'!T32:V32)),\"\")","v":559},null,{"$f":"IF('Team Scores'!$Z$1<2,\"\",IF(ISERROR(MATCH('Individual Scores'!$D32,Scores!$F$253:$F$506,0)),\"\",INDIRECT(\"Scores!\"&\"R\"&(ROW(Scores!$253:$253)-1+MATCH('Individual Scores'!$D32,Scores!$F$253:$F$505,0))&\"C\"&COLUMN(Scores!J$1),FALSE)))","v":137},{"$f":"IF('Team Scores'!$Z$1<2,\"\",IF(ISERROR(MATCH('Individual Scores'!$D32,Scores!$F$253:$F$506,0)),\"\",INDIRECT(\"Scores!\"&\"R\"&(ROW(Scores!$253:$253)-1+MATCH('Individual Scores'!$D32,Scores!$F$253:$F$505,0))&\"C\"&COLUMN(Scores!K$1),FALSE)))","v":132},{"$f":"IF('Team Scores'!$Z$1<2,\"\",IF(ISERROR(MATCH('Individual Scores'!$D32,Scores!$F$253:$F$506,0)),\"\",INDIRECT(\"Scores!\"&\"R\"&(ROW(Scores!$253:$253)-1+MATCH('Individual Scores'!$D32,Scores!$F$253:$F$505,0))&\"C\"&COLUMN(Scores!L$1),FALSE)))","v":190},{"$f":"IF('Team Scores'!$Z$1<2,\"\",IF(ISERROR(MATCH('Individual Scores'!$D32,Scores!$F$253:$F$506,0)),\"\",INDIRECT(\"Scores!\"&\"R\"&(ROW(Scores!$253:$253)-1+MATCH('Individual Scores'!$D32,Scores!$F$253:$F$505,0))&\"C\"&COLUMN(Scores!N$1),FALSE)))","v":155},{"$f":"IF('Team Scores'!$Z$1<2,\"\",IF(ISERROR(MATCH('Individual Scores'!$D32,Scores!$F$253:$F$506,0)),\"\",INDIRECT(\"Scores!\"&\"R\"&(ROW(Scores!$253:$253)-1+MATCH('Individual Scores'!$D32,Scores!$F$253:$F$505,0))&\"C\"&COLUMN(Scores!O$1),FALSE)))","v":175},{"$f":"IF('Team Scores'!$Z$1<2,\"\",IF(ISERROR(MATCH('Individual Scores'!$D32,Scores!$F$253:$F$506,0)),\"\",INDIRECT(\"Scores!\"&\"R\"&(ROW(Scores!$253:$253)-1+MATCH('Individual Scores'!$D32,Scores!$F$253:$F$505,0))&\"C\"&COLUMN(Scores!P$1),FALSE)))","v":182},{"$f":"IF('Team Scores'!$Z$1<2,\"\",IF(ISERROR(MATCH('Individual Scores'!$D32,Scores!$F$253:$F$506,0)),\"\",INDIRECT(\"Scores!\"&\"R\"&(ROW(Scores!$253:$253)-1+MATCH('Individual Scores'!$D32,Scores!$F$253:$F$505,0))&\"C\"&COLUMN(Scores!S$1),FALSE)))","v":971},190,512,null,{"$f":"IF('Team Scores'!$Z$1<3,\"\",IF(ISERROR(MATCH('Individual Scores'!$D32,Scores!$F$506:$F$759,0)),\"\",INDIRECT(\"Scores!\"&\"R\"&(ROW(Scores!$F$506:$F$759)-1+MATCH('Individual Scores'!$D32,Scores!$F$506:$F$759,0))&\"C\"&COLUMN(Scores!J$1),FALSE)))","v":""},{"$f":"IF('Team Scores'!$Z$1<3,\"\",IF(ISERROR(MATCH('Individual Scores'!$D32,Scores!$F$506:$F$759,0)),\"\",INDIRECT(\"Scores!\"&\"R\"&(ROW(Scores!$F$506:$F$759)-1+MATCH('Individual Scores'!$D32,Scores!$F$506:$F$759,0))&\"C\"&COLUMN(Scores!K$1),FALSE)))","v":""},{"$f":"IF('Team Scores'!$Z$1<3,\"\",IF(ISERROR(MATCH('Individual Scores'!$D32,Scores!$F$506:$F$759,0)),\"\",INDIRECT(\"Scores!\"&\"R\"&(ROW(Scores!$F$506:$F$759)-1+MATCH('Individual Scores'!$D32,Scores!$F$506:$F$759,0))&\"C\"&COLUMN(Scores!L$1),FALSE)))","v":""},{"$f":"IF('Team Scores'!$Z$1<3,\"\",IF(ISERROR(MATCH('Individual Scores'!$D32,Scores!$F$506:$F$759,0)),\"\",INDIRECT(\"Scores!\"&\"R\"&(ROW(Scores!$F$506:$F$759)-1+MATCH('Individual Scores'!$D32,Scores!$F$506:$F$759,0))&\"C\"&COLUMN(Scores!N$1),FALSE)))","v":""},{"$f":"IF('Team Scores'!$Z$1<3,\"\",IF(ISERROR(MATCH('Individual Scores'!$D32,Scores!$F$506:$F$759,0)),\"\",INDIRECT(\"Scores!\"&\"R\"&(ROW(Scores!$F$506:$F$759)-1+MATCH('Individual Scores'!$D32,Scores!$F$506:$F$759,0))&\"C\"&COLUMN(Scores!O$1),FALSE)))","v":""},{"$f":"IF('Team Scores'!$Z$1<3,\"\",IF(ISERROR(MATCH('Individual Scores'!$D32,Scores!$F$506:$F$759,0)),\"\",INDIRECT(\"Scores!\"&\"R\"&(ROW(Scores!$F$506:$F$759)-1+MATCH('Individual Scores'!$D32,Scores!$F$506:$F$759,0))&\"C\"&COLUMN(Scores!P$1),FALSE)))","v":""},{"$f":"IF('Team Scores'!$Z$1<3,\"\",IF(ISERROR(MATCH('Individual Scores'!$D32,Scores!$F$506:$F$759,0)),\"\",INDIRECT(\"Scores!\"&\"R\"&(ROW(Scores!$F$506:$F$759)-1+MATCH('Individual Scores'!$D32,Scores!$F$506:$F$759,0))&\"C\"&COLUMN(Scores!S$1),FALSE)))","v":""},"",""]
["GA","16-20","F","Makayla Spears",937,1104,"",2041,{"$f":"IF(COUNT(Q33:V33,AA33:AF33,AK33:AP33)>=18/3*'Team Scores'!$Z$1,IF(H33-VLOOKUP(B33&C33,'Individual Awards Computations'!$AY$54:$AZ$58,2,FALSE)=0,\"Leader \"&C33&\":\"&B33,H33-VLOOKUP(B33&C33,'Individual Awards Computations'!$AY$54:$AZ$58,2,FALSE)),\"\")","v":-405},223,561,170.08333333333334,18.916666666666668,"151-189",1,null,{"$f":"IF(ISERROR(MATCH('Individual Scores'!$D33,Scores!$F$1:$F$253,0)),\"\",INDIRECT(\"Scores!\"&\"R\"&MATCH('Individual Scores'!$D33,Scores!$F$1:$F$253,0)&\"C\"&COLUMN(Scores!J$1),FALSE))","v":189},{"$f":"IF(ISERROR(MATCH('Individual Scores'!$D33,Scores!$F$1:$F$253,0)),\"\",INDIRECT(\"Scores!\"&\"R\"&MATCH('Individual Scores'!$D33,Scores!$F$1:$F$253,0)&\"C\"&COLUMN(Scores!K$1),FALSE))","v":156},{"$f":"IF(ISERROR(MATCH('Individual Scores'!$D33,Scores!$F$1:$F$253,0)),\"\",INDIRECT(\"Scores!\"&\"R\"&MATCH('Individual Scores'!$D33,Scores!$F$1:$F$253,0)&\"C\"&COLUMN(Scores!L$1),FALSE))","v":169},{"$f":"IF(ISERROR(MATCH('Individual Scores'!$D33,Scores!$F$1:$F$253,0)),\"\",INDIRECT(\"Scores!\"&\"R\"&MATCH('Individual Scores'!$D33,Scores!$F$1:$F$253,0)&\"C\"&COLUMN(Scores!N$1),FALSE))","v":125},{"$f":"IF(ISERROR(MATCH('Individual Scores'!$D33,Scores!$F$1:$F$253,0)),\"\",INDIRECT(\"Scores!\"&\"R\"&MATCH('Individual Scores'!$D33,Scores!$F$1:$F$253,0)&\"C\"&COLUMN(Scores!O$1),FALSE))","v":143},{"$f":"IF(ISERROR(MATCH('Individual Scores'!$D33,Scores!$F$1:$F$253,0)),\"\",INDIRECT(\"Scores!\"&\"R\"&MATCH('Individual Scores'!$D33,Scores!$F$1:$F$253,0)&\"C\"&COLUMN(Scores!P$1),FALSE))","v":155},{"$f":"IF(ISERROR(MATCH('Individual Scores'!$D33,Scores!$F$1:$F$253,0)),\"\",INDIRECT(\"Scores!\"&\"R\"&MATCH('Individual Scores'!$D33,Scores!$F$1:$F$253,0)&\"C\"&COLUMN(Scores!S$1),FALSE))","v":937},{"$f":"IF(MAX('Individual Scores'!Q33:V33)>0,MAX('Individual Scores'!Q33:V33),\"\")","v":189},{"$f":"IF(MAX(SUM('Individual Scores'!Q33:S33),SUM('Individual Scores'!T33:V33))>0,MAX(SUM('Individual Scores'!Q33:S33),SUM('Individual Scores'!T33:V33)),\"\")","v":514},null,{"$f":"IF('Team Scores'!$Z$1<2,\"\",IF(ISERROR(MATCH('Individual Scores'!$D33,Scores!$F$253:$F$506,0)),\"\",INDIRECT(\"Scores!\"&\"R\"&(ROW(Scores!$253:$253)-1+MATCH('Individual Scores'!$D33,Scores!$F$253:$F$505,0))&\"C\"&COLUMN(Scores!J$1),FALSE)))","v":223},{"$f":"IF('Team Scores'!$Z$1<2,\"\",IF(ISERROR(MATCH('Individual Scores'!$D33,Scores!$F$253:$F$506,0)),\"\",INDIRECT(\"Scores!\"&\"R\"&(ROW(Scores!$253:$253)-1+MATCH('Individual Scores'!$D33,Scores!$F$253:$F$505,0))&\"C\"&COLUMN(Scores!K$1),FALSE)))","v":159},{"$f":"IF('Team Scores'!$Z$1<2,\"\",IF(ISERROR(MATCH('Individual Scores'!$D33,Scores!$F$253:$F$506,0)),\"\",INDIRECT(\"Scores!\"&\"R\"&(ROW(Scores!$253:$253)-1+MATCH('Individual Scores'!$D33,Scores!$F$253:$F$505,0))&\"C\"&COLUMN(Scores!L$1),FALSE)))","v":179},{"$f":"IF('Team Scores'!$Z$1<2,\"\",IF(ISERROR(MATCH('Individual Scores'!$D33,Scores!$F$253:$F$506,0)),\"\",INDIRECT(\"Scores!\"&\"R\"&(ROW(Scores!$253:$253)-1+MATCH('Individual Scores'!$D33,Scores!$F$253:$F$505,0))&\"C\"&COLUMN(Scores!N$1),FALSE)))","v":172},{"$f":"IF('Team Scores'!$Z$1<2,\"\",IF(ISERROR(MATCH('Individual Scores'!$D33,Scores!$F$253:$F$506,0)),\"\",INDIRECT(\"Scores!\"&\"R\"&(ROW(Scores!$253:$253)-1+MATCH('Individual Scores'!$D33,Scores!$F$253:$F$505,0))&\"C\"&COLUMN(Scores!O$1),FALSE)))","v":174},{"$f":"IF('Team Scores'!$Z$1<2,\"\",IF(ISERROR(MATCH('Individual Scores'!$D33,Scores!$F$253:$F$506,0)),\"\",INDIRECT(\"Scores!\"&\"R\"&(ROW(Scores!$253:$253)-1+MATCH('Individual Scores'!$D33,Scores!$F$253:$F$505,0))&\"C\"&COLUMN(Scores!P$1),FALSE)))","v":197},{"$f":"IF('Team Scores'!$Z$1<2,\"\",IF(ISERROR(MATCH('Individual Scores'!$D33,Scores!$F$253:$F$506,0)),\"\",INDIRECT(\"Scores!\"&\"R\"&(ROW(Scores!$253:$253)-1+MATCH('Individual Scores'!$D33,Scores!$F$253:$F$505,0))&\"C\"&COLUMN(Scores!S$1),FALSE)))","v":1104},223,561,null,{"$f":"IF('Team Scores'!$Z$1<3,\"\",IF(ISERROR(MATCH('Individual Scores'!$D33,Scores!$F$506:$F$759,0)),\"\",INDIRECT(\"Scores!\"&\"R\"&(ROW(Scores!$F$506:$F$759)-1+MATCH('Individual Scores'!$D33,Scores!$F$506:$F$759,0))&\"C\"&COLUMN(Scores!J$1),FALSE)))","v":""},{"$f":"IF('Team Scores'!$Z$1<3,\"\",IF(ISERROR(MATCH('Individual Scores'!$D33,Scores!$F$506:$F$759,0)),\"\",INDIRECT(\"Scores!\"&\"R\"&(ROW(Scores!$F$506:$F$759)-1+MATCH('Individual Scores'!$D33,Scores!$F$506:$F$759,0))&\"C\"&COLUMN(Scores!K$1),FALSE)))","v":""},{"$f":"IF('Team Scores'!$Z$1<3,\"\",IF(ISERROR(MATCH('Individual Scores'!$D33,Scores!$F$506:$F$759,0)),\"\",INDIRECT(\"Scores!\"&\"R\"&(ROW(Scores!$F$506:$F$759)-1+MATCH('Individual Scores'!$D33,Scores!$F$506:$F$759,0))&\"C\"&COLUMN(Scores!L$1),FALSE)))","v":""},{"$f":"IF('Team Scores'!$Z$1<3,\"\",IF(ISERROR(MATCH('Individual Scores'!$D33,Scores!$F$506:$F$759,0)),\"\",INDIRECT(\"Scores!\"&\"R\"&(ROW(Scores!$F$506:$F$759)-1+MATCH('Individual Scores'!$D33,Scores!$F$506:$F$759,0))&\"C\"&COLUMN(Scores!N$1),FALSE)))","v":""},{"$f":"IF('Team Scores'!$Z$1<3,\"\",IF(ISERROR(MATCH('Individual Scores'!$D33,Scores!$F$506:$F$759,0)),\"\",INDIRECT(\"Scores!\"&\"R\"&(ROW(Scores!$F$506:$F$759)-1+MATCH('Individual Scores'!$D33,Scores!$F$506:$F$759,0))&\"C\"&COLUMN(Scores!O$1),FALSE)))","v":""},{"$f":"IF('Team Scores'!$Z$1<3,\"\",IF(ISERROR(MATCH('Individual Scores'!$D33,Scores!$F$506:$F$759,0)),\"\",INDIRECT(\"Scores!\"&\"R\"&(ROW(Scores!$F$506:$F$759)-1+MATCH('Individual Scores'!$D33,Scores!$F$506:$F$759,0))&\"C\"&COLUMN(Scores!P$1),FALSE)))","v":""},{"$f":"IF('Team Scores'!$Z$1<3,\"\",IF(ISERROR(MATCH('Individual Scores'!$D33,Scores!$F$506:$F$759,0)),\"\",INDIRECT(\"Scores!\"&\"R\"&(ROW(Scores!$F$506:$F$759)-1+MATCH('Individual Scores'!$D33,Scores!$F$506:$F$759,0))&\"C\"&COLUMN(Scores!S$1),FALSE)))","v":""},"",""]
["GA","16-20","F","Mikayla Davis",{"$f":"W34","v":1036},{"$f":"AG34","v":1085},{"$f":"AQ34","v":""},{"$f":"SUM(AQ34,AG34,W34)","v":2121},{"$f":"IF(COUNT(Q34:V34,AA34:AF34,AK34:AP34)>=18/3*'Team Scores'!$Z$1,IF(H34-VLOOKUP(B34&C34,'Individual Awards Computations'!$AY$54:$AZ$58,2,FALSE)=0,\"Leader \"&C34&\":\"&B34,H34-VLOOKUP(B34&C34,'Individual Awards Computations'!$AY$54:$AZ$58,2,FALSE)),\"\")","v":-325},215,602,176.75,18.083333333333332,"159-195",{"$f":"COUNTIF($D$3:$D$169,D34)","v":1},null,{"$f":"IF(ISERROR(MATCH('Individual Scores'!$D34,Scores!$F$1:$F$253,0)),\"\",INDIRECT(\"Scores!\"&\"R\"&MATCH('Individual Scores'!$D34,Scores!$F$1:$F$253,0)&\"C\"&COLUMN(Scores!J$1),FALSE))","v":170},{"$f":"IF(ISERROR(MATCH('Individual Scores'!$D34,Scores!$F$1:$F$253,0)),\"\",INDIRECT(\"Scores!\"&\"R\"&MATCH('Individual Scores'!$D34,Scores!$F$1:$F$253,0)&\"C\"&COLUMN(Scores!K$1),FALSE))","v":189},{"$f":"IF(ISERROR(MATCH('Individual Scores'!$D34,Scores!$F$1:$F$253,0)),\"\",INDIRECT(\"Scores!\"&\"R\"&MATCH('Individual Scores'!$D34,Scores!$F$1:$F$253,0)&\"C\"&COLUMN(Scores!L$1),FALSE))","v":196},{"$f":"IF(ISERROR(MATCH('Individual Scores'!$D34,Scores!$F$1:$F$253,0)),\"\",INDIRECT(\"Scores!\"&\"R\"&MATCH('Individual Scores'!$D34,Scores!$F$1:$F$253,0)&\"C\"&COLUMN(Scores!N$1),FALSE))","v":182},{"$f":"IF(ISERROR(MATCH('Individual Scores'!$D34,Scores!$F$1:$F$253,0)),\"\",INDIRECT(\"Scores!\"&\"R\"&MATCH('Individual Scores'!$D34,Scores!$F$1:$F$253,0)&\"C\"&COLUMN(Scores!O$1),FALSE))","v":154},{"$f":"IF(ISERROR(MATCH('Individual Scores'!$D34,Scores!$F$1:$F$253,0)),\"\",INDIRECT(\"Scores!\"&\"R\"&MATCH('Individual Scores'!$D34,Scores!$F$1:$F$253,0)&\"C\"&COLUMN(Scores!P$1),FALSE))","v":145},{"$f":"IF(ISERROR(MATCH('Individual Scores'!$D34,Scores!$F$1:$F$253,0)),\"\",INDIRECT(\"Scores!\"&\"R\"&MATCH('Individual Scores'!$D34,Scores!$F$1:$F$253,0)&\"C\"&COLUMN(Scores!S$1),FALSE))","v":1036},{"$f":"IF(MAX('Individual Scores'!Q34:V34)>0,MAX('Individual Scores'!Q34:V34),\"\")","v":196},{"$f":"IF(MAX(SUM('Individual Scores'!Q34:S34),SUM('Individual Scores'!T34:V34))>0,MAX(SUM('Individual Scores'!Q34:S34),SUM('Individual Scores'!T34:V34)),\"\")","v":555},null,{"$f":"IF('Team Scores'!$Z$1<2,\"\",IF(ISERROR(MATCH('Individual Scores'!$D34,Scores!$F$253:$F$506,0)),\"\",INDIRECT(\"Scores!\"&\"R\"&(ROW(Scores!$253:$253)-1+MATCH('Individual Scores'!$D34,Scores!$F$253:$F$505,0))&\"C\"&COLUMN(Scores!J$1),FALSE)))","v":193},{"$f":"IF('Team Scores'!$Z$1<2,\"\",IF(ISERROR(MATCH('Individual Scores'!$D34,Scores!$F$253:$F$506,0)),\"\",INDIRECT(\"Scores!\"&\"R\"&(ROW(Scores!$253:$253)-1+MATCH('Individual Scores'!$D34,Scores!$F$253:$F$505,0))&\"C\"&COLUMN(Scores!K$1),FALSE)))","v":215},{"$f":"IF('Team Scores'!$Z$1<2,\"\",IF(ISERROR(MATCH('Individual Scores'!$D34,Scores!$F$253:$F$506,0)),\"\",INDIRECT(\"Scores!\"&\"R\"&(ROW(Scores!$253:$253)-1+MATCH('Individual Scores'!$D34,Scores!$F$253:$F$505,0))&\"C\"&COLUMN(Scores!L$1),FALSE)))","v":194},{"$f":"IF('Team Scores'!$Z$1<2,\"\",IF(ISERROR(MATCH('Individual Scores'!$D34,Scores!$F$253:$F$506,0)),\"\",INDIRECT(\"Scores!\"&\"R\"&(ROW(Scores!$253:$253)-1+MATCH('Individual Scores'!$D34,Scores!$F$253:$F$505,0))&\"C\"&COLUMN(Scores!N$1),FALSE)))","v":149},{"$f":"IF('Team Scores'!$Z$1<2,\"\",IF(ISERROR(MATCH('Individual Scores'!$D34,Scores!$F$253:$F$506,0)),\"\",INDIRECT(\"Scores!\"&\"R\"&(ROW(Scores!$253:$253)-1+MATCH('Individual Scores'!$D34,Scores!$F$253:$F$505,0))&\"C\"&COLUMN(Scores!O$1),FALSE)))","v":176},{"$f":"IF('Team Scores'!$Z$1<2,\"\",IF(ISERROR(MATCH('Individual Scores'!$D34,Scores!$F$253:$F$506,0)),\"\",INDIRECT(\"Scores!\"&\"R\"&(ROW(Scores!$253:$253)-1+MATCH('Individual Scores'!$D34,Scores!$F$253:$F$505,0))&\"C\"&COLUMN(Scores!P$1),FALSE)))","v":158},{"$f":"IF('Team Scores'!$Z$1<2,\"\",IF(ISERROR(MATCH('Individual Scores'!$D34,Scores!$F$253:$F$506,0)),\"\",INDIRECT(\"Scores!\"&\"R\"&(ROW(Scores!$253:$253)-1+MATCH('Individual Scores'!$D34,Scores!$F$253:$F$505,0))&\"C\"&COLUMN(Scores!S$1),FALSE)))","v":1085},215,602,null,{"$f":"IF('Team Scores'!$Z$1<3,\"\",IF(ISERROR(MATCH('Individual Scores'!$D34,Scores!$F$506:$F$759,0)),\"\",INDIRECT(\"Scores!\"&\"R\"&(ROW(Scores!$F$506:$F$759)-1+MATCH('Individual Scores'!$D34,Scores!$F$506:$F$759,0))&\"C\"&COLUMN(Scores!J$1),FALSE)))","v":""},{"$f":"IF('Team Scores'!$Z$1<3,\"\",IF(ISERROR(MATCH('Individual Scores'!$D34,Scores!$F$506:$F$759,0)),\"\",INDIRECT(\"Scores!\"&\"R\"&(ROW(Scores!$F$506:$F$759)-1+MATCH('Individual Scores'!$D34,Scores!$F$506:$F$759,0))&\"C\"&COLUMN(Scores!K$1),FALSE)))","v":""},{"$f":"IF('Team Scores'!$Z$1<3,\"\",IF(ISERROR(MATCH('Individual Scores'!$D34,Scores!$F$506:$F$759,0)),\"\",INDIRECT(\"Scores!\"&\"R\"&(ROW(Scores!$F$506:$F$759)-1+MATCH('Individual Scores'!$D34,Scores!$F$506:$F$759,0))&\"C\"&COLUMN(Scores!L$1),FALSE)))","v":""},{"$f":"IF('Team Scores'!$Z$1<3,\"\",IF(ISERROR(MATCH('Individual Scores'!$D34,Scores!$F$506:$F$759,0)),\"\",INDIRECT(\"Scores!\"&\"R\"&(ROW(Scores!$F$506:$F$759)-1+MATCH('Individual Scores'!$D34,Scores!$F$506:$F$759,0))&\"C\"&COLUMN(Scores!N$1),FALSE)))","v":""},{"$f":"IF('Team Scores'!$Z$1<3,\"\",IF(ISERROR(MATCH('Individual Scores'!$D34,Scores!$F$506:$F$759,0)),\"\",INDIRECT(\"Scores!\"&\"R\"&(ROW(Scores!$F$506:$F$759)-1+MATCH('Individual Scores'!$D34,Scores!$F$506:$F$759,0))&\"C\"&COLUMN(Scores!O$1),FALSE)))","v":""},{"$f":"IF('Team Scores'!$Z$1<3,\"\",IF(ISERROR(MATCH('Individual Scores'!$D34,Scores!$F$506:$F$759,0)),\"\",INDIRECT(\"Scores!\"&\"R\"&(ROW(Scores!$F$506:$F$759)-1+MATCH('Individual Scores'!$D34,Scores!$F$506:$F$759,0))&\"C\"&COLUMN(Scores!P$1),FALSE)))","v":""},{"$f":"IF('Team Scores'!$Z$1<3,\"\",IF(ISERROR(MATCH('Individual Scores'!$D34,Scores!$F$506:$F$759,0)),\"\",INDIRECT(\"Scores!\"&\"R\"&(ROW(Scores!$F$506:$F$759)-1+MATCH('Individual Scores'!$D34,Scores!$F$506:$F$759,0))&\"C\"&COLUMN(Scores!S$1),FALSE)))","v":""},"",""]
["GA","16-20","F","Nia McConico",1117,1030,"",2147,{"$f":"IF(COUNT(Q35:V35,AA35:AF35,AK35:AP35)>=18/3*'Team Scores'!$Z$1,IF(H35-VLOOKUP(B35&C35,'Individual Awards Computations'!$AY$54:$AZ$58,2,FALSE)=0,\"Leader \"&C35&\":\"&B35,H35-VLOOKUP(B35&C35,'Individual Awards Computations'!$AY$54:$AZ$58,2,FALSE)),\"\")","v":-299},225,593,178.91666666666666,19.402777777777775,"160-198",1,null,{"$f":"IF(ISERROR(MATCH('Individual Scores'!$D35,Scores!$F$1:$F$253,0)),\"\",INDIRECT(\"Scores!\"&\"R\"&MATCH('Individual Scores'!$D35,Scores!$F$1:$F$253,0)&\"C\"&COLUMN(Scores!J$1),FALSE))","v":201},{"$f":"IF(ISERROR(MATCH('Individual Scores'!$D35,Scores!$F$1:$F$253,0)),\"\",INDIRECT(\"Scores!\"&\"R\"&MATCH('Individual Scores'!$D35,Scores!$F$1:$F$253,0)&\"C\"&COLUMN(Scores!K$1),FALSE))","v":167},{"$f":"IF(ISERROR(MATCH('Individual Scores'!$D35,Scores!$F$1:$F$253,0)),\"\",INDIRECT(\"Scores!\"&\"R\"&MATCH('Individual Scores'!$D35,Scores!$F$1:$F$253,0)&\"C\"&COLUMN(Scores!L$1),FALSE))","v":225},{"$f":"IF(ISERROR(MATCH('Individual Scores'!$D35,Scores!$F$1:$F$253,0)),\"\",INDIRECT(\"Scores!\"&\"R\"&MATCH('Individual Scores'!$D35,Scores!$F$1:$F$253,0)&\"C\"&COLUMN(Scores!N$1),FALSE))","v":155},{"$f":"IF(ISERROR(MATCH('Individual Scores'!$D35,Scores!$F$1:$F$253,0)),\"\",INDIRECT(\"Scores!\"&\"R\"&MATCH('Individual Scores'!$D35,Scores!$F$1:$F$253,0)&\"C\"&COLUMN(Scores!O$1),FALSE))","v":223},{"$f":"IF(ISERROR(MATCH('Individual Scores'!$D35,Scores!$F$1:$F$253,0)),\"\",INDIRECT(\"Scores!\"&\"R\"&MATCH('Individual Scores'!$D35,Scores!$F$1:$F$253,0)&\"C\"&COLUMN(Scores!P$1),FALSE))","v":146},{"$f":"IF(ISERROR(MATCH('Individual Scores'!$D35,Scores!$F$1:$F$253,0)),\"\",INDIRECT(\"Scores!\"&\"R\"&MATCH('Individual Scores'!$D35,Scores!$F$1:$F$253,0)&\"C\"&COLUMN(Scores!S$1),FALSE))","v":1117},{"$f":"IF(MAX('Individual Scores'!Q35:V35)>0,MAX('Individual Scores'!Q35:V35),\"\")","v":225},{"$f":"IF(MAX(SUM('Individual Scores'!Q35:S35),SUM('Individual Scores'!T35:V35))>0,MAX(SUM('Individual Scores'!Q35:S35),SUM('Individual Scores'!T35:V35)),\"\")","v":593},null,{"$f":"IF('Team Scores'!$Z$1<2,\"\",IF(ISERROR(MATCH('Individual Scores'!$D35,Scores!$F$253:$F$506,0)),\"\",INDIRECT(\"Scores!\"&\"R\"&(ROW(Scores!$253:$253)-1+MATCH('Individual Scores'!$D35,Scores!$F$253:$F$505,0))&\"C\"&COLUMN(Scores!J$1),FALSE)))","v":182},{"$f":"IF('Team Scores'!$Z$1<2,\"\",IF(ISERROR(MATCH('Individual Scores'!$D35,Scores!$F$253:$F$506,0)),\"\",INDIRECT(\"Scores!\"&\"R\"&(ROW(Scores!$253:$253)-1+MATCH('Individual Scores'!$D35,Scores!$F$253:$F$505,0))&\"C\"&COLUMN(Scores!K$1),FALSE)))","v":154},{"$f":"IF('Team Scores'!$Z$1<2,\"\",IF(ISERROR(MATCH('Individual Scores'!$D35,Scores!$F$253:$F$506,0)),\"\",INDIRECT(\"Scores!\"&\"R\"&(ROW(Scores!$253:$253)-1+MATCH('Individual Scores'!$D35,Scores!$F$253:$F$505,0))&\"C\"&COLUMN(Scores!L$1),FALSE)))","v":180},{"$f":"IF('Team Scores'!$Z$1<2,\"\",IF(ISERROR(MATCH('Individual Scores'!$D35,Scores!$F$253:$F$506,0)),\"\",INDIRECT(\"Scores!\"&\"R\"&(ROW(Scores!$253:$253)-1+MATCH('Individual Scores'!$D35,Scores!$F$253:$F$505,0))&\"C\"&COLUMN(Scores!N$1),FALSE)))","v":167},{"$f":"IF('Team Scores'!$Z$1<2,\"\",IF(ISERROR(MATCH('Individual Scores'!$D35,Scores!$F$253:$F$506,0)),\"\",INDIRECT(\"Scores!\"&\"R\"&(ROW(Scores!$253:$253)-1+MATCH('Individual Scores'!$D35,Scores!$F$253:$F$505,0))&\"C\"&COLUMN(Scores!O$1),FALSE)))","v":176},{"$f":"IF('Team Scores'!$Z$1<2,\"\",IF(ISERROR(MATCH('Individual Scores'!$D35,Scores!$F$253:$F$506,0)),\"\",INDIRECT(\"Scores!\"&\"R\"&(ROW(Scores!$253:$253)-1+MATCH('Individual Scores'!$D35,Scores!$F$253:$F$505,0))&\"C\"&COLUMN(Scores!P$1),FALSE)))","v":171},{"$f":"IF('Team Scores'!$Z$1<2,\"\",IF(ISERROR(MATCH('Individual Scores'!$D35,Scores!$F$253:$F$506,0)),\"\",INDIRECT(\"Scores!\"&\"R\"&(ROW(Scores!$253:$253)-1+MATCH('Individual Scores'!$D35,Scores!$F$253:$F$505,0))&\"C\"&COLUMN(Scores!S$1),FALSE)))","v":1030},{"$f":"IF(MAX(AA35:AF35)>0,MAX(AA35:AF35),\"\")","v":182},{"$f":"IF(MAX(SUM(AA35:AC35),SUM(AD35:AF35))>0,MAX(SUM(AA35:AC35),SUM(AD35:AF35)),\"\")","v":516},null,{"$f":"IF('Team Scores'!$Z$1<3,\"\",IF(ISERROR(MATCH('Individual Scores'!$D35,Scores!$F$506:$F$759,0)),\"\",INDIRECT(\"Scores!\"&\"R\"&(ROW(Scores!$F$506:$F$759)-1+MATCH('Individual Scores'!$D35,Scores!$F$506:$F$759,0))&\"C\"&COLUMN(Scores!J$1),FALSE)))","v":""},{"$f":"IF('Team Scores'!$Z$1<3,\"\",IF(ISERROR(MATCH('Individual Scores'!$D35,Scores!$F$506:$F$759,0)),\"\",INDIRECT(\"Scores!\"&\"R\"&(ROW(Scores!$F$506:$F$759)-1+MATCH('Individual Scores'!$D35,Scores!$F$506:$F$759,0))&\"C\"&COLUMN(Scores!K$1),FALSE)))","v":""},{"$f":"IF('Team Scores'!$Z$1<3,\"\",IF(ISERROR(MATCH('Individual Scores'!$D35,Scores!$F$506:$F$759,0)),\"\",INDIRECT(\"Scores!\"&\"R\"&(ROW(Scores!$F$506:$F$759)-1+MATCH('Individual Scores'!$D35,Scores!$F$506:$F$759,0))&\"C\"&COLUMN(Scores!L$1),FALSE)))","v":""},{"$f":"IF('Team Scores'!$Z$1<3,\"\",IF(ISERROR(MATCH('Individual Scores'!$D35,Scores!$F$506:$F$759,0)),\"\",INDIRECT(\"Scores!\"&\"R\"&(ROW(Scores!$F$506:$F$759)-1+MATCH('Individual Scores'!$D35,Scores!$F$506:$F$759,0))&\"C\"&COLUMN(Scores!N$1),FALSE)))","v":""},{"$f":"IF('Team Scores'!$Z$1<3,\"\",IF(ISERROR(MATCH('Individual Scores'!$D35,Scores!$F$506:$F$759,0)),\"\",INDIRECT(\"Scores!\"&\"R\"&(ROW(Scores!$F$506:$F$759)-1+MATCH('Individual Scores'!$D35,Scores!$F$506:$F$759,0))&\"C\"&COLUMN(Scores!O$1),FALSE)))","v":""},{"$f":"IF('Team Scores'!$Z$1<3,\"\",IF(ISERROR(MATCH('Individual Scores'!$D35,Scores!$F$506:$F$759,0)),\"\",INDIRECT(\"Scores!\"&\"R\"&(ROW(Scores!$F$506:$F$759)-1+MATCH('Individual Scores'!$D35,Scores!$F$506:$F$759,0))&\"C\"&COLUMN(Scores!P$1),FALSE)))","v":""},{"$f":"IF('Team Scores'!$Z$1<3,\"\",IF(ISERROR(MATCH('Individual Scores'!$D35,Scores!$F$506:$F$759,0)),\"\",INDIRECT(\"Scores!\"&\"R\"&(ROW(Scores!$F$506:$F$759)-1+MATCH('Individual Scores'!$D35,Scores!$F$506:$F$759,0))&\"C\"&COLUMN(Scores!S$1),FALSE)))","v":""},"",""]
["GA","16-20","F","Toni McQuerry",1088,1005,"",2093,{"$f":"IF(COUNT(Q36:V36,AA36:AF36,AK36:AP36)>=18/3*'Team Scores'!$Z$1,IF(H36-VLOOKUP(B36&C36,'Individual Awards Computations'!$AY$54:$AZ$58,2,FALSE)=0,\"Leader \"&C36&\":\"&B36,H36-VLOOKUP(B36&C36,'Individual Awards Computations'!$AY$54:$AZ$58,2,FALSE)),\"\")","v":-353},222,568,174.41666666666666,19.319444444444443,"155-194",1,null,{"$f":"IF(ISERROR(MATCH('Individual Scores'!$D36,Scores!$F$1:$F$253,0)),\"\",INDIRECT(\"Scores!\"&\"R\"&MATCH('Individual Scores'!$D36,Scores!$F$1:$F$253,0)&\"C\"&COLUMN(Scores!J$1),FALSE))","v":191},{"$f":"IF(ISERROR(MATCH('Individual Scores'!$D36,Scores!$F$1:$F$253,0)),\"\",INDIRECT(\"Scores!\"&\"R\"&MATCH('Individual Scores'!$D36,Scores!$F$1:$F$253,0)&\"C\"&COLUMN(Scores!K$1),FALSE))","v":155},{"$f":"IF(ISERROR(MATCH('Individual Scores'!$D36,Scores!$F$1:$F$253,0)),\"\",INDIRECT(\"Scores!\"&\"R\"&MATCH('Individual Scores'!$D36,Scores!$F$1:$F$253,0)&\"C\"&COLUMN(Scores!L$1),FALSE))","v":222},{"$f":"IF(ISERROR(MATCH('Individual Scores'!$D36,Scores!$F$1:$F$253,0)),\"\",INDIRECT(\"Scores!\"&\"R\"&MATCH('Individual Scores'!$D36,Scores!$F$1:$F$253,0)&\"C\"&COLUMN(Scores!N$1),FALSE))","v":183},{"$f":"IF(ISERROR(MATCH('Individual Scores'!$D36,Scores!$F$1:$F$253,0)),\"\",INDIRECT(\"Scores!\"&\"R\"&MATCH('Individual Scores'!$D36,Scores!$F$1:$F$253,0)&\"C\"&COLUMN(Scores!O$1),FALSE))","v":167},{"$f":"IF(ISERROR(MATCH('Individual Scores'!$D36,Scores!$F$1:$F$253,0)),\"\",INDIRECT(\"Scores!\"&\"R\"&MATCH('Individual Scores'!$D36,Scores!$F$1:$F$253,0)&\"C\"&COLUMN(Scores!P$1),FALSE))","v":170},{"$f":"IF(ISERROR(MATCH('Individual Scores'!$D36,Scores!$F$1:$F$253,0)),\"\",INDIRECT(\"Scores!\"&\"R\"&MATCH('Individual Scores'!$D36,Scores!$F$1:$F$253,0)&\"C\"&COLUMN(Scores!S$1),FALSE))","v":1088},{"$f":"IF(MAX('Individual Scores'!Q36:V36)>0,MAX('Individual Scores'!Q36:V36),\"\")","v":222},{"$f":"IF(MAX(SUM('Individual Scores'!Q36:S36),SUM('Individual Scores'!T36:V36))>0,MAX(SUM('Individual Scores'!Q36:S36),SUM('Individual Scores'!T36:V36)),\"\")","v":568},null,{"$f":"IF('Team Scores'!$Z$1<2,\"\",IF(ISERROR(MATCH('Individual Scores'!$D36,Scores!$F$253:$F$506,0)),\"\",INDIRECT(\"Scores!\"&\"R\"&(ROW(Scores!$253:$253)-1+MATCH('Individual Scores'!$D36,Scores!$F$253:$F$505,0))&\"C\"&COLUMN(Scores!J$1),FALSE)))","v":159},{"$f":"IF('Team Scores'!$Z$1<2,\"\",IF(ISERROR(MATCH('Individual Scores'!$D36,Scores!$F$253:$F$506,0)),\"\",INDIRECT(\"Scores!\"&\"R\"&(ROW(Scores!$253:$253)-1+MATCH('Individual Scores'!$D36,Scores!$F$253:$F$505,0))&\"C\"&COLUMN(Scores!K$1),FALSE)))","v":210},{"$f":"IF('Team Scores'!$Z$1<2,\"\",IF(ISERROR(MATCH('Individual Scores'!$D36,Scores!$F$253:$F$506,0)),\"\",INDIRECT(\"Scores!\"&\"R\"&(ROW(Scores!$253:$253)-1+MATCH('Individual Scores'!$D36,Scores!$F$253:$F$505,0))&\"C\"&COLUMN(Scores!L$1),FALSE)))","v":150},{"$f":"IF('Team Scores'!$Z$1<2,\"\",IF(ISERROR(MATCH('Individual Scores'!$D36,Scores!$F$253:$F$506,0)),\"\",INDIRECT(\"Scores!\"&\"R\"&(ROW(Scores!$253:$253)-1+MATCH('Individual Scores'!$D36,Scores!$F$253:$F$505,0))&\"C\"&COLUMN(Scores!N$1),FALSE)))","v":149},{"$f":"IF('Team Scores'!$Z$1<2,\"\",IF(ISERROR(MATCH('Individual Scores'!$D36,Scores!$F$253:$F$506,0)),\"\",INDIRECT(\"Scores!\"&\"R\"&(ROW(Scores!$253:$253)-1+MATCH('Individual Scores'!$D36,Scores!$F$253:$F$505,0))&\"C\"&COLUMN(Scores!O$1),FALSE)))","v":182},{"$f":"IF('Team Scores'!$Z$1<2,\"\",IF(ISERROR(MATCH('Individual Scores'!$D36,Scores!$F$253:$F$506,0)),\"\",INDIRECT(\"Scores!\"&\"R\"&(ROW(Scores!$253:$253)-1+MATCH('Individual Scores'!$D36,Scores!$F$253:$F$505,0))&\"C\"&COLUMN(Scores!P$1),FALSE)))","v":155},{"$f":"IF('Team Scores'!$Z$1<2,\"\",IF(ISERROR(MATCH('Individual Scores'!$D36,Scores!$F$253:$F$506,0)),\"\",INDIRECT(\"Scores!\"&\"R\"&(ROW(Scores!$253:$253)-1+MATCH('Individual Scores'!$D36,Scores!$F$253:$F$505,0))&\"C\"&COLUMN(Scores!S$1),FALSE)))","v":1005},210,519,null,{"$f":"IF('Team Scores'!$Z$1<3,\"\",IF(ISERROR(MATCH('Individual Scores'!$D36,Scores!$F$506:$F$759,0)),\"\",INDIRECT(\"Scores!\"&\"R\"&(ROW(Scores!$F$506:$F$759)-1+MATCH('Individual Scores'!$D36,Scores!$F$506:$F$759,0))&\"C\"&COLUMN(Scores!J$1),FALSE)))","v":""},{"$f":"IF('Team Scores'!$Z$1<3,\"\",IF(ISERROR(MATCH('Individual Scores'!$D36,Scores!$F$506:$F$759,0)),\"\",INDIRECT(\"Scores!\"&\"R\"&(ROW(Scores!$F$506:$F$759)-1+MATCH('Individual Scores'!$D36,Scores!$F$506:$F$759,0))&\"C\"&COLUMN(Scores!K$1),FALSE)))","v":""},{"$f":"IF('Team Scores'!$Z$1<3,\"\",IF(ISERROR(MATCH('Individual Scores'!$D36,Scores!$F$506:$F$759,0)),\"\",INDIRECT(\"Scores!\"&\"R\"&(ROW(Scores!$F$506:$F$759)-1+MATCH('Individual Scores'!$D36,Scores!$F$506:$F$759,0))&\"C\"&COLUMN(Scores!L$1),FALSE)))","v":""},{"$f":"IF('Team Scores'!$Z$1<3,\"\",IF(ISERROR(MATCH('Individual Scores'!$D36,Scores!$F$506:$F$759,0)),\"\",INDIRECT(\"Scores!\"&\"R\"&(ROW(Scores!$F$506:$F$759)-1+MATCH('Individual Scores'!$D36,Scores!$F$506:$F$759,0))&\"C\"&COLUMN(Scores!N$1),FALSE)))","v":""},{"$f":"IF('Team Scores'!$Z$1<3,\"\",IF(ISERROR(MATCH('Individual Scores'!$D36,Scores!$F$506:$F$759,0)),\"\",INDIRECT(\"Scores!\"&\"R\"&(ROW(Scores!$F$506:$F$759)-1+MATCH('Individual Scores'!$D36,Scores!$F$506:$F$759,0))&\"C\"&COLUMN(Scores!O$1),FALSE)))","v":""},{"$f":"IF('Team Scores'!$Z$1<3,\"\",IF(ISERROR(MATCH('Individual Scores'!$D36,Scores!$F$506:$F$759,0)),\"\",INDIRECT(\"Scores!\"&\"R\"&(ROW(Scores!$F$506:$F$759)-1+MATCH('Individual Scores'!$D36,Scores!$F$506:$F$759,0))&\"C\"&COLUMN(Scores!P$1),FALSE)))","v":""},{"$f":"IF('Team Scores'!$Z$1<3,\"\",IF(ISERROR(MATCH('Individual Scores'!$D36,Scores!$F$506:$F$759,0)),\"\",INDIRECT(\"Scores!\"&\"R\"&(ROW(Scores!$F$506:$F$759)-1+MATCH('Individual Scores'!$D36,Scores!$F$506:$F$759,0))&\"C\"&COLUMN(Scores!S$1),FALSE)))","v":""},"",""]
["GA","16-20","F","Violet Armendariz",963,990,"",1953,{"$f":"IF(COUNT(Q37:V37,AA37:AF37,AK37:AP37)>=18/3*'Team Scores'!$Z$1,IF(H37-VLOOKUP(B37&C37,'Individual Awards Computations'!$AY$54:$AZ$58,2,FALSE)=0,\"Leader \"&C37&\":\"&B37,H37-VLOOKUP(B37&C37,'Individual Awards Computations'!$AY$54:$AZ$58,2,FALSE)),\"\")","v":-493},211,516,162.75,18.75,"144-182",1,null,{"$f":"IF(ISERROR(MATCH('Individual Scores'!$D37,Scores!$F$1:$F$253,0)),\"\",INDIRECT(\"Scores!\"&\"R\"&MATCH('Individual Scores'!$D37,Scores!$F$1:$F$253,0)&\"C\"&COLUMN(Scores!J$1),FALSE))","v":150},{"$f":"IF(ISERROR(MATCH('Individual Scores'!$D37,Scores!$F$1:$F$253,0)),\"\",INDIRECT(\"Scores!\"&\"R\"&MATCH('Individual Scores'!$D37,Scores!$F$1:$F$253,0)&\"C\"&COLUMN(Scores!K$1),FALSE))","v":183},{"$f":"IF(ISERROR(MATCH('Individual Scores'!$D37,Scores!$F$1:$F$253,0)),\"\",INDIRECT(\"Scores!\"&\"R\"&MATCH('Individual Scores'!$D37,Scores!$F$1:$F$253,0)&\"C\"&COLUMN(Scores!L$1),FALSE))","v":132},{"$f":"IF(ISERROR(MATCH('Individual Scores'!$D37,Scores!$F$1:$F$253,0)),\"\",INDIRECT(\"Scores!\"&\"R\"&MATCH('Individual Scores'!$D37,Scores!$F$1:$F$253,0)&\"C\"&COLUMN(Scores!N$1),FALSE))","v":211},{"$f":"IF(ISERROR(MATCH('Individual Scores'!$D37,Scores!$F$1:$F$253,0)),\"\",INDIRECT(\"Scores!\"&\"R\"&MATCH('Individual Scores'!$D37,Scores!$F$1:$F$253,0)&\"C\"&COLUMN(Scores!O$1),FALSE))","v":147},{"$f":"IF(ISERROR(MATCH('Individual Scores'!$D37,Scores!$F$1:$F$253,0)),\"\",INDIRECT(\"Scores!\"&\"R\"&MATCH('Individual Scores'!$D37,Scores!$F$1:$F$253,0)&\"C\"&COLUMN(Scores!P$1),FALSE))","v":140},{"$f":"IF(ISERROR(MATCH('Individual Scores'!$D37,Scores!$F$1:$F$253,0)),\"\",INDIRECT(\"Scores!\"&\"R\"&MATCH('Individual Scores'!$D37,Scores!$F$1:$F$253,0)&\"C\"&COLUMN(Scores!S$1),FALSE))","v":963},{"$f":"IF(MAX('Individual Scores'!Q37:V37)>0,MAX('Individual Scores'!Q37:V37),\"\")","v":211},{"$f":"IF(MAX(SUM('Individual Scores'!Q37:S37),SUM('Individual Scores'!T37:V37))>0,MAX(SUM('Individual Scores'!Q37:S37),SUM('Individual Scores'!T37:V37)),\"\")","v":498},null,{"$f":"IF('Team Scores'!$Z$1<2,\"\",IF(ISERROR(MATCH('Individual Scores'!$D37,Scores!$F$253:$F$506,0)),\"\",INDIRECT(\"Scores!\"&\"R\"&(ROW(Scores!$253:$253)-1+MATCH('Individual Scores'!$D37,Scores!$F$253:$F$505,0))&\"C\"&COLUMN(Scores!J$1),FALSE)))","v":161},{"$f":"IF('Team Scores'!$Z$1<2,\"\",IF(ISERROR(MATCH('Individual Scores'!$D37,Scores!$F$253:$F$506,0)),\"\",INDIRECT(\"Scores!\"&\"R\"&(ROW(Scores!$253:$253)-1+MATCH('Individual Scores'!$D37,Scores!$F$253:$F$505,0))&\"C\"&COLUMN(Scores!K$1),FALSE)))","v":184},{"$f":"IF('Team Scores'!$Z$1<2,\"\",IF(ISERROR(MATCH('Individual Scores'!$D37,Scores!$F$253:$F$506,0)),\"\",INDIRECT(\"Scores!\"&\"R\"&(ROW(Scores!$253:$253)-1+MATCH('Individual Scores'!$D37,Scores!$F$253:$F$505,0))&\"C\"&COLUMN(Scores!L$1),FALSE)))","v":171},{"$f":"IF('Team Scores'!$Z$1<2,\"\",IF(ISERROR(MATCH('Individual Scores'!$D37,Scores!$F$253:$F$506,0)),\"\",INDIRECT(\"Scores!\"&\"R\"&(ROW(Scores!$253:$253)-1+MATCH('Individual Scores'!$D37,Scores!$F$253:$F$505,0))&\"C\"&COLUMN(Scores!N$1),FALSE)))","v":166},{"$f":"IF('Team Scores'!$Z$1<2,\"\",IF(ISERROR(MATCH('Individual Scores'!$D37,Scores!$F$253:$F$506,0)),\"\",INDIRECT(\"Scores!\"&\"R\"&(ROW(Scores!$253:$253)-1+MATCH('Individual Scores'!$D37,Scores!$F$253:$F$505,0))&\"C\"&COLUMN(Scores!O$1),FALSE)))","v":174},{"$f":"IF('Team Scores'!$Z$1<2,\"\",IF(ISERROR(MATCH('Individual Scores'!$D37,Scores!$F$253:$F$506,0)),\"\",INDIRECT(\"Scores!\"&\"R\"&(ROW(Scores!$253:$253)-1+MATCH('Individual Scores'!$D37,Scores!$F$253:$F$505,0))&\"C\"&COLUMN(Scores!P$1),FALSE)))","v":134},{"$f":"IF('Team Scores'!$Z$1<2,\"\",IF(ISERROR(MATCH('Individual Scores'!$D37,Scores!$F$253:$F$506,0)),\"\",INDIRECT(\"Scores!\"&\"R\"&(ROW(Scores!$253:$253)-1+MATCH('Individual Scores'!$D37,Scores!$F$253:$F$505,0))&\"C\"&COLUMN(Scores!S$1),FALSE)))","v":990},184,516,null,{"$f":"IF('Team Scores'!$Z$1<3,\"\",IF(ISERROR(MATCH('Individual Scores'!$D37,Scores!$F$506:$F$759,0)),\"\",INDIRECT(\"Scores!\"&\"R\"&(ROW(Scores!$F$506:$F$759)-1+MATCH('Individual Scores'!$D37,Scores!$F$506:$F$759,0))&\"C\"&COLUMN(Scores!J$1),FALSE)))","v":""},{"$f":"IF('Team Scores'!$Z$1<3,\"\",IF(ISERROR(MATCH('Individual Scores'!$D37,Scores!$F$506:$F$759,0)),\"\",INDIRECT(\"Scores!\"&\"R\"&(ROW(Scores!$F$506:$F$759)-1+MATCH('Individual Scores'!$D37,Scores!$F$506:$F$759,0))&\"C\"&COLUMN(Scores!K$1),FALSE)))","v":""},{"$f":"IF('Team Scores'!$Z$1<3,\"\",IF(ISERROR(MATCH('Individual Scores'!$D37,Scores!$F$506:$F$759,0)),\"\",INDIRECT(\"Scores!\"&\"R\"&(ROW(Scores!$F$506:$F$759)-1+MATCH('Individual Scores'!$D37,Scores!$F$506:$F$759,0))&\"C\"&COLUMN(Scores!L$1),FALSE)))","v":""},{"$f":"IF('Team Scores'!$Z$1<3,\"\",IF(ISERROR(MATCH('Individual Scores'!$D37,Scores!$F$506:$F$759,0)),\"\",INDIRECT(\"Scores!\"&\"R\"&(ROW(Scores!$F$506:$F$759)-1+MATCH('Individual Scores'!$D37,Scores!$F$506:$F$759,0))&\"C\"&COLUMN(Scores!N$1),FALSE)))","v":""},{"$f":"IF('Team Scores'!$Z$1<3,\"\",IF(ISERROR(MATCH('Individual Scores'!$D37,Scores!$F$506:$F$759,0)),\"\",INDIRECT(\"Scores!\"&\"R\"&(ROW(Scores!$F$506:$F$759)-1+MATCH('Individual Scores'!$D37,Scores!$F$506:$F$759,0))&\"C\"&COLUMN(Scores!O$1),FALSE)))","v":""},{"$f":"IF('Team Scores'!$Z$1<3,\"\",IF(ISERROR(MATCH('Individual Scores'!$D37,Scores!$F$506:$F$759,0)),\"\",INDIRECT(\"Scores!\"&\"R\"&(ROW(Scores!$F$506:$F$759)-1+MATCH('Individual Scores'!$D37,Scores!$F$506:$F$759,0))&\"C\"&COLUMN(Scores!P$1),FALSE)))","v":""},{"$f":"IF('Team Scores'!$Z$1<3,\"\",IF(ISERROR(MATCH('Individual Scores'!$D37,Scores!$F$506:$F$759,0)),\"\",INDIRECT(\"Scores!\"&\"R\"&(ROW(Scores!$F$506:$F$759)-1+MATCH('Individual Scores'!$D37,Scores!$F$506:$F$759,0))&\"C\"&COLUMN(Scores!S$1),FALSE)))","v":""},"",""]
["GA","15 & <","F","Mikala Higgins",1075,1116,"",2191,{"$f":"IF(COUNT(Q38:V38,AA38:AF38,AK38:AP38)>=18/3*'Team Scores'!$Z$1,IF(H38-VLOOKUP(B38&C38,'Individual Awards Computations'!$AY$54:$AZ$58,2,FALSE)=0,\"Leader \"&C38&\":\"&B38,H38-VLOOKUP(B38&C38,'Individual Awards Computations'!$AY$54:$AZ$58,2,FALSE)),\"\")","v":-222},233,612,182.58333333333334,22.347222222222225,"160-205",1,null,{"$f":"IF(ISERROR(MATCH('Individual Scores'!$D38,Scores!$F$1:$F$253,0)),\"\",INDIRECT(\"Scores!\"&\"R\"&MATCH('Individual Scores'!$D38,Scores!$F$1:$F$253,0)&\"C\"&COLUMN(Scores!J$1),FALSE))","v":200},{"$f":"IF(ISERROR(MATCH('Individual Scores'!$D38,Scores!$F$1:$F$253,0)),\"\",INDIRECT(\"Scores!\"&\"R\"&MATCH('Individual Scores'!$D38,Scores!$F$1:$F$253,0)&\"C\"&COLUMN(Scores!K$1),FALSE))","v":179},{"$f":"IF(ISERROR(MATCH('Individual Scores'!$D38,Scores!$F$1:$F$253,0)),\"\",INDIRECT(\"Scores!\"&\"R\"&MATCH('Individual Scores'!$D38,Scores!$F$1:$F$253,0)&\"C\"&COLUMN(Scores!L$1),FALSE))","v":233},{"$f":"IF(ISERROR(MATCH('Individual Scores'!$D38,Scores!$F$1:$F$253,0)),\"\",INDIRECT(\"Scores!\"&\"R\"&MATCH('Individual Scores'!$D38,Scores!$F$1:$F$253,0)&\"C\"&COLUMN(Scores!N$1),FALSE))","v":146},{"$f":"IF(ISERROR(MATCH('Individual Scores'!$D38,Scores!$F$1:$F$253,0)),\"\",INDIRECT(\"Scores!\"&\"R\"&MATCH('Individual Scores'!$D38,Scores!$F$1:$F$253,0)&\"C\"&COLUMN(Scores!O$1),FALSE))","v":156},{"$f":"IF(ISERROR(MATCH('Individual Scores'!$D38,Scores!$F$1:$F$253,0)),\"\",INDIRECT(\"Scores!\"&\"R\"&MATCH('Individual Scores'!$D38,Scores!$F$1:$F$253,0)&\"C\"&COLUMN(Scores!P$1),FALSE))","v":161},{"$f":"IF(ISERROR(MATCH('Individual Scores'!$D38,Scores!$F$1:$F$253,0)),\"\",INDIRECT(\"Scores!\"&\"R\"&MATCH('Individual Scores'!$D38,Scores!$F$1:$F$253,0)&\"C\"&COLUMN(Scores!S$1),FALSE))","v":1075},{"$f":"IF(MAX('Individual Scores'!Q38:V38)>0,MAX('Individual Scores'!Q38:V38),\"\")","v":233},{"$f":"IF(MAX(SUM('Individual Scores'!Q38:S38),SUM('Individual Scores'!T38:V38))>0,MAX(SUM('Individual Scores'!Q38:S38),SUM('Individual Scores'!T38:V38)),\"\")","v":612},null,{"$f":"IF('Team Scores'!$Z$1<2,\"\",IF(ISERROR(MATCH('Individual Scores'!$D38,Scores!$F$253:$F$506,0)),\"\",INDIRECT(\"Scores!\"&\"R\"&(ROW(Scores!$253:$253)-1+MATCH('Individual Scores'!$D38,Scores!$F$253:$F$505,0))&\"C\"&COLUMN(Scores!J$1),FALSE)))","v":221},{"$f":"IF('Team Scores'!$Z$1<2,\"\",IF(ISERROR(MATCH('Individual Scores'!$D38,Scores!$F$253:$F$506,0)),\"\",INDIRECT(\"Scores!\"&\"R\"&(ROW(Scores!$253:$253)-1+MATCH('Individual Scores'!$D38,Scores!$F$253:$F$505,0))&\"C\"&COLUMN(Scores!K$1),FALSE)))","v":159},{"$f":"IF('Team Scores'!$Z$1<2,\"\",IF(ISERROR(MATCH('Individual Scores'!$D38,Scores!$F$253:$F$506,0)),\"\",INDIRECT(\"Scores!\"&\"R\"&(ROW(Scores!$253:$253)-1+MATCH('Individual Scores'!$D38,Scores!$F$253:$F$505,0))&\"C\"&COLUMN(Scores!L$1),FALSE)))","v":172},{"$f":"IF('Team Scores'!$Z$1<2,\"\",IF(ISERROR(MATCH('Individual Scores'!$D38,Scores!$F$253:$F$506,0)),\"\",INDIRECT(\"Scores!\"&\"R\"&(ROW(Scores!$253:$253)-1+MATCH('Individual Scores'!$D38,Scores!$F$253:$F$505,0))&\"C\"&COLUMN(Scores!N$1),FALSE)))","v":192},{"$f":"IF('Team Scores'!$Z$1<2,\"\",IF(ISERROR(MATCH('Individual Scores'!$D38,Scores!$F$253:$F$506,0)),\"\",INDIRECT(\"Scores!\"&\"R\"&(ROW(Scores!$253:$253)-1+MATCH('Individual Scores'!$D38,Scores!$F$253:$F$505,0))&\"C\"&COLUMN(Scores!O$1),FALSE)))","v":171},{"$f":"IF('Team Scores'!$Z$1<2,\"\",IF(ISERROR(MATCH('Individual Scores'!$D38,Scores!$F$253:$F$506,0)),\"\",INDIRECT(\"Scores!\"&\"R\"&(ROW(Scores!$253:$253)-1+MATCH('Individual Scores'!$D38,Scores!$F$253:$F$505,0))&\"C\"&COLUMN(Scores!P$1),FALSE)))","v":201},{"$f":"IF('Team Scores'!$Z$1<2,\"\",IF(ISERROR(MATCH('Individual Scores'!$D38,Scores!$F$253:$F$506,0)),\"\",INDIRECT(\"Scores!\"&\"R\"&(ROW(Scores!$253:$253)-1+MATCH('Individual Scores'!$D38,Scores!$F$253:$F$505,0))&\"C\"&COLUMN(Scores!S$1),FALSE)))","v":1116},{"$f":"IF(MAX(AA38:AF38)>0,MAX(AA38:AF38),\"\")","v":221},{"$f":"IF(MAX(SUM(AA38:AC38),SUM(AD38:AF38))>0,MAX(SUM(AA38:AC38),SUM(AD38:AF38)),\"\")","v":564},null,{"$f":"IF('Team Scores'!$Z$1<3,\"\",IF(ISERROR(MATCH('Individual Scores'!$D38,Scores!$F$506:$F$759,0)),\"\",INDIRECT(\"Scores!\"&\"R\"&(ROW(Scores!$F$506:$F$759)-1+MATCH('Individual Scores'!$D38,Scores!$F$506:$F$759,0))&\"C\"&COLUMN(Scores!J$1),FALSE)))","v":""},{"$f":"IF('Team Scores'!$Z$1<3,\"\",IF(ISERROR(MATCH('Individual Scores'!$D38,Scores!$F$506:$F$759,0)),\"\",INDIRECT(\"Scores!\"&\"R\"&(ROW(Scores!$F$506:$F$759)-1+MATCH('Individual Scores'!$D38,Scores!$F$506:$F$759,0))&\"C\"&COLUMN(Scores!K$1),FALSE)))","v":""},{"$f":"IF('Team Scores'!$Z$1<3,\"\",IF(ISERROR(MATCH('Individual Scores'!$D38,Scores!$F$506:$F$759,0)),\"\",INDIRECT(\"Scores!\"&\"R\"&(ROW(Scores!$F$506:$F$759)-1+MATCH('Individual Scores'!$D38,Scores!$F$506:$F$759,0))&\"C\"&COLUMN(Scores!L$1),FALSE)))","v":""},{"$f":"IF('Team Scores'!$Z$1<3,\"\",IF(ISERROR(MATCH('Individual Scores'!$D38,Scores!$F$506:$F$759,0)),\"\",INDIRECT(\"Scores!\"&\"R\"&(ROW(Scores!$F$506:$F$759)-1+MATCH('Individual Scores'!$D38,Scores!$F$506:$F$759,0))&\"C\"&COLUMN(Scores!N$1),FALSE)))","v":""},{"$f":"IF('Team Scores'!$Z$1<3,\"\",IF(ISERROR(MATCH('Individual Scores'!$D38,Scores!$F$506:$F$759,0)),\"\",INDIRECT(\"Scores!\"&\"R\"&(ROW(Scores!$F$506:$F$759)-1+MATCH('Individual Scores'!$D38,Scores!$F$506:$F$759,0))&\"C\"&COLUMN(Scores!O$1),FALSE)))","v":""},{"$f":"IF('Team Scores'!$Z$1<3,\"\",IF(ISERROR(MATCH('Individual Scores'!$D38,Scores!$F$506:$F$759,0)),\"\",INDIRECT(\"Scores!\"&\"R\"&(ROW(Scores!$F$506:$F$759)-1+MATCH('Individual Scores'!$D38,Scores!$F$506:$F$759,0))&\"C\"&COLUMN(Scores!P$1),FALSE)))","v":""},{"$f":"IF('Team Scores'!$Z$1<3,\"\",IF(ISERROR(MATCH('Individual Scores'!$D38,Scores!$F$506:$F$759,0)),\"\",INDIRECT(\"Scores!\"&\"R\"&(ROW(Scores!$F$506:$F$759)-1+MATCH('Individual Scores'!$D38,Scores!$F$506:$F$759,0))&\"C\"&COLUMN(Scores!S$1),FALSE)))","v":""},"",""]
["GA","16-20","F","Vacant-GA_G_U20",0,0,"",0,{"$f":"IF(COUNT(Q39:V39,AA39:AF39,AK39:AP39)>=18/3*'Team Scores'!$Z$1,IF(H39-VLOOKUP(B39&C39,'Individual Awards Computations'!$AY$54:$AZ$58,2,FALSE)=0,\"Leader \"&C39&\":\"&B39,H39-VLOOKUP(B39&C39,'Individual Awards Computations'!$AY$54:$AZ$58,2,FALSE)),\"\")","v":-2446},"","","","","",1,null,{"$f":"IF(ISERROR(MATCH('Individual Scores'!$D39,Scores!$F$1:$F$253,0)),\"\",INDIRECT(\"Scores!\"&\"R\"&MATCH('Individual Scores'!$D39,Scores!$F$1:$F$253,0)&\"C\"&COLUMN(Scores!J$1),FALSE))","v":0},{"$f":"IF(ISERROR(MATCH('Individual Scores'!$D39,Scores!$F$1:$F$253,0)),\"\",INDIRECT(\"Scores!\"&\"R\"&MATCH('Individual Scores'!$D39,Scores!$F$1:$F$253,0)&\"C\"&COLUMN(Scores!K$1),FALSE))","v":0},{"$f":"IF(ISERROR(MATCH('Individual Scores'!$D39,Scores!$F$1:$F$253,0)),\"\",INDIRECT(\"Scores!\"&\"R\"&MATCH('Individual Scores'!$D39,Scores!$F$1:$F$253,0)&\"C\"&COLUMN(Scores!L$1),FALSE))","v":0},{"$f":"IF(ISERROR(MATCH('Individual Scores'!$D39,Scores!$F$1:$F$253,0)),\"\",INDIRECT(\"Scores!\"&\"R\"&MATCH('Individual Scores'!$D39,Scores!$F$1:$F$253,0)&\"C\"&COLUMN(Scores!N$1),FALSE))","v":0},{"$f":"IF(ISERROR(MATCH('Individual Scores'!$D39,Scores!$F$1:$F$253,0)),\"\",INDIRECT(\"Scores!\"&\"R\"&MATCH('Individual Scores'!$D39,Scores!$F$1:$F$253,0)&\"C\"&COLUMN(Scores!O$1),FALSE))","v":0},{"$f":"IF(ISERROR(MATCH('Individual Scores'!$D39,Scores!$F$1:$F$253,0)),\"\",INDIRECT(\"Scores!\"&\"R\"&MATCH('Individual Scores'!$D39,Scores!$F$1:$F$253,0)&\"C\"&COLUMN(Scores!P$1),FALSE))","v":0},{"$f":"IF(ISERROR(MATCH('Individual Scores'!$D39,Scores!$F$1:$F$253,0)),\"\",INDIRECT(\"Scores!\"&\"R\"&MATCH('Individual Scores'!$D39,Scores!$F$1:$F$253,0)&\"C\"&COLUMN(Scores!S$1),FALSE))","v":0},{"$f":"IF(MAX('Individual Scores'!Q39:V39)>0,MAX('Individual Scores'!Q39:V39),\"\")","v":""},{"$f":"IF(MAX(SUM('Individual Scores'!Q39:S39),SUM('Individual Scores'!T39:V39))>0,MAX(SUM('Individual Scores'!Q39:S39),SUM('Individual Scores'!T39:V39)),\"\")","v":""},null,{"$f":"IF('Team Scores'!$Z$1<2,\"\",IF(ISERROR(MATCH('Individual Scores'!$D39,Scores!$F$253:$F$506,0)),\"\",INDIRECT(\"Scores!\"&\"R\"&(ROW(Scores!$253:$253)-1+MATCH('Individual Scores'!$D39,Scores!$F$253:$F$505,0))&\"C\"&COLUMN(Scores!J$1),FALSE)))","v":0},{"$f":"IF('Team Scores'!$Z$1<2,\"\",IF(ISERROR(MATCH('Individual Scores'!$D39,Scores!$F$253:$F$506,0)),\"\",INDIRECT(\"Scores!\"&\"R\"&(ROW(Scores!$253:$253)-1+MATCH('Individual Scores'!$D39,Scores!$F$253:$F$505,0))&\"C\"&COLUMN(Scores!K$1),FALSE)))","v":0},{"$f":"IF('Team Scores'!$Z$1<2,\"\",IF(ISERROR(MATCH('Individual Scores'!$D39,Scores!$F$253:$F$506,0)),\"\",INDIRECT(\"Scores!\"&\"R\"&(ROW(Scores!$253:$253)-1+MATCH('Individual Scores'!$D39,Scores!$F$253:$F$505,0))&\"C\"&COLUMN(Scores!L$1),FALSE)))","v":0},{"$f":"IF('Team Scores'!$Z$1<2,\"\",IF(ISERROR(MATCH('Individual Scores'!$D39,Scores!$F$253:$F$506,0)),\"\",INDIRECT(\"Scores!\"&\"R\"&(ROW(Scores!$253:$253)-1+MATCH('Individual Scores'!$D39,Scores!$F$253:$F$505,0))&\"C\"&COLUMN(Scores!N$1),FALSE)))","v":0},{"$f":"IF('Team Scores'!$Z$1<2,\"\",IF(ISERROR(MATCH('Individual Scores'!$D39,Scores!$F$253:$F$506,0)),\"\",INDIRECT(\"Scores!\"&\"R\"&(ROW(Scores!$253:$253)-1+MATCH('Individual Scores'!$D39,Scores!$F$253:$F$505,0))&\"C\"&COLUMN(Scores!O$1),FALSE)))","v":0},{"$f":"IF('Team Scores'!$Z$1<2,\"\",IF(ISERROR(MATCH('Individual Scores'!$D39,Scores!$F$253:$F$506,0)),\"\",INDIRECT(\"Scores!\"&\"R\"&(ROW(Scores!$253:$253)-1+MATCH('Individual Scores'!$D39,Scores!$F$253:$F$505,0))&\"C\"&COLUMN(Scores!P$1),FALSE)))","v":0},{"$f":"IF('Team Scores'!$Z$1<2,\"\",IF(ISERROR(MATCH('Individual Scores'!$D39,Scores!$F$253:$F$506,0)),\"\",INDIRECT(\"Scores!\"&\"R\"&(ROW(Scores!$253:$253)-1+MATCH('Individual Scores'!$D39,Scores!$F$253:$F$505,0))&\"C\"&COLUMN(Scores!S$1),FALSE)))","v":0},"","",null,{"$f":"IF('Team Scores'!$Z$1<3,\"\",IF(ISERROR(MATCH('Individual Scores'!$D39,Scores!$F$506:$F$759,0)),\"\",INDIRECT(\"Scores!\"&\"R\"&(ROW(Scores!$F$506:$F$759)-1+MATCH('Individual Scores'!$D39,Scores!$F$506:$F$759,0))&\"C\"&COLUMN(Scores!J$1),FALSE)))","v":""},{"$f":"IF('Team Scores'!$Z$1<3,\"\",IF(ISERROR(MATCH('Individual Scores'!$D39,Scores!$F$506:$F$759,0)),\"\",INDIRECT(\"Scores!\"&\"R\"&(ROW(Scores!$F$506:$F$759)-1+MATCH('Individual Scores'!$D39,Scores!$F$506:$F$759,0))&\"C\"&COLUMN(Scores!K$1),FALSE)))","v":""},{"$f":"IF('Team Scores'!$Z$1<3,\"\",IF(ISERROR(MATCH('Individual Scores'!$D39,Scores!$F$506:$F$759,0)),\"\",INDIRECT(\"Scores!\"&\"R\"&(ROW(Scores!$F$506:$F$759)-1+MATCH('Individual Scores'!$D39,Scores!$F$506:$F$759,0))&\"C\"&COLUMN(Scores!L$1),FALSE)))","v":""},{"$f":"IF('Team Scores'!$Z$1<3,\"\",IF(ISERROR(MATCH('Individual Scores'!$D39,Scores!$F$506:$F$759,0)),\"\",INDIRECT(\"Scores!\"&\"R\"&(ROW(Scores!$F$506:$F$759)-1+MATCH('Individual Scores'!$D39,Scores!$F$506:$F$759,0))&\"C\"&COLUMN(Scores!N$1),FALSE)))","v":""},{"$f":"IF('Team Scores'!$Z$1<3,\"\",IF(ISERROR(MATCH('Individual Scores'!$D39,Scores!$F$506:$F$759,0)),\"\",INDIRECT(\"Scores!\"&\"R\"&(ROW(Scores!$F$506:$F$759)-1+MATCH('Individual Scores'!$D39,Scores!$F$506:$F$759,0))&\"C\"&COLUMN(Scores!O$1),FALSE)))","v":""},{"$f":"IF('Team Scores'!$Z$1<3,\"\",IF(ISERROR(MATCH('Individual Scores'!$D39,Scores!$F$506:$F$759,0)),\"\",INDIRECT(\"Scores!\"&\"R\"&(ROW(Scores!$F$506:$F$759)-1+MATCH('Individual Scores'!$D39,Scores!$F$506:$F$759,0))&\"C\"&COLUMN(Scores!P$1),FALSE)))","v":""},{"$f":"IF('Team Scores'!$Z$1<3,\"\",IF(ISERROR(MATCH('Individual Scores'!$D39,Scores!$F$506:$F$759,0)),\"\",INDIRECT(\"Scores!\"&\"R\"&(ROW(Scores!$F$506:$F$759)-1+MATCH('Individual Scores'!$D39,Scores!$F$506:$F$759,0))&\"C\"&COLUMN(Scores!S$1),FALSE)))","v":""},"",""]
["GA","16-20","F",null,"","","",0,{"$f":"IF(COUNT(Q40:V40,AA40:AF40,AK40:AP40)>=18/3*'Team Scores'!$Z$1,IF(H40-VLOOKUP(B40&C40,'Individual Awards Computations'!$AY$54:$AZ$58,2,FALSE)=0,\"Leader \"&C40&\":\"&B40,H40-VLOOKUP(B40&C40,'Individual Awards Computations'!$AY$54:$AZ$58,2,FALSE)),\"\")","v":""},"","","","","",0,null,{"$f":"IF(ISERROR(MATCH('Individual Scores'!$D40,Scores!$F$1:$F$253,0)),\"\",INDIRECT(\"Scores!\"&\"R\"&MATCH('Individual Scores'!$D40,Scores!$F$1:$F$253,0)&\"C\"&COLUMN(Scores!J$1),FALSE))","v":""},{"$f":"IF(ISERROR(MATCH('Individual Scores'!$D40,Scores!$F$1:$F$253,0)),\"\",INDIRECT(\"Scores!\"&\"R\"&MATCH('Individual Scores'!$D40,Scores!$F$1:$F$253,0)&\"C\"&COLUMN(Scores!K$1),FALSE))","v":""},{"$f":"IF(ISERROR(MATCH('Individual Scores'!$D40,Scores!$F$1:$F$253,0)),\"\",INDIRECT(\"Scores!\"&\"R\"&MATCH('Individual Scores'!$D40,Scores!$F$1:$F$253,0)&\"C\"&COLUMN(Scores!L$1),FALSE))","v":""},{"$f":"IF(ISERROR(MATCH('Individual Scores'!$D40,Scores!$F$1:$F$253,0)),\"\",INDIRECT(\"Scores!\"&\"R\"&MATCH('Individual Scores'!$D40,Scores!$F$1:$F$253,0)&\"C\"&COLUMN(Scores!N$1),FALSE))","v":""},{"$f":"IF(ISERROR(MATCH('Individual Scores'!$D40,Scores!$F$1:$F$253,0)),\"\",INDIRECT(\"Scores!\"&\"R\"&MATCH('Individual Scores'!$D40,Scores!$F$1:$F$253,0)&\"C\"&COLUMN(Scores!O$1),FALSE))","v":""},{"$f":"IF(ISERROR(MATCH('Individual Scores'!$D40,Scores!$F$1:$F$253,0)),\"\",INDIRECT(\"Scores!\"&\"R\"&MATCH('Individual Scores'!$D40,Scores!$F$1:$F$253,0)&\"C\"&COLUMN(Scores!P$1),FALSE))","v":""},{"$f":"IF(ISERROR(MATCH('Individual Scores'!$D40,Scores!$F$1:$F$253,0)),\"\",INDIRECT(\"Scores!\"&\"R\"&MATCH('Individual Scores'!$D40,Scores!$F$1:$F$253,0)&\"C\"&COLUMN(Scores!S$1),FALSE))","v":""},{"$f":"IF(MAX('Individual Scores'!Q40:V40)>0,MAX('Individual Scores'!Q40:V40),\"\")","v":""},{"$f":"IF(MAX(SUM('Individual Scores'!Q40:S40),SUM('Individual Scores'!T40:V40))>0,MAX(SUM('Individual Scores'!Q40:S40),SUM('Individual Scores'!T40:V40)),\"\")","v":""},null,{"$f":"IF('Team Scores'!$Z$1<2,\"\",IF(ISERROR(MATCH('Individual Scores'!$D40,Scores!$F$253:$F$506,0)),\"\",INDIRECT(\"Scores!\"&\"R\"&(ROW(Scores!$253:$253)-1+MATCH('Individual Scores'!$D40,Scores!$F$253:$F$505,0))&\"C\"&COLUMN(Scores!J$1),FALSE)))","v":""},{"$f":"IF('Team Scores'!$Z$1<2,\"\",IF(ISERROR(MATCH('Individual Scores'!$D40,Scores!$F$253:$F$506,0)),\"\",INDIRECT(\"Scores!\"&\"R\"&(ROW(Scores!$253:$253)-1+MATCH('Individual Scores'!$D40,Scores!$F$253:$F$505,0))&\"C\"&COLUMN(Scores!K$1),FALSE)))","v":""},{"$f":"IF('Team Scores'!$Z$1<2,\"\",IF(ISERROR(MATCH('Individual Scores'!$D40,Scores!$F$253:$F$506,0)),\"\",INDIRECT(\"Scores!\"&\"R\"&(ROW(Scores!$253:$253)-1+MATCH('Individual Scores'!$D40,Scores!$F$253:$F$505,0))&\"C\"&COLUMN(Scores!L$1),FALSE)))","v":""},{"$f":"IF('Team Scores'!$Z$1<2,\"\",IF(ISERROR(MATCH('Individual Scores'!$D40,Scores!$F$253:$F$506,0)),\"\",INDIRECT(\"Scores!\"&\"R\"&(ROW(Scores!$253:$253)-1+MATCH('Individual Scores'!$D40,Scores!$F$253:$F$505,0))&\"C\"&COLUMN(Scores!N$1),FALSE)))","v":""},{"$f":"IF('Team Scores'!$Z$1<2,\"\",IF(ISERROR(MATCH('Individual Scores'!$D40,Scores!$F$253:$F$506,0)),\"\",INDIRECT(\"Scores!\"&\"R\"&(ROW(Scores!$253:$253)-1+MATCH('Individual Scores'!$D40,Scores!$F$253:$F$505,0))&\"C\"&COLUMN(Scores!O$1),FALSE)))","v":""},{"$f":"IF('Team Scores'!$Z$1<2,\"\",IF(ISERROR(MATCH('Individual Scores'!$D40,Scores!$F$253:$F$506,0)),\"\",INDIRECT(\"Scores!\"&\"R\"&(ROW(Scores!$253:$253)-1+MATCH('Individual Scores'!$D40,Scores!$F$253:$F$505,0))&\"C\"&COLUMN(Scores!P$1),FALSE)))","v":""},{"$f":"IF('Team Scores'!$Z$1<2,\"\",IF(ISERROR(MATCH('Individual Scores'!$D40,Scores!$F$253:$F$506,0)),\"\",INDIRECT(\"Scores!\"&\"R\"&(ROW(Scores!$253:$253)-1+MATCH('Individual Scores'!$D40,Scores!$F$253:$F$505,0))&\"C\"&COLUMN(Scores!S$1),FALSE)))","v":""},"","",null,{"$f":"IF('Team Scores'!$Z$1<3,\"\",IF(ISERROR(MATCH('Individual Scores'!$D40,Scores!$F$506:$F$759,0)),\"\",INDIRECT(\"Scores!\"&\"R\"&(ROW(Scores!$F$506:$F$759)-1+MATCH('Individual Scores'!$D40,Scores!$F$506:$F$759,0))&\"C\"&COLUMN(Scores!J$1),FALSE)))","v":""},{"$f":"IF('Team Scores'!$Z$1<3,\"\",IF(ISERROR(MATCH('Individual Scores'!$D40,Scores!$F$506:$F$759,0)),\"\",INDIRECT(\"Scores!\"&\"R\"&(ROW(Scores!$F$506:$F$759)-1+MATCH('Individual Scores'!$D40,Scores!$F$506:$F$759,0))&\"C\"&COLUMN(Scores!K$1),FALSE)))","v":""},{"$f":"IF('Team Scores'!$Z$1<3,\"\",IF(ISERROR(MATCH('Individual Scores'!$D40,Scores!$F$506:$F$759,0)),\"\",INDIRECT(\"Scores!\"&\"R\"&(ROW(Scores!$F$506:$F$759)-1+MATCH('Individual Scores'!$D40,Scores!$F$506:$F$759,0))&\"C\"&COLUMN(Scores!L$1),FALSE)))","v":""},{"$f":"IF('Team Scores'!$Z$1<3,\"\",IF(ISERROR(MATCH('Individual Scores'!$D40,Scores!$F$506:$F$759,0)),\"\",INDIRECT(\"Scores!\"&\"R\"&(ROW(Scores!$F$506:$F$759)-1+MATCH('Individual Scores'!$D40,Scores!$F$506:$F$759,0))&\"C\"&COLUMN(Scores!N$1),FALSE)))","v":""},{"$f":"IF('Team Scores'!$Z$1<3,\"\",IF(ISERROR(MATCH('Individual Scores'!$D40,Scores!$F$506:$F$759,0)),\"\",INDIRECT(\"Scores!\"&\"R\"&(ROW(Scores!$F$506:$F$759)-1+MATCH('Individual Scores'!$D40,Scores!$F$506:$F$759,0))&\"C\"&COLUMN(Scores!O$1),FALSE)))","v":""},{"$f":"IF('Team Scores'!$Z$1<3,\"\",IF(ISERROR(MATCH('Individual Scores'!$D40,Scores!$F$506:$F$759,0)),\"\",INDIRECT(\"Scores!\"&\"R\"&(ROW(Scores!$F$506:$F$759)-1+MATCH('Individual Scores'!$D40,Scores!$F$506:$F$759,0))&\"C\"&COLUMN(Scores!P$1),FALSE)))","v":""},{"$f":"IF('Team Scores'!$Z$1<3,\"\",IF(ISERROR(MATCH('Individual Scores'!$D40,Scores!$F$506:$F$759,0)),\"\",INDIRECT(\"Scores!\"&\"R\"&(ROW(Scores!$F$506:$F$759)-1+MATCH('Individual Scores'!$D40,Scores!$F$506:$F$759,0))&\"C\"&COLUMN(Scores!S$1),FALSE)))","v":""},"",""]
["GA","16-20","F",null,"","","",0,{"$f":"IF(COUNT(Q41:V41,AA41:AF41,AK41:AP41)>=18/3*'Team Scores'!$Z$1,IF(H41-VLOOKUP(B41&C41,'Individual Awards Computations'!$AY$54:$AZ$58,2,FALSE)=0,\"Leader \"&C41&\":\"&B41,H41-VLOOKUP(B41&C41,'Individual Awards Computations'!$AY$54:$AZ$58,2,FALSE)),\"\")","v":""},"","","","","",0,null,{"$f":"IF(ISERROR(MATCH('Individual Scores'!$D41,Scores!$F$1:$F$253,0)),\"\",INDIRECT(\"Scores!\"&\"R\"&MATCH('Individual Scores'!$D41,Scores!$F$1:$F$253,0)&\"C\"&COLUMN(Scores!J$1),FALSE))","v":""},{"$f":"IF(ISERROR(MATCH('Individual Scores'!$D41,Scores!$F$1:$F$253,0)),\"\",INDIRECT(\"Scores!\"&\"R\"&MATCH('Individual Scores'!$D41,Scores!$F$1:$F$253,0)&\"C\"&COLUMN(Scores!K$1),FALSE))","v":""},{"$f":"IF(ISERROR(MATCH('Individual Scores'!$D41,Scores!$F$1:$F$253,0)),\"\",INDIRECT(\"Scores!\"&\"R\"&MATCH('Individual Scores'!$D41,Scores!$F$1:$F$253,0)&\"C\"&COLUMN(Scores!L$1),FALSE))","v":""},{"$f":"IF(ISERROR(MATCH('Individual Scores'!$D41,Scores!$F$1:$F$253,0)),\"\",INDIRECT(\"Scores!\"&\"R\"&MATCH('Individual Scores'!$D41,Scores!$F$1:$F$253,0)&\"C\"&COLUMN(Scores!N$1),FALSE))","v":""},{"$f":"IF(ISERROR(MATCH('Individual Scores'!$D41,Scores!$F$1:$F$253,0)),\"\",INDIRECT(\"Scores!\"&\"R\"&MATCH('Individual Scores'!$D41,Scores!$F$1:$F$253,0)&\"C\"&COLUMN(Scores!O$1),FALSE))","v":""},{"$f":"IF(ISERROR(MATCH('Individual Scores'!$D41,Scores!$F$1:$F$253,0)),\"\",INDIRECT(\"Scores!\"&\"R\"&MATCH('Individual Scores'!$D41,Scores!$F$1:$F$253,0)&\"C\"&COLUMN(Scores!P$1),FALSE))","v":""},{"$f":"IF(ISERROR(MATCH('Individual Scores'!$D41,Scores!$F$1:$F$253,0)),\"\",INDIRECT(\"Scores!\"&\"R\"&MATCH('Individual Scores'!$D41,Scores!$F$1:$F$253,0)&\"C\"&COLUMN(Scores!S$1),FALSE))","v":""},{"$f":"IF(MAX('Individual Scores'!Q41:V41)>0,MAX('Individual Scores'!Q41:V41),\"\")","v":""},{"$f":"IF(MAX(SUM('Individual Scores'!Q41:S41),SUM('Individual Scores'!T41:V41))>0,MAX(SUM('Individual Scores'!Q41:S41),SUM('Individual Scores'!T41:V41)),\"\")","v":""},null,{"$f":"IF('Team Scores'!$Z$1<2,\"\",IF(ISERROR(MATCH('Individual Scores'!$D41,Scores!$F$253:$F$506,0)),\"\",INDIRECT(\"Scores!\"&\"R\"&(ROW(Scores!$253:$253)-1+MATCH('Individual Scores'!$D41,Scores!$F$253:$F$505,0))&\"C\"&COLUMN(Scores!J$1),FALSE)))","v":""},{"$f":"IF('Team Scores'!$Z$1<2,\"\",IF(ISERROR(MATCH('Individual Scores'!$D41,Scores!$F$253:$F$506,0)),\"\",INDIRECT(\"Scores!\"&\"R\"&(ROW(Scores!$253:$253)-1+MATCH('Individual Scores'!$D41,Scores!$F$253:$F$505,0))&\"C\"&COLUMN(Scores!K$1),FALSE)))","v":""},{"$f":"IF('Team Scores'!$Z$1<2,\"\",IF(ISERROR(MATCH('Individual Scores'!$D41,Scores!$F$253:$F$506,0)),\"\",INDIRECT(\"Scores!\"&\"R\"&(ROW(Scores!$253:$253)-1+MATCH('Individual Scores'!$D41,Scores!$F$253:$F$505,0))&\"C\"&COLUMN(Scores!L$1),FALSE)))","v":""},{"$f":"IF('Team Scores'!$Z$1<2,\"\",IF(ISERROR(MATCH('Individual Scores'!$D41,Scores!$F$253:$F$506,0)),\"\",INDIRECT(\"Scores!\"&\"R\"&(ROW(Scores!$253:$253)-1+MATCH('Individual Scores'!$D41,Scores!$F$253:$F$505,0))&\"C\"&COLUMN(Scores!N$1),FALSE)))","v":""},{"$f":"IF('Team Scores'!$Z$1<2,\"\",IF(ISERROR(MATCH('Individual Scores'!$D41,Scores!$F$253:$F$506,0)),\"\",INDIRECT(\"Scores!\"&\"R\"&(ROW(Scores!$253:$253)-1+MATCH('Individual Scores'!$D41,Scores!$F$253:$F$505,0))&\"C\"&COLUMN(Scores!O$1),FALSE)))","v":""},{"$f":"IF('Team Scores'!$Z$1<2,\"\",IF(ISERROR(MATCH('Individual Scores'!$D41,Scores!$F$253:$F$506,0)),\"\",INDIRECT(\"Scores!\"&\"R\"&(ROW(Scores!$253:$253)-1+MATCH('Individual Scores'!$D41,Scores!$F$253:$F$505,0))&\"C\"&COLUMN(Scores!P$1),FALSE)))","v":""},{"$f":"IF('Team Scores'!$Z$1<2,\"\",IF(ISERROR(MATCH('Individual Scores'!$D41,Scores!$F$253:$F$506,0)),\"\",INDIRECT(\"Scores!\"&\"R\"&(ROW(Scores!$253:$253)-1+MATCH('Individual Scores'!$D41,Scores!$F$253:$F$505,0))&\"C\"&COLUMN(Scores!S$1),FALSE)))","v":""},"","",null,{"$f":"IF('Team Scores'!$Z$1<3,\"\",IF(ISERROR(MATCH('Individual Scores'!$D41,Scores!$F$506:$F$759,0)),\"\",INDIRECT(\"Scores!\"&\"R\"&(ROW(Scores!$F$506:$F$759)-1+MATCH('Individual Scores'!$D41,Scores!$F$506:$F$759,0))&\"C\"&COLUMN(Scores!J$1),FALSE)))","v":""},{"$f":"IF('Team Scores'!$Z$1<3,\"\",IF(ISERROR(MATCH('Individual Scores'!$D41,Scores!$F$506:$F$759,0)),\"\",INDIRECT(\"Scores!\"&\"R\"&(ROW(Scores!$F$506:$F$759)-1+MATCH('Individual Scores'!$D41,Scores!$F$506:$F$759,0))&\"C\"&COLUMN(Scores!K$1),FALSE)))","v":""},{"$f":"IF('Team Scores'!$Z$1<3,\"\",IF(ISERROR(MATCH('Individual Scores'!$D41,Scores!$F$506:$F$759,0)),\"\",INDIRECT(\"Scores!\"&\"R\"&(ROW(Scores!$F$506:$F$759)-1+MATCH('Individual Scores'!$D41,Scores!$F$506:$F$759,0))&\"C\"&COLUMN(Scores!L$1),FALSE)))","v":""},{"$f":"IF('Team Scores'!$Z$1<3,\"\",IF(ISERROR(MATCH('Individual Scores'!$D41,Scores!$F$506:$F$759,0)),\"\",INDIRECT(\"Scores!\"&\"R\"&(ROW(Scores!$F$506:$F$759)-1+MATCH('Individual Scores'!$D41,Scores!$F$506:$F$759,0))&\"C\"&COLUMN(Scores!N$1),FALSE)))","v":""},{"$f":"IF('Team Scores'!$Z$1<3,\"\",IF(ISERROR(MATCH('Individual Scores'!$D41,Scores!$F$506:$F$759,0)),\"\",INDIRECT(\"Scores!\"&\"R\"&(ROW(Scores!$F$506:$F$759)-1+MATCH('Individual Scores'!$D41,Scores!$F$506:$F$759,0))&\"C\"&COLUMN(Scores!O$1),FALSE)))","v":""},{"$f":"IF('Team Scores'!$Z$1<3,\"\",IF(ISERROR(MATCH('Individual Scores'!$D41,Scores!$F$506:$F$759,0)),\"\",INDIRECT(\"Scores!\"&\"R\"&(ROW(Scores!$F$506:$F$759)-1+MATCH('Individual Scores'!$D41,Scores!$F$506:$F$759,0))&\"C\"&COLUMN(Scores!P$1),FALSE)))","v":""},{"$f":"IF('Team Scores'!$Z$1<3,\"\",IF(ISERROR(MATCH('Individual Scores'!$D41,Scores!$F$506:$F$759,0)),\"\",INDIRECT(\"Scores!\"&\"R\"&(ROW(Scores!$F$506:$F$759)-1+MATCH('Individual Scores'!$D41,Scores!$F$506:$F$759,0))&\"C\"&COLUMN(Scores!S$1),FALSE)))","v":""},"",""]
["GA","16-20","M","Alex Heeger",954,1042,"",1996,{"$f":"IF(COUNT(Q42:V42,AA42:AF42,AK42:AP42)>=18/3*'Team Scores'!$Z$1,IF(H42-VLOOKUP(B42&C42,'Individual Awards Computations'!$AY$54:$AZ$58,2,FALSE)=0,\"Leader \"&C42&\":\"&B42,H42-VLOOKUP(B42&C42,'Individual Awards Computations'!$AY$54:$AZ$58,2,FALSE)),\"\")","v":-674},197,525,166.33333333333334,10.555555555555557,"156-177",1,null,{"$f":"IF(ISERROR(MATCH('Individual Scores'!$D42,Scores!$F$1:$F$253,0)),\"\",INDIRECT(\"Scores!\"&\"R\"&MATCH('Individual Scores'!$D42,Scores!$F$1:$F$253,0)&\"C\"&COLUMN(Scores!J$1),FALSE))","v":152},{"$f":"IF(ISERROR(MATCH('Individual Scores'!$D42,Scores!$F$1:$F$253,0)),\"\",INDIRECT(\"Scores!\"&\"R\"&MATCH('Individual Scores'!$D42,Scores!$F$1:$F$253,0)&\"C\"&COLUMN(Scores!K$1),FALSE))","v":171},{"$f":"IF(ISERROR(MATCH('Individual Scores'!$D42,Scores!$F$1:$F$253,0)),\"\",INDIRECT(\"Scores!\"&\"R\"&MATCH('Individual Scores'!$D42,Scores!$F$1:$F$253,0)&\"C\"&COLUMN(Scores!L$1),FALSE))","v":147},{"$f":"IF(ISERROR(MATCH('Individual Scores'!$D42,Scores!$F$1:$F$253,0)),\"\",INDIRECT(\"Scores!\"&\"R\"&MATCH('Individual Scores'!$D42,Scores!$F$1:$F$253,0)&\"C\"&COLUMN(Scores!N$1),FALSE))","v":157},{"$f":"IF(ISERROR(MATCH('Individual Scores'!$D42,Scores!$F$1:$F$253,0)),\"\",INDIRECT(\"Scores!\"&\"R\"&MATCH('Individual Scores'!$D42,Scores!$F$1:$F$253,0)&\"C\"&COLUMN(Scores!O$1),FALSE))","v":168},{"$f":"IF(ISERROR(MATCH('Individual Scores'!$D42,Scores!$F$1:$F$253,0)),\"\",INDIRECT(\"Scores!\"&\"R\"&MATCH('Individual Scores'!$D42,Scores!$F$1:$F$253,0)&\"C\"&COLUMN(Scores!P$1),FALSE))","v":159},{"$f":"IF(ISERROR(MATCH('Individual Scores'!$D42,Scores!$F$1:$F$253,0)),\"\",INDIRECT(\"Scores!\"&\"R\"&MATCH('Individual Scores'!$D42,Scores!$F$1:$F$253,0)&\"C\"&COLUMN(Scores!S$1),FALSE))","v":954},{"$f":"IF(MAX('Individual Scores'!Q42:V42)>0,MAX('Individual Scores'!Q42:V42),\"\")","v":171},{"$f":"IF(MAX(SUM('Individual Scores'!Q42:S42),SUM('Individual Scores'!T42:V42))>0,MAX(SUM('Individual Scores'!Q42:S42),SUM('Individual Scores'!T42:V42)),\"\")","v":484},null,{"$f":"IF('Team Scores'!$Z$1<2,\"\",IF(ISERROR(MATCH('Individual Scores'!$D42,Scores!$F$253:$F$506,0)),\"\",INDIRECT(\"Scores!\"&\"R\"&(ROW(Scores!$253:$253)-1+MATCH('Individual Scores'!$D42,Scores!$F$253:$F$505,0))&\"C\"&COLUMN(Scores!J$1),FALSE)))","v":158},{"$f":"IF('Team Scores'!$Z$1<2,\"\",IF(ISERROR(MATCH('Individual Scores'!$D42,Scores!$F$253:$F$506,0)),\"\",INDIRECT(\"Scores!\"&\"R\"&(ROW(Scores!$253:$253)-1+MATCH('Individual Scores'!$D42,Scores!$F$253:$F$505,0))&\"C\"&COLUMN(Scores!K$1),FALSE)))","v":197},{"$f":"IF('Team Scores'!$Z$1<2,\"\",IF(ISERROR(MATCH('Individual Scores'!$D42,Scores!$F$253:$F$506,0)),\"\",INDIRECT(\"Scores!\"&\"R\"&(ROW(Scores!$253:$253)-1+MATCH('Individual Scores'!$D42,Scores!$F$253:$F$505,0))&\"C\"&COLUMN(Scores!L$1),FALSE)))","v":162},{"$f":"IF('Team Scores'!$Z$1<2,\"\",IF(ISERROR(MATCH('Individual Scores'!$D42,Scores!$F$253:$F$506,0)),\"\",INDIRECT(\"Scores!\"&\"R\"&(ROW(Scores!$253:$253)-1+MATCH('Individual Scores'!$D42,Scores!$F$253:$F$505,0))&\"C\"&COLUMN(Scores!N$1),FALSE)))","v":166},{"$f":"IF('Team Scores'!$Z$1<2,\"\",IF(ISERROR(MATCH('Individual Scores'!$D42,Scores!$F$253:$F$506,0)),\"\",INDIRECT(\"Scores!\"&\"R\"&(ROW(Scores!$253:$253)-1+MATCH('Individual Scores'!$D42,Scores!$F$253:$F$505,0))&\"C\"&COLUMN(Scores!O$1),FALSE)))","v":181},{"$f":"IF('Team Scores'!$Z$1<2,\"\",IF(ISERROR(MATCH('Individual Scores'!$D42,Scores!$F$253:$F$506,0)),\"\",INDIRECT(\"Scores!\"&\"R\"&(ROW(Scores!$253:$253)-1+MATCH('Individual Scores'!$D42,Scores!$F$253:$F$505,0))&\"C\"&COLUMN(Scores!P$1),FALSE)))","v":178},{"$f":"IF('Team Scores'!$Z$1<2,\"\",IF(ISERROR(MATCH('Individual Scores'!$D42,Scores!$F$253:$F$506,0)),\"\",INDIRECT(\"Scores!\"&\"R\"&(ROW(Scores!$253:$253)-1+MATCH('Individual Scores'!$D42,Scores!$F$253:$F$505,0))&\"C\"&COLUMN(Scores!S$1),FALSE)))","v":1042},197,525,null,{"$f":"IF('Team Scores'!$Z$1<3,\"\",IF(ISERROR(MATCH('Individual Scores'!$D42,Scores!$F$506:$F$759,0)),\"\",INDIRECT(\"Scores!\"&\"R\"&(ROW(Scores!$F$506:$F$759)-1+MATCH('Individual Scores'!$D42,Scores!$F$506:$F$759,0))&\"C\"&COLUMN(Scores!J$1),FALSE)))","v":""},{"$f":"IF('Team Scores'!$Z$1<3,\"\",IF(ISERROR(MATCH('Individual Scores'!$D42,Scores!$F$506:$F$759,0)),\"\",INDIRECT(\"Scores!\"&\"R\"&(ROW(Scores!$F$506:$F$759)-1+MATCH('Individual Scores'!$D42,Scores!$F$506:$F$759,0))&\"C\"&COLUMN(Scores!K$1),FALSE)))","v":""},{"$f":"IF('Team Scores'!$Z$1<3,\"\",IF(ISERROR(MATCH('Individual Scores'!$D42,Scores!$F$506:$F$759,0)),\"\",INDIRECT(\"Scores!\"&\"R\"&(ROW(Scores!$F$506:$F$759)-1+MATCH('Individual Scores'!$D42,Scores!$F$506:$F$759,0))&\"C\"&COLUMN(Scores!L$1),FALSE)))","v":""},{"$f":"IF('Team Scores'!$Z$1<3,\"\",IF(ISERROR(MATCH('Individual Scores'!$D42,Scores!$F$506:$F$759,0)),\"\",INDIRECT(\"Scores!\"&\"R\"&(ROW(Scores!$F$506:$F$759)-1+MATCH('Individual Scores'!$D42,Scores!$F$506:$F$759,0))&\"C\"&COLUMN(Scores!N$1),FALSE)))","v":""},{"$f":"IF('Team Scores'!$Z$1<3,\"\",IF(ISERROR(MATCH('Individual Scores'!$D42,Scores!$F$506:$F$759,0)),\"\",INDIRECT(\"Scores!\"&\"R\"&(ROW(Scores!$F$506:$F$759)-1+MATCH('Individual Scores'!$D42,Scores!$F$506:$F$759,0))&\"C\"&COLUMN(Scores!O$1),FALSE)))","v":""},{"$f":"IF('Team Scores'!$Z$1<3,\"\",IF(ISERROR(MATCH('Individual Scores'!$D42,Scores!$F$506:$F$759,0)),\"\",INDIRECT(\"Scores!\"&\"R\"&(ROW(Scores!$F$506:$F$759)-1+MATCH('Individual Scores'!$D42,Scores!$F$506:$F$759,0))&\"C\"&COLUMN(Scores!P$1),FALSE)))","v":""},{"$f":"IF('Team Scores'!$Z$1<3,\"\",IF(ISERROR(MATCH('Individual Scores'!$D42,Scores!$F$506:$F$759,0)),\"\",INDIRECT(\"Scores!\"&\"R\"&(ROW(Scores!$F$506:$F$759)-1+MATCH('Individual Scores'!$D42,Scores!$F$506:$F$759,0))&\"C\"&COLUMN(Scores!S$1),FALSE)))","v":""},"",""]
["GA","16-20","M","Casey Lambert",1249,1371,"",2620,{"$f":"IF(COUNT(Q43:V43,AA43:AF43,AK43:AP43)>=18/3*'Team Scores'!$Z$1,IF(H43-VLOOKUP(B43&C43,'Individual Awards Computations'!$AY$54:$AZ$58,2,FALSE)=0,\"Leader \"&C43&\":\"&B43,H43-VLOOKUP(B43&C43,'Individual Awards Computations'!$AY$54:$AZ$58,2,FALSE)),\"\")","v":-50},258,696,218.33333333333334,27.666666666666668,"191-246",1,null,{"$f":"IF(ISERROR(MATCH('Individual Scores'!$D43,Scores!$F$1:$F$253,0)),\"\",INDIRECT(\"Scores!\"&\"R\"&MATCH('Individual Scores'!$D43,Scores!$F$1:$F$253,0)&\"C\"&COLUMN(Scores!J$1),FALSE))","v":194},{"$f":"IF(ISERROR(MATCH('Individual Scores'!$D43,Scores!$F$1:$F$253,0)),\"\",INDIRECT(\"Scores!\"&\"R\"&MATCH('Individual Scores'!$D43,Scores!$F$1:$F$253,0)&\"C\"&COLUMN(Scores!K$1),FALSE))","v":218},{"$f":"IF(ISERROR(MATCH('Individual Scores'!$D43,Scores!$F$1:$F$253,0)),\"\",INDIRECT(\"Scores!\"&\"R\"&MATCH('Individual Scores'!$D43,Scores!$F$1:$F$253,0)&\"C\"&COLUMN(Scores!L$1),FALSE))","v":243},{"$f":"IF(ISERROR(MATCH('Individual Scores'!$D43,Scores!$F$1:$F$253,0)),\"\",INDIRECT(\"Scores!\"&\"R\"&MATCH('Individual Scores'!$D43,Scores!$F$1:$F$253,0)&\"C\"&COLUMN(Scores!N$1),FALSE))","v":236},{"$f":"IF(ISERROR(MATCH('Individual Scores'!$D43,Scores!$F$1:$F$253,0)),\"\",INDIRECT(\"Scores!\"&\"R\"&MATCH('Individual Scores'!$D43,Scores!$F$1:$F$253,0)&\"C\"&COLUMN(Scores!O$1),FALSE))","v":203},{"$f":"IF(ISERROR(MATCH('Individual Scores'!$D43,Scores!$F$1:$F$253,0)),\"\",INDIRECT(\"Scores!\"&\"R\"&MATCH('Individual Scores'!$D43,Scores!$F$1:$F$253,0)&\"C\"&COLUMN(Scores!P$1),FALSE))","v":155},{"$f":"IF(ISERROR(MATCH('Individual Scores'!$D43,Scores!$F$1:$F$253,0)),\"\",INDIRECT(\"Scores!\"&\"R\"&MATCH('Individual Scores'!$D43,Scores!$F$1:$F$253,0)&\"C\"&COLUMN(Scores!S$1),FALSE))","v":1249},{"$f":"IF(MAX('Individual Scores'!Q43:V43)>0,MAX('Individual Scores'!Q43:V43),\"\")","v":243},{"$f":"IF(MAX(SUM('Individual Scores'!Q43:S43),SUM('Individual Scores'!T43:V43))>0,MAX(SUM('Individual Scores'!Q43:S43),SUM('Individual Scores'!T43:V43)),\"\")","v":655},null,{"$f":"IF('Team Scores'!$Z$1<2,\"\",IF(ISERROR(MATCH('Individual Scores'!$D43,Scores!$F$253:$F$506,0)),\"\",INDIRECT(\"Scores!\"&\"R\"&(ROW(Scores!$253:$253)-1+MATCH('Individual Scores'!$D43,Scores!$F$253:$F$505,0))&\"C\"&COLUMN(Scores!J$1),FALSE)))","v":183},{"$f":"IF('Team Scores'!$Z$1<2,\"\",IF(ISERROR(MATCH('Individual Scores'!$D43,Scores!$F$253:$F$506,0)),\"\",INDIRECT(\"Scores!\"&\"R\"&(ROW(Scores!$253:$253)-1+MATCH('Individual Scores'!$D43,Scores!$F$253:$F$505,0))&\"C\"&COLUMN(Scores!K$1),FALSE)))","v":258},{"$f":"IF('Team Scores'!$Z$1<2,\"\",IF(ISERROR(MATCH('Individual Scores'!$D43,Scores!$F$253:$F$506,0)),\"\",INDIRECT(\"Scores!\"&\"R\"&(ROW(Scores!$253:$253)-1+MATCH('Individual Scores'!$D43,Scores!$F$253:$F$505,0))&\"C\"&COLUMN(Scores!L$1),FALSE)))","v":255},{"$f":"IF('Team Scores'!$Z$1<2,\"\",IF(ISERROR(MATCH('Individual Scores'!$D43,Scores!$F$253:$F$506,0)),\"\",INDIRECT(\"Scores!\"&\"R\"&(ROW(Scores!$253:$253)-1+MATCH('Individual Scores'!$D43,Scores!$F$253:$F$505,0))&\"C\"&COLUMN(Scores!N$1),FALSE)))","v":231},{"$f":"IF('Team Scores'!$Z$1<2,\"\",IF(ISERROR(MATCH('Individual Scores'!$D43,Scores!$F$253:$F$506,0)),\"\",INDIRECT(\"Scores!\"&\"R\"&(ROW(Scores!$253:$253)-1+MATCH('Individual Scores'!$D43,Scores!$F$253:$F$505,0))&\"C\"&COLUMN(Scores!O$1),FALSE)))","v":253},{"$f":"IF('Team Scores'!$Z$1<2,\"\",IF(ISERROR(MATCH('Individual Scores'!$D43,Scores!$F$253:$F$506,0)),\"\",INDIRECT(\"Scores!\"&\"R\"&(ROW(Scores!$253:$253)-1+MATCH('Individual Scores'!$D43,Scores!$F$253:$F$505,0))&\"C\"&COLUMN(Scores!P$1),FALSE)))","v":191},{"$f":"IF('Team Scores'!$Z$1<2,\"\",IF(ISERROR(MATCH('Individual Scores'!$D43,Scores!$F$253:$F$506,0)),\"\",INDIRECT(\"Scores!\"&\"R\"&(ROW(Scores!$253:$253)-1+MATCH('Individual Scores'!$D43,Scores!$F$253:$F$505,0))&\"C\"&COLUMN(Scores!S$1),FALSE)))","v":1371},258,696,null,{"$f":"IF('Team Scores'!$Z$1<3,\"\",IF(ISERROR(MATCH('Individual Scores'!$D43,Scores!$F$506:$F$759,0)),\"\",INDIRECT(\"Scores!\"&\"R\"&(ROW(Scores!$F$506:$F$759)-1+MATCH('Individual Scores'!$D43,Scores!$F$506:$F$759,0))&\"C\"&COLUMN(Scores!J$1),FALSE)))","v":""},{"$f":"IF('Team Scores'!$Z$1<3,\"\",IF(ISERROR(MATCH('Individual Scores'!$D43,Scores!$F$506:$F$759,0)),\"\",INDIRECT(\"Scores!\"&\"R\"&(ROW(Scores!$F$506:$F$759)-1+MATCH('Individual Scores'!$D43,Scores!$F$506:$F$759,0))&\"C\"&COLUMN(Scores!K$1),FALSE)))","v":""},{"$f":"IF('Team Scores'!$Z$1<3,\"\",IF(ISERROR(MATCH('Individual Scores'!$D43,Scores!$F$506:$F$759,0)),\"\",INDIRECT(\"Scores!\"&\"R\"&(ROW(Scores!$F$506:$F$759)-1+MATCH('Individual Scores'!$D43,Scores!$F$506:$F$759,0))&\"C\"&COLUMN(Scores!L$1),FALSE)))","v":""},{"$f":"IF('Team Scores'!$Z$1<3,\"\",IF(ISERROR(MATCH('Individual Scores'!$D43,Scores!$F$506:$F$759,0)),\"\",INDIRECT(\"Scores!\"&\"R\"&(ROW(Scores!$F$506:$F$759)-1+MATCH('Individual Scores'!$D43,Scores!$F$506:$F$759,0))&\"C\"&COLUMN(Scores!N$1),FALSE)))","v":""},{"$f":"IF('Team Scores'!$Z$1<3,\"\",IF(ISERROR(MATCH('Individual Scores'!$D43,Scores!$F$506:$F$759,0)),\"\",INDIRECT(\"Scores!\"&\"R\"&(ROW(Scores!$F$506:$F$759)-1+MATCH('Individual Scores'!$D43,Scores!$F$506:$F$759,0))&\"C\"&COLUMN(Scores!O$1),FALSE)))","v":""},{"$f":"IF('Team Scores'!$Z$1<3,\"\",IF(ISERROR(MATCH('Individual Scores'!$D43,Scores!$F$506:$F$759,0)),\"\",INDIRECT(\"Scores!\"&\"R\"&(ROW(Scores!$F$506:$F$759)-1+MATCH('Individual Scores'!$D43,Scores!$F$506:$F$759,0))&\"C\"&COLUMN(Scores!P$1),FALSE)))","v":""},{"$f":"IF('Team Scores'!$Z$1<3,\"\",IF(ISERROR(MATCH('Individual Scores'!$D43,Scores!$F$506:$F$759,0)),\"\",INDIRECT(\"Scores!\"&\"R\"&(ROW(Scores!$F$506:$F$759)-1+MATCH('Individual Scores'!$D43,Scores!$F$506:$F$759,0))&\"C\"&COLUMN(Scores!S$1),FALSE)))","v":""},"",""]
["GA","16-20","M","Demetrius Wilcox",1283,1249,"",2532,{"$f":"IF(COUNT(Q44:V44,AA44:AF44,AK44:AP44)>=18/3*'Team Scores'!$Z$1,IF(H44-VLOOKUP(B44&C44,'Individual Awards Computations'!$AY$54:$AZ$58,2,FALSE)=0,\"Leader \"&C44&\":\"&B44,H44-VLOOKUP(B44&C44,'Individual Awards Computations'!$AY$54:$AZ$58,2,FALSE)),\"\")","v":-138},268,660,211,26.833333333333332,"184-238",1,null,{"$f":"IF(ISERROR(MATCH('Individual Scores'!$D44,Scores!$F$1:$F$253,0)),\"\",INDIRECT(\"Scores!\"&\"R\"&MATCH('Individual Scores'!$D44,Scores!$F$1:$F$253,0)&\"C\"&COLUMN(Scores!J$1),FALSE))","v":182},{"$f":"IF(ISERROR(MATCH('Individual Scores'!$D44,Scores!$F$1:$F$253,0)),\"\",INDIRECT(\"Scores!\"&\"R\"&MATCH('Individual Scores'!$D44,Scores!$F$1:$F$253,0)&\"C\"&COLUMN(Scores!K$1),FALSE))","v":173},{"$f":"IF(ISERROR(MATCH('Individual Scores'!$D44,Scores!$F$1:$F$253,0)),\"\",INDIRECT(\"Scores!\"&\"R\"&MATCH('Individual Scores'!$D44,Scores!$F$1:$F$253,0)&\"C\"&COLUMN(Scores!L$1),FALSE))","v":268},{"$f":"IF(ISERROR(MATCH('Individual Scores'!$D44,Scores!$F$1:$F$253,0)),\"\",INDIRECT(\"Scores!\"&\"R\"&MATCH('Individual Scores'!$D44,Scores!$F$1:$F$253,0)&\"C\"&COLUMN(Scores!N$1),FALSE))","v":253},{"$f":"IF(ISERROR(MATCH('Individual Scores'!$D44,Scores!$F$1:$F$253,0)),\"\",INDIRECT(\"Scores!\"&\"R\"&MATCH('Individual Scores'!$D44,Scores!$F$1:$F$253,0)&\"C\"&COLUMN(Scores!O$1),FALSE))","v":169},{"$f":"IF(ISERROR(MATCH('Individual Scores'!$D44,Scores!$F$1:$F$253,0)),\"\",INDIRECT(\"Scores!\"&\"R\"&MATCH('Individual Scores'!$D44,Scores!$F$1:$F$253,0)&\"C\"&COLUMN(Scores!P$1),FALSE))","v":238},{"$f":"IF(ISERROR(MATCH('Individual Scores'!$D44,Scores!$F$1:$F$253,0)),\"\",INDIRECT(\"Scores!\"&\"R\"&MATCH('Individual Scores'!$D44,Scores!$F$1:$F$253,0)&\"C\"&COLUMN(Scores!S$1),FALSE))","v":1283},{"$f":"IF(MAX('Individual Scores'!Q44:V44)>0,MAX('Individual Scores'!Q44:V44),\"\")","v":268},{"$f":"IF(MAX(SUM('Individual Scores'!Q44:S44),SUM('Individual Scores'!T44:V44))>0,MAX(SUM('Individual Scores'!Q44:S44),SUM('Individual Scores'!T44:V44)),\"\")","v":660},null,{"$f":"IF('Team Scores'!$Z$1<2,\"\",IF(ISERROR(MATCH('Individual Scores'!$D44,Scores!$F$253:$F$506,0)),\"\",INDIRECT(\"Scores!\"&\"R\"&(ROW(Scores!$253:$253)-1+MATCH('Individual Scores'!$D44,Scores!$F$253:$F$505,0))&\"C\"&COLUMN(Scores!J$1),FALSE)))","v":188},{"$f":"IF('Team Scores'!$Z$1<2,\"\",IF(ISERROR(MATCH('Individual Scores'!$D44,Scores!$F$253:$F$506,0)),\"\",INDIRECT(\"Scores!\"&\"R\"&(ROW(Scores!$253:$253)-1+MATCH('Individual Scores'!$D44,Scores!$F$253:$F$505,0))&\"C\"&COLUMN(Scores!K$1),FALSE)))","v":198},{"$f":"IF('Team Scores'!$Z$1<2,\"\",IF(ISERROR(MATCH('Individual Scores'!$D44,Scores!$F$253:$F$506,0)),\"\",INDIRECT(\"Scores!\"&\"R\"&(ROW(Scores!$253:$253)-1+MATCH('Individual Scores'!$D44,Scores!$F$253:$F$505,0))&\"C\"&COLUMN(Scores!L$1),FALSE)))","v":235},{"$f":"IF('Team Scores'!$Z$1<2,\"\",IF(ISERROR(MATCH('Individual Scores'!$D44,Scores!$F$253:$F$506,0)),\"\",INDIRECT(\"Scores!\"&\"R\"&(ROW(Scores!$253:$253)-1+MATCH('Individual Scores'!$D44,Scores!$F$253:$F$505,0))&\"C\"&COLUMN(Scores!N$1),FALSE)))","v":205},{"$f":"IF('Team Scores'!$Z$1<2,\"\",IF(ISERROR(MATCH('Individual Scores'!$D44,Scores!$F$253:$F$506,0)),\"\",INDIRECT(\"Scores!\"&\"R\"&(ROW(Scores!$253:$253)-1+MATCH('Individual Scores'!$D44,Scores!$F$253:$F$505,0))&\"C\"&COLUMN(Scores!O$1),FALSE)))","v":201},{"$f":"IF('Team Scores'!$Z$1<2,\"\",IF(ISERROR(MATCH('Individual Scores'!$D44,Scores!$F$253:$F$506,0)),\"\",INDIRECT(\"Scores!\"&\"R\"&(ROW(Scores!$253:$253)-1+MATCH('Individual Scores'!$D44,Scores!$F$253:$F$505,0))&\"C\"&COLUMN(Scores!P$1),FALSE)))","v":222},{"$f":"IF('Team Scores'!$Z$1<2,\"\",IF(ISERROR(MATCH('Individual Scores'!$D44,Scores!$F$253:$F$506,0)),\"\",INDIRECT(\"Scores!\"&\"R\"&(ROW(Scores!$253:$253)-1+MATCH('Individual Scores'!$D44,Scores!$F$253:$F$505,0))&\"C\"&COLUMN(Scores!S$1),FALSE)))","v":1249},235,628,null,{"$f":"IF('Team Scores'!$Z$1<3,\"\",IF(ISERROR(MATCH('Individual Scores'!$D44,Scores!$F$506:$F$759,0)),\"\",INDIRECT(\"Scores!\"&\"R\"&(ROW(Scores!$F$506:$F$759)-1+MATCH('Individual Scores'!$D44,Scores!$F$506:$F$759,0))&\"C\"&COLUMN(Scores!J$1),FALSE)))","v":""},{"$f":"IF('Team Scores'!$Z$1<3,\"\",IF(ISERROR(MATCH('Individual Scores'!$D44,Scores!$F$506:$F$759,0)),\"\",INDIRECT(\"Scores!\"&\"R\"&(ROW(Scores!$F$506:$F$759)-1+MATCH('Individual Scores'!$D44,Scores!$F$506:$F$759,0))&\"C\"&COLUMN(Scores!K$1),FALSE)))","v":""},{"$f":"IF('Team Scores'!$Z$1<3,\"\",IF(ISERROR(MATCH('Individual Scores'!$D44,Scores!$F$506:$F$759,0)),\"\",INDIRECT(\"Scores!\"&\"R\"&(ROW(Scores!$F$506:$F$759)-1+MATCH('Individual Scores'!$D44,Scores!$F$506:$F$759,0))&\"C\"&COLUMN(Scores!L$1),FALSE)))","v":""},{"$f":"IF('Team Scores'!$Z$1<3,\"\",IF(ISERROR(MATCH('Individual Scores'!$D44,Scores!$F$506:$F$759,0)),\"\",INDIRECT(\"Scores!\"&\"R\"&(ROW(Scores!$F$506:$F$759)-1+MATCH('Individual Scores'!$D44,Scores!$F$506:$F$759,0))&\"C\"&COLUMN(Scores!N$1),FALSE)))","v":""},{"$f":"IF('Team Scores'!$Z$1<3,\"\",IF(ISERROR(MATCH('Individual Scores'!$D44,Scores!$F$506:$F$759,0)),\"\",INDIRECT(\"Scores!\"&\"R\"&(ROW(Scores!$F$506:$F$759)-1+MATCH('Individual Scores'!$D44,Scores!$F$506:$F$759,0))&\"C\"&COLUMN(Scores!O$1),FALSE)))","v":""},{"$f":"IF('Team Scores'!$Z$1<3,\"\",IF(ISERROR(MATCH('Individual Scores'!$D44,Scores!$F$506:$F$759,0)),\"\",INDIRECT(\"Scores!\"&\"R\"&(ROW(Scores!$F$506:$F$759)-1+MATCH('Individual Scores'!$D44,Scores!$F$506:$F$759,0))&\"C\"&COLUMN(Scores!P$1),FALSE)))","v":""},{"$f":"IF('Team Scores'!$Z$1<3,\"\",IF(ISERROR(MATCH('Individual Scores'!$D44,Scores!$F$506:$F$759,0)),\"\",INDIRECT(\"Scores!\"&\"R\"&(ROW(Scores!$F$506:$F$759)-1+MATCH('Individual Scores'!$D44,Scores!$F$506:$F$759,0))&\"C\"&COLUMN(Scores!S$1),FALSE)))","v":""},"",""]
["GA","16-20","M","Jacob Gard",1247,1269,"",2516,{"$f":"IF(COUNT(Q45:V45,AA45:AF45,AK45:AP45)>=18/3*'Team Scores'!$Z$1,IF(H45-VLOOKUP(B45&C45,'Individual Awards Computations'!$AY$54:$AZ$58,2,FALSE)=0,\"Leader \"&C45&\":\"&B45,H45-VLOOKUP(B45&C45,'Individual Awards Computations'!$AY$54:$AZ$58,2,FALSE)),\"\")","v":-154},258,689,209.66666666666666,16.888888888888889,"193-227",1,null,{"$f":"IF(ISERROR(MATCH('Individual Scores'!$D45,Scores!$F$1:$F$253,0)),\"\",INDIRECT(\"Scores!\"&\"R\"&MATCH('Individual Scores'!$D45,Scores!$F$1:$F$253,0)&\"C\"&COLUMN(Scores!J$1),FALSE))","v":213},{"$f":"IF(ISERROR(MATCH('Individual Scores'!$D45,Scores!$F$1:$F$253,0)),\"\",INDIRECT(\"Scores!\"&\"R\"&MATCH('Individual Scores'!$D45,Scores!$F$1:$F$253,0)&\"C\"&COLUMN(Scores!K$1),FALSE))","v":169},{"$f":"IF(ISERROR(MATCH('Individual Scores'!$D45,Scores!$F$1:$F$253,0)),\"\",INDIRECT(\"Scores!\"&\"R\"&MATCH('Individual Scores'!$D45,Scores!$F$1:$F$253,0)&\"C\"&COLUMN(Scores!L$1),FALSE))","v":212},{"$f":"IF(ISERROR(MATCH('Individual Scores'!$D45,Scores!$F$1:$F$253,0)),\"\",INDIRECT(\"Scores!\"&\"R\"&MATCH('Individual Scores'!$D45,Scores!$F$1:$F$253,0)&\"C\"&COLUMN(Scores!N$1),FALSE))","v":205},{"$f":"IF(ISERROR(MATCH('Individual Scores'!$D45,Scores!$F$1:$F$253,0)),\"\",INDIRECT(\"Scores!\"&\"R\"&MATCH('Individual Scores'!$D45,Scores!$F$1:$F$253,0)&\"C\"&COLUMN(Scores!O$1),FALSE))","v":231},{"$f":"IF(ISERROR(MATCH('Individual Scores'!$D45,Scores!$F$1:$F$253,0)),\"\",INDIRECT(\"Scores!\"&\"R\"&MATCH('Individual Scores'!$D45,Scores!$F$1:$F$253,0)&\"C\"&COLUMN(Scores!P$1),FALSE))","v":217},{"$f":"IF(ISERROR(MATCH('Individual Scores'!$D45,Scores!$F$1:$F$253,0)),\"\",INDIRECT(\"Scores!\"&\"R\"&MATCH('Individual Scores'!$D45,Scores!$F$1:$F$253,0)&\"C\"&COLUMN(Scores!S$1),FALSE))","v":1247},{"$f":"IF(MAX('Individual Scores'!Q45:V45)>0,MAX('Individual Scores'!Q45:V45),\"\")","v":231},{"$f":"IF(MAX(SUM('Individual Scores'!Q45:S45),SUM('Individual Scores'!T45:V45))>0,MAX(SUM('Individual Scores'!Q45:S45),SUM('Individual Scores'!T45:V45)),\"\")","v":653},null,{"$f":"IF('Team Scores'!$Z$1<2,\"\",IF(ISERROR(MATCH('Individual Scores'!$D45,Scores!$F$253:$F$506,0)),\"\",INDIRECT(\"Scores!\"&\"R\"&(ROW(Scores!$253:$253)-1+MATCH('Individual Scores'!$D45,Scores!$F$253:$F$505,0))&\"C\"&COLUMN(Scores!J$1),FALSE)))","v":182},{"$f":"IF('Team Scores'!$Z$1<2,\"\",IF(ISERROR(MATCH('Individual Scores'!$D45,Scores!$F$253:$F$506,0)),\"\",INDIRECT(\"Scores!\"&\"R\"&(ROW(Scores!$253:$253)-1+MATCH('Individual Scores'!$D45,Scores!$F$253:$F$505,0))&\"C\"&COLUMN(Scores!K$1),FALSE)))","v":216},{"$f":"IF('Team Scores'!$Z$1<2,\"\",IF(ISERROR(MATCH('Individual Scores'!$D45,Scores!$F$253:$F$506,0)),\"\",INDIRECT(\"Scores!\"&\"R\"&(ROW(Scores!$253:$253)-1+MATCH('Individual Scores'!$D45,Scores!$F$253:$F$505,0))&\"C\"&COLUMN(Scores!L$1),FALSE)))","v":182},{"$f":"IF('Team Scores'!$Z$1<2,\"\",IF(ISERROR(MATCH('Individual Scores'!$D45,Scores!$F$253:$F$506,0)),\"\",INDIRECT(\"Scores!\"&\"R\"&(ROW(Scores!$253:$253)-1+MATCH('Individual Scores'!$D45,Scores!$F$253:$F$505,0))&\"C\"&COLUMN(Scores!N$1),FALSE)))","v":209},{"$f":"IF('Team Scores'!$Z$1<2,\"\",IF(ISERROR(MATCH('Individual Scores'!$D45,Scores!$F$253:$F$506,0)),\"\",INDIRECT(\"Scores!\"&\"R\"&(ROW(Scores!$253:$253)-1+MATCH('Individual Scores'!$D45,Scores!$F$253:$F$505,0))&\"C\"&COLUMN(Scores!O$1),FALSE)))","v":222},{"$f":"IF('Team Scores'!$Z$1<2,\"\",IF(ISERROR(MATCH('Individual Scores'!$D45,Scores!$F$253:$F$506,0)),\"\",INDIRECT(\"Scores!\"&\"R\"&(ROW(Scores!$253:$253)-1+MATCH('Individual Scores'!$D45,Scores!$F$253:$F$505,0))&\"C\"&COLUMN(Scores!P$1),FALSE)))","v":258},{"$f":"IF('Team Scores'!$Z$1<2,\"\",IF(ISERROR(MATCH('Individual Scores'!$D45,Scores!$F$253:$F$506,0)),\"\",INDIRECT(\"Scores!\"&\"R\"&(ROW(Scores!$253:$253)-1+MATCH('Individual Scores'!$D45,Scores!$F$253:$F$505,0))&\"C\"&COLUMN(Scores!S$1),FALSE)))","v":1269},258,689,null,{"$f":"IF('Team Scores'!$Z$1<3,\"\",IF(ISERROR(MATCH('Individual Scores'!$D45,Scores!$F$506:$F$759,0)),\"\",INDIRECT(\"Scores!\"&\"R\"&(ROW(Scores!$F$506:$F$759)-1+MATCH('Individual Scores'!$D45,Scores!$F$506:$F$759,0))&\"C\"&COLUMN(Scores!J$1),FALSE)))","v":""},{"$f":"IF('Team Scores'!$Z$1<3,\"\",IF(ISERROR(MATCH('Individual Scores'!$D45,Scores!$F$506:$F$759,0)),\"\",INDIRECT(\"Scores!\"&\"R\"&(ROW(Scores!$F$506:$F$759)-1+MATCH('Individual Scores'!$D45,Scores!$F$506:$F$759,0))&\"C\"&COLUMN(Scores!K$1),FALSE)))","v":""},{"$f":"IF('Team Scores'!$Z$1<3,\"\",IF(ISERROR(MATCH('Individual Scores'!$D45,Scores!$F$506:$F$759,0)),\"\",INDIRECT(\"Scores!\"&\"R\"&(ROW(Scores!$F$506:$F$759)-1+MATCH('Individual Scores'!$D45,Scores!$F$506:$F$759,0))&\"C\"&COLUMN(Scores!L$1),FALSE)))","v":""},{"$f":"IF('Team Scores'!$Z$1<3,\"\",IF(ISERROR(MATCH('Individual Scores'!$D45,Scores!$F$506:$F$759,0)),\"\",INDIRECT(\"Scores!\"&\"R\"&(ROW(Scores!$F$506:$F$759)-1+MATCH('Individual Scores'!$D45,Scores!$F$506:$F$759,0))&\"C\"&COLUMN(Scores!N$1),FALSE)))","v":""},{"$f":"IF('Team Scores'!$Z$1<3,\"\",IF(ISERROR(MATCH('Individual Scores'!$D45,Scores!$F$506:$F$759,0)),\"\",INDIRECT(\"Scores!\"&\"R\"&(ROW(Scores!$F$506:$F$759)-1+MATCH('Individual Scores'!$D45,Scores!$F$506:$F$759,0))&\"C\"&COLUMN(Scores!O$1),FALSE)))","v":""},{"$f":"IF('Team Scores'!$Z$1<3,\"\",IF(ISERROR(MATCH('Individual Scores'!$D45,Scores!$F$506:$F$759,0)),\"\",INDIRECT(\"Scores!\"&\"R\"&(ROW(Scores!$F$506:$F$759)-1+MATCH('Individual Scores'!$D45,Scores!$F$506:$F$759,0))&\"C\"&COLUMN(Scores!P$1),FALSE)))","v":""},{"$f":"IF('Team Scores'!$Z$1<3,\"\",IF(ISERROR(MATCH('Individual Scores'!$D45,Scores!$F$506:$F$759,0)),\"\",INDIRECT(\"Scores!\"&\"R\"&(ROW(Scores!$F$506:$F$759)-1+MATCH('Individual Scores'!$D45,Scores!$F$506:$F$759,0))&\"C\"&COLUMN(Scores!S$1),FALSE)))","v":""},"",""]
["GA","16-20","M","Josh Rondino",1295,1234,"",2529,{"$f":"IF(COUNT(Q46:V46,AA46:AF46,AK46:AP46)>=18/3*'Team Scores'!$Z$1,IF(H46-VLOOKUP(B46&C46,'Individual Awards Computations'!$AY$54:$AZ$58,2,FALSE)=0,\"Leader \"&C46&\":\"&B46,H46-VLOOKUP(B46&C46,'Individual Awards Computations'!$AY$54:$AZ$58,2,FALSE)),\"\")","v":-141},259,665,210.75,21.083333333333332,"190-232",1,null,{"$f":"IF(ISERROR(MATCH('Individual Scores'!$D46,Scores!$F$1:$F$253,0)),\"\",INDIRECT(\"Scores!\"&\"R\"&MATCH('Individual Scores'!$D46,Scores!$F$1:$F$253,0)&\"C\"&COLUMN(Scores!J$1),FALSE))","v":195},{"$f":"IF(ISERROR(MATCH('Individual Scores'!$D46,Scores!$F$1:$F$253,0)),\"\",INDIRECT(\"Scores!\"&\"R\"&MATCH('Individual Scores'!$D46,Scores!$F$1:$F$253,0)&\"C\"&COLUMN(Scores!K$1),FALSE))","v":202},{"$f":"IF(ISERROR(MATCH('Individual Scores'!$D46,Scores!$F$1:$F$253,0)),\"\",INDIRECT(\"Scores!\"&\"R\"&MATCH('Individual Scores'!$D46,Scores!$F$1:$F$253,0)&\"C\"&COLUMN(Scores!L$1),FALSE))","v":236},{"$f":"IF(ISERROR(MATCH('Individual Scores'!$D46,Scores!$F$1:$F$253,0)),\"\",INDIRECT(\"Scores!\"&\"R\"&MATCH('Individual Scores'!$D46,Scores!$F$1:$F$253,0)&\"C\"&COLUMN(Scores!N$1),FALSE))","v":217},{"$f":"IF(ISERROR(MATCH('Individual Scores'!$D46,Scores!$F$1:$F$253,0)),\"\",INDIRECT(\"Scores!\"&\"R\"&MATCH('Individual Scores'!$D46,Scores!$F$1:$F$253,0)&\"C\"&COLUMN(Scores!O$1),FALSE))","v":191},{"$f":"IF(ISERROR(MATCH('Individual Scores'!$D46,Scores!$F$1:$F$253,0)),\"\",INDIRECT(\"Scores!\"&\"R\"&MATCH('Individual Scores'!$D46,Scores!$F$1:$F$253,0)&\"C\"&COLUMN(Scores!P$1),FALSE))","v":254},{"$f":"IF(ISERROR(MATCH('Individual Scores'!$D46,Scores!$F$1:$F$253,0)),\"\",INDIRECT(\"Scores!\"&\"R\"&MATCH('Individual Scores'!$D46,Scores!$F$1:$F$253,0)&\"C\"&COLUMN(Scores!S$1),FALSE))","v":1295},{"$f":"IF(MAX('Individual Scores'!Q46:V46)>0,MAX('Individual Scores'!Q46:V46),\"\")","v":254},{"$f":"IF(MAX(SUM('Individual Scores'!Q46:S46),SUM('Individual Scores'!T46:V46))>0,MAX(SUM('Individual Scores'!Q46:S46),SUM('Individual Scores'!T46:V46)),\"\")","v":662},null,{"$f":"IF('Team Scores'!$Z$1<2,\"\",IF(ISERROR(MATCH('Individual Scores'!$D46,Scores!$F$253:$F$506,0)),\"\",INDIRECT(\"Scores!\"&\"R\"&(ROW(Scores!$253:$253)-1+MATCH('Individual Scores'!$D46,Scores!$F$253:$F$505,0))&\"C\"&COLUMN(Scores!J$1),FALSE)))","v":214},{"$f":"IF('Team Scores'!$Z$1<2,\"\",IF(ISERROR(MATCH('Individual Scores'!$D46,Scores!$F$253:$F$506,0)),\"\",INDIRECT(\"Scores!\"&\"R\"&(ROW(Scores!$253:$253)-1+MATCH('Individual Scores'!$D46,Scores!$F$253:$F$505,0))&\"C\"&COLUMN(Scores!K$1),FALSE)))","v":259},{"$f":"IF('Team Scores'!$Z$1<2,\"\",IF(ISERROR(MATCH('Individual Scores'!$D46,Scores!$F$253:$F$506,0)),\"\",INDIRECT(\"Scores!\"&\"R\"&(ROW(Scores!$253:$253)-1+MATCH('Individual Scores'!$D46,Scores!$F$253:$F$505,0))&\"C\"&COLUMN(Scores!L$1),FALSE)))","v":192},{"$f":"IF('Team Scores'!$Z$1<2,\"\",IF(ISERROR(MATCH('Individual Scores'!$D46,Scores!$F$253:$F$506,0)),\"\",INDIRECT(\"Scores!\"&\"R\"&(ROW(Scores!$253:$253)-1+MATCH('Individual Scores'!$D46,Scores!$F$253:$F$505,0))&\"C\"&COLUMN(Scores!N$1),FALSE)))","v":178},{"$f":"IF('Team Scores'!$Z$1<2,\"\",IF(ISERROR(MATCH('Individual Scores'!$D46,Scores!$F$253:$F$506,0)),\"\",INDIRECT(\"Scores!\"&\"R\"&(ROW(Scores!$253:$253)-1+MATCH('Individual Scores'!$D46,Scores!$F$253:$F$505,0))&\"C\"&COLUMN(Scores!O$1),FALSE)))","v":211},{"$f":"IF('Team Scores'!$Z$1<2,\"\",IF(ISERROR(MATCH('Individual Scores'!$D46,Scores!$F$253:$F$506,0)),\"\",INDIRECT(\"Scores!\"&\"R\"&(ROW(Scores!$253:$253)-1+MATCH('Individual Scores'!$D46,Scores!$F$253:$F$505,0))&\"C\"&COLUMN(Scores!P$1),FALSE)))","v":180},{"$f":"IF('Team Scores'!$Z$1<2,\"\",IF(ISERROR(MATCH('Individual Scores'!$D46,Scores!$F$253:$F$506,0)),\"\",INDIRECT(\"Scores!\"&\"R\"&(ROW(Scores!$253:$253)-1+MATCH('Individual Scores'!$D46,Scores!$F$253:$F$505,0))&\"C\"&COLUMN(Scores!S$1),FALSE)))","v":1234},259,665,null,{"$f":"IF('Team Scores'!$Z$1<3,\"\",IF(ISERROR(MATCH('Individual Scores'!$D46,Scores!$F$506:$F$759,0)),\"\",INDIRECT(\"Scores!\"&\"R\"&(ROW(Scores!$F$506:$F$759)-1+MATCH('Individual Scores'!$D46,Scores!$F$506:$F$759,0))&\"C\"&COLUMN(Scores!J$1),FALSE)))","v":""},{"$f":"IF('Team Scores'!$Z$1<3,\"\",IF(ISERROR(MATCH('Individual Scores'!$D46,Scores!$F$506:$F$759,0)),\"\",INDIRECT(\"Scores!\"&\"R\"&(ROW(Scores!$F$506:$F$759)-1+MATCH('Individual Scores'!$D46,Scores!$F$506:$F$759,0))&\"C\"&COLUMN(Scores!K$1),FALSE)))","v":""},{"$f":"IF('Team Scores'!$Z$1<3,\"\",IF(ISERROR(MATCH('Individual Scores'!$D46,Scores!$F$506:$F$759,0)),\"\",INDIRECT(\"Scores!\"&\"R\"&(ROW(Scores!$F$506:$F$759)-1+MATCH('Individual Scores'!$D46,Scores!$F$506:$F$759,0))&\"C\"&COLUMN(Scores!L$1),FALSE)))","v":""},{"$f":"IF('Team Scores'!$Z$1<3,\"\",IF(ISERROR(MATCH('Individual Scores'!$D46,Scores!$F$506:$F$759,0)),\"\",INDIRECT(\"Scores!\"&\"R\"&(ROW(Scores!$F$506:$F$759)-1+MATCH('Individual Scores'!$D46,Scores!$F$506:$F$759,0))&\"C\"&COLUMN(Scores!N$1),FALSE)))","v":""},{"$f":"IF('Team Scores'!$Z$1<3,\"\",IF(ISERROR(MATCH('Individual Scores'!$D46,Scores!$F$506:$F$759,0)),\"\",INDIRECT(\"Scores!\"&\"R\"&(ROW(Scores!$F$506:$F$759)-1+MATCH('Individual Scores'!$D46,Scores!$F$506:$F$759,0))&\"C\"&COLUMN(Scores!O$1),FALSE)))","v":""},{"$f":"IF('Team Scores'!$Z$1<3,\"\",IF(ISERROR(MATCH('Individual Scores'!$D46,Scores!$F$506:$F$759,0)),\"\",INDIRECT(\"Scores!\"&\"R\"&(ROW(Scores!$F$506:$F$759)-1+MATCH('Individual Scores'!$D46,Scores!$F$506:$F$759,0))&\"C\"&COLUMN(Scores!P$1),FALSE)))","v":""},{"$f":"IF('Team Scores'!$Z$1<3,\"\",IF(ISERROR(MATCH('Individual Scores'!$D46,Scores!$F$506:$F$759,0)),\"\",INDIRECT(\"Scores!\"&\"R\"&(ROW(Scores!$F$506:$F$759)-1+MATCH('Individual Scores'!$D46,Scores!$F$506:$F$759,0))&\"C\"&COLUMN(Scores!S$1),FALSE)))","v":""},"",""]
["GA","16-20","M","Matthew Lovell",1047,1310,"",2357,{"$f":"IF(COUNT(Q47:V47,AA47:AF47,AK47:AP47)>=18/3*'Team Scores'!$Z$1,IF(H47-VLOOKUP(B47&C47,'Individual Awards Computations'!$AY$54:$AZ$58,2,FALSE)=0,\"Leader \"&C47&\":\"&B47,H47-VLOOKUP(B47&C47,'Individual Awards Computations'!$AY$54:$AZ$58,2,FALSE)),\"\")","v":-313},279,717,196.41666666666666,25.722222222222218,"171-222",1,null,{"$f":"IF(ISERROR(MATCH('Individual Scores'!$D47,Scores!$F$1:$F$253,0)),\"\",INDIRECT(\"Scores!\"&\"R\"&MATCH('Individual Scores'!$D47,Scores!$F$1:$F$253,0)&\"C\"&COLUMN(Scores!J$1),FALSE))","v":181},{"$f":"IF(ISERROR(MATCH('Individual Scores'!$D47,Scores!$F$1:$F$253,0)),\"\",INDIRECT(\"Scores!\"&\"R\"&MATCH('Individual Scores'!$D47,Scores!$F$1:$F$253,0)&\"C\"&COLUMN(Scores!K$1),FALSE))","v":153},{"$f":"IF(ISERROR(MATCH('Individual Scores'!$D47,Scores!$F$1:$F$253,0)),\"\",INDIRECT(\"Scores!\"&\"R\"&MATCH('Individual Scores'!$D47,Scores!$F$1:$F$253,0)&\"C\"&COLUMN(Scores!L$1),FALSE))","v":195},{"$f":"IF(ISERROR(MATCH('Individual Scores'!$D47,Scores!$F$1:$F$253,0)),\"\",INDIRECT(\"Scores!\"&\"R\"&MATCH('Individual Scores'!$D47,Scores!$F$1:$F$253,0)&\"C\"&COLUMN(Scores!N$1),FALSE))","v":175},{"$f":"IF(ISERROR(MATCH('Individual Scores'!$D47,Scores!$F$1:$F$253,0)),\"\",INDIRECT(\"Scores!\"&\"R\"&MATCH('Individual Scores'!$D47,Scores!$F$1:$F$253,0)&\"C\"&COLUMN(Scores!O$1),FALSE))","v":177},{"$f":"IF(ISERROR(MATCH('Individual Scores'!$D47,Scores!$F$1:$F$253,0)),\"\",INDIRECT(\"Scores!\"&\"R\"&MATCH('Individual Scores'!$D47,Scores!$F$1:$F$253,0)&\"C\"&COLUMN(Scores!P$1),FALSE))","v":166},{"$f":"IF(ISERROR(MATCH('Individual Scores'!$D47,Scores!$F$1:$F$253,0)),\"\",INDIRECT(\"Scores!\"&\"R\"&MATCH('Individual Scores'!$D47,Scores!$F$1:$F$253,0)&\"C\"&COLUMN(Scores!S$1),FALSE))","v":1047},{"$f":"IF(MAX('Individual Scores'!Q47:V47)>0,MAX('Individual Scores'!Q47:V47),\"\")","v":195},{"$f":"IF(MAX(SUM('Individual Scores'!Q47:S47),SUM('Individual Scores'!T47:V47))>0,MAX(SUM('Individual Scores'!Q47:S47),SUM('Individual Scores'!T47:V47)),\"\")","v":529},null,{"$f":"IF('Team Scores'!$Z$1<2,\"\",IF(ISERROR(MATCH('Individual Scores'!$D47,Scores!$F$253:$F$506,0)),\"\",INDIRECT(\"Scores!\"&\"R\"&(ROW(Scores!$253:$253)-1+MATCH('Individual Scores'!$D47,Scores!$F$253:$F$505,0))&\"C\"&COLUMN(Scores!J$1),FALSE)))","v":175},{"$f":"IF('Team Scores'!$Z$1<2,\"\",IF(ISERROR(MATCH('Individual Scores'!$D47,Scores!$F$253:$F$506,0)),\"\",INDIRECT(\"Scores!\"&\"R\"&(ROW(Scores!$253:$253)-1+MATCH('Individual Scores'!$D47,Scores!$F$253:$F$505,0))&\"C\"&COLUMN(Scores!K$1),FALSE)))","v":223},{"$f":"IF('Team Scores'!$Z$1<2,\"\",IF(ISERROR(MATCH('Individual Scores'!$D47,Scores!$F$253:$F$506,0)),\"\",INDIRECT(\"Scores!\"&\"R\"&(ROW(Scores!$253:$253)-1+MATCH('Individual Scores'!$D47,Scores!$F$253:$F$505,0))&\"C\"&COLUMN(Scores!L$1),FALSE)))","v":195},{"$f":"IF('Team Scores'!$Z$1<2,\"\",IF(ISERROR(MATCH('Individual Scores'!$D47,Scores!$F$253:$F$506,0)),\"\",INDIRECT(\"Scores!\"&\"R\"&(ROW(Scores!$253:$253)-1+MATCH('Individual Scores'!$D47,Scores!$F$253:$F$505,0))&\"C\"&COLUMN(Scores!N$1),FALSE)))","v":197},{"$f":"IF('Team Scores'!$Z$1<2,\"\",IF(ISERROR(MATCH('Individual Scores'!$D47,Scores!$F$253:$F$506,0)),\"\",INDIRECT(\"Scores!\"&\"R\"&(ROW(Scores!$253:$253)-1+MATCH('Individual Scores'!$D47,Scores!$F$253:$F$505,0))&\"C\"&COLUMN(Scores!O$1),FALSE)))","v":241},{"$f":"IF('Team Scores'!$Z$1<2,\"\",IF(ISERROR(MATCH('Individual Scores'!$D47,Scores!$F$253:$F$506,0)),\"\",INDIRECT(\"Scores!\"&\"R\"&(ROW(Scores!$253:$253)-1+MATCH('Individual Scores'!$D47,Scores!$F$253:$F$505,0))&\"C\"&COLUMN(Scores!P$1),FALSE)))","v":279},{"$f":"IF('Team Scores'!$Z$1<2,\"\",IF(ISERROR(MATCH('Individual Scores'!$D47,Scores!$F$253:$F$506,0)),\"\",INDIRECT(\"Scores!\"&\"R\"&(ROW(Scores!$253:$253)-1+MATCH('Individual Scores'!$D47,Scores!$F$253:$F$505,0))&\"C\"&COLUMN(Scores!S$1),FALSE)))","v":1310},279,717,null,{"$f":"IF('Team Scores'!$Z$1<3,\"\",IF(ISERROR(MATCH('Individual Scores'!$D47,Scores!$F$506:$F$759,0)),\"\",INDIRECT(\"Scores!\"&\"R\"&(ROW(Scores!$F$506:$F$759)-1+MATCH('Individual Scores'!$D47,Scores!$F$506:$F$759,0))&\"C\"&COLUMN(Scores!J$1),FALSE)))","v":""},{"$f":"IF('Team Scores'!$Z$1<3,\"\",IF(ISERROR(MATCH('Individual Scores'!$D47,Scores!$F$506:$F$759,0)),\"\",INDIRECT(\"Scores!\"&\"R\"&(ROW(Scores!$F$506:$F$759)-1+MATCH('Individual Scores'!$D47,Scores!$F$506:$F$759,0))&\"C\"&COLUMN(Scores!K$1),FALSE)))","v":""},{"$f":"IF('Team Scores'!$Z$1<3,\"\",IF(ISERROR(MATCH('Individual Scores'!$D47,Scores!$F$506:$F$759,0)),\"\",INDIRECT(\"Scores!\"&\"R\"&(ROW(Scores!$F$506:$F$759)-1+MATCH('Individual Scores'!$D47,Scores!$F$506:$F$759,0))&\"C\"&COLUMN(Scores!L$1),FALSE)))","v":""},{"$f":"IF('Team Scores'!$Z$1<3,\"\",IF(ISERROR(MATCH('Individual Scores'!$D47,Scores!$F$506:$F$759,0)),\"\",INDIRECT(\"Scores!\"&\"R\"&(ROW(Scores!$F$506:$F$759)-1+MATCH('Individual Scores'!$D47,Scores!$F$506:$F$759,0))&\"C\"&COLUMN(Scores!N$1),FALSE)))","v":""},{"$f":"IF('Team Scores'!$Z$1<3,\"\",IF(ISERROR(MATCH('Individual Scores'!$D47,Scores!$F$506:$F$759,0)),\"\",INDIRECT(\"Scores!\"&\"R\"&(ROW(Scores!$F$506:$F$759)-1+MATCH('Individual Scores'!$D47,Scores!$F$506:$F$759,0))&\"C\"&COLUMN(Scores!O$1),FALSE)))","v":""},{"$f":"IF('Team Scores'!$Z$1<3,\"\",IF(ISERROR(MATCH('Individual Scores'!$D47,Scores!$F$506:$F$759,0)),\"\",INDIRECT(\"Scores!\"&\"R\"&(ROW(Scores!$F$506:$F$759)-1+MATCH('Individual Scores'!$D47,Scores!$F$506:$F$759,0))&\"C\"&COLUMN(Scores!P$1),FALSE)))","v":""},{"$f":"IF('Team Scores'!$Z$1<3,\"\",IF(ISERROR(MATCH('Individual Scores'!$D47,Scores!$F$506:$F$759,0)),\"\",INDIRECT(\"Scores!\"&\"R\"&(ROW(Scores!$F$506:$F$759)-1+MATCH('Individual Scores'!$D47,Scores!$F$506:$F$759,0))&\"C\"&COLUMN(Scores!S$1),FALSE)))","v":""},"",""]
["GA","16-20","M","Micah Spears",988,1218,"",2206,{"$f":"IF(COUNT(Q48:V48,AA48:AF48,AK48:AP48)>=18/3*'Team Scores'!$Z$1,IF(H48-VLOOKUP(B48&C48,'Individual Awards Computations'!$AY$54:$AZ$58,2,FALSE)=0,\"Leader \"&C48&\":\"&B48,H48-VLOOKUP(B48&C48,'Individual Awards Computations'!$AY$54:$AZ$58,2,FALSE)),\"\")","v":-464},258,638,183.83333333333334,21.638888888888889,"162-205",1,null,{"$f":"IF(ISERROR(MATCH('Individual Scores'!$D48,Scores!$F$1:$F$253,0)),\"\",INDIRECT(\"Scores!\"&\"R\"&MATCH('Individual Scores'!$D48,Scores!$F$1:$F$253,0)&\"C\"&COLUMN(Scores!J$1),FALSE))","v":179},{"$f":"IF(ISERROR(MATCH('Individual Scores'!$D48,Scores!$F$1:$F$253,0)),\"\",INDIRECT(\"Scores!\"&\"R\"&MATCH('Individual Scores'!$D48,Scores!$F$1:$F$253,0)&\"C\"&COLUMN(Scores!K$1),FALSE))","v":164},{"$f":"IF(ISERROR(MATCH('Individual Scores'!$D48,Scores!$F$1:$F$253,0)),\"\",INDIRECT(\"Scores!\"&\"R\"&MATCH('Individual Scores'!$D48,Scores!$F$1:$F$253,0)&\"C\"&COLUMN(Scores!L$1),FALSE))","v":159},{"$f":"IF(ISERROR(MATCH('Individual Scores'!$D48,Scores!$F$1:$F$253,0)),\"\",INDIRECT(\"Scores!\"&\"R\"&MATCH('Individual Scores'!$D48,Scores!$F$1:$F$253,0)&\"C\"&COLUMN(Scores!N$1),FALSE))","v":169},{"$f":"IF(ISERROR(MATCH('Individual Scores'!$D48,Scores!$F$1:$F$253,0)),\"\",INDIRECT(\"Scores!\"&\"R\"&MATCH('Individual Scores'!$D48,Scores!$F$1:$F$253,0)&\"C\"&COLUMN(Scores!O$1),FALSE))","v":172},{"$f":"IF(ISERROR(MATCH('Individual Scores'!$D48,Scores!$F$1:$F$253,0)),\"\",INDIRECT(\"Scores!\"&\"R\"&MATCH('Individual Scores'!$D48,Scores!$F$1:$F$253,0)&\"C\"&COLUMN(Scores!P$1),FALSE))","v":145},{"$f":"IF(ISERROR(MATCH('Individual Scores'!$D48,Scores!$F$1:$F$253,0)),\"\",INDIRECT(\"Scores!\"&\"R\"&MATCH('Individual Scores'!$D48,Scores!$F$1:$F$253,0)&\"C\"&COLUMN(Scores!S$1),FALSE))","v":988},{"$f":"IF(MAX('Individual Scores'!Q48:V48)>0,MAX('Individual Scores'!Q48:V48),\"\")","v":179},{"$f":"IF(MAX(SUM('Individual Scores'!Q48:S48),SUM('Individual Scores'!T48:V48))>0,MAX(SUM('Individual Scores'!Q48:S48),SUM('Individual Scores'!T48:V48)),\"\")","v":502},null,{"$f":"IF('Team Scores'!$Z$1<2,\"\",IF(ISERROR(MATCH('Individual Scores'!$D48,Scores!$F$253:$F$506,0)),\"\",INDIRECT(\"Scores!\"&\"R\"&(ROW(Scores!$253:$253)-1+MATCH('Individual Scores'!$D48,Scores!$F$253:$F$505,0))&\"C\"&COLUMN(Scores!J$1),FALSE)))","v":193},{"$f":"IF('Team Scores'!$Z$1<2,\"\",IF(ISERROR(MATCH('Individual Scores'!$D48,Scores!$F$253:$F$506,0)),\"\",INDIRECT(\"Scores!\"&\"R\"&(ROW(Scores!$253:$253)-1+MATCH('Individual Scores'!$D48,Scores!$F$253:$F$505,0))&\"C\"&COLUMN(Scores!K$1),FALSE)))","v":198},{"$f":"IF('Team Scores'!$Z$1<2,\"\",IF(ISERROR(MATCH('Individual Scores'!$D48,Scores!$F$253:$F$506,0)),\"\",INDIRECT(\"Scores!\"&\"R\"&(ROW(Scores!$253:$253)-1+MATCH('Individual Scores'!$D48,Scores!$F$253:$F$505,0))&\"C\"&COLUMN(Scores!L$1),FALSE)))","v":189},{"$f":"IF('Team Scores'!$Z$1<2,\"\",IF(ISERROR(MATCH('Individual Scores'!$D48,Scores!$F$253:$F$506,0)),\"\",INDIRECT(\"Scores!\"&\"R\"&(ROW(Scores!$253:$253)-1+MATCH('Individual Scores'!$D48,Scores!$F$253:$F$505,0))&\"C\"&COLUMN(Scores!N$1),FALSE)))","v":258},{"$f":"IF('Team Scores'!$Z$1<2,\"\",IF(ISERROR(MATCH('Individual Scores'!$D48,Scores!$F$253:$F$506,0)),\"\",INDIRECT(\"Scores!\"&\"R\"&(ROW(Scores!$253:$253)-1+MATCH('Individual Scores'!$D48,Scores!$F$253:$F$505,0))&\"C\"&COLUMN(Scores!O$1),FALSE)))","v":211},{"$f":"IF('Team Scores'!$Z$1<2,\"\",IF(ISERROR(MATCH('Individual Scores'!$D48,Scores!$F$253:$F$506,0)),\"\",INDIRECT(\"Scores!\"&\"R\"&(ROW(Scores!$253:$253)-1+MATCH('Individual Scores'!$D48,Scores!$F$253:$F$505,0))&\"C\"&COLUMN(Scores!P$1),FALSE)))","v":169},{"$f":"IF('Team Scores'!$Z$1<2,\"\",IF(ISERROR(MATCH('Individual Scores'!$D48,Scores!$F$253:$F$506,0)),\"\",INDIRECT(\"Scores!\"&\"R\"&(ROW(Scores!$253:$253)-1+MATCH('Individual Scores'!$D48,Scores!$F$253:$F$505,0))&\"C\"&COLUMN(Scores!S$1),FALSE)))","v":1218},{"$f":"IF(MAX(AA48:AF48)>0,MAX(AA48:AF48),\"\")","v":258},{"$f":"IF(MAX(SUM(AA48:AC48),SUM(AD48:AF48))>0,MAX(SUM(AA48:AC48),SUM(AD48:AF48)),\"\")","v":638},null,{"$f":"IF('Team Scores'!$Z$1<3,\"\",IF(ISERROR(MATCH('Individual Scores'!$D48,Scores!$F$506:$F$759,0)),\"\",INDIRECT(\"Scores!\"&\"R\"&(ROW(Scores!$F$506:$F$759)-1+MATCH('Individual Scores'!$D48,Scores!$F$506:$F$759,0))&\"C\"&COLUMN(Scores!J$1),FALSE)))","v":""},{"$f":"IF('Team Scores'!$Z$1<3,\"\",IF(ISERROR(MATCH('Individual Scores'!$D48,Scores!$F$506:$F$759,0)),\"\",INDIRECT(\"Scores!\"&\"R\"&(ROW(Scores!$F$506:$F$759)-1+MATCH('Individual Scores'!$D48,Scores!$F$506:$F$759,0))&\"C\"&COLUMN(Scores!K$1),FALSE)))","v":""},{"$f":"IF('Team Scores'!$Z$1<3,\"\",IF(ISERROR(MATCH('Individual Scores'!$D48,Scores!$F$506:$F$759,0)),\"\",INDIRECT(\"Scores!\"&\"R\"&(ROW(Scores!$F$506:$F$759)-1+MATCH('Individual Scores'!$D48,Scores!$F$506:$F$759,0))&\"C\"&COLUMN(Scores!L$1),FALSE)))","v":""},{"$f":"IF('Team Scores'!$Z$1<3,\"\",IF(ISERROR(MATCH('Individual Scores'!$D48,Scores!$F$506:$F$759,0)),\"\",INDIRECT(\"Scores!\"&\"R\"&(ROW(Scores!$F$506:$F$759)-1+MATCH('Individual Scores'!$D48,Scores!$F$506:$F$759,0))&\"C\"&COLUMN(Scores!N$1),FALSE)))","v":""},{"$f":"IF('Team Scores'!$Z$1<3,\"\",IF(ISERROR(MATCH('Individual Scores'!$D48,Scores!$F$506:$F$759,0)),\"\",INDIRECT(\"Scores!\"&\"R\"&(ROW(Scores!$F$506:$F$759)-1+MATCH('Individual Scores'!$D48,Scores!$F$506:$F$759,0))&\"C\"&COLUMN(Scores!O$1),FALSE)))","v":""},{"$f":"IF('Team Scores'!$Z$1<3,\"\",IF(ISERROR(MATCH('Individual Scores'!$D48,Scores!$F$506:$F$759,0)),\"\",INDIRECT(\"Scores!\"&\"R\"&(ROW(Scores!$F$506:$F$759)-1+MATCH('Individual Scores'!$D48,Scores!$F$506:$F$759,0))&\"C\"&COLUMN(Scores!P$1),FALSE)))","v":""},{"$f":"IF('Team Scores'!$Z$1<3,\"\",IF(ISERROR(MATCH('Individual Scores'!$D48,Scores!$F$506:$F$759,0)),\"\",INDIRECT(\"Scores!\"&\"R\"&(ROW(Scores!$F$506:$F$759)-1+MATCH('Individual Scores'!$D48,Scores!$F$506:$F$759,0))&\"C\"&COLUMN(Scores!S$1),FALSE)))","v":""},"",""]
["GA","16-20","M","Oscar Byrd",1018,1187,"",2205,{"$f":"IF(COUNT(Q49:V49,AA49:AF49,AK49:AP49)>=18/3*'Team Scores'!$Z$1,IF(H49-VLOOKUP(B49&C49,'Individual Awards Computations'!$AY$54:$AZ$58,2,FALSE)=0,\"Leader \"&C49&\":\"&B49,H49-VLOOKUP(B49&C49,'Individual Awards Computations'!$AY$54:$AZ$58,2,FALSE)),\"\")","v":-465},234,610,183.75,21.25,"163-205",1,null,{"$f":"IF(ISERROR(MATCH('Individual Scores'!$D49,Scores!$F$1:$F$253,0)),\"\",INDIRECT(\"Scores!\"&\"R\"&MATCH('Individual Scores'!$D49,Scores!$F$1:$F$253,0)&\"C\"&COLUMN(Scores!J$1),FALSE))","v":200},{"$f":"IF(ISERROR(MATCH('Individual Scores'!$D49,Scores!$F$1:$F$253,0)),\"\",INDIRECT(\"Scores!\"&\"R\"&MATCH('Individual Scores'!$D49,Scores!$F$1:$F$253,0)&\"C\"&COLUMN(Scores!K$1),FALSE))","v":160},{"$f":"IF(ISERROR(MATCH('Individual Scores'!$D49,Scores!$F$1:$F$253,0)),\"\",INDIRECT(\"Scores!\"&\"R\"&MATCH('Individual Scores'!$D49,Scores!$F$1:$F$253,0)&\"C\"&COLUMN(Scores!L$1),FALSE))","v":169},{"$f":"IF(ISERROR(MATCH('Individual Scores'!$D49,Scores!$F$1:$F$253,0)),\"\",INDIRECT(\"Scores!\"&\"R\"&MATCH('Individual Scores'!$D49,Scores!$F$1:$F$253,0)&\"C\"&COLUMN(Scores!N$1),FALSE))","v":149},{"$f":"IF(ISERROR(MATCH('Individual Scores'!$D49,Scores!$F$1:$F$253,0)),\"\",INDIRECT(\"Scores!\"&\"R\"&MATCH('Individual Scores'!$D49,Scores!$F$1:$F$253,0)&\"C\"&COLUMN(Scores!O$1),FALSE))","v":154},{"$f":"IF(ISERROR(MATCH('Individual Scores'!$D49,Scores!$F$1:$F$253,0)),\"\",INDIRECT(\"Scores!\"&\"R\"&MATCH('Individual Scores'!$D49,Scores!$F$1:$F$253,0)&\"C\"&COLUMN(Scores!P$1),FALSE))","v":186},{"$f":"IF(ISERROR(MATCH('Individual Scores'!$D49,Scores!$F$1:$F$253,0)),\"\",INDIRECT(\"Scores!\"&\"R\"&MATCH('Individual Scores'!$D49,Scores!$F$1:$F$253,0)&\"C\"&COLUMN(Scores!S$1),FALSE))","v":1018},{"$f":"IF(MAX('Individual Scores'!Q49:V49)>0,MAX('Individual Scores'!Q49:V49),\"\")","v":200},{"$f":"IF(MAX(SUM('Individual Scores'!Q49:S49),SUM('Individual Scores'!T49:V49))>0,MAX(SUM('Individual Scores'!Q49:S49),SUM('Individual Scores'!T49:V49)),\"\")","v":529},null,{"$f":"IF('Team Scores'!$Z$1<2,\"\",IF(ISERROR(MATCH('Individual Scores'!$D49,Scores!$F$253:$F$506,0)),\"\",INDIRECT(\"Scores!\"&\"R\"&(ROW(Scores!$253:$253)-1+MATCH('Individual Scores'!$D49,Scores!$F$253:$F$505,0))&\"C\"&COLUMN(Scores!J$1),FALSE)))","v":234},{"$f":"IF('Team Scores'!$Z$1<2,\"\",IF(ISERROR(MATCH('Individual Scores'!$D49,Scores!$F$253:$F$506,0)),\"\",INDIRECT(\"Scores!\"&\"R\"&(ROW(Scores!$253:$253)-1+MATCH('Individual Scores'!$D49,Scores!$F$253:$F$505,0))&\"C\"&COLUMN(Scores!K$1),FALSE)))","v":171},{"$f":"IF('Team Scores'!$Z$1<2,\"\",IF(ISERROR(MATCH('Individual Scores'!$D49,Scores!$F$253:$F$506,0)),\"\",INDIRECT(\"Scores!\"&\"R\"&(ROW(Scores!$253:$253)-1+MATCH('Individual Scores'!$D49,Scores!$F$253:$F$505,0))&\"C\"&COLUMN(Scores!L$1),FALSE)))","v":172},{"$f":"IF('Team Scores'!$Z$1<2,\"\",IF(ISERROR(MATCH('Individual Scores'!$D49,Scores!$F$253:$F$506,0)),\"\",INDIRECT(\"Scores!\"&\"R\"&(ROW(Scores!$253:$253)-1+MATCH('Individual Scores'!$D49,Scores!$F$253:$F$505,0))&\"C\"&COLUMN(Scores!N$1),FALSE)))","v":224},{"$f":"IF('Team Scores'!$Z$1<2,\"\",IF(ISERROR(MATCH('Individual Scores'!$D49,Scores!$F$253:$F$506,0)),\"\",INDIRECT(\"Scores!\"&\"R\"&(ROW(Scores!$253:$253)-1+MATCH('Individual Scores'!$D49,Scores!$F$253:$F$505,0))&\"C\"&COLUMN(Scores!O$1),FALSE)))","v":193},{"$f":"IF('Team Scores'!$Z$1<2,\"\",IF(ISERROR(MATCH('Individual Scores'!$D49,Scores!$F$253:$F$506,0)),\"\",INDIRECT(\"Scores!\"&\"R\"&(ROW(Scores!$253:$253)-1+MATCH('Individual Scores'!$D49,Scores!$F$253:$F$505,0))&\"C\"&COLUMN(Scores!P$1),FALSE)))","v":193},{"$f":"IF('Team Scores'!$Z$1<2,\"\",IF(ISERROR(MATCH('Individual Scores'!$D49,Scores!$F$253:$F$506,0)),\"\",INDIRECT(\"Scores!\"&\"R\"&(ROW(Scores!$253:$253)-1+MATCH('Individual Scores'!$D49,Scores!$F$253:$F$505,0))&\"C\"&COLUMN(Scores!S$1),FALSE)))","v":1187},234,610,null,{"$f":"IF('Team Scores'!$Z$1<3,\"\",IF(ISERROR(MATCH('Individual Scores'!$D49,Scores!$F$506:$F$759,0)),\"\",INDIRECT(\"Scores!\"&\"R\"&(ROW(Scores!$F$506:$F$759)-1+MATCH('Individual Scores'!$D49,Scores!$F$506:$F$759,0))&\"C\"&COLUMN(Scores!J$1),FALSE)))","v":""},{"$f":"IF('Team Scores'!$Z$1<3,\"\",IF(ISERROR(MATCH('Individual Scores'!$D49,Scores!$F$506:$F$759,0)),\"\",INDIRECT(\"Scores!\"&\"R\"&(ROW(Scores!$F$506:$F$759)-1+MATCH('Individual Scores'!$D49,Scores!$F$506:$F$759,0))&\"C\"&COLUMN(Scores!K$1),FALSE)))","v":""},{"$f":"IF('Team Scores'!$Z$1<3,\"\",IF(ISERROR(MATCH('Individual Scores'!$D49,Scores!$F$506:$F$759,0)),\"\",INDIRECT(\"Scores!\"&\"R\"&(ROW(Scores!$F$506:$F$759)-1+MATCH('Individual Scores'!$D49,Scores!$F$506:$F$759,0))&\"C\"&COLUMN(Scores!L$1),FALSE)))","v":""},{"$f":"IF('Team Scores'!$Z$1<3,\"\",IF(ISERROR(MATCH('Individual Scores'!$D49,Scores!$F$506:$F$759,0)),\"\",INDIRECT(\"Scores!\"&\"R\"&(ROW(Scores!$F$506:$F$759)-1+MATCH('Individual Scores'!$D49,Scores!$F$506:$F$759,0))&\"C\"&COLUMN(Scores!N$1),FALSE)))","v":""},{"$f":"IF('Team Scores'!$Z$1<3,\"\",IF(ISERROR(MATCH('Individual Scores'!$D49,Scores!$F$506:$F$759,0)),\"\",INDIRECT(\"Scores!\"&\"R\"&(ROW(Scores!$F$506:$F$759)-1+MATCH('Individual Scores'!$D49,Scores!$F$506:$F$759,0))&\"C\"&COLUMN(Scores!O$1),FALSE)))","v":""},{"$f":"IF('Team Scores'!$Z$1<3,\"\",IF(ISERROR(MATCH('Individual Scores'!$D49,Scores!$F$506:$F$759,0)),\"\",INDIRECT(\"Scores!\"&\"R\"&(ROW(Scores!$F$506:$F$759)-1+MATCH('Individual Scores'!$D49,Scores!$F$506:$F$759,0))&\"C\"&COLUMN(Scores!P$1),FALSE)))","v":""},{"$f":"IF('Team Scores'!$Z$1<3,\"\",IF(ISERROR(MATCH('Individual Scores'!$D49,Scores!$F$506:$F$759,0)),\"\",INDIRECT(\"Scores!\"&\"R\"&(ROW(Scores!$F$506:$F$759)-1+MATCH('Individual Scores'!$D49,Scores!$F$506:$F$759,0))&\"C\"&COLUMN(Scores!S$1),FALSE)))","v":""},"",""]
["GA","15 & <","M","Peyton Smith",1341,1288,"",2629,{"$f":"IF(COUNT(Q50:V50,AA50:AF50,AK50:AP50)>=18/3*'Team Scores'!$Z$1,IF(H50-VLOOKUP(B50&C50,'Individual Awards Computations'!$AY$54:$AZ$58,2,FALSE)=0,\"Leader \"&C50&\":\"&B50,H50-VLOOKUP(B50&C50,'Individual Awards Computations'!$AY$54:$AZ$58,2,FALSE)),\"\")","v":"Leader M:15 & <"},260,723,219.08333333333334,21.75,"197-241",1,null,{"$f":"IF(ISERROR(MATCH('Individual Scores'!$D50,Scores!$F$1:$F$253,0)),\"\",INDIRECT(\"Scores!\"&\"R\"&MATCH('Individual Scores'!$D50,Scores!$F$1:$F$253,0)&\"C\"&COLUMN(Scores!J$1),FALSE))","v":220},{"$f":"IF(ISERROR(MATCH('Individual Scores'!$D50,Scores!$F$1:$F$253,0)),\"\",INDIRECT(\"Scores!\"&\"R\"&MATCH('Individual Scores'!$D50,Scores!$F$1:$F$253,0)&\"C\"&COLUMN(Scores!K$1),FALSE))","v":260},{"$f":"IF(ISERROR(MATCH('Individual Scores'!$D50,Scores!$F$1:$F$253,0)),\"\",INDIRECT(\"Scores!\"&\"R\"&MATCH('Individual Scores'!$D50,Scores!$F$1:$F$253,0)&\"C\"&COLUMN(Scores!L$1),FALSE))","v":243},{"$f":"IF(ISERROR(MATCH('Individual Scores'!$D50,Scores!$F$1:$F$253,0)),\"\",INDIRECT(\"Scores!\"&\"R\"&MATCH('Individual Scores'!$D50,Scores!$F$1:$F$253,0)&\"C\"&COLUMN(Scores!N$1),FALSE))","v":242},{"$f":"IF(ISERROR(MATCH('Individual Scores'!$D50,Scores!$F$1:$F$253,0)),\"\",INDIRECT(\"Scores!\"&\"R\"&MATCH('Individual Scores'!$D50,Scores!$F$1:$F$253,0)&\"C\"&COLUMN(Scores!O$1),FALSE))","v":165},{"$f":"IF(ISERROR(MATCH('Individual Scores'!$D50,Scores!$F$1:$F$253,0)),\"\",INDIRECT(\"Scores!\"&\"R\"&MATCH('Individual Scores'!$D50,Scores!$F$1:$F$253,0)&\"C\"&COLUMN(Scores!P$1),FALSE))","v":211},{"$f":"IF(ISERROR(MATCH('Individual Scores'!$D50,Scores!$F$1:$F$253,0)),\"\",INDIRECT(\"Scores!\"&\"R\"&MATCH('Individual Scores'!$D50,Scores!$F$1:$F$253,0)&\"C\"&COLUMN(Scores!S$1),FALSE))","v":1341},{"$f":"IF(MAX('Individual Scores'!Q50:V50)>0,MAX('Individual Scores'!Q50:V50),\"\")","v":260},{"$f":"IF(MAX(SUM('Individual Scores'!Q50:S50),SUM('Individual Scores'!T50:V50))>0,MAX(SUM('Individual Scores'!Q50:S50),SUM('Individual Scores'!T50:V50)),\"\")","v":723},null,{"$f":"IF('Team Scores'!$Z$1<2,\"\",IF(ISERROR(MATCH('Individual Scores'!$D50,Scores!$F$253:$F$506,0)),\"\",INDIRECT(\"Scores!\"&\"R\"&(ROW(Scores!$253:$253)-1+MATCH('Individual Scores'!$D50,Scores!$F$253:$F$505,0))&\"C\"&COLUMN(Scores!J$1),FALSE)))","v":192},{"$f":"IF('Team Scores'!$Z$1<2,\"\",IF(ISERROR(MATCH('Individual Scores'!$D50,Scores!$F$253:$F$506,0)),\"\",INDIRECT(\"Scores!\"&\"R\"&(ROW(Scores!$253:$253)-1+MATCH('Individual Scores'!$D50,Scores!$F$253:$F$505,0))&\"C\"&COLUMN(Scores!K$1),FALSE)))","v":202},{"$f":"IF('Team Scores'!$Z$1<2,\"\",IF(ISERROR(MATCH('Individual Scores'!$D50,Scores!$F$253:$F$506,0)),\"\",INDIRECT(\"Scores!\"&\"R\"&(ROW(Scores!$253:$253)-1+MATCH('Individual Scores'!$D50,Scores!$F$253:$F$505,0))&\"C\"&COLUMN(Scores!L$1),FALSE)))","v":215},{"$f":"IF('Team Scores'!$Z$1<2,\"\",IF(ISERROR(MATCH('Individual Scores'!$D50,Scores!$F$253:$F$506,0)),\"\",INDIRECT(\"Scores!\"&\"R\"&(ROW(Scores!$253:$253)-1+MATCH('Individual Scores'!$D50,Scores!$F$253:$F$505,0))&\"C\"&COLUMN(Scores!N$1),FALSE)))","v":255},{"$f":"IF('Team Scores'!$Z$1<2,\"\",IF(ISERROR(MATCH('Individual Scores'!$D50,Scores!$F$253:$F$506,0)),\"\",INDIRECT(\"Scores!\"&\"R\"&(ROW(Scores!$253:$253)-1+MATCH('Individual Scores'!$D50,Scores!$F$253:$F$505,0))&\"C\"&COLUMN(Scores!O$1),FALSE)))","v":225},{"$f":"IF('Team Scores'!$Z$1<2,\"\",IF(ISERROR(MATCH('Individual Scores'!$D50,Scores!$F$253:$F$506,0)),\"\",INDIRECT(\"Scores!\"&\"R\"&(ROW(Scores!$253:$253)-1+MATCH('Individual Scores'!$D50,Scores!$F$253:$F$505,0))&\"C\"&COLUMN(Scores!P$1),FALSE)))","v":199},{"$f":"IF('Team Scores'!$Z$1<2,\"\",IF(ISERROR(MATCH('Individual Scores'!$D50,Scores!$F$253:$F$506,0)),\"\",INDIRECT(\"Scores!\"&\"R\"&(ROW(Scores!$253:$253)-1+MATCH('Individual Scores'!$D50,Scores!$F$253:$F$505,0))&\"C\"&COLUMN(Scores!S$1),FALSE)))","v":1288},{"$f":"IF(MAX(AA50:AF50)>0,MAX(AA50:AF50),\"\")","v":255},{"$f":"IF(MAX(SUM(AA50:AC50),SUM(AD50:AF50))>0,MAX(SUM(AA50:AC50),SUM(AD50:AF50)),\"\")","v":679},null,{"$f":"IF('Team Scores'!$Z$1<3,\"\",IF(ISERROR(MATCH('Individual Scores'!$D50,Scores!$F$506:$F$759,0)),\"\",INDIRECT(\"Scores!\"&\"R\"&(ROW(Scores!$F$506:$F$759)-1+MATCH('Individual Scores'!$D50,Scores!$F$506:$F$759,0))&\"C\"&COLUMN(Scores!J$1),FALSE)))","v":""},{"$f":"IF('Team Scores'!$Z$1<3,\"\",IF(ISERROR(MATCH('Individual Scores'!$D50,Scores!$F$506:$F$759,0)),\"\",INDIRECT(\"Scores!\"&\"R\"&(ROW(Scores!$F$506:$F$759)-1+MATCH('Individual Scores'!$D50,Scores!$F$506:$F$759,0))&\"C\"&COLUMN(Scores!K$1),FALSE)))","v":""},{"$f":"IF('Team Scores'!$Z$1<3,\"\",IF(ISERROR(MATCH('Individual Scores'!$D50,Scores!$F$506:$F$759,0)),\"\",INDIRECT(\"Scores!\"&\"R\"&(ROW(Scores!$F$506:$F$759)-1+MATCH('Individual Scores'!$D50,Scores!$F$506:$F$759,0))&\"C\"&COLUMN(Scores!L$1),FALSE)))","v":""},{"$f":"IF('Team Scores'!$Z$1<3,\"\",IF(ISERROR(MATCH('Individual Scores'!$D50,Scores!$F$506:$F$759,0)),\"\",INDIRECT(\"Scores!\"&\"R\"&(ROW(Scores!$F$506:$F$759)-1+MATCH('Individual Scores'!$D50,Scores!$F$506:$F$759,0))&\"C\"&COLUMN(Scores!N$1),FALSE)))","v":""},{"$f":"IF('Team Scores'!$Z$1<3,\"\",IF(ISERROR(MATCH('Individual Scores'!$D50,Scores!$F$506:$F$759,0)),\"\",INDIRECT(\"Scores!\"&\"R\"&(ROW(Scores!$F$506:$F$759)-1+MATCH('Individual Scores'!$D50,Scores!$F$506:$F$759,0))&\"C\"&COLUMN(Scores!O$1),FALSE)))","v":""},{"$f":"IF('Team Scores'!$Z$1<3,\"\",IF(ISERROR(MATCH('Individual Scores'!$D50,Scores!$F$506:$F$759,0)),\"\",INDIRECT(\"Scores!\"&\"R\"&(ROW(Scores!$F$506:$F$759)-1+MATCH('Individual Scores'!$D50,Scores!$F$506:$F$759,0))&\"C\"&COLUMN(Scores!P$1),FALSE)))","v":""},{"$f":"IF('Team Scores'!$Z$1<3,\"\",IF(ISERROR(MATCH('Individual Scores'!$D50,Scores!$F$506:$F$759,0)),\"\",INDIRECT(\"Scores!\"&\"R\"&(ROW(Scores!$F$506:$F$759)-1+MATCH('Individual Scores'!$D50,Scores!$F$506:$F$759,0))&\"C\"&COLUMN(Scores!S$1),FALSE)))","v":""},"",""]
["GA","16-20","M","Phillip Jacques",1100,1199,"",2299,{"$f":"IF(COUNT(Q51:V51,AA51:AF51,AK51:AP51)>=18/3*'Team Scores'!$Z$1,IF(H51-VLOOKUP(B51&C51,'Individual Awards Computations'!$AY$54:$AZ$58,2,FALSE)=0,\"Leader \"&C51&\":\"&B51,H51-VLOOKUP(B51&C51,'Individual Awards Computations'!$AY$54:$AZ$58,2,FALSE)),\"\")","v":-371},255,688,191.58333333333334,22.777777777777782,"169-214",1,null,{"$f":"IF(ISERROR(MATCH('Individual Scores'!$D51,Scores!$F$1:$F$253,0)),\"\",INDIRECT(\"Scores!\"&\"R\"&MATCH('Individual Scores'!$D51,Scores!$F$1:$F$253,0)&\"C\"&COLUMN(Scores!J$1),FALSE))","v":169},{"$f":"IF(ISERROR(MATCH('Individual Scores'!$D51,Scores!$F$1:$F$253,0)),\"\",INDIRECT(\"Scores!\"&\"R\"&MATCH('Individual Scores'!$D51,Scores!$F$1:$F$253,0)&\"C\"&COLUMN(Scores!K$1),FALSE))","v":172},{"$f":"IF(ISERROR(MATCH('Individual Scores'!$D51,Scores!$F$1:$F$253,0)),\"\",INDIRECT(\"Scores!\"&\"R\"&MATCH('Individual Scores'!$D51,Scores!$F$1:$F$253,0)&\"C\"&COLUMN(Scores!L$1),FALSE))","v":191},{"$f":"IF(ISERROR(MATCH('Individual Scores'!$D51,Scores!$F$1:$F$253,0)),\"\",INDIRECT(\"Scores!\"&\"R\"&MATCH('Individual Scores'!$D51,Scores!$F$1:$F$253,0)&\"C\"&COLUMN(Scores!N$1),FALSE))","v":215},{"$f":"IF(ISERROR(MATCH('Individual Scores'!$D51,Scores!$F$1:$F$253,0)),\"\",INDIRECT(\"Scores!\"&\"R\"&MATCH('Individual Scores'!$D51,Scores!$F$1:$F$253,0)&\"C\"&COLUMN(Scores!O$1),FALSE))","v":181},{"$f":"IF(ISERROR(MATCH('Individual Scores'!$D51,Scores!$F$1:$F$253,0)),\"\",INDIRECT(\"Scores!\"&\"R\"&MATCH('Individual Scores'!$D51,Scores!$F$1:$F$253,0)&\"C\"&COLUMN(Scores!P$1),FALSE))","v":172},{"$f":"IF(ISERROR(MATCH('Individual Scores'!$D51,Scores!$F$1:$F$253,0)),\"\",INDIRECT(\"Scores!\"&\"R\"&MATCH('Individual Scores'!$D51,Scores!$F$1:$F$253,0)&\"C\"&COLUMN(Scores!S$1),FALSE))","v":1100},{"$f":"IF(MAX('Individual Scores'!Q51:V51)>0,MAX('Individual Scores'!Q51:V51),\"\")","v":215},{"$f":"IF(MAX(SUM('Individual Scores'!Q51:S51),SUM('Individual Scores'!T51:V51))>0,MAX(SUM('Individual Scores'!Q51:S51),SUM('Individual Scores'!T51:V51)),\"\")","v":568},null,{"$f":"IF('Team Scores'!$Z$1<2,\"\",IF(ISERROR(MATCH('Individual Scores'!$D51,Scores!$F$253:$F$506,0)),\"\",INDIRECT(\"Scores!\"&\"R\"&(ROW(Scores!$253:$253)-1+MATCH('Individual Scores'!$D51,Scores!$F$253:$F$505,0))&\"C\"&COLUMN(Scores!J$1),FALSE)))","v":162},{"$f":"IF('Team Scores'!$Z$1<2,\"\",IF(ISERROR(MATCH('Individual Scores'!$D51,Scores!$F$253:$F$506,0)),\"\",INDIRECT(\"Scores!\"&\"R\"&(ROW(Scores!$253:$253)-1+MATCH('Individual Scores'!$D51,Scores!$F$253:$F$505,0))&\"C\"&COLUMN(Scores!K$1),FALSE)))","v":184},{"$f":"IF('Team Scores'!$Z$1<2,\"\",IF(ISERROR(MATCH('Individual Scores'!$D51,Scores!$F$253:$F$506,0)),\"\",INDIRECT(\"Scores!\"&\"R\"&(ROW(Scores!$253:$253)-1+MATCH('Individual Scores'!$D51,Scores!$F$253:$F$505,0))&\"C\"&COLUMN(Scores!L$1),FALSE)))","v":165},{"$f":"IF('Team Scores'!$Z$1<2,\"\",IF(ISERROR(MATCH('Individual Scores'!$D51,Scores!$F$253:$F$506,0)),\"\",INDIRECT(\"Scores!\"&\"R\"&(ROW(Scores!$253:$253)-1+MATCH('Individual Scores'!$D51,Scores!$F$253:$F$505,0))&\"C\"&COLUMN(Scores!N$1),FALSE)))","v":209},{"$f":"IF('Team Scores'!$Z$1<2,\"\",IF(ISERROR(MATCH('Individual Scores'!$D51,Scores!$F$253:$F$506,0)),\"\",INDIRECT(\"Scores!\"&\"R\"&(ROW(Scores!$253:$253)-1+MATCH('Individual Scores'!$D51,Scores!$F$253:$F$505,0))&\"C\"&COLUMN(Scores!O$1),FALSE)))","v":224},{"$f":"IF('Team Scores'!$Z$1<2,\"\",IF(ISERROR(MATCH('Individual Scores'!$D51,Scores!$F$253:$F$506,0)),\"\",INDIRECT(\"Scores!\"&\"R\"&(ROW(Scores!$253:$253)-1+MATCH('Individual Scores'!$D51,Scores!$F$253:$F$505,0))&\"C\"&COLUMN(Scores!P$1),FALSE)))","v":255},{"$f":"IF('Team Scores'!$Z$1<2,\"\",IF(ISERROR(MATCH('Individual Scores'!$D51,Scores!$F$253:$F$506,0)),\"\",INDIRECT(\"Scores!\"&\"R\"&(ROW(Scores!$253:$253)-1+MATCH('Individual Scores'!$D51,Scores!$F$253:$F$505,0))&\"C\"&COLUMN(Scores!S$1),FALSE)))","v":1199},255,688,null,{"$f":"IF('Team Scores'!$Z$1<3,\"\",IF(ISERROR(MATCH('Individual Scores'!$D51,Scores!$F$506:$F$759,0)),\"\",INDIRECT(\"Scores!\"&\"R\"&(ROW(Scores!$F$506:$F$759)-1+MATCH('Individual Scores'!$D51,Scores!$F$506:$F$759,0))&\"C\"&COLUMN(Scores!J$1),FALSE)))","v":""},{"$f":"IF('Team Scores'!$Z$1<3,\"\",IF(ISERROR(MATCH('Individual Scores'!$D51,Scores!$F$506:$F$759,0)),\"\",INDIRECT(\"Scores!\"&\"R\"&(ROW(Scores!$F$506:$F$759)-1+MATCH('Individual Scores'!$D51,Scores!$F$506:$F$759,0))&\"C\"&COLUMN(Scores!K$1),FALSE)))","v":""},{"$f":"IF('Team Scores'!$Z$1<3,\"\",IF(ISERROR(MATCH('Individual Scores'!$D51,Scores!$F$506:$F$759,0)),\"\",INDIRECT(\"Scores!\"&\"R\"&(ROW(Scores!$F$506:$F$759)-1+MATCH('Individual Scores'!$D51,Scores!$F$506:$F$759,0))&\"C\"&COLUMN(Scores!L$1),FALSE)))","v":""},{"$f":"IF('Team Scores'!$Z$1<3,\"\",IF(ISERROR(MATCH('Individual Scores'!$D51,Scores!$F$506:$F$759,0)),\"\",INDIRECT(\"Scores!\"&\"R\"&(ROW(Scores!$F$506:$F$759)-1+MATCH('Individual Scores'!$D51,Scores!$F$506:$F$759,0))&\"C\"&COLUMN(Scores!N$1),FALSE)))","v":""},{"$f":"IF('Team Scores'!$Z$1<3,\"\",IF(ISERROR(MATCH('Individual Scores'!$D51,Scores!$F$506:$F$759,0)),\"\",INDIRECT(\"Scores!\"&\"R\"&(ROW(Scores!$F$506:$F$759)-1+MATCH('Individual Scores'!$D51,Scores!$F$506:$F$759,0))&\"C\"&COLUMN(Scores!O$1),FALSE)))","v":""},{"$f":"IF('Team Scores'!$Z$1<3,\"\",IF(ISERROR(MATCH('Individual Scores'!$D51,Scores!$F$506:$F$759,0)),\"\",INDIRECT(\"Scores!\"&\"R\"&(ROW(Scores!$F$506:$F$759)-1+MATCH('Individual Scores'!$D51,Scores!$F$506:$F$759,0))&\"C\"&COLUMN(Scores!P$1),FALSE)))","v":""},{"$f":"IF('Team Scores'!$Z$1<3,\"\",IF(ISERROR(MATCH('Individual Scores'!$D51,Scores!$F$506:$F$759,0)),\"\",INDIRECT(\"Scores!\"&\"R\"&(ROW(Scores!$F$506:$F$759)-1+MATCH('Individual Scores'!$D51,Scores!$F$506:$F$759,0))&\"C\"&COLUMN(Scores!S$1),FALSE)))","v":""},"",""]
["GA","16-20","M","Scott Landeck",971,1159,"",2130,{"$f":"IF(COUNT(Q52:V52,AA52:AF52,AK52:AP52)>=18/3*'Team Scores'!$Z$1,IF(H52-VLOOKUP(B52&C52,'Individual Awards Computations'!$AY$54:$AZ$58,2,FALSE)=0,\"Leader \"&C52&\":\"&B52,H52-VLOOKUP(B52&C52,'Individual Awards Computations'!$AY$54:$AZ$58,2,FALSE)),\"\")","v":-540},242,597,177.5,21.666666666666668,"156-199",1,null,{"$f":"IF(ISERROR(MATCH('Individual Scores'!$D52,Scores!$F$1:$F$253,0)),\"\",INDIRECT(\"Scores!\"&\"R\"&MATCH('Individual Scores'!$D52,Scores!$F$1:$F$253,0)&\"C\"&COLUMN(Scores!J$1),FALSE))","v":176},{"$f":"IF(ISERROR(MATCH('Individual Scores'!$D52,Scores!$F$1:$F$253,0)),\"\",INDIRECT(\"Scores!\"&\"R\"&MATCH('Individual Scores'!$D52,Scores!$F$1:$F$253,0)&\"C\"&COLUMN(Scores!K$1),FALSE))","v":176},{"$f":"IF(ISERROR(MATCH('Individual Scores'!$D52,Scores!$F$1:$F$253,0)),\"\",INDIRECT(\"Scores!\"&\"R\"&MATCH('Individual Scores'!$D52,Scores!$F$1:$F$253,0)&\"C\"&COLUMN(Scores!L$1),FALSE))","v":170},{"$f":"IF(ISERROR(MATCH('Individual Scores'!$D52,Scores!$F$1:$F$253,0)),\"\",INDIRECT(\"Scores!\"&\"R\"&MATCH('Individual Scores'!$D52,Scores!$F$1:$F$253,0)&\"C\"&COLUMN(Scores!N$1),FALSE))","v":153},{"$f":"IF(ISERROR(MATCH('Individual Scores'!$D52,Scores!$F$1:$F$253,0)),\"\",INDIRECT(\"Scores!\"&\"R\"&MATCH('Individual Scores'!$D52,Scores!$F$1:$F$253,0)&\"C\"&COLUMN(Scores!O$1),FALSE))","v":125},{"$f":"IF(ISERROR(MATCH('Individual Scores'!$D52,Scores!$F$1:$F$253,0)),\"\",INDIRECT(\"Scores!\"&\"R\"&MATCH('Individual Scores'!$D52,Scores!$F$1:$F$253,0)&\"C\"&COLUMN(Scores!P$1),FALSE))","v":171},{"$f":"IF(ISERROR(MATCH('Individual Scores'!$D52,Scores!$F$1:$F$253,0)),\"\",INDIRECT(\"Scores!\"&\"R\"&MATCH('Individual Scores'!$D52,Scores!$F$1:$F$253,0)&\"C\"&COLUMN(Scores!S$1),FALSE))","v":971},{"$f":"IF(MAX('Individual Scores'!Q52:V52)>0,MAX('Individual Scores'!Q52:V52),\"\")","v":176},{"$f":"IF(MAX(SUM('Individual Scores'!Q52:S52),SUM('Individual Scores'!T52:V52))>0,MAX(SUM('Individual Scores'!Q52:S52),SUM('Individual Scores'!T52:V52)),\"\")","v":522},null,{"$f":"IF('Team Scores'!$Z$1<2,\"\",IF(ISERROR(MATCH('Individual Scores'!$D52,Scores!$F$253:$F$506,0)),\"\",INDIRECT(\"Scores!\"&\"R\"&(ROW(Scores!$253:$253)-1+MATCH('Individual Scores'!$D52,Scores!$F$253:$F$505,0))&\"C\"&COLUMN(Scores!J$1),FALSE)))","v":167},{"$f":"IF('Team Scores'!$Z$1<2,\"\",IF(ISERROR(MATCH('Individual Scores'!$D52,Scores!$F$253:$F$506,0)),\"\",INDIRECT(\"Scores!\"&\"R\"&(ROW(Scores!$253:$253)-1+MATCH('Individual Scores'!$D52,Scores!$F$253:$F$505,0))&\"C\"&COLUMN(Scores!K$1),FALSE)))","v":180},{"$f":"IF('Team Scores'!$Z$1<2,\"\",IF(ISERROR(MATCH('Individual Scores'!$D52,Scores!$F$253:$F$506,0)),\"\",INDIRECT(\"Scores!\"&\"R\"&(ROW(Scores!$253:$253)-1+MATCH('Individual Scores'!$D52,Scores!$F$253:$F$505,0))&\"C\"&COLUMN(Scores!L$1),FALSE)))","v":215},{"$f":"IF('Team Scores'!$Z$1<2,\"\",IF(ISERROR(MATCH('Individual Scores'!$D52,Scores!$F$253:$F$506,0)),\"\",INDIRECT(\"Scores!\"&\"R\"&(ROW(Scores!$253:$253)-1+MATCH('Individual Scores'!$D52,Scores!$F$253:$F$505,0))&\"C\"&COLUMN(Scores!N$1),FALSE)))","v":242},{"$f":"IF('Team Scores'!$Z$1<2,\"\",IF(ISERROR(MATCH('Individual Scores'!$D52,Scores!$F$253:$F$506,0)),\"\",INDIRECT(\"Scores!\"&\"R\"&(ROW(Scores!$253:$253)-1+MATCH('Individual Scores'!$D52,Scores!$F$253:$F$505,0))&\"C\"&COLUMN(Scores!O$1),FALSE)))","v":152},{"$f":"IF('Team Scores'!$Z$1<2,\"\",IF(ISERROR(MATCH('Individual Scores'!$D52,Scores!$F$253:$F$506,0)),\"\",INDIRECT(\"Scores!\"&\"R\"&(ROW(Scores!$253:$253)-1+MATCH('Individual Scores'!$D52,Scores!$F$253:$F$505,0))&\"C\"&COLUMN(Scores!P$1),FALSE)))","v":203},{"$f":"IF('Team Scores'!$Z$1<2,\"\",IF(ISERROR(MATCH('Individual Scores'!$D52,Scores!$F$253:$F$506,0)),\"\",INDIRECT(\"Scores!\"&\"R\"&(ROW(Scores!$253:$253)-1+MATCH('Individual Scores'!$D52,Scores!$F$253:$F$505,0))&\"C\"&COLUMN(Scores!S$1),FALSE)))","v":1159},242,597,null,{"$f":"IF('Team Scores'!$Z$1<3,\"\",IF(ISERROR(MATCH('Individual Scores'!$D52,Scores!$F$506:$F$759,0)),\"\",INDIRECT(\"Scores!\"&\"R\"&(ROW(Scores!$F$506:$F$759)-1+MATCH('Individual Scores'!$D52,Scores!$F$506:$F$759,0))&\"C\"&COLUMN(Scores!J$1),FALSE)))","v":""},{"$f":"IF('Team Scores'!$Z$1<3,\"\",IF(ISERROR(MATCH('Individual Scores'!$D52,Scores!$F$506:$F$759,0)),\"\",INDIRECT(\"Scores!\"&\"R\"&(ROW(Scores!$F$506:$F$759)-1+MATCH('Individual Scores'!$D52,Scores!$F$506:$F$759,0))&\"C\"&COLUMN(Scores!K$1),FALSE)))","v":""},{"$f":"IF('Team Scores'!$Z$1<3,\"\",IF(ISERROR(MATCH('Individual Scores'!$D52,Scores!$F$506:$F$759,0)),\"\",INDIRECT(\"Scores!\"&\"R\"&(ROW(Scores!$F$506:$F$759)-1+MATCH('Individual Scores'!$D52,Scores!$F$506:$F$759,0))&\"C\"&COLUMN(Scores!L$1),FALSE)))","v":""},{"$f":"IF('Team Scores'!$Z$1<3,\"\",IF(ISERROR(MATCH('Individual Scores'!$D52,Scores!$F$506:$F$759,0)),\"\",INDIRECT(\"Scores!\"&\"R\"&(ROW(Scores!$F$506:$F$759)-1+MATCH('Individual Scores'!$D52,Scores!$F$506:$F$759,0))&\"C\"&COLUMN(Scores!N$1),FALSE)))","v":""},{"$f":"IF('Team Scores'!$Z$1<3,\"\",IF(ISERROR(MATCH('Individual Scores'!$D52,Scores!$F$506:$F$759,0)),\"\",INDIRECT(\"Scores!\"&\"R\"&(ROW(Scores!$F$506:$F$759)-1+MATCH('Individual Scores'!$D52,Scores!$F$506:$F$759,0))&\"C\"&COLUMN(Scores!O$1),FALSE)))","v":""},{"$f":"IF('Team Scores'!$Z$1<3,\"\",IF(ISERROR(MATCH('Individual Scores'!$D52,Scores!$F$506:$F$759,0)),\"\",INDIRECT(\"Scores!\"&\"R\"&(ROW(Scores!$F$506:$F$759)-1+MATCH('Individual Scores'!$D52,Scores!$F$506:$F$759,0))&\"C\"&COLUMN(Scores!P$1),FALSE)))","v":""},{"$f":"IF('Team Scores'!$Z$1<3,\"\",IF(ISERROR(MATCH('Individual Scores'!$D52,Scores!$F$506:$F$759,0)),\"\",INDIRECT(\"Scores!\"&\"R\"&(ROW(Scores!$F$506:$F$759)-1+MATCH('Individual Scores'!$D52,Scores!$F$506:$F$759,0))&\"C\"&COLUMN(Scores!S$1),FALSE)))","v":""},"",""]
["GA","16-20","M","Vacant-GA_B_U20","","","",0,{"$f":"IF(COUNT(Q53:V53,AA53:AF53,AK53:AP53)>=18/3*'Team Scores'!$Z$1,IF(H53-VLOOKUP(B53&C53,'Individual Awards Computations'!$AY$54:$AZ$58,2,FALSE)=0,\"Leader \"&C53&\":\"&B53,H53-VLOOKUP(B53&C53,'Individual Awards Computations'!$AY$54:$AZ$58,2,FALSE)),\"\")","v":""},"","","","","",1,null,{"$f":"IF(ISERROR(MATCH('Individual Scores'!$D53,Scores!$F$1:$F$253,0)),\"\",INDIRECT(\"Scores!\"&\"R\"&MATCH('Individual Scores'!$D53,Scores!$F$1:$F$253,0)&\"C\"&COLUMN(Scores!J$1),FALSE))","v":""},{"$f":"IF(ISERROR(MATCH('Individual Scores'!$D53,Scores!$F$1:$F$253,0)),\"\",INDIRECT(\"Scores!\"&\"R\"&MATCH('Individual Scores'!$D53,Scores!$F$1:$F$253,0)&\"C\"&COLUMN(Scores!K$1),FALSE))","v":""},{"$f":"IF(ISERROR(MATCH('Individual Scores'!$D53,Scores!$F$1:$F$253,0)),\"\",INDIRECT(\"Scores!\"&\"R\"&MATCH('Individual Scores'!$D53,Scores!$F$1:$F$253,0)&\"C\"&COLUMN(Scores!L$1),FALSE))","v":""},{"$f":"IF(ISERROR(MATCH('Individual Scores'!$D53,Scores!$F$1:$F$253,0)),\"\",INDIRECT(\"Scores!\"&\"R\"&MATCH('Individual Scores'!$D53,Scores!$F$1:$F$253,0)&\"C\"&COLUMN(Scores!N$1),FALSE))","v":""},{"$f":"IF(ISERROR(MATCH('Individual Scores'!$D53,Scores!$F$1:$F$253,0)),\"\",INDIRECT(\"Scores!\"&\"R\"&MATCH('Individual Scores'!$D53,Scores!$F$1:$F$253,0)&\"C\"&COLUMN(Scores!O$1),FALSE))","v":""},{"$f":"IF(ISERROR(MATCH('Individual Scores'!$D53,Scores!$F$1:$F$253,0)),\"\",INDIRECT(\"Scores!\"&\"R\"&MATCH('Individual Scores'!$D53,Scores!$F$1:$F$253,0)&\"C\"&COLUMN(Scores!P$1),FALSE))","v":""},{"$f":"IF(ISERROR(MATCH('Individual Scores'!$D53,Scores!$F$1:$F$253,0)),\"\",INDIRECT(\"Scores!\"&\"R\"&MATCH('Individual Scores'!$D53,Scores!$F$1:$F$253,0)&\"C\"&COLUMN(Scores!S$1),FALSE))","v":""},{"$f":"IF(MAX('Individual Scores'!Q53:V53)>0,MAX('Individual Scores'!Q53:V53),\"\")","v":""},{"$f":"IF(MAX(SUM('Individual Scores'!Q53:S53),SUM('Individual Scores'!T53:V53))>0,MAX(SUM('Individual Scores'!Q53:S53),SUM('Individual Scores'!T53:V53)),\"\")","v":""},null,{"$f":"IF('Team Scores'!$Z$1<2,\"\",IF(ISERROR(MATCH('Individual Scores'!$D53,Scores!$F$253:$F$506,0)),\"\",INDIRECT(\"Scores!\"&\"R\"&(ROW(Scores!$253:$253)-1+MATCH('Individual Scores'!$D53,Scores!$F$253:$F$505,0))&\"C\"&COLUMN(Scores!J$1),FALSE)))","v":""},{"$f":"IF('Team Scores'!$Z$1<2,\"\",IF(ISERROR(MATCH('Individual Scores'!$D53,Scores!$F$253:$F$506,0)),\"\",INDIRECT(\"Scores!\"&\"R\"&(ROW(Scores!$253:$253)-1+MATCH('Individual Scores'!$D53,Scores!$F$253:$F$505,0))&\"C\"&COLUMN(Scores!K$1),FALSE)))","v":""},{"$f":"IF('Team Scores'!$Z$1<2,\"\",IF(ISERROR(MATCH('Individual Scores'!$D53,Scores!$F$253:$F$506,0)),\"\",INDIRECT(\"Scores!\"&\"R\"&(ROW(Scores!$253:$253)-1+MATCH('Individual Scores'!$D53,Scores!$F$253:$F$505,0))&\"C\"&COLUMN(Scores!L$1),FALSE)))","v":""},{"$f":"IF('Team Scores'!$Z$1<2,\"\",IF(ISERROR(MATCH('Individual Scores'!$D53,Scores!$F$253:$F$506,0)),\"\",INDIRECT(\"Scores!\"&\"R\"&(ROW(Scores!$253:$253)-1+MATCH('Individual Scores'!$D53,Scores!$F$253:$F$505,0))&\"C\"&COLUMN(Scores!N$1),FALSE)))","v":""},{"$f":"IF('Team Scores'!$Z$1<2,\"\",IF(ISERROR(MATCH('Individual Scores'!$D53,Scores!$F$253:$F$506,0)),\"\",INDIRECT(\"Scores!\"&\"R\"&(ROW(Scores!$253:$253)-1+MATCH('Individual Scores'!$D53,Scores!$F$253:$F$505,0))&\"C\"&COLUMN(Scores!O$1),FALSE)))","v":""},{"$f":"IF('Team Scores'!$Z$1<2,\"\",IF(ISERROR(MATCH('Individual Scores'!$D53,Scores!$F$253:$F$506,0)),\"\",INDIRECT(\"Scores!\"&\"R\"&(ROW(Scores!$253:$253)-1+MATCH('Individual Scores'!$D53,Scores!$F$253:$F$505,0))&\"C\"&COLUMN(Scores!P$1),FALSE)))","v":""},{"$f":"IF('Team Scores'!$Z$1<2,\"\",IF(ISERROR(MATCH('Individual Scores'!$D53,Scores!$F$253:$F$506,0)),\"\",INDIRECT(\"Scores!\"&\"R\"&(ROW(Scores!$253:$253)-1+MATCH('Individual Scores'!$D53,Scores!$F$253:$F$505,0))&\"C\"&COLUMN(Scores!S$1),FALSE)))","v":""},"","",null,{"$f":"IF('Team Scores'!$Z$1<3,\"\",IF(ISERROR(MATCH('Individual Scores'!$D53,Scores!$F$506:$F$759,0)),\"\",INDIRECT(\"Scores!\"&\"R\"&(ROW(Scores!$F$506:$F$759)-1+MATCH('Individual Scores'!$D53,Scores!$F$506:$F$759,0))&\"C\"&COLUMN(Scores!J$1),FALSE)))","v":""},{"$f":"IF('Team Scores'!$Z$1<3,\"\",IF(ISERROR(MATCH('Individual Scores'!$D53,Scores!$F$506:$F$759,0)),\"\",INDIRECT(\"Scores!\"&\"R\"&(ROW(Scores!$F$506:$F$759)-1+MATCH('Individual Scores'!$D53,Scores!$F$506:$F$759,0))&\"C\"&COLUMN(Scores!K$1),FALSE)))","v":""},{"$f":"IF('Team Scores'!$Z$1<3,\"\",IF(ISERROR(MATCH('Individual Scores'!$D53,Scores!$F$506:$F$759,0)),\"\",INDIRECT(\"Scores!\"&\"R\"&(ROW(Scores!$F$506:$F$759)-1+MATCH('Individual Scores'!$D53,Scores!$F$506:$F$759,0))&\"C\"&COLUMN(Scores!L$1),FALSE)))","v":""},{"$f":"IF('Team Scores'!$Z$1<3,\"\",IF(ISERROR(MATCH('Individual Scores'!$D53,Scores!$F$506:$F$759,0)),\"\",INDIRECT(\"Scores!\"&\"R\"&(ROW(Scores!$F$506:$F$759)-1+MATCH('Individual Scores'!$D53,Scores!$F$506:$F$759,0))&\"C\"&COLUMN(Scores!N$1),FALSE)))","v":""},{"$f":"IF('Team Scores'!$Z$1<3,\"\",IF(ISERROR(MATCH('Individual Scores'!$D53,Scores!$F$506:$F$759,0)),\"\",INDIRECT(\"Scores!\"&\"R\"&(ROW(Scores!$F$506:$F$759)-1+MATCH('Individual Scores'!$D53,Scores!$F$506:$F$759,0))&\"C\"&COLUMN(Scores!O$1),FALSE)))","v":""},{"$f":"IF('Team Scores'!$Z$1<3,\"\",IF(ISERROR(MATCH('Individual Scores'!$D53,Scores!$F$506:$F$759,0)),\"\",INDIRECT(\"Scores!\"&\"R\"&(ROW(Scores!$F$506:$F$759)-1+MATCH('Individual Scores'!$D53,Scores!$F$506:$F$759,0))&\"C\"&COLUMN(Scores!P$1),FALSE)))","v":""},{"$f":"IF('Team Scores'!$Z$1<3,\"\",IF(ISERROR(MATCH('Individual Scores'!$D53,Scores!$F$506:$F$759,0)),\"\",INDIRECT(\"Scores!\"&\"R\"&(ROW(Scores!$F$506:$F$759)-1+MATCH('Individual Scores'!$D53,Scores!$F$506:$F$759,0))&\"C\"&COLUMN(Scores!S$1),FALSE)))","v":""},"",""]
["GA","16-20","M",null,"","","",0,{"$f":"IF(COUNT(Q54:V54,AA54:AF54,AK54:AP54)>=18/3*'Team Scores'!$Z$1,IF(H54-VLOOKUP(B54&C54,'Individual Awards Computations'!$AY$54:$AZ$58,2,FALSE)=0,\"Leader \"&C54&\":\"&B54,H54-VLOOKUP(B54&C54,'Individual Awards Computations'!$AY$54:$AZ$58,2,FALSE)),\"\")","v":""},"","","","","",0,null,{"$f":"IF(ISERROR(MATCH('Individual Scores'!$D54,Scores!$F$1:$F$253,0)),\"\",INDIRECT(\"Scores!\"&\"R\"&MATCH('Individual Scores'!$D54,Scores!$F$1:$F$253,0)&\"C\"&COLUMN(Scores!J$1),FALSE))","v":""},{"$f":"IF(ISERROR(MATCH('Individual Scores'!$D54,Scores!$F$1:$F$253,0)),\"\",INDIRECT(\"Scores!\"&\"R\"&MATCH('Individual Scores'!$D54,Scores!$F$1:$F$253,0)&\"C\"&COLUMN(Scores!K$1),FALSE))","v":""},{"$f":"IF(ISERROR(MATCH('Individual Scores'!$D54,Scores!$F$1:$F$253,0)),\"\",INDIRECT(\"Scores!\"&\"R\"&MATCH('Individual Scores'!$D54,Scores!$F$1:$F$253,0)&\"C\"&COLUMN(Scores!L$1),FALSE))","v":""},{"$f":"IF(ISERROR(MATCH('Individual Scores'!$D54,Scores!$F$1:$F$253,0)),\"\",INDIRECT(\"Scores!\"&\"R\"&MATCH('Individual Scores'!$D54,Scores!$F$1:$F$253,0)&\"C\"&COLUMN(Scores!N$1),FALSE))","v":""},{"$f":"IF(ISERROR(MATCH('Individual Scores'!$D54,Scores!$F$1:$F$253,0)),\"\",INDIRECT(\"Scores!\"&\"R\"&MATCH('Individual Scores'!$D54,Scores!$F$1:$F$253,0)&\"C\"&COLUMN(Scores!O$1),FALSE))","v":""},{"$f":"IF(ISERROR(MATCH('Individual Scores'!$D54,Scores!$F$1:$F$253,0)),\"\",INDIRECT(\"Scores!\"&\"R\"&MATCH('Individual Scores'!$D54,Scores!$F$1:$F$253,0)&\"C\"&COLUMN(Scores!P$1),FALSE))","v":""},{"$f":"IF(ISERROR(MATCH('Individual Scores'!$D54,Scores!$F$1:$F$253,0)),\"\",INDIRECT(\"Scores!\"&\"R\"&MATCH('Individual Scores'!$D54,Scores!$F$1:$F$253,0)&\"C\"&COLUMN(Scores!S$1),FALSE))","v":""},{"$f":"IF(MAX('Individual Scores'!Q54:V54)>0,MAX('Individual Scores'!Q54:V54),\"\")","v":""},{"$f":"IF(MAX(SUM('Individual Scores'!Q54:S54),SUM('Individual Scores'!T54:V54))>0,MAX(SUM('Individual Scores'!Q54:S54),SUM('Individual Scores'!T54:V54)),\"\")","v":""},null,{"$f":"IF('Team Scores'!$Z$1<2,\"\",IF(ISERROR(MATCH('Individual Scores'!$D54,Scores!$F$253:$F$506,0)),\"\",INDIRECT(\"Scores!\"&\"R\"&(ROW(Scores!$253:$253)-1+MATCH('Individual Scores'!$D54,Scores!$F$253:$F$505,0))&\"C\"&COLUMN(Scores!J$1),FALSE)))","v":""},{"$f":"IF('Team Scores'!$Z$1<2,\"\",IF(ISERROR(MATCH('Individual Scores'!$D54,Scores!$F$253:$F$506,0)),\"\",INDIRECT(\"Scores!\"&\"R\"&(ROW(Scores!$253:$253)-1+MATCH('Individual Scores'!$D54,Scores!$F$253:$F$505,0))&\"C\"&COLUMN(Scores!K$1),FALSE)))","v":""},{"$f":"IF('Team Scores'!$Z$1<2,\"\",IF(ISERROR(MATCH('Individual Scores'!$D54,Scores!$F$253:$F$506,0)),\"\",INDIRECT(\"Scores!\"&\"R\"&(ROW(Scores!$253:$253)-1+MATCH('Individual Scores'!$D54,Scores!$F$253:$F$505,0))&\"C\"&COLUMN(Scores!L$1),FALSE)))","v":""},{"$f":"IF('Team Scores'!$Z$1<2,\"\",IF(ISERROR(MATCH('Individual Scores'!$D54,Scores!$F$253:$F$506,0)),\"\",INDIRECT(\"Scores!\"&\"R\"&(ROW(Scores!$253:$253)-1+MATCH('Individual Scores'!$D54,Scores!$F$253:$F$505,0))&\"C\"&COLUMN(Scores!N$1),FALSE)))","v":""},{"$f":"IF('Team Scores'!$Z$1<2,\"\",IF(ISERROR(MATCH('Individual Scores'!$D54,Scores!$F$253:$F$506,0)),\"\",INDIRECT(\"Scores!\"&\"R\"&(ROW(Scores!$253:$253)-1+MATCH('Individual Scores'!$D54,Scores!$F$253:$F$505,0))&\"C\"&COLUMN(Scores!O$1),FALSE)))","v":""},{"$f":"IF('Team Scores'!$Z$1<2,\"\",IF(ISERROR(MATCH('Individual Scores'!$D54,Scores!$F$253:$F$506,0)),\"\",INDIRECT(\"Scores!\"&\"R\"&(ROW(Scores!$253:$253)-1+MATCH('Individual Scores'!$D54,Scores!$F$253:$F$505,0))&\"C\"&COLUMN(Scores!P$1),FALSE)))","v":""},{"$f":"IF('Team Scores'!$Z$1<2,\"\",IF(ISERROR(MATCH('Individual Scores'!$D54,Scores!$F$253:$F$506,0)),\"\",INDIRECT(\"Scores!\"&\"R\"&(ROW(Scores!$253:$253)-1+MATCH('Individual Scores'!$D54,Scores!$F$253:$F$505,0))&\"C\"&COLUMN(Scores!S$1),FALSE)))","v":""},"","",null,{"$f":"IF('Team Scores'!$Z$1<3,\"\",IF(ISERROR(MATCH('Individual Scores'!$D54,Scores!$F$506:$F$759,0)),\"\",INDIRECT(\"Scores!\"&\"R\"&(ROW(Scores!$F$506:$F$759)-1+MATCH('Individual Scores'!$D54,Scores!$F$506:$F$759,0))&\"C\"&COLUMN(Scores!J$1),FALSE)))","v":""},{"$f":"IF('Team Scores'!$Z$1<3,\"\",IF(ISERROR(MATCH('Individual Scores'!$D54,Scores!$F$506:$F$759,0)),\"\",INDIRECT(\"Scores!\"&\"R\"&(ROW(Scores!$F$506:$F$759)-1+MATCH('Individual Scores'!$D54,Scores!$F$506:$F$759,0))&\"C\"&COLUMN(Scores!K$1),FALSE)))","v":""},{"$f":"IF('Team Scores'!$Z$1<3,\"\",IF(ISERROR(MATCH('Individual Scores'!$D54,Scores!$F$506:$F$759,0)),\"\",INDIRECT(\"Scores!\"&\"R\"&(ROW(Scores!$F$506:$F$759)-1+MATCH('Individual Scores'!$D54,Scores!$F$506:$F$759,0))&\"C\"&COLUMN(Scores!L$1),FALSE)))","v":""},{"$f":"IF('Team Scores'!$Z$1<3,\"\",IF(ISERROR(MATCH('Individual Scores'!$D54,Scores!$F$506:$F$759,0)),\"\",INDIRECT(\"Scores!\"&\"R\"&(ROW(Scores!$F$506:$F$759)-1+MATCH('Individual Scores'!$D54,Scores!$F$506:$F$759,0))&\"C\"&COLUMN(Scores!N$1),FALSE)))","v":""},{"$f":"IF('Team Scores'!$Z$1<3,\"\",IF(ISERROR(MATCH('Individual Scores'!$D54,Scores!$F$506:$F$759,0)),\"\",INDIRECT(\"Scores!\"&\"R\"&(ROW(Scores!$F$506:$F$759)-1+MATCH('Individual Scores'!$D54,Scores!$F$506:$F$759,0))&\"C\"&COLUMN(Scores!O$1),FALSE)))","v":""},{"$f":"IF('Team Scores'!$Z$1<3,\"\",IF(ISERROR(MATCH('Individual Scores'!$D54,Scores!$F$506:$F$759,0)),\"\",INDIRECT(\"Scores!\"&\"R\"&(ROW(Scores!$F$506:$F$759)-1+MATCH('Individual Scores'!$D54,Scores!$F$506:$F$759,0))&\"C\"&COLUMN(Scores!P$1),FALSE)))","v":""},{"$f":"IF('Team Scores'!$Z$1<3,\"\",IF(ISERROR(MATCH('Individual Scores'!$D54,Scores!$F$506:$F$759,0)),\"\",INDIRECT(\"Scores!\"&\"R\"&(ROW(Scores!$F$506:$F$759)-1+MATCH('Individual Scores'!$D54,Scores!$F$506:$F$759,0))&\"C\"&COLUMN(Scores!S$1),FALSE)))","v":""},"",""]
["NC","15 & <","F","Maranda Marcum",983,1027,"",2010,{"$f":"IF(COUNT(Q55:V55,AA55:AF55,AK55:AP55)>=18/3*'Team Scores'!$Z$1,IF(H55-VLOOKUP(B55&C55,'Individual Awards Computations'!$AY$54:$AZ$58,2,FALSE)=0,\"Leader \"&C55&\":\"&B55,H55-VLOOKUP(B55&C55,'Individual Awards Computations'!$AY$54:$AZ$58,2,FALSE)),\"\")","v":-403},201,539,167.5,13.833333333333334,"154-181",1,null,{"$f":"IF(ISERROR(MATCH('Individual Scores'!$D55,Scores!$F$1:$F$253,0)),\"\",INDIRECT(\"Scores!\"&\"R\"&MATCH('Individual Scores'!$D55,Scores!$F$1:$F$253,0)&\"C\"&COLUMN(Scores!J$1),FALSE))","v":143},{"$f":"IF(ISERROR(MATCH('Individual Scores'!$D55,Scores!$F$1:$F$253,0)),\"\",INDIRECT(\"Scores!\"&\"R\"&MATCH('Individual Scores'!$D55,Scores!$F$1:$F$253,0)&\"C\"&COLUMN(Scores!K$1),FALSE))","v":150},{"$f":"IF(ISERROR(MATCH('Individual Scores'!$D55,Scores!$F$1:$F$253,0)),\"\",INDIRECT(\"Scores!\"&\"R\"&MATCH('Individual Scores'!$D55,Scores!$F$1:$F$253,0)&\"C\"&COLUMN(Scores!L$1),FALSE))","v":151},{"$f":"IF(ISERROR(MATCH('Individual Scores'!$D55,Scores!$F$1:$F$253,0)),\"\",INDIRECT(\"Scores!\"&\"R\"&MATCH('Individual Scores'!$D55,Scores!$F$1:$F$253,0)&\"C\"&COLUMN(Scores!N$1),FALSE))","v":201},{"$f":"IF(ISERROR(MATCH('Individual Scores'!$D55,Scores!$F$1:$F$253,0)),\"\",INDIRECT(\"Scores!\"&\"R\"&MATCH('Individual Scores'!$D55,Scores!$F$1:$F$253,0)&\"C\"&COLUMN(Scores!O$1),FALSE))","v":179},{"$f":"IF(ISERROR(MATCH('Individual Scores'!$D55,Scores!$F$1:$F$253,0)),\"\",INDIRECT(\"Scores!\"&\"R\"&MATCH('Individual Scores'!$D55,Scores!$F$1:$F$253,0)&\"C\"&COLUMN(Scores!P$1),FALSE))","v":159},{"$f":"IF(ISERROR(MATCH('Individual Scores'!$D55,Scores!$F$1:$F$253,0)),\"\",INDIRECT(\"Scores!\"&\"R\"&MATCH('Individual Scores'!$D55,Scores!$F$1:$F$253,0)&\"C\"&COLUMN(Scores!S$1),FALSE))","v":983},{"$f":"IF(MAX('Individual Scores'!Q55:V55)>0,MAX('Individual Scores'!Q55:V55),\"\")","v":201},{"$f":"IF(MAX(SUM('Individual Scores'!Q55:S55),SUM('Individual Scores'!T55:V55))>0,MAX(SUM('Individual Scores'!Q55:S55),SUM('Individual Scores'!T55:V55)),\"\")","v":539},null,{"$f":"IF('Team Scores'!$Z$1<2,\"\",IF(ISERROR(MATCH('Individual Scores'!$D55,Scores!$F$253:$F$506,0)),\"\",INDIRECT(\"Scores!\"&\"R\"&(ROW(Scores!$253:$253)-1+MATCH('Individual Scores'!$D55,Scores!$F$253:$F$505,0))&\"C\"&COLUMN(Scores!J$1),FALSE)))","v":179},{"$f":"IF('Team Scores'!$Z$1<2,\"\",IF(ISERROR(MATCH('Individual Scores'!$D55,Scores!$F$253:$F$506,0)),\"\",INDIRECT(\"Scores!\"&\"R\"&(ROW(Scores!$253:$253)-1+MATCH('Individual Scores'!$D55,Scores!$F$253:$F$505,0))&\"C\"&COLUMN(Scores!K$1),FALSE)))","v":182},{"$f":"IF('Team Scores'!$Z$1<2,\"\",IF(ISERROR(MATCH('Individual Scores'!$D55,Scores!$F$253:$F$506,0)),\"\",INDIRECT(\"Scores!\"&\"R\"&(ROW(Scores!$253:$253)-1+MATCH('Individual Scores'!$D55,Scores!$F$253:$F$505,0))&\"C\"&COLUMN(Scores!L$1),FALSE)))","v":170},{"$f":"IF('Team Scores'!$Z$1<2,\"\",IF(ISERROR(MATCH('Individual Scores'!$D55,Scores!$F$253:$F$506,0)),\"\",INDIRECT(\"Scores!\"&\"R\"&(ROW(Scores!$253:$253)-1+MATCH('Individual Scores'!$D55,Scores!$F$253:$F$505,0))&\"C\"&COLUMN(Scores!N$1),FALSE)))","v":177},{"$f":"IF('Team Scores'!$Z$1<2,\"\",IF(ISERROR(MATCH('Individual Scores'!$D55,Scores!$F$253:$F$506,0)),\"\",INDIRECT(\"Scores!\"&\"R\"&(ROW(Scores!$253:$253)-1+MATCH('Individual Scores'!$D55,Scores!$F$253:$F$505,0))&\"C\"&COLUMN(Scores!O$1),FALSE)))","v":161},{"$f":"IF('Team Scores'!$Z$1<2,\"\",IF(ISERROR(MATCH('Individual Scores'!$D55,Scores!$F$253:$F$506,0)),\"\",INDIRECT(\"Scores!\"&\"R\"&(ROW(Scores!$253:$253)-1+MATCH('Individual Scores'!$D55,Scores!$F$253:$F$505,0))&\"C\"&COLUMN(Scores!P$1),FALSE)))","v":158},{"$f":"IF('Team Scores'!$Z$1<2,\"\",IF(ISERROR(MATCH('Individual Scores'!$D55,Scores!$F$253:$F$506,0)),\"\",INDIRECT(\"Scores!\"&\"R\"&(ROW(Scores!$253:$253)-1+MATCH('Individual Scores'!$D55,Scores!$F$253:$F$505,0))&\"C\"&COLUMN(Scores!S$1),FALSE)))","v":1027},182,531,null,{"$f":"IF('Team Scores'!$Z$1<3,\"\",IF(ISERROR(MATCH('Individual Scores'!$D55,Scores!$F$506:$F$759,0)),\"\",INDIRECT(\"Scores!\"&\"R\"&(ROW(Scores!$F$506:$F$759)-1+MATCH('Individual Scores'!$D55,Scores!$F$506:$F$759,0))&\"C\"&COLUMN(Scores!J$1),FALSE)))","v":""},{"$f":"IF('Team Scores'!$Z$1<3,\"\",IF(ISERROR(MATCH('Individual Scores'!$D55,Scores!$F$506:$F$759,0)),\"\",INDIRECT(\"Scores!\"&\"R\"&(ROW(Scores!$F$506:$F$759)-1+MATCH('Individual Scores'!$D55,Scores!$F$506:$F$759,0))&\"C\"&COLUMN(Scores!K$1),FALSE)))","v":""},{"$f":"IF('Team Scores'!$Z$1<3,\"\",IF(ISERROR(MATCH('Individual Scores'!$D55,Scores!$F$506:$F$759,0)),\"\",INDIRECT(\"Scores!\"&\"R\"&(ROW(Scores!$F$506:$F$759)-1+MATCH('Individual Scores'!$D55,Scores!$F$506:$F$759,0))&\"C\"&COLUMN(Scores!L$1),FALSE)))","v":""},{"$f":"IF('Team Scores'!$Z$1<3,\"\",IF(ISERROR(MATCH('Individual Scores'!$D55,Scores!$F$506:$F$759,0)),\"\",INDIRECT(\"Scores!\"&\"R\"&(ROW(Scores!$F$506:$F$759)-1+MATCH('Individual Scores'!$D55,Scores!$F$506:$F$759,0))&\"C\"&COLUMN(Scores!N$1),FALSE)))","v":""},{"$f":"IF('Team Scores'!$Z$1<3,\"\",IF(ISERROR(MATCH('Individual Scores'!$D55,Scores!$F$506:$F$759,0)),\"\",INDIRECT(\"Scores!\"&\"R\"&(ROW(Scores!$F$506:$F$759)-1+MATCH('Individual Scores'!$D55,Scores!$F$506:$F$759,0))&\"C\"&COLUMN(Scores!O$1),FALSE)))","v":""},{"$f":"IF('Team Scores'!$Z$1<3,\"\",IF(ISERROR(MATCH('Individual Scores'!$D55,Scores!$F$506:$F$759,0)),\"\",INDIRECT(\"Scores!\"&\"R\"&(ROW(Scores!$F$506:$F$759)-1+MATCH('Individual Scores'!$D55,Scores!$F$506:$F$759,0))&\"C\"&COLUMN(Scores!P$1),FALSE)))","v":""},{"$f":"IF('Team Scores'!$Z$1<3,\"\",IF(ISERROR(MATCH('Individual Scores'!$D55,Scores!$F$506:$F$759,0)),\"\",INDIRECT(\"Scores!\"&\"R\"&(ROW(Scores!$F$506:$F$759)-1+MATCH('Individual Scores'!$D55,Scores!$F$506:$F$759,0))&\"C\"&COLUMN(Scores!S$1),FALSE)))","v":""},"",""]
["NC","15 & <","F","Aubrey Shipman",956,976,"",1932,{"$f":"IF(COUNT(Q56:V56,AA56:AF56,AK56:AP56)>=18/3*'Team Scores'!$Z$1,IF(H56-VLOOKUP(B56&C56,'Individual Awards Computations'!$AY$54:$AZ$58,2,FALSE)=0,\"Leader \"&C56&\":\"&B56,H56-VLOOKUP(B56&C56,'Individual Awards Computations'!$AY$54:$AZ$58,2,FALSE)),\"\")","v":-481},196,490,161,13.166666666666666,"148-174",1,null,{"$f":"IF(ISERROR(MATCH('Individual Scores'!$D56,Scores!$F$1:$F$253,0)),\"\",INDIRECT(\"Scores!\"&\"R\"&MATCH('Individual Scores'!$D56,Scores!$F$1:$F$253,0)&\"C\"&COLUMN(Scores!J$1),FALSE))","v":156},{"$f":"IF(ISERROR(MATCH('Individual Scores'!$D56,Scores!$F$1:$F$253,0)),\"\",INDIRECT(\"Scores!\"&\"R\"&MATCH('Individual Scores'!$D56,Scores!$F$1:$F$253,0)&\"C\"&COLUMN(Scores!K$1),FALSE))","v":183},{"$f":"IF(ISERROR(MATCH('Individual Scores'!$D56,Scores!$F$1:$F$253,0)),\"\",INDIRECT(\"Scores!\"&\"R\"&MATCH('Individual Scores'!$D56,Scores!$F$1:$F$253,0)&\"C\"&COLUMN(Scores!L$1),FALSE))","v":147},{"$f":"IF(ISERROR(MATCH('Individual Scores'!$D56,Scores!$F$1:$F$253,0)),\"\",INDIRECT(\"Scores!\"&\"R\"&MATCH('Individual Scores'!$D56,Scores!$F$1:$F$253,0)&\"C\"&COLUMN(Scores!N$1),FALSE))","v":147},{"$f":"IF(ISERROR(MATCH('Individual Scores'!$D56,Scores!$F$1:$F$253,0)),\"\",INDIRECT(\"Scores!\"&\"R\"&MATCH('Individual Scores'!$D56,Scores!$F$1:$F$253,0)&\"C\"&COLUMN(Scores!O$1),FALSE))","v":168},{"$f":"IF(ISERROR(MATCH('Individual Scores'!$D56,Scores!$F$1:$F$253,0)),\"\",INDIRECT(\"Scores!\"&\"R\"&MATCH('Individual Scores'!$D56,Scores!$F$1:$F$253,0)&\"C\"&COLUMN(Scores!P$1),FALSE))","v":155},{"$f":"IF(ISERROR(MATCH('Individual Scores'!$D56,Scores!$F$1:$F$253,0)),\"\",INDIRECT(\"Scores!\"&\"R\"&MATCH('Individual Scores'!$D56,Scores!$F$1:$F$253,0)&\"C\"&COLUMN(Scores!S$1),FALSE))","v":956},{"$f":"IF(MAX('Individual Scores'!Q56:V56)>0,MAX('Individual Scores'!Q56:V56),\"\")","v":183},{"$f":"IF(MAX(SUM('Individual Scores'!Q56:S56),SUM('Individual Scores'!T56:V56))>0,MAX(SUM('Individual Scores'!Q56:S56),SUM('Individual Scores'!T56:V56)),\"\")","v":486},null,{"$f":"IF('Team Scores'!$Z$1<2,\"\",IF(ISERROR(MATCH('Individual Scores'!$D56,Scores!$F$253:$F$506,0)),\"\",INDIRECT(\"Scores!\"&\"R\"&(ROW(Scores!$253:$253)-1+MATCH('Individual Scores'!$D56,Scores!$F$253:$F$505,0))&\"C\"&COLUMN(Scores!J$1),FALSE)))","v":196},{"$f":"IF('Team Scores'!$Z$1<2,\"\",IF(ISERROR(MATCH('Individual Scores'!$D56,Scores!$F$253:$F$506,0)),\"\",INDIRECT(\"Scores!\"&\"R\"&(ROW(Scores!$253:$253)-1+MATCH('Individual Scores'!$D56,Scores!$F$253:$F$505,0))&\"C\"&COLUMN(Scores!K$1),FALSE)))","v":140},{"$f":"IF('Team Scores'!$Z$1<2,\"\",IF(ISERROR(MATCH('Individual Scores'!$D56,Scores!$F$253:$F$506,0)),\"\",INDIRECT(\"Scores!\"&\"R\"&(ROW(Scores!$253:$253)-1+MATCH('Individual Scores'!$D56,Scores!$F$253:$F$505,0))&\"C\"&COLUMN(Scores!L$1),FALSE)))","v":150},{"$f":"IF('Team Scores'!$Z$1<2,\"\",IF(ISERROR(MATCH('Individual Scores'!$D56,Scores!$F$253:$F$506,0)),\"\",INDIRECT(\"Scores!\"&\"R\"&(ROW(Scores!$253:$253)-1+MATCH('Individual Scores'!$D56,Scores!$F$253:$F$505,0))&\"C\"&COLUMN(Scores!N$1),FALSE)))","v":168},{"$f":"IF('Team Scores'!$Z$1<2,\"\",IF(ISERROR(MATCH('Individual Scores'!$D56,Scores!$F$253:$F$506,0)),\"\",INDIRECT(\"Scores!\"&\"R\"&(ROW(Scores!$253:$253)-1+MATCH('Individual Scores'!$D56,Scores!$F$253:$F$505,0))&\"C\"&COLUMN(Scores!O$1),FALSE)))","v":169},{"$f":"IF('Team Scores'!$Z$1<2,\"\",IF(ISERROR(MATCH('Individual Scores'!$D56,Scores!$F$253:$F$506,0)),\"\",INDIRECT(\"Scores!\"&\"R\"&(ROW(Scores!$253:$253)-1+MATCH('Individual Scores'!$D56,Scores!$F$253:$F$505,0))&\"C\"&COLUMN(Scores!P$1),FALSE)))","v":153},{"$f":"IF('Team Scores'!$Z$1<2,\"\",IF(ISERROR(MATCH('Individual Scores'!$D56,Scores!$F$253:$F$506,0)),\"\",INDIRECT(\"Scores!\"&\"R\"&(ROW(Scores!$253:$253)-1+MATCH('Individual Scores'!$D56,Scores!$F$253:$F$505,0))&\"C\"&COLUMN(Scores!S$1),FALSE)))","v":976},196,490,null,{"$f":"IF('Team Scores'!$Z$1<3,\"\",IF(ISERROR(MATCH('Individual Scores'!$D56,Scores!$F$506:$F$759,0)),\"\",INDIRECT(\"Scores!\"&\"R\"&(ROW(Scores!$F$506:$F$759)-1+MATCH('Individual Scores'!$D56,Scores!$F$506:$F$759,0))&\"C\"&COLUMN(Scores!J$1),FALSE)))","v":""},{"$f":"IF('Team Scores'!$Z$1<3,\"\",IF(ISERROR(MATCH('Individual Scores'!$D56,Scores!$F$506:$F$759,0)),\"\",INDIRECT(\"Scores!\"&\"R\"&(ROW(Scores!$F$506:$F$759)-1+MATCH('Individual Scores'!$D56,Scores!$F$506:$F$759,0))&\"C\"&COLUMN(Scores!K$1),FALSE)))","v":""},{"$f":"IF('Team Scores'!$Z$1<3,\"\",IF(ISERROR(MATCH('Individual Scores'!$D56,Scores!$F$506:$F$759,0)),\"\",INDIRECT(\"Scores!\"&\"R\"&(ROW(Scores!$F$506:$F$759)-1+MATCH('Individual Scores'!$D56,Scores!$F$506:$F$759,0))&\"C\"&COLUMN(Scores!L$1),FALSE)))","v":""},{"$f":"IF('Team Scores'!$Z$1<3,\"\",IF(ISERROR(MATCH('Individual Scores'!$D56,Scores!$F$506:$F$759,0)),\"\",INDIRECT(\"Scores!\"&\"R\"&(ROW(Scores!$F$506:$F$759)-1+MATCH('Individual Scores'!$D56,Scores!$F$506:$F$759,0))&\"C\"&COLUMN(Scores!N$1),FALSE)))","v":""},{"$f":"IF('Team Scores'!$Z$1<3,\"\",IF(ISERROR(MATCH('Individual Scores'!$D56,Scores!$F$506:$F$759,0)),\"\",INDIRECT(\"Scores!\"&\"R\"&(ROW(Scores!$F$506:$F$759)-1+MATCH('Individual Scores'!$D56,Scores!$F$506:$F$759,0))&\"C\"&COLUMN(Scores!O$1),FALSE)))","v":""},{"$f":"IF('Team Scores'!$Z$1<3,\"\",IF(ISERROR(MATCH('Individual Scores'!$D56,Scores!$F$506:$F$759,0)),\"\",INDIRECT(\"Scores!\"&\"R\"&(ROW(Scores!$F$506:$F$759)-1+MATCH('Individual Scores'!$D56,Scores!$F$506:$F$759,0))&\"C\"&COLUMN(Scores!P$1),FALSE)))","v":""},{"$f":"IF('Team Scores'!$Z$1<3,\"\",IF(ISERROR(MATCH('Individual Scores'!$D56,Scores!$F$506:$F$759,0)),\"\",INDIRECT(\"Scores!\"&\"R\"&(ROW(Scores!$F$506:$F$759)-1+MATCH('Individual Scores'!$D56,Scores!$F$506:$F$759,0))&\"C\"&COLUMN(Scores!S$1),FALSE)))","v":""},"",""]
["NC","15 & <","F","Megan McWhirter",929,912,"",1841,{"$f":"IF(COUNT(Q57:V57,AA57:AF57,AK57:AP57)>=18/3*'Team Scores'!$Z$1,IF(H57-VLOOKUP(B57&C57,'Individual Awards Computations'!$AY$54:$AZ$58,2,FALSE)=0,\"Leader \"&C57&\":\"&B57,H57-VLOOKUP(B57&C57,'Individual Awards Computations'!$AY$54:$AZ$58,2,FALSE)),\"\")","v":-572},178,479,153.41666666666666,14.416666666666666,"139-168",1,null,{"$f":"IF(ISERROR(MATCH('Individual Scores'!$D57,Scores!$F$1:$F$253,0)),\"\",INDIRECT(\"Scores!\"&\"R\"&MATCH('Individual Scores'!$D57,Scores!$F$1:$F$253,0)&\"C\"&COLUMN(Scores!J$1),FALSE))","v":173},{"$f":"IF(ISERROR(MATCH('Individual Scores'!$D57,Scores!$F$1:$F$253,0)),\"\",INDIRECT(\"Scores!\"&\"R\"&MATCH('Individual Scores'!$D57,Scores!$F$1:$F$253,0)&\"C\"&COLUMN(Scores!K$1),FALSE))","v":128},{"$f":"IF(ISERROR(MATCH('Individual Scores'!$D57,Scores!$F$1:$F$253,0)),\"\",INDIRECT(\"Scores!\"&\"R\"&MATCH('Individual Scores'!$D57,Scores!$F$1:$F$253,0)&\"C\"&COLUMN(Scores!L$1),FALSE))","v":178},{"$f":"IF(ISERROR(MATCH('Individual Scores'!$D57,Scores!$F$1:$F$253,0)),\"\",INDIRECT(\"Scores!\"&\"R\"&MATCH('Individual Scores'!$D57,Scores!$F$1:$F$253,0)&\"C\"&COLUMN(Scores!N$1),FALSE))","v":135},{"$f":"IF(ISERROR(MATCH('Individual Scores'!$D57,Scores!$F$1:$F$253,0)),\"\",INDIRECT(\"Scores!\"&\"R\"&MATCH('Individual Scores'!$D57,Scores!$F$1:$F$253,0)&\"C\"&COLUMN(Scores!O$1),FALSE))","v":171},{"$f":"IF(ISERROR(MATCH('Individual Scores'!$D57,Scores!$F$1:$F$253,0)),\"\",INDIRECT(\"Scores!\"&\"R\"&MATCH('Individual Scores'!$D57,Scores!$F$1:$F$253,0)&\"C\"&COLUMN(Scores!P$1),FALSE))","v":144},{"$f":"IF(ISERROR(MATCH('Individual Scores'!$D57,Scores!$F$1:$F$253,0)),\"\",INDIRECT(\"Scores!\"&\"R\"&MATCH('Individual Scores'!$D57,Scores!$F$1:$F$253,0)&\"C\"&COLUMN(Scores!S$1),FALSE))","v":929},{"$f":"IF(MAX('Individual Scores'!Q57:V57)>0,MAX('Individual Scores'!Q57:V57),\"\")","v":178},{"$f":"IF(MAX(SUM('Individual Scores'!Q57:S57),SUM('Individual Scores'!T57:V57))>0,MAX(SUM('Individual Scores'!Q57:S57),SUM('Individual Scores'!T57:V57)),\"\")","v":479},null,{"$f":"IF('Team Scores'!$Z$1<2,\"\",IF(ISERROR(MATCH('Individual Scores'!$D57,Scores!$F$253:$F$506,0)),\"\",INDIRECT(\"Scores!\"&\"R\"&(ROW(Scores!$253:$253)-1+MATCH('Individual Scores'!$D57,Scores!$F$253:$F$505,0))&\"C\"&COLUMN(Scores!J$1),FALSE)))","v":158},{"$f":"IF('Team Scores'!$Z$1<2,\"\",IF(ISERROR(MATCH('Individual Scores'!$D57,Scores!$F$253:$F$506,0)),\"\",INDIRECT(\"Scores!\"&\"R\"&(ROW(Scores!$253:$253)-1+MATCH('Individual Scores'!$D57,Scores!$F$253:$F$505,0))&\"C\"&COLUMN(Scores!K$1),FALSE)))","v":153},{"$f":"IF('Team Scores'!$Z$1<2,\"\",IF(ISERROR(MATCH('Individual Scores'!$D57,Scores!$F$253:$F$506,0)),\"\",INDIRECT(\"Scores!\"&\"R\"&(ROW(Scores!$253:$253)-1+MATCH('Individual Scores'!$D57,Scores!$F$253:$F$505,0))&\"C\"&COLUMN(Scores!L$1),FALSE)))","v":155},{"$f":"IF('Team Scores'!$Z$1<2,\"\",IF(ISERROR(MATCH('Individual Scores'!$D57,Scores!$F$253:$F$506,0)),\"\",INDIRECT(\"Scores!\"&\"R\"&(ROW(Scores!$253:$253)-1+MATCH('Individual Scores'!$D57,Scores!$F$253:$F$505,0))&\"C\"&COLUMN(Scores!N$1),FALSE)))","v":172},{"$f":"IF('Team Scores'!$Z$1<2,\"\",IF(ISERROR(MATCH('Individual Scores'!$D57,Scores!$F$253:$F$506,0)),\"\",INDIRECT(\"Scores!\"&\"R\"&(ROW(Scores!$253:$253)-1+MATCH('Individual Scores'!$D57,Scores!$F$253:$F$505,0))&\"C\"&COLUMN(Scores!O$1),FALSE)))","v":130},{"$f":"IF('Team Scores'!$Z$1<2,\"\",IF(ISERROR(MATCH('Individual Scores'!$D57,Scores!$F$253:$F$506,0)),\"\",INDIRECT(\"Scores!\"&\"R\"&(ROW(Scores!$253:$253)-1+MATCH('Individual Scores'!$D57,Scores!$F$253:$F$505,0))&\"C\"&COLUMN(Scores!P$1),FALSE)))","v":144},{"$f":"IF('Team Scores'!$Z$1<2,\"\",IF(ISERROR(MATCH('Individual Scores'!$D57,Scores!$F$253:$F$506,0)),\"\",INDIRECT(\"Scores!\"&\"R\"&(ROW(Scores!$253:$253)-1+MATCH('Individual Scores'!$D57,Scores!$F$253:$F$505,0))&\"C\"&COLUMN(Scores!S$1),FALSE)))","v":912},172,466,null,{"$f":"IF('Team Scores'!$Z$1<3,\"\",IF(ISERROR(MATCH('Individual Scores'!$D57,Scores!$F$506:$F$759,0)),\"\",INDIRECT(\"Scores!\"&\"R\"&(ROW(Scores!$F$506:$F$759)-1+MATCH('Individual Scores'!$D57,Scores!$F$506:$F$759,0))&\"C\"&COLUMN(Scores!J$1),FALSE)))","v":""},{"$f":"IF('Team Scores'!$Z$1<3,\"\",IF(ISERROR(MATCH('Individual Scores'!$D57,Scores!$F$506:$F$759,0)),\"\",INDIRECT(\"Scores!\"&\"R\"&(ROW(Scores!$F$506:$F$759)-1+MATCH('Individual Scores'!$D57,Scores!$F$506:$F$759,0))&\"C\"&COLUMN(Scores!K$1),FALSE)))","v":""},{"$f":"IF('Team Scores'!$Z$1<3,\"\",IF(ISERROR(MATCH('Individual Scores'!$D57,Scores!$F$506:$F$759,0)),\"\",INDIRECT(\"Scores!\"&\"R\"&(ROW(Scores!$F$506:$F$759)-1+MATCH('Individual Scores'!$D57,Scores!$F$506:$F$759,0))&\"C\"&COLUMN(Scores!L$1),FALSE)))","v":""},{"$f":"IF('Team Scores'!$Z$1<3,\"\",IF(ISERROR(MATCH('Individual Scores'!$D57,Scores!$F$506:$F$759,0)),\"\",INDIRECT(\"Scores!\"&\"R\"&(ROW(Scores!$F$506:$F$759)-1+MATCH('Individual Scores'!$D57,Scores!$F$506:$F$759,0))&\"C\"&COLUMN(Scores!N$1),FALSE)))","v":""},{"$f":"IF('Team Scores'!$Z$1<3,\"\",IF(ISERROR(MATCH('Individual Scores'!$D57,Scores!$F$506:$F$759,0)),\"\",INDIRECT(\"Scores!\"&\"R\"&(ROW(Scores!$F$506:$F$759)-1+MATCH('Individual Scores'!$D57,Scores!$F$506:$F$759,0))&\"C\"&COLUMN(Scores!O$1),FALSE)))","v":""},{"$f":"IF('Team Scores'!$Z$1<3,\"\",IF(ISERROR(MATCH('Individual Scores'!$D57,Scores!$F$506:$F$759,0)),\"\",INDIRECT(\"Scores!\"&\"R\"&(ROW(Scores!$F$506:$F$759)-1+MATCH('Individual Scores'!$D57,Scores!$F$506:$F$759,0))&\"C\"&COLUMN(Scores!P$1),FALSE)))","v":""},{"$f":"IF('Team Scores'!$Z$1<3,\"\",IF(ISERROR(MATCH('Individual Scores'!$D57,Scores!$F$506:$F$759,0)),\"\",INDIRECT(\"Scores!\"&\"R\"&(ROW(Scores!$F$506:$F$759)-1+MATCH('Individual Scores'!$D57,Scores!$F$506:$F$759,0))&\"C\"&COLUMN(Scores!S$1),FALSE)))","v":""},"",""]
["NC","15 & <","F","Makayla Lucas",1025,975,"",2000,{"$f":"IF(COUNT(Q58:V58,AA58:AF58,AK58:AP58)>=18/3*'Team Scores'!$Z$1,IF(H58-VLOOKUP(B58&C58,'Individual Awards Computations'!$AY$54:$AZ$58,2,FALSE)=0,\"Leader \"&C58&\":\"&B58,H58-VLOOKUP(B58&C58,'Individual Awards Computations'!$AY$54:$AZ$58,2,FALSE)),\"\")","v":-413},197,517,166.66666666666666,19.722222222222225,"147-186",1,null,{"$f":"IF(ISERROR(MATCH('Individual Scores'!$D58,Scores!$F$1:$F$253,0)),\"\",INDIRECT(\"Scores!\"&\"R\"&MATCH('Individual Scores'!$D58,Scores!$F$1:$F$253,0)&\"C\"&COLUMN(Scores!J$1),FALSE))","v":184},{"$f":"IF(ISERROR(MATCH('Individual Scores'!$D58,Scores!$F$1:$F$253,0)),\"\",INDIRECT(\"Scores!\"&\"R\"&MATCH('Individual Scores'!$D58,Scores!$F$1:$F$253,0)&\"C\"&COLUMN(Scores!K$1),FALSE))","v":182},{"$f":"IF(ISERROR(MATCH('Individual Scores'!$D58,Scores!$F$1:$F$253,0)),\"\",INDIRECT(\"Scores!\"&\"R\"&MATCH('Individual Scores'!$D58,Scores!$F$1:$F$253,0)&\"C\"&COLUMN(Scores!L$1),FALSE))","v":151},{"$f":"IF(ISERROR(MATCH('Individual Scores'!$D58,Scores!$F$1:$F$253,0)),\"\",INDIRECT(\"Scores!\"&\"R\"&MATCH('Individual Scores'!$D58,Scores!$F$1:$F$253,0)&\"C\"&COLUMN(Scores!N$1),FALSE))","v":183},{"$f":"IF(ISERROR(MATCH('Individual Scores'!$D58,Scores!$F$1:$F$253,0)),\"\",INDIRECT(\"Scores!\"&\"R\"&MATCH('Individual Scores'!$D58,Scores!$F$1:$F$253,0)&\"C\"&COLUMN(Scores!O$1),FALSE))","v":158},{"$f":"IF(ISERROR(MATCH('Individual Scores'!$D58,Scores!$F$1:$F$253,0)),\"\",INDIRECT(\"Scores!\"&\"R\"&MATCH('Individual Scores'!$D58,Scores!$F$1:$F$253,0)&\"C\"&COLUMN(Scores!P$1),FALSE))","v":167},{"$f":"IF(ISERROR(MATCH('Individual Scores'!$D58,Scores!$F$1:$F$253,0)),\"\",INDIRECT(\"Scores!\"&\"R\"&MATCH('Individual Scores'!$D58,Scores!$F$1:$F$253,0)&\"C\"&COLUMN(Scores!S$1),FALSE))","v":1025},{"$f":"IF(MAX('Individual Scores'!Q58:V58)>0,MAX('Individual Scores'!Q58:V58),\"\")","v":184},{"$f":"IF(MAX(SUM('Individual Scores'!Q58:S58),SUM('Individual Scores'!T58:V58))>0,MAX(SUM('Individual Scores'!Q58:S58),SUM('Individual Scores'!T58:V58)),\"\")","v":517},null,{"$f":"IF('Team Scores'!$Z$1<2,\"\",IF(ISERROR(MATCH('Individual Scores'!$D58,Scores!$F$253:$F$506,0)),\"\",INDIRECT(\"Scores!\"&\"R\"&(ROW(Scores!$253:$253)-1+MATCH('Individual Scores'!$D58,Scores!$F$253:$F$505,0))&\"C\"&COLUMN(Scores!J$1),FALSE)))","v":135},{"$f":"IF('Team Scores'!$Z$1<2,\"\",IF(ISERROR(MATCH('Individual Scores'!$D58,Scores!$F$253:$F$506,0)),\"\",INDIRECT(\"Scores!\"&\"R\"&(ROW(Scores!$253:$253)-1+MATCH('Individual Scores'!$D58,Scores!$F$253:$F$505,0))&\"C\"&COLUMN(Scores!K$1),FALSE)))","v":182},{"$f":"IF('Team Scores'!$Z$1<2,\"\",IF(ISERROR(MATCH('Individual Scores'!$D58,Scores!$F$253:$F$506,0)),\"\",INDIRECT(\"Scores!\"&\"R\"&(ROW(Scores!$253:$253)-1+MATCH('Individual Scores'!$D58,Scores!$F$253:$F$505,0))&\"C\"&COLUMN(Scores!L$1),FALSE)))","v":197},{"$f":"IF('Team Scores'!$Z$1<2,\"\",IF(ISERROR(MATCH('Individual Scores'!$D58,Scores!$F$253:$F$506,0)),\"\",INDIRECT(\"Scores!\"&\"R\"&(ROW(Scores!$253:$253)-1+MATCH('Individual Scores'!$D58,Scores!$F$253:$F$505,0))&\"C\"&COLUMN(Scores!N$1),FALSE)))","v":124},{"$f":"IF('Team Scores'!$Z$1<2,\"\",IF(ISERROR(MATCH('Individual Scores'!$D58,Scores!$F$253:$F$506,0)),\"\",INDIRECT(\"Scores!\"&\"R\"&(ROW(Scores!$253:$253)-1+MATCH('Individual Scores'!$D58,Scores!$F$253:$F$505,0))&\"C\"&COLUMN(Scores!O$1),FALSE)))","v":190},{"$f":"IF('Team Scores'!$Z$1<2,\"\",IF(ISERROR(MATCH('Individual Scores'!$D58,Scores!$F$253:$F$506,0)),\"\",INDIRECT(\"Scores!\"&\"R\"&(ROW(Scores!$253:$253)-1+MATCH('Individual Scores'!$D58,Scores!$F$253:$F$505,0))&\"C\"&COLUMN(Scores!P$1),FALSE)))","v":147},{"$f":"IF('Team Scores'!$Z$1<2,\"\",IF(ISERROR(MATCH('Individual Scores'!$D58,Scores!$F$253:$F$506,0)),\"\",INDIRECT(\"Scores!\"&\"R\"&(ROW(Scores!$253:$253)-1+MATCH('Individual Scores'!$D58,Scores!$F$253:$F$505,0))&\"C\"&COLUMN(Scores!S$1),FALSE)))","v":975},197,514,null,{"$f":"IF('Team Scores'!$Z$1<3,\"\",IF(ISERROR(MATCH('Individual Scores'!$D58,Scores!$F$506:$F$759,0)),\"\",INDIRECT(\"Scores!\"&\"R\"&(ROW(Scores!$F$506:$F$759)-1+MATCH('Individual Scores'!$D58,Scores!$F$506:$F$759,0))&\"C\"&COLUMN(Scores!J$1),FALSE)))","v":""},{"$f":"IF('Team Scores'!$Z$1<3,\"\",IF(ISERROR(MATCH('Individual Scores'!$D58,Scores!$F$506:$F$759,0)),\"\",INDIRECT(\"Scores!\"&\"R\"&(ROW(Scores!$F$506:$F$759)-1+MATCH('Individual Scores'!$D58,Scores!$F$506:$F$759,0))&\"C\"&COLUMN(Scores!K$1),FALSE)))","v":""},{"$f":"IF('Team Scores'!$Z$1<3,\"\",IF(ISERROR(MATCH('Individual Scores'!$D58,Scores!$F$506:$F$759,0)),\"\",INDIRECT(\"Scores!\"&\"R\"&(ROW(Scores!$F$506:$F$759)-1+MATCH('Individual Scores'!$D58,Scores!$F$506:$F$759,0))&\"C\"&COLUMN(Scores!L$1),FALSE)))","v":""},{"$f":"IF('Team Scores'!$Z$1<3,\"\",IF(ISERROR(MATCH('Individual Scores'!$D58,Scores!$F$506:$F$759,0)),\"\",INDIRECT(\"Scores!\"&\"R\"&(ROW(Scores!$F$506:$F$759)-1+MATCH('Individual Scores'!$D58,Scores!$F$506:$F$759,0))&\"C\"&COLUMN(Scores!N$1),FALSE)))","v":""},{"$f":"IF('Team Scores'!$Z$1<3,\"\",IF(ISERROR(MATCH('Individual Scores'!$D58,Scores!$F$506:$F$759,0)),\"\",INDIRECT(\"Scores!\"&\"R\"&(ROW(Scores!$F$506:$F$759)-1+MATCH('Individual Scores'!$D58,Scores!$F$506:$F$759,0))&\"C\"&COLUMN(Scores!O$1),FALSE)))","v":""},{"$f":"IF('Team Scores'!$Z$1<3,\"\",IF(ISERROR(MATCH('Individual Scores'!$D58,Scores!$F$506:$F$759,0)),\"\",INDIRECT(\"Scores!\"&\"R\"&(ROW(Scores!$F$506:$F$759)-1+MATCH('Individual Scores'!$D58,Scores!$F$506:$F$759,0))&\"C\"&COLUMN(Scores!P$1),FALSE)))","v":""},{"$f":"IF('Team Scores'!$Z$1<3,\"\",IF(ISERROR(MATCH('Individual Scores'!$D58,Scores!$F$506:$F$759,0)),\"\",INDIRECT(\"Scores!\"&\"R\"&(ROW(Scores!$F$506:$F$759)-1+MATCH('Individual Scores'!$D58,Scores!$F$506:$F$759,0))&\"C\"&COLUMN(Scores!S$1),FALSE)))","v":""},"",""]
["NC","15 & <","F","Kristina Catoe",960,1026,"",1986,{"$f":"IF(COUNT(Q59:V59,AA59:AF59,AK59:AP59)>=18/3*'Team Scores'!$Z$1,IF(H59-VLOOKUP(B59&C59,'Individual Awards Computations'!$AY$54:$AZ$58,2,FALSE)=0,\"Leader \"&C59&\":\"&B59,H59-VLOOKUP(B59&C59,'Individual Awards Computations'!$AY$54:$AZ$58,2,FALSE)),\"\")","v":-427},199,555,165.5,15.75,"150-181",1,null,{"$f":"IF(ISERROR(MATCH('Individual Scores'!$D59,Scores!$F$1:$F$253,0)),\"\",INDIRECT(\"Scores!\"&\"R\"&MATCH('Individual Scores'!$D59,Scores!$F$1:$F$253,0)&\"C\"&COLUMN(Scores!J$1),FALSE))","v":158},{"$f":"IF(ISERROR(MATCH('Individual Scores'!$D59,Scores!$F$1:$F$253,0)),\"\",INDIRECT(\"Scores!\"&\"R\"&MATCH('Individual Scores'!$D59,Scores!$F$1:$F$253,0)&\"C\"&COLUMN(Scores!K$1),FALSE))","v":155},{"$f":"IF(ISERROR(MATCH('Individual Scores'!$D59,Scores!$F$1:$F$253,0)),\"\",INDIRECT(\"Scores!\"&\"R\"&MATCH('Individual Scores'!$D59,Scores!$F$1:$F$253,0)&\"C\"&COLUMN(Scores!L$1),FALSE))","v":190},{"$f":"IF(ISERROR(MATCH('Individual Scores'!$D59,Scores!$F$1:$F$253,0)),\"\",INDIRECT(\"Scores!\"&\"R\"&MATCH('Individual Scores'!$D59,Scores!$F$1:$F$253,0)&\"C\"&COLUMN(Scores!N$1),FALSE))","v":161},{"$f":"IF(ISERROR(MATCH('Individual Scores'!$D59,Scores!$F$1:$F$253,0)),\"\",INDIRECT(\"Scores!\"&\"R\"&MATCH('Individual Scores'!$D59,Scores!$F$1:$F$253,0)&\"C\"&COLUMN(Scores!O$1),FALSE))","v":155},{"$f":"IF(ISERROR(MATCH('Individual Scores'!$D59,Scores!$F$1:$F$253,0)),\"\",INDIRECT(\"Scores!\"&\"R\"&MATCH('Individual Scores'!$D59,Scores!$F$1:$F$253,0)&\"C\"&COLUMN(Scores!P$1),FALSE))","v":141},{"$f":"IF(ISERROR(MATCH('Individual Scores'!$D59,Scores!$F$1:$F$253,0)),\"\",INDIRECT(\"Scores!\"&\"R\"&MATCH('Individual Scores'!$D59,Scores!$F$1:$F$253,0)&\"C\"&COLUMN(Scores!S$1),FALSE))","v":960},{"$f":"IF(MAX('Individual Scores'!Q59:V59)>0,MAX('Individual Scores'!Q59:V59),\"\")","v":190},{"$f":"IF(MAX(SUM('Individual Scores'!Q59:S59),SUM('Individual Scores'!T59:V59))>0,MAX(SUM('Individual Scores'!Q59:S59),SUM('Individual Scores'!T59:V59)),\"\")","v":503},null,{"$f":"IF('Team Scores'!$Z$1<2,\"\",IF(ISERROR(MATCH('Individual Scores'!$D59,Scores!$F$253:$F$506,0)),\"\",INDIRECT(\"Scores!\"&\"R\"&(ROW(Scores!$253:$253)-1+MATCH('Individual Scores'!$D59,Scores!$F$253:$F$505,0))&\"C\"&COLUMN(Scores!J$1),FALSE)))","v":199},{"$f":"IF('Team Scores'!$Z$1<2,\"\",IF(ISERROR(MATCH('Individual Scores'!$D59,Scores!$F$253:$F$506,0)),\"\",INDIRECT(\"Scores!\"&\"R\"&(ROW(Scores!$253:$253)-1+MATCH('Individual Scores'!$D59,Scores!$F$253:$F$505,0))&\"C\"&COLUMN(Scores!K$1),FALSE)))","v":167},{"$f":"IF('Team Scores'!$Z$1<2,\"\",IF(ISERROR(MATCH('Individual Scores'!$D59,Scores!$F$253:$F$506,0)),\"\",INDIRECT(\"Scores!\"&\"R\"&(ROW(Scores!$253:$253)-1+MATCH('Individual Scores'!$D59,Scores!$F$253:$F$505,0))&\"C\"&COLUMN(Scores!L$1),FALSE)))","v":189},{"$f":"IF('Team Scores'!$Z$1<2,\"\",IF(ISERROR(MATCH('Individual Scores'!$D59,Scores!$F$253:$F$506,0)),\"\",INDIRECT(\"Scores!\"&\"R\"&(ROW(Scores!$253:$253)-1+MATCH('Individual Scores'!$D59,Scores!$F$253:$F$505,0))&\"C\"&COLUMN(Scores!N$1),FALSE)))","v":150},{"$f":"IF('Team Scores'!$Z$1<2,\"\",IF(ISERROR(MATCH('Individual Scores'!$D59,Scores!$F$253:$F$506,0)),\"\",INDIRECT(\"Scores!\"&\"R\"&(ROW(Scores!$253:$253)-1+MATCH('Individual Scores'!$D59,Scores!$F$253:$F$505,0))&\"C\"&COLUMN(Scores!O$1),FALSE)))","v":177},{"$f":"IF('Team Scores'!$Z$1<2,\"\",IF(ISERROR(MATCH('Individual Scores'!$D59,Scores!$F$253:$F$506,0)),\"\",INDIRECT(\"Scores!\"&\"R\"&(ROW(Scores!$253:$253)-1+MATCH('Individual Scores'!$D59,Scores!$F$253:$F$505,0))&\"C\"&COLUMN(Scores!P$1),FALSE)))","v":144},{"$f":"IF('Team Scores'!$Z$1<2,\"\",IF(ISERROR(MATCH('Individual Scores'!$D59,Scores!$F$253:$F$506,0)),\"\",INDIRECT(\"Scores!\"&\"R\"&(ROW(Scores!$253:$253)-1+MATCH('Individual Scores'!$D59,Scores!$F$253:$F$505,0))&\"C\"&COLUMN(Scores!S$1),FALSE)))","v":1026},199,555,null,{"$f":"IF('Team Scores'!$Z$1<3,\"\",IF(ISERROR(MATCH('Individual Scores'!$D59,Scores!$F$506:$F$759,0)),\"\",INDIRECT(\"Scores!\"&\"R\"&(ROW(Scores!$F$506:$F$759)-1+MATCH('Individual Scores'!$D59,Scores!$F$506:$F$759,0))&\"C\"&COLUMN(Scores!J$1),FALSE)))","v":""},{"$f":"IF('Team Scores'!$Z$1<3,\"\",IF(ISERROR(MATCH('Individual Scores'!$D59,Scores!$F$506:$F$759,0)),\"\",INDIRECT(\"Scores!\"&\"R\"&(ROW(Scores!$F$506:$F$759)-1+MATCH('Individual Scores'!$D59,Scores!$F$506:$F$759,0))&\"C\"&COLUMN(Scores!K$1),FALSE)))","v":""},{"$f":"IF('Team Scores'!$Z$1<3,\"\",IF(ISERROR(MATCH('Individual Scores'!$D59,Scores!$F$506:$F$759,0)),\"\",INDIRECT(\"Scores!\"&\"R\"&(ROW(Scores!$F$506:$F$759)-1+MATCH('Individual Scores'!$D59,Scores!$F$506:$F$759,0))&\"C\"&COLUMN(Scores!L$1),FALSE)))","v":""},{"$f":"IF('Team Scores'!$Z$1<3,\"\",IF(ISERROR(MATCH('Individual Scores'!$D59,Scores!$F$506:$F$759,0)),\"\",INDIRECT(\"Scores!\"&\"R\"&(ROW(Scores!$F$506:$F$759)-1+MATCH('Individual Scores'!$D59,Scores!$F$506:$F$759,0))&\"C\"&COLUMN(Scores!N$1),FALSE)))","v":""},{"$f":"IF('Team Scores'!$Z$1<3,\"\",IF(ISERROR(MATCH('Individual Scores'!$D59,Scores!$F$506:$F$759,0)),\"\",INDIRECT(\"Scores!\"&\"R\"&(ROW(Scores!$F$506:$F$759)-1+MATCH('Individual Scores'!$D59,Scores!$F$506:$F$759,0))&\"C\"&COLUMN(Scores!O$1),FALSE)))","v":""},{"$f":"IF('Team Scores'!$Z$1<3,\"\",IF(ISERROR(MATCH('Individual Scores'!$D59,Scores!$F$506:$F$759,0)),\"\",INDIRECT(\"Scores!\"&\"R\"&(ROW(Scores!$F$506:$F$759)-1+MATCH('Individual Scores'!$D59,Scores!$F$506:$F$759,0))&\"C\"&COLUMN(Scores!P$1),FALSE)))","v":""},{"$f":"IF('Team Scores'!$Z$1<3,\"\",IF(ISERROR(MATCH('Individual Scores'!$D59,Scores!$F$506:$F$759,0)),\"\",INDIRECT(\"Scores!\"&\"R\"&(ROW(Scores!$F$506:$F$759)-1+MATCH('Individual Scores'!$D59,Scores!$F$506:$F$759,0))&\"C\"&COLUMN(Scores!S$1),FALSE)))","v":""},"",""]
["NC","15 & <","F","Meranda Edmonds",957,1061,"",2018,{"$f":"IF(COUNT(Q60:V60,AA60:AF60,AK60:AP60)>=18/3*'Team Scores'!$Z$1,IF(H60-VLOOKUP(B60&C60,'Individual Awards Computations'!$AY$54:$AZ$58,2,FALSE)=0,\"Leader \"&C60&\":\"&B60,H60-VLOOKUP(B60&C60,'Individual Awards Computations'!$AY$54:$AZ$58,2,FALSE)),\"\")","v":-395},202,579,168.16666666666666,16.194444444444443,"152-184",1,null,{"$f":"IF(ISERROR(MATCH('Individual Scores'!$D60,Scores!$F$1:$F$253,0)),\"\",INDIRECT(\"Scores!\"&\"R\"&MATCH('Individual Scores'!$D60,Scores!$F$1:$F$253,0)&\"C\"&COLUMN(Scores!J$1),FALSE))","v":165},{"$f":"IF(ISERROR(MATCH('Individual Scores'!$D60,Scores!$F$1:$F$253,0)),\"\",INDIRECT(\"Scores!\"&\"R\"&MATCH('Individual Scores'!$D60,Scores!$F$1:$F$253,0)&\"C\"&COLUMN(Scores!K$1),FALSE))","v":149},{"$f":"IF(ISERROR(MATCH('Individual Scores'!$D60,Scores!$F$1:$F$253,0)),\"\",INDIRECT(\"Scores!\"&\"R\"&MATCH('Individual Scores'!$D60,Scores!$F$1:$F$253,0)&\"C\"&COLUMN(Scores!L$1),FALSE))","v":165},{"$f":"IF(ISERROR(MATCH('Individual Scores'!$D60,Scores!$F$1:$F$253,0)),\"\",INDIRECT(\"Scores!\"&\"R\"&MATCH('Individual Scores'!$D60,Scores!$F$1:$F$253,0)&\"C\"&COLUMN(Scores!N$1),FALSE))","v":150},{"$f":"IF(ISERROR(MATCH('Individual Scores'!$D60,Scores!$F$1:$F$253,0)),\"\",INDIRECT(\"Scores!\"&\"R\"&MATCH('Individual Scores'!$D60,Scores!$F$1:$F$253,0)&\"C\"&COLUMN(Scores!O$1),FALSE))","v":159},{"$f":"IF(ISERROR(MATCH('Individual Scores'!$D60,Scores!$F$1:$F$253,0)),\"\",INDIRECT(\"Scores!\"&\"R\"&MATCH('Individual Scores'!$D60,Scores!$F$1:$F$253,0)&\"C\"&COLUMN(Scores!P$1),FALSE))","v":169},{"$f":"IF(ISERROR(MATCH('Individual Scores'!$D60,Scores!$F$1:$F$253,0)),\"\",INDIRECT(\"Scores!\"&\"R\"&MATCH('Individual Scores'!$D60,Scores!$F$1:$F$253,0)&\"C\"&COLUMN(Scores!S$1),FALSE))","v":957},{"$f":"IF(MAX('Individual Scores'!Q60:V60)>0,MAX('Individual Scores'!Q60:V60),\"\")","v":169},{"$f":"IF(MAX(SUM('Individual Scores'!Q60:S60),SUM('Individual Scores'!T60:V60))>0,MAX(SUM('Individual Scores'!Q60:S60),SUM('Individual Scores'!T60:V60)),\"\")","v":479},null,{"$f":"IF('Team Scores'!$Z$1<2,\"\",IF(ISERROR(MATCH('Individual Scores'!$D60,Scores!$F$253:$F$506,0)),\"\",INDIRECT(\"Scores!\"&\"R\"&(ROW(Scores!$253:$253)-1+MATCH('Individual Scores'!$D60,Scores!$F$253:$F$505,0))&\"C\"&COLUMN(Scores!J$1),FALSE)))","v":202},{"$f":"IF('Team Scores'!$Z$1<2,\"\",IF(ISERROR(MATCH('Individual Scores'!$D60,Scores!$F$253:$F$506,0)),\"\",INDIRECT(\"Scores!\"&\"R\"&(ROW(Scores!$253:$253)-1+MATCH('Individual Scores'!$D60,Scores!$F$253:$F$505,0))&\"C\"&COLUMN(Scores!K$1),FALSE)))","v":187},{"$f":"IF('Team Scores'!$Z$1<2,\"\",IF(ISERROR(MATCH('Individual Scores'!$D60,Scores!$F$253:$F$506,0)),\"\",INDIRECT(\"Scores!\"&\"R\"&(ROW(Scores!$253:$253)-1+MATCH('Individual Scores'!$D60,Scores!$F$253:$F$505,0))&\"C\"&COLUMN(Scores!L$1),FALSE)))","v":190},{"$f":"IF('Team Scores'!$Z$1<2,\"\",IF(ISERROR(MATCH('Individual Scores'!$D60,Scores!$F$253:$F$506,0)),\"\",INDIRECT(\"Scores!\"&\"R\"&(ROW(Scores!$253:$253)-1+MATCH('Individual Scores'!$D60,Scores!$F$253:$F$505,0))&\"C\"&COLUMN(Scores!N$1),FALSE)))","v":133},{"$f":"IF('Team Scores'!$Z$1<2,\"\",IF(ISERROR(MATCH('Individual Scores'!$D60,Scores!$F$253:$F$506,0)),\"\",INDIRECT(\"Scores!\"&\"R\"&(ROW(Scores!$253:$253)-1+MATCH('Individual Scores'!$D60,Scores!$F$253:$F$505,0))&\"C\"&COLUMN(Scores!O$1),FALSE)))","v":190},{"$f":"IF('Team Scores'!$Z$1<2,\"\",IF(ISERROR(MATCH('Individual Scores'!$D60,Scores!$F$253:$F$506,0)),\"\",INDIRECT(\"Scores!\"&\"R\"&(ROW(Scores!$253:$253)-1+MATCH('Individual Scores'!$D60,Scores!$F$253:$F$505,0))&\"C\"&COLUMN(Scores!P$1),FALSE)))","v":159},{"$f":"IF('Team Scores'!$Z$1<2,\"\",IF(ISERROR(MATCH('Individual Scores'!$D60,Scores!$F$253:$F$506,0)),\"\",INDIRECT(\"Scores!\"&\"R\"&(ROW(Scores!$253:$253)-1+MATCH('Individual Scores'!$D60,Scores!$F$253:$F$505,0))&\"C\"&COLUMN(Scores!S$1),FALSE)))","v":1061},202,579,null,{"$f":"IF('Team Scores'!$Z$1<3,\"\",IF(ISERROR(MATCH('Individual Scores'!$D60,Scores!$F$506:$F$759,0)),\"\",INDIRECT(\"Scores!\"&\"R\"&(ROW(Scores!$F$506:$F$759)-1+MATCH('Individual Scores'!$D60,Scores!$F$506:$F$759,0))&\"C\"&COLUMN(Scores!J$1),FALSE)))","v":""},{"$f":"IF('Team Scores'!$Z$1<3,\"\",IF(ISERROR(MATCH('Individual Scores'!$D60,Scores!$F$506:$F$759,0)),\"\",INDIRECT(\"Scores!\"&\"R\"&(ROW(Scores!$F$506:$F$759)-1+MATCH('Individual Scores'!$D60,Scores!$F$506:$F$759,0))&\"C\"&COLUMN(Scores!K$1),FALSE)))","v":""},{"$f":"IF('Team Scores'!$Z$1<3,\"\",IF(ISERROR(MATCH('Individual Scores'!$D60,Scores!$F$506:$F$759,0)),\"\",INDIRECT(\"Scores!\"&\"R\"&(ROW(Scores!$F$506:$F$759)-1+MATCH('Individual Scores'!$D60,Scores!$F$506:$F$759,0))&\"C\"&COLUMN(Scores!L$1),FALSE)))","v":""},{"$f":"IF('Team Scores'!$Z$1<3,\"\",IF(ISERROR(MATCH('Individual Scores'!$D60,Scores!$F$506:$F$759,0)),\"\",INDIRECT(\"Scores!\"&\"R\"&(ROW(Scores!$F$506:$F$759)-1+MATCH('Individual Scores'!$D60,Scores!$F$506:$F$759,0))&\"C\"&COLUMN(Scores!N$1),FALSE)))","v":""},{"$f":"IF('Team Scores'!$Z$1<3,\"\",IF(ISERROR(MATCH('Individual Scores'!$D60,Scores!$F$506:$F$759,0)),\"\",INDIRECT(\"Scores!\"&\"R\"&(ROW(Scores!$F$506:$F$759)-1+MATCH('Individual Scores'!$D60,Scores!$F$506:$F$759,0))&\"C\"&COLUMN(Scores!O$1),FALSE)))","v":""},{"$f":"IF('Team Scores'!$Z$1<3,\"\",IF(ISERROR(MATCH('Individual Scores'!$D60,Scores!$F$506:$F$759,0)),\"\",INDIRECT(\"Scores!\"&\"R\"&(ROW(Scores!$F$506:$F$759)-1+MATCH('Individual Scores'!$D60,Scores!$F$506:$F$759,0))&\"C\"&COLUMN(Scores!P$1),FALSE)))","v":""},{"$f":"IF('Team Scores'!$Z$1<3,\"\",IF(ISERROR(MATCH('Individual Scores'!$D60,Scores!$F$506:$F$759,0)),\"\",INDIRECT(\"Scores!\"&\"R\"&(ROW(Scores!$F$506:$F$759)-1+MATCH('Individual Scores'!$D60,Scores!$F$506:$F$759,0))&\"C\"&COLUMN(Scores!S$1),FALSE)))","v":""},"",""]
["NC","15 & <","F","Kalia Patterson",908,1074,"",1982,{"$f":"IF(COUNT(Q61:V61,AA61:AF61,AK61:AP61)>=18/3*'Team Scores'!$Z$1,IF(H61-VLOOKUP(B61&C61,'Individual Awards Computations'!$AY$54:$AZ$58,2,FALSE)=0,\"Leader \"&C61&\":\"&B61,H61-VLOOKUP(B61&C61,'Individual Awards Computations'!$AY$54:$AZ$58,2,FALSE)),\"\")","v":-431},211,603,165.16666666666666,20.5,"145-186",1,null,{"$f":"IF(ISERROR(MATCH('Individual Scores'!$D61,Scores!$F$1:$F$253,0)),\"\",INDIRECT(\"Scores!\"&\"R\"&MATCH('Individual Scores'!$D61,Scores!$F$1:$F$253,0)&\"C\"&COLUMN(Scores!J$1),FALSE))","v":158},{"$f":"IF(ISERROR(MATCH('Individual Scores'!$D61,Scores!$F$1:$F$253,0)),\"\",INDIRECT(\"Scores!\"&\"R\"&MATCH('Individual Scores'!$D61,Scores!$F$1:$F$253,0)&\"C\"&COLUMN(Scores!K$1),FALSE))","v":171},{"$f":"IF(ISERROR(MATCH('Individual Scores'!$D61,Scores!$F$1:$F$253,0)),\"\",INDIRECT(\"Scores!\"&\"R\"&MATCH('Individual Scores'!$D61,Scores!$F$1:$F$253,0)&\"C\"&COLUMN(Scores!L$1),FALSE))","v":160},{"$f":"IF(ISERROR(MATCH('Individual Scores'!$D61,Scores!$F$1:$F$253,0)),\"\",INDIRECT(\"Scores!\"&\"R\"&MATCH('Individual Scores'!$D61,Scores!$F$1:$F$253,0)&\"C\"&COLUMN(Scores!N$1),FALSE))","v":134},{"$f":"IF(ISERROR(MATCH('Individual Scores'!$D61,Scores!$F$1:$F$253,0)),\"\",INDIRECT(\"Scores!\"&\"R\"&MATCH('Individual Scores'!$D61,Scores!$F$1:$F$253,0)&\"C\"&COLUMN(Scores!O$1),FALSE))","v":116},{"$f":"IF(ISERROR(MATCH('Individual Scores'!$D61,Scores!$F$1:$F$253,0)),\"\",INDIRECT(\"Scores!\"&\"R\"&MATCH('Individual Scores'!$D61,Scores!$F$1:$F$253,0)&\"C\"&COLUMN(Scores!P$1),FALSE))","v":169},{"$f":"IF(ISERROR(MATCH('Individual Scores'!$D61,Scores!$F$1:$F$253,0)),\"\",INDIRECT(\"Scores!\"&\"R\"&MATCH('Individual Scores'!$D61,Scores!$F$1:$F$253,0)&\"C\"&COLUMN(Scores!S$1),FALSE))","v":908},{"$f":"IF(MAX('Individual Scores'!Q61:V61)>0,MAX('Individual Scores'!Q61:V61),\"\")","v":171},{"$f":"IF(MAX(SUM('Individual Scores'!Q61:S61),SUM('Individual Scores'!T61:V61))>0,MAX(SUM('Individual Scores'!Q61:S61),SUM('Individual Scores'!T61:V61)),\"\")","v":489},null,{"$f":"IF('Team Scores'!$Z$1<2,\"\",IF(ISERROR(MATCH('Individual Scores'!$D61,Scores!$F$253:$F$506,0)),\"\",INDIRECT(\"Scores!\"&\"R\"&(ROW(Scores!$253:$253)-1+MATCH('Individual Scores'!$D61,Scores!$F$253:$F$505,0))&\"C\"&COLUMN(Scores!J$1),FALSE)))","v":211},{"$f":"IF('Team Scores'!$Z$1<2,\"\",IF(ISERROR(MATCH('Individual Scores'!$D61,Scores!$F$253:$F$506,0)),\"\",INDIRECT(\"Scores!\"&\"R\"&(ROW(Scores!$253:$253)-1+MATCH('Individual Scores'!$D61,Scores!$F$253:$F$505,0))&\"C\"&COLUMN(Scores!K$1),FALSE)))","v":189},{"$f":"IF('Team Scores'!$Z$1<2,\"\",IF(ISERROR(MATCH('Individual Scores'!$D61,Scores!$F$253:$F$506,0)),\"\",INDIRECT(\"Scores!\"&\"R\"&(ROW(Scores!$253:$253)-1+MATCH('Individual Scores'!$D61,Scores!$F$253:$F$505,0))&\"C\"&COLUMN(Scores!L$1),FALSE)))","v":203},{"$f":"IF('Team Scores'!$Z$1<2,\"\",IF(ISERROR(MATCH('Individual Scores'!$D61,Scores!$F$253:$F$506,0)),\"\",INDIRECT(\"Scores!\"&\"R\"&(ROW(Scores!$253:$253)-1+MATCH('Individual Scores'!$D61,Scores!$F$253:$F$505,0))&\"C\"&COLUMN(Scores!N$1),FALSE)))","v":157},{"$f":"IF('Team Scores'!$Z$1<2,\"\",IF(ISERROR(MATCH('Individual Scores'!$D61,Scores!$F$253:$F$506,0)),\"\",INDIRECT(\"Scores!\"&\"R\"&(ROW(Scores!$253:$253)-1+MATCH('Individual Scores'!$D61,Scores!$F$253:$F$505,0))&\"C\"&COLUMN(Scores!O$1),FALSE)))","v":143},{"$f":"IF('Team Scores'!$Z$1<2,\"\",IF(ISERROR(MATCH('Individual Scores'!$D61,Scores!$F$253:$F$506,0)),\"\",INDIRECT(\"Scores!\"&\"R\"&(ROW(Scores!$253:$253)-1+MATCH('Individual Scores'!$D61,Scores!$F$253:$F$505,0))&\"C\"&COLUMN(Scores!P$1),FALSE)))","v":171},{"$f":"IF('Team Scores'!$Z$1<2,\"\",IF(ISERROR(MATCH('Individual Scores'!$D61,Scores!$F$253:$F$506,0)),\"\",INDIRECT(\"Scores!\"&\"R\"&(ROW(Scores!$253:$253)-1+MATCH('Individual Scores'!$D61,Scores!$F$253:$F$505,0))&\"C\"&COLUMN(Scores!S$1),FALSE)))","v":1074},211,603,null,{"$f":"IF('Team Scores'!$Z$1<3,\"\",IF(ISERROR(MATCH('Individual Scores'!$D61,Scores!$F$506:$F$759,0)),\"\",INDIRECT(\"Scores!\"&\"R\"&(ROW(Scores!$F$506:$F$759)-1+MATCH('Individual Scores'!$D61,Scores!$F$506:$F$759,0))&\"C\"&COLUMN(Scores!J$1),FALSE)))","v":""},{"$f":"IF('Team Scores'!$Z$1<3,\"\",IF(ISERROR(MATCH('Individual Scores'!$D61,Scores!$F$506:$F$759,0)),\"\",INDIRECT(\"Scores!\"&\"R\"&(ROW(Scores!$F$506:$F$759)-1+MATCH('Individual Scores'!$D61,Scores!$F$506:$F$759,0))&\"C\"&COLUMN(Scores!K$1),FALSE)))","v":""},{"$f":"IF('Team Scores'!$Z$1<3,\"\",IF(ISERROR(MATCH('Individual Scores'!$D61,Scores!$F$506:$F$759,0)),\"\",INDIRECT(\"Scores!\"&\"R\"&(ROW(Scores!$F$506:$F$759)-1+MATCH('Individual Scores'!$D61,Scores!$F$506:$F$759,0))&\"C\"&COLUMN(Scores!L$1),FALSE)))","v":""},{"$f":"IF('Team Scores'!$Z$1<3,\"\",IF(ISERROR(MATCH('Individual Scores'!$D61,Scores!$F$506:$F$759,0)),\"\",INDIRECT(\"Scores!\"&\"R\"&(ROW(Scores!$F$506:$F$759)-1+MATCH('Individual Scores'!$D61,Scores!$F$506:$F$759,0))&\"C\"&COLUMN(Scores!N$1),FALSE)))","v":""},{"$f":"IF('Team Scores'!$Z$1<3,\"\",IF(ISERROR(MATCH('Individual Scores'!$D61,Scores!$F$506:$F$759,0)),\"\",INDIRECT(\"Scores!\"&\"R\"&(ROW(Scores!$F$506:$F$759)-1+MATCH('Individual Scores'!$D61,Scores!$F$506:$F$759,0))&\"C\"&COLUMN(Scores!O$1),FALSE)))","v":""},{"$f":"IF('Team Scores'!$Z$1<3,\"\",IF(ISERROR(MATCH('Individual Scores'!$D61,Scores!$F$506:$F$759,0)),\"\",INDIRECT(\"Scores!\"&\"R\"&(ROW(Scores!$F$506:$F$759)-1+MATCH('Individual Scores'!$D61,Scores!$F$506:$F$759,0))&\"C\"&COLUMN(Scores!P$1),FALSE)))","v":""},{"$f":"IF('Team Scores'!$Z$1<3,\"\",IF(ISERROR(MATCH('Individual Scores'!$D61,Scores!$F$506:$F$759,0)),\"\",INDIRECT(\"Scores!\"&\"R\"&(ROW(Scores!$F$506:$F$759)-1+MATCH('Individual Scores'!$D61,Scores!$F$506:$F$759,0))&\"C\"&COLUMN(Scores!S$1),FALSE)))","v":""},"",""]
["NC","15 & <","F","Emily Wyant",979,935,"",1914,{"$f":"IF(COUNT(Q62:V62,AA62:AF62,AK62:AP62)>=18/3*'Team Scores'!$Z$1,IF(H62-VLOOKUP(B62&C62,'Individual Awards Computations'!$AY$54:$AZ$58,2,FALSE)=0,\"Leader \"&C62&\":\"&B62,H62-VLOOKUP(B62&C62,'Individual Awards Computations'!$AY$54:$AZ$58,2,FALSE)),\"\")","v":-499},192,527,159.5,16.583333333333332,"143-176",1,null,{"$f":"IF(ISERROR(MATCH('Individual Scores'!$D62,Scores!$F$1:$F$253,0)),\"\",INDIRECT(\"Scores!\"&\"R\"&MATCH('Individual Scores'!$D62,Scores!$F$1:$F$253,0)&\"C\"&COLUMN(Scores!J$1),FALSE))","v":149},{"$f":"IF(ISERROR(MATCH('Individual Scores'!$D62,Scores!$F$1:$F$253,0)),\"\",INDIRECT(\"Scores!\"&\"R\"&MATCH('Individual Scores'!$D62,Scores!$F$1:$F$253,0)&\"C\"&COLUMN(Scores!K$1),FALSE))","v":167},{"$f":"IF(ISERROR(MATCH('Individual Scores'!$D62,Scores!$F$1:$F$253,0)),\"\",INDIRECT(\"Scores!\"&\"R\"&MATCH('Individual Scores'!$D62,Scores!$F$1:$F$253,0)&\"C\"&COLUMN(Scores!L$1),FALSE))","v":136},{"$f":"IF(ISERROR(MATCH('Individual Scores'!$D62,Scores!$F$1:$F$253,0)),\"\",INDIRECT(\"Scores!\"&\"R\"&MATCH('Individual Scores'!$D62,Scores!$F$1:$F$253,0)&\"C\"&COLUMN(Scores!N$1),FALSE))","v":192},{"$f":"IF(ISERROR(MATCH('Individual Scores'!$D62,Scores!$F$1:$F$253,0)),\"\",INDIRECT(\"Scores!\"&\"R\"&MATCH('Individual Scores'!$D62,Scores!$F$1:$F$253,0)&\"C\"&COLUMN(Scores!O$1),FALSE))","v":152},{"$f":"IF(ISERROR(MATCH('Individual Scores'!$D62,Scores!$F$1:$F$253,0)),\"\",INDIRECT(\"Scores!\"&\"R\"&MATCH('Individual Scores'!$D62,Scores!$F$1:$F$253,0)&\"C\"&COLUMN(Scores!P$1),FALSE))","v":183},{"$f":"IF(ISERROR(MATCH('Individual Scores'!$D62,Scores!$F$1:$F$253,0)),\"\",INDIRECT(\"Scores!\"&\"R\"&MATCH('Individual Scores'!$D62,Scores!$F$1:$F$253,0)&\"C\"&COLUMN(Scores!S$1),FALSE))","v":979},{"$f":"IF(MAX('Individual Scores'!Q62:V62)>0,MAX('Individual Scores'!Q62:V62),\"\")","v":192},{"$f":"IF(MAX(SUM('Individual Scores'!Q62:S62),SUM('Individual Scores'!T62:V62))>0,MAX(SUM('Individual Scores'!Q62:S62),SUM('Individual Scores'!T62:V62)),\"\")","v":527},null,{"$f":"IF('Team Scores'!$Z$1<2,\"\",IF(ISERROR(MATCH('Individual Scores'!$D62,Scores!$F$253:$F$506,0)),\"\",INDIRECT(\"Scores!\"&\"R\"&(ROW(Scores!$253:$253)-1+MATCH('Individual Scores'!$D62,Scores!$F$253:$F$505,0))&\"C\"&COLUMN(Scores!J$1),FALSE)))","v":156},{"$f":"IF('Team Scores'!$Z$1<2,\"\",IF(ISERROR(MATCH('Individual Scores'!$D62,Scores!$F$253:$F$506,0)),\"\",INDIRECT(\"Scores!\"&\"R\"&(ROW(Scores!$253:$253)-1+MATCH('Individual Scores'!$D62,Scores!$F$253:$F$505,0))&\"C\"&COLUMN(Scores!K$1),FALSE)))","v":173},{"$f":"IF('Team Scores'!$Z$1<2,\"\",IF(ISERROR(MATCH('Individual Scores'!$D62,Scores!$F$253:$F$506,0)),\"\",INDIRECT(\"Scores!\"&\"R\"&(ROW(Scores!$253:$253)-1+MATCH('Individual Scores'!$D62,Scores!$F$253:$F$505,0))&\"C\"&COLUMN(Scores!L$1),FALSE)))","v":141},{"$f":"IF('Team Scores'!$Z$1<2,\"\",IF(ISERROR(MATCH('Individual Scores'!$D62,Scores!$F$253:$F$506,0)),\"\",INDIRECT(\"Scores!\"&\"R\"&(ROW(Scores!$253:$253)-1+MATCH('Individual Scores'!$D62,Scores!$F$253:$F$505,0))&\"C\"&COLUMN(Scores!N$1),FALSE)))","v":182},{"$f":"IF('Team Scores'!$Z$1<2,\"\",IF(ISERROR(MATCH('Individual Scores'!$D62,Scores!$F$253:$F$506,0)),\"\",INDIRECT(\"Scores!\"&\"R\"&(ROW(Scores!$253:$253)-1+MATCH('Individual Scores'!$D62,Scores!$F$253:$F$505,0))&\"C\"&COLUMN(Scores!O$1),FALSE)))","v":139},{"$f":"IF('Team Scores'!$Z$1<2,\"\",IF(ISERROR(MATCH('Individual Scores'!$D62,Scores!$F$253:$F$506,0)),\"\",INDIRECT(\"Scores!\"&\"R\"&(ROW(Scores!$253:$253)-1+MATCH('Individual Scores'!$D62,Scores!$F$253:$F$505,0))&\"C\"&COLUMN(Scores!P$1),FALSE)))","v":144},{"$f":"IF('Team Scores'!$Z$1<2,\"\",IF(ISERROR(MATCH('Individual Scores'!$D62,Scores!$F$253:$F$506,0)),\"\",INDIRECT(\"Scores!\"&\"R\"&(ROW(Scores!$253:$253)-1+MATCH('Individual Scores'!$D62,Scores!$F$253:$F$505,0))&\"C\"&COLUMN(Scores!S$1),FALSE)))","v":935},182,470,null,{"$f":"IF('Team Scores'!$Z$1<3,\"\",IF(ISERROR(MATCH('Individual Scores'!$D62,Scores!$F$506:$F$759,0)),\"\",INDIRECT(\"Scores!\"&\"R\"&(ROW(Scores!$F$506:$F$759)-1+MATCH('Individual Scores'!$D62,Scores!$F$506:$F$759,0))&\"C\"&COLUMN(Scores!J$1),FALSE)))","v":""},{"$f":"IF('Team Scores'!$Z$1<3,\"\",IF(ISERROR(MATCH('Individual Scores'!$D62,Scores!$F$506:$F$759,0)),\"\",INDIRECT(\"Scores!\"&\"R\"&(ROW(Scores!$F$506:$F$759)-1+MATCH('Individual Scores'!$D62,Scores!$F$506:$F$759,0))&\"C\"&COLUMN(Scores!K$1),FALSE)))","v":""},{"$f":"IF('Team Scores'!$Z$1<3,\"\",IF(ISERROR(MATCH('Individual Scores'!$D62,Scores!$F$506:$F$759,0)),\"\",INDIRECT(\"Scores!\"&\"R\"&(ROW(Scores!$F$506:$F$759)-1+MATCH('Individual Scores'!$D62,Scores!$F$506:$F$759,0))&\"C\"&COLUMN(Scores!L$1),FALSE)))","v":""},{"$f":"IF('Team Scores'!$Z$1<3,\"\",IF(ISERROR(MATCH('Individual Scores'!$D62,Scores!$F$506:$F$759,0)),\"\",INDIRECT(\"Scores!\"&\"R\"&(ROW(Scores!$F$506:$F$759)-1+MATCH('Individual Scores'!$D62,Scores!$F$506:$F$759,0))&\"C\"&COLUMN(Scores!N$1),FALSE)))","v":""},{"$f":"IF('Team Scores'!$Z$1<3,\"\",IF(ISERROR(MATCH('Individual Scores'!$D62,Scores!$F$506:$F$759,0)),\"\",INDIRECT(\"Scores!\"&\"R\"&(ROW(Scores!$F$506:$F$759)-1+MATCH('Individual Scores'!$D62,Scores!$F$506:$F$759,0))&\"C\"&COLUMN(Scores!O$1),FALSE)))","v":""},{"$f":"IF('Team Scores'!$Z$1<3,\"\",IF(ISERROR(MATCH('Individual Scores'!$D62,Scores!$F$506:$F$759,0)),\"\",INDIRECT(\"Scores!\"&\"R\"&(ROW(Scores!$F$506:$F$759)-1+MATCH('Individual Scores'!$D62,Scores!$F$506:$F$759,0))&\"C\"&COLUMN(Scores!P$1),FALSE)))","v":""},{"$f":"IF('Team Scores'!$Z$1<3,\"\",IF(ISERROR(MATCH('Individual Scores'!$D62,Scores!$F$506:$F$759,0)),\"\",INDIRECT(\"Scores!\"&\"R\"&(ROW(Scores!$F$506:$F$759)-1+MATCH('Individual Scores'!$D62,Scores!$F$506:$F$759,0))&\"C\"&COLUMN(Scores!S$1),FALSE)))","v":""},"",""]
["NC","15 & <","F","Cameron Strombeck",1253,1160,"",2413,{"$f":"IF(COUNT(Q63:V63,AA63:AF63,AK63:AP63)>=18/3*'Team Scores'!$Z$1,IF(H63-VLOOKUP(B63&C63,'Individual Awards Computations'!$AY$54:$AZ$58,2,FALSE)=0,\"Leader \"&C63&\":\"&B63,H63-VLOOKUP(B63&C63,'Individual Awards Computations'!$AY$54:$AZ$58,2,FALSE)),\"\")","v":"Leader F:15 & <"},267,668,201.08333333333334,29.597222222222229,"171-231",1,null,{"$f":"IF(ISERROR(MATCH('Individual Scores'!$D63,Scores!$F$1:$F$253,0)),\"\",INDIRECT(\"Scores!\"&\"R\"&MATCH('Individual Scores'!$D63,Scores!$F$1:$F$253,0)&\"C\"&COLUMN(Scores!J$1),FALSE))","v":164},{"$f":"IF(ISERROR(MATCH('Individual Scores'!$D63,Scores!$F$1:$F$253,0)),\"\",INDIRECT(\"Scores!\"&\"R\"&MATCH('Individual Scores'!$D63,Scores!$F$1:$F$253,0)&\"C\"&COLUMN(Scores!K$1),FALSE))","v":243},{"$f":"IF(ISERROR(MATCH('Individual Scores'!$D63,Scores!$F$1:$F$253,0)),\"\",INDIRECT(\"Scores!\"&\"R\"&MATCH('Individual Scores'!$D63,Scores!$F$1:$F$253,0)&\"C\"&COLUMN(Scores!L$1),FALSE))","v":200},{"$f":"IF(ISERROR(MATCH('Individual Scores'!$D63,Scores!$F$1:$F$253,0)),\"\",INDIRECT(\"Scores!\"&\"R\"&MATCH('Individual Scores'!$D63,Scores!$F$1:$F$253,0)&\"C\"&COLUMN(Scores!N$1),FALSE))","v":175},{"$f":"IF(ISERROR(MATCH('Individual Scores'!$D63,Scores!$F$1:$F$253,0)),\"\",INDIRECT(\"Scores!\"&\"R\"&MATCH('Individual Scores'!$D63,Scores!$F$1:$F$253,0)&\"C\"&COLUMN(Scores!O$1),FALSE))","v":258},{"$f":"IF(ISERROR(MATCH('Individual Scores'!$D63,Scores!$F$1:$F$253,0)),\"\",INDIRECT(\"Scores!\"&\"R\"&MATCH('Individual Scores'!$D63,Scores!$F$1:$F$253,0)&\"C\"&COLUMN(Scores!P$1),FALSE))","v":213},{"$f":"IF(ISERROR(MATCH('Individual Scores'!$D63,Scores!$F$1:$F$253,0)),\"\",INDIRECT(\"Scores!\"&\"R\"&MATCH('Individual Scores'!$D63,Scores!$F$1:$F$253,0)&\"C\"&COLUMN(Scores!S$1),FALSE))","v":1253},{"$f":"IF(MAX('Individual Scores'!Q63:V63)>0,MAX('Individual Scores'!Q63:V63),\"\")","v":258},{"$f":"IF(MAX(SUM('Individual Scores'!Q63:S63),SUM('Individual Scores'!T63:V63))>0,MAX(SUM('Individual Scores'!Q63:S63),SUM('Individual Scores'!T63:V63)),\"\")","v":646},null,{"$f":"IF('Team Scores'!$Z$1<2,\"\",IF(ISERROR(MATCH('Individual Scores'!$D63,Scores!$F$253:$F$506,0)),\"\",INDIRECT(\"Scores!\"&\"R\"&(ROW(Scores!$253:$253)-1+MATCH('Individual Scores'!$D63,Scores!$F$253:$F$505,0))&\"C\"&COLUMN(Scores!J$1),FALSE)))","v":267},{"$f":"IF('Team Scores'!$Z$1<2,\"\",IF(ISERROR(MATCH('Individual Scores'!$D63,Scores!$F$253:$F$506,0)),\"\",INDIRECT(\"Scores!\"&\"R\"&(ROW(Scores!$253:$253)-1+MATCH('Individual Scores'!$D63,Scores!$F$253:$F$505,0))&\"C\"&COLUMN(Scores!K$1),FALSE)))","v":199},{"$f":"IF('Team Scores'!$Z$1<2,\"\",IF(ISERROR(MATCH('Individual Scores'!$D63,Scores!$F$253:$F$506,0)),\"\",INDIRECT(\"Scores!\"&\"R\"&(ROW(Scores!$253:$253)-1+MATCH('Individual Scores'!$D63,Scores!$F$253:$F$505,0))&\"C\"&COLUMN(Scores!L$1),FALSE)))","v":202},{"$f":"IF('Team Scores'!$Z$1<2,\"\",IF(ISERROR(MATCH('Individual Scores'!$D63,Scores!$F$253:$F$506,0)),\"\",INDIRECT(\"Scores!\"&\"R\"&(ROW(Scores!$253:$253)-1+MATCH('Individual Scores'!$D63,Scores!$F$253:$F$505,0))&\"C\"&COLUMN(Scores!N$1),FALSE)))","v":159},{"$f":"IF('Team Scores'!$Z$1<2,\"\",IF(ISERROR(MATCH('Individual Scores'!$D63,Scores!$F$253:$F$506,0)),\"\",INDIRECT(\"Scores!\"&\"R\"&(ROW(Scores!$253:$253)-1+MATCH('Individual Scores'!$D63,Scores!$F$253:$F$505,0))&\"C\"&COLUMN(Scores!O$1),FALSE)))","v":194},{"$f":"IF('Team Scores'!$Z$1<2,\"\",IF(ISERROR(MATCH('Individual Scores'!$D63,Scores!$F$253:$F$506,0)),\"\",INDIRECT(\"Scores!\"&\"R\"&(ROW(Scores!$253:$253)-1+MATCH('Individual Scores'!$D63,Scores!$F$253:$F$505,0))&\"C\"&COLUMN(Scores!P$1),FALSE)))","v":139},{"$f":"IF('Team Scores'!$Z$1<2,\"\",IF(ISERROR(MATCH('Individual Scores'!$D63,Scores!$F$253:$F$506,0)),\"\",INDIRECT(\"Scores!\"&\"R\"&(ROW(Scores!$253:$253)-1+MATCH('Individual Scores'!$D63,Scores!$F$253:$F$505,0))&\"C\"&COLUMN(Scores!S$1),FALSE)))","v":1160},267,668,null,{"$f":"IF('Team Scores'!$Z$1<3,\"\",IF(ISERROR(MATCH('Individual Scores'!$D63,Scores!$F$506:$F$759,0)),\"\",INDIRECT(\"Scores!\"&\"R\"&(ROW(Scores!$F$506:$F$759)-1+MATCH('Individual Scores'!$D63,Scores!$F$506:$F$759,0))&\"C\"&COLUMN(Scores!J$1),FALSE)))","v":""},{"$f":"IF('Team Scores'!$Z$1<3,\"\",IF(ISERROR(MATCH('Individual Scores'!$D63,Scores!$F$506:$F$759,0)),\"\",INDIRECT(\"Scores!\"&\"R\"&(ROW(Scores!$F$506:$F$759)-1+MATCH('Individual Scores'!$D63,Scores!$F$506:$F$759,0))&\"C\"&COLUMN(Scores!K$1),FALSE)))","v":""},{"$f":"IF('Team Scores'!$Z$1<3,\"\",IF(ISERROR(MATCH('Individual Scores'!$D63,Scores!$F$506:$F$759,0)),\"\",INDIRECT(\"Scores!\"&\"R\"&(ROW(Scores!$F$506:$F$759)-1+MATCH('Individual Scores'!$D63,Scores!$F$506:$F$759,0))&\"C\"&COLUMN(Scores!L$1),FALSE)))","v":""},{"$f":"IF('Team Scores'!$Z$1<3,\"\",IF(ISERROR(MATCH('Individual Scores'!$D63,Scores!$F$506:$F$759,0)),\"\",INDIRECT(\"Scores!\"&\"R\"&(ROW(Scores!$F$506:$F$759)-1+MATCH('Individual Scores'!$D63,Scores!$F$506:$F$759,0))&\"C\"&COLUMN(Scores!N$1),FALSE)))","v":""},{"$f":"IF('Team Scores'!$Z$1<3,\"\",IF(ISERROR(MATCH('Individual Scores'!$D63,Scores!$F$506:$F$759,0)),\"\",INDIRECT(\"Scores!\"&\"R\"&(ROW(Scores!$F$506:$F$759)-1+MATCH('Individual Scores'!$D63,Scores!$F$506:$F$759,0))&\"C\"&COLUMN(Scores!O$1),FALSE)))","v":""},{"$f":"IF('Team Scores'!$Z$1<3,\"\",IF(ISERROR(MATCH('Individual Scores'!$D63,Scores!$F$506:$F$759,0)),\"\",INDIRECT(\"Scores!\"&\"R\"&(ROW(Scores!$F$506:$F$759)-1+MATCH('Individual Scores'!$D63,Scores!$F$506:$F$759,0))&\"C\"&COLUMN(Scores!P$1),FALSE)))","v":""},{"$f":"IF('Team Scores'!$Z$1<3,\"\",IF(ISERROR(MATCH('Individual Scores'!$D63,Scores!$F$506:$F$759,0)),\"\",INDIRECT(\"Scores!\"&\"R\"&(ROW(Scores!$F$506:$F$759)-1+MATCH('Individual Scores'!$D63,Scores!$F$506:$F$759,0))&\"C\"&COLUMN(Scores!S$1),FALSE)))","v":""},"",""]
["NC","15 & <","F","Casey Mann",996,991,"",1987,{"$f":"IF(COUNT(Q64:V64,AA64:AF64,AK64:AP64)>=18/3*'Team Scores'!$Z$1,IF(H64-VLOOKUP(B64&C64,'Individual Awards Computations'!$AY$54:$AZ$58,2,FALSE)=0,\"Leader \"&C64&\":\"&B64,H64-VLOOKUP(B64&C64,'Individual Awards Computations'!$AY$54:$AZ$58,2,FALSE)),\"\")","v":-426},193,525,165.58333333333334,16.583333333333332,"149-182",1,null,{"$f":"IF(ISERROR(MATCH('Individual Scores'!$D64,Scores!$F$1:$F$253,0)),\"\",INDIRECT(\"Scores!\"&\"R\"&MATCH('Individual Scores'!$D64,Scores!$F$1:$F$253,0)&\"C\"&COLUMN(Scores!J$1),FALSE))","v":161},{"$f":"IF(ISERROR(MATCH('Individual Scores'!$D64,Scores!$F$1:$F$253,0)),\"\",INDIRECT(\"Scores!\"&\"R\"&MATCH('Individual Scores'!$D64,Scores!$F$1:$F$253,0)&\"C\"&COLUMN(Scores!K$1),FALSE))","v":174},{"$f":"IF(ISERROR(MATCH('Individual Scores'!$D64,Scores!$F$1:$F$253,0)),\"\",INDIRECT(\"Scores!\"&\"R\"&MATCH('Individual Scores'!$D64,Scores!$F$1:$F$253,0)&\"C\"&COLUMN(Scores!L$1),FALSE))","v":181},{"$f":"IF(ISERROR(MATCH('Individual Scores'!$D64,Scores!$F$1:$F$253,0)),\"\",INDIRECT(\"Scores!\"&\"R\"&MATCH('Individual Scores'!$D64,Scores!$F$1:$F$253,0)&\"C\"&COLUMN(Scores!N$1),FALSE))","v":153},{"$f":"IF(ISERROR(MATCH('Individual Scores'!$D64,Scores!$F$1:$F$253,0)),\"\",INDIRECT(\"Scores!\"&\"R\"&MATCH('Individual Scores'!$D64,Scores!$F$1:$F$253,0)&\"C\"&COLUMN(Scores!O$1),FALSE))","v":184},{"$f":"IF(ISERROR(MATCH('Individual Scores'!$D64,Scores!$F$1:$F$253,0)),\"\",INDIRECT(\"Scores!\"&\"R\"&MATCH('Individual Scores'!$D64,Scores!$F$1:$F$253,0)&\"C\"&COLUMN(Scores!P$1),FALSE))","v":143},{"$f":"IF(ISERROR(MATCH('Individual Scores'!$D64,Scores!$F$1:$F$253,0)),\"\",INDIRECT(\"Scores!\"&\"R\"&MATCH('Individual Scores'!$D64,Scores!$F$1:$F$253,0)&\"C\"&COLUMN(Scores!S$1),FALSE))","v":996},{"$f":"IF(MAX('Individual Scores'!Q64:V64)>0,MAX('Individual Scores'!Q64:V64),\"\")","v":184},{"$f":"IF(MAX(SUM('Individual Scores'!Q64:S64),SUM('Individual Scores'!T64:V64))>0,MAX(SUM('Individual Scores'!Q64:S64),SUM('Individual Scores'!T64:V64)),\"\")","v":516},null,{"$f":"IF('Team Scores'!$Z$1<2,\"\",IF(ISERROR(MATCH('Individual Scores'!$D64,Scores!$F$253:$F$506,0)),\"\",INDIRECT(\"Scores!\"&\"R\"&(ROW(Scores!$253:$253)-1+MATCH('Individual Scores'!$D64,Scores!$F$253:$F$505,0))&\"C\"&COLUMN(Scores!J$1),FALSE)))","v":170},{"$f":"IF('Team Scores'!$Z$1<2,\"\",IF(ISERROR(MATCH('Individual Scores'!$D64,Scores!$F$253:$F$506,0)),\"\",INDIRECT(\"Scores!\"&\"R\"&(ROW(Scores!$253:$253)-1+MATCH('Individual Scores'!$D64,Scores!$F$253:$F$505,0))&\"C\"&COLUMN(Scores!K$1),FALSE)))","v":193},{"$f":"IF('Team Scores'!$Z$1<2,\"\",IF(ISERROR(MATCH('Individual Scores'!$D64,Scores!$F$253:$F$506,0)),\"\",INDIRECT(\"Scores!\"&\"R\"&(ROW(Scores!$253:$253)-1+MATCH('Individual Scores'!$D64,Scores!$F$253:$F$505,0))&\"C\"&COLUMN(Scores!L$1),FALSE)))","v":162},{"$f":"IF('Team Scores'!$Z$1<2,\"\",IF(ISERROR(MATCH('Individual Scores'!$D64,Scores!$F$253:$F$506,0)),\"\",INDIRECT(\"Scores!\"&\"R\"&(ROW(Scores!$253:$253)-1+MATCH('Individual Scores'!$D64,Scores!$F$253:$F$505,0))&\"C\"&COLUMN(Scores!N$1),FALSE)))","v":136},{"$f":"IF('Team Scores'!$Z$1<2,\"\",IF(ISERROR(MATCH('Individual Scores'!$D64,Scores!$F$253:$F$506,0)),\"\",INDIRECT(\"Scores!\"&\"R\"&(ROW(Scores!$253:$253)-1+MATCH('Individual Scores'!$D64,Scores!$F$253:$F$505,0))&\"C\"&COLUMN(Scores!O$1),FALSE)))","v":139},{"$f":"IF('Team Scores'!$Z$1<2,\"\",IF(ISERROR(MATCH('Individual Scores'!$D64,Scores!$F$253:$F$506,0)),\"\",INDIRECT(\"Scores!\"&\"R\"&(ROW(Scores!$253:$253)-1+MATCH('Individual Scores'!$D64,Scores!$F$253:$F$505,0))&\"C\"&COLUMN(Scores!P$1),FALSE)))","v":191},{"$f":"IF('Team Scores'!$Z$1<2,\"\",IF(ISERROR(MATCH('Individual Scores'!$D64,Scores!$F$253:$F$506,0)),\"\",INDIRECT(\"Scores!\"&\"R\"&(ROW(Scores!$253:$253)-1+MATCH('Individual Scores'!$D64,Scores!$F$253:$F$505,0))&\"C\"&COLUMN(Scores!S$1),FALSE)))","v":991},193,525,null,{"$f":"IF('Team Scores'!$Z$1<3,\"\",IF(ISERROR(MATCH('Individual Scores'!$D64,Scores!$F$506:$F$759,0)),\"\",INDIRECT(\"Scores!\"&\"R\"&(ROW(Scores!$F$506:$F$759)-1+MATCH('Individual Scores'!$D64,Scores!$F$506:$F$759,0))&\"C\"&COLUMN(Scores!J$1),FALSE)))","v":""},{"$f":"IF('Team Scores'!$Z$1<3,\"\",IF(ISERROR(MATCH('Individual Scores'!$D64,Scores!$F$506:$F$759,0)),\"\",INDIRECT(\"Scores!\"&\"R\"&(ROW(Scores!$F$506:$F$759)-1+MATCH('Individual Scores'!$D64,Scores!$F$506:$F$759,0))&\"C\"&COLUMN(Scores!K$1),FALSE)))","v":""},{"$f":"IF('Team Scores'!$Z$1<3,\"\",IF(ISERROR(MATCH('Individual Scores'!$D64,Scores!$F$506:$F$759,0)),\"\",INDIRECT(\"Scores!\"&\"R\"&(ROW(Scores!$F$506:$F$759)-1+MATCH('Individual Scores'!$D64,Scores!$F$506:$F$759,0))&\"C\"&COLUMN(Scores!L$1),FALSE)))","v":""},{"$f":"IF('Team Scores'!$Z$1<3,\"\",IF(ISERROR(MATCH('Individual Scores'!$D64,Scores!$F$506:$F$759,0)),\"\",INDIRECT(\"Scores!\"&\"R\"&(ROW(Scores!$F$506:$F$759)-1+MATCH('Individual Scores'!$D64,Scores!$F$506:$F$759,0))&\"C\"&COLUMN(Scores!N$1),FALSE)))","v":""},{"$f":"IF('Team Scores'!$Z$1<3,\"\",IF(ISERROR(MATCH('Individual Scores'!$D64,Scores!$F$506:$F$759,0)),\"\",INDIRECT(\"Scores!\"&\"R\"&(ROW(Scores!$F$506:$F$759)-1+MATCH('Individual Scores'!$D64,Scores!$F$506:$F$759,0))&\"C\"&COLUMN(Scores!O$1),FALSE)))","v":""},{"$f":"IF('Team Scores'!$Z$1<3,\"\",IF(ISERROR(MATCH('Individual Scores'!$D64,Scores!$F$506:$F$759,0)),\"\",INDIRECT(\"Scores!\"&\"R\"&(ROW(Scores!$F$506:$F$759)-1+MATCH('Individual Scores'!$D64,Scores!$F$506:$F$759,0))&\"C\"&COLUMN(Scores!P$1),FALSE)))","v":""},{"$f":"IF('Team Scores'!$Z$1<3,\"\",IF(ISERROR(MATCH('Individual Scores'!$D64,Scores!$F$506:$F$759,0)),\"\",INDIRECT(\"Scores!\"&\"R\"&(ROW(Scores!$F$506:$F$759)-1+MATCH('Individual Scores'!$D64,Scores!$F$506:$F$759,0))&\"C\"&COLUMN(Scores!S$1),FALSE)))","v":""},"",""]
["NC","15 & <","F","Lara Kurt",884,907,"",1791,{"$f":"IF(COUNT(Q65:V65,AA65:AF65,AK65:AP65)>=18/3*'Team Scores'!$Z$1,IF(H65-VLOOKUP(B65&C65,'Individual Awards Computations'!$AY$54:$AZ$58,2,FALSE)=0,\"Leader \"&C65&\":\"&B65,H65-VLOOKUP(B65&C65,'Individual Awards Computations'!$AY$54:$AZ$58,2,FALSE)),\"\")","v":-622},199,484,149.25,17.5,"132-167",1,null,{"$f":"IF(ISERROR(MATCH('Individual Scores'!$D65,Scores!$F$1:$F$253,0)),\"\",INDIRECT(\"Scores!\"&\"R\"&MATCH('Individual Scores'!$D65,Scores!$F$1:$F$253,0)&\"C\"&COLUMN(Scores!J$1),FALSE))","v":139},{"$f":"IF(ISERROR(MATCH('Individual Scores'!$D65,Scores!$F$1:$F$253,0)),\"\",INDIRECT(\"Scores!\"&\"R\"&MATCH('Individual Scores'!$D65,Scores!$F$1:$F$253,0)&\"C\"&COLUMN(Scores!K$1),FALSE))","v":144},{"$f":"IF(ISERROR(MATCH('Individual Scores'!$D65,Scores!$F$1:$F$253,0)),\"\",INDIRECT(\"Scores!\"&\"R\"&MATCH('Individual Scores'!$D65,Scores!$F$1:$F$253,0)&\"C\"&COLUMN(Scores!L$1),FALSE))","v":145},{"$f":"IF(ISERROR(MATCH('Individual Scores'!$D65,Scores!$F$1:$F$253,0)),\"\",INDIRECT(\"Scores!\"&\"R\"&MATCH('Individual Scores'!$D65,Scores!$F$1:$F$253,0)&\"C\"&COLUMN(Scores!N$1),FALSE))","v":140},{"$f":"IF(ISERROR(MATCH('Individual Scores'!$D65,Scores!$F$1:$F$253,0)),\"\",INDIRECT(\"Scores!\"&\"R\"&MATCH('Individual Scores'!$D65,Scores!$F$1:$F$253,0)&\"C\"&COLUMN(Scores!O$1),FALSE))","v":125},{"$f":"IF(ISERROR(MATCH('Individual Scores'!$D65,Scores!$F$1:$F$253,0)),\"\",INDIRECT(\"Scores!\"&\"R\"&MATCH('Individual Scores'!$D65,Scores!$F$1:$F$253,0)&\"C\"&COLUMN(Scores!P$1),FALSE))","v":191},{"$f":"IF(ISERROR(MATCH('Individual Scores'!$D65,Scores!$F$1:$F$253,0)),\"\",INDIRECT(\"Scores!\"&\"R\"&MATCH('Individual Scores'!$D65,Scores!$F$1:$F$253,0)&\"C\"&COLUMN(Scores!S$1),FALSE))","v":884},{"$f":"IF(MAX('Individual Scores'!Q65:V65)>0,MAX('Individual Scores'!Q65:V65),\"\")","v":191},{"$f":"IF(MAX(SUM('Individual Scores'!Q65:S65),SUM('Individual Scores'!T65:V65))>0,MAX(SUM('Individual Scores'!Q65:S65),SUM('Individual Scores'!T65:V65)),\"\")","v":456},null,{"$f":"IF('Team Scores'!$Z$1<2,\"\",IF(ISERROR(MATCH('Individual Scores'!$D65,Scores!$F$253:$F$506,0)),\"\",INDIRECT(\"Scores!\"&\"R\"&(ROW(Scores!$253:$253)-1+MATCH('Individual Scores'!$D65,Scores!$F$253:$F$505,0))&\"C\"&COLUMN(Scores!J$1),FALSE)))","v":151},{"$f":"IF('Team Scores'!$Z$1<2,\"\",IF(ISERROR(MATCH('Individual Scores'!$D65,Scores!$F$253:$F$506,0)),\"\",INDIRECT(\"Scores!\"&\"R\"&(ROW(Scores!$253:$253)-1+MATCH('Individual Scores'!$D65,Scores!$F$253:$F$505,0))&\"C\"&COLUMN(Scores!K$1),FALSE)))","v":199},{"$f":"IF('Team Scores'!$Z$1<2,\"\",IF(ISERROR(MATCH('Individual Scores'!$D65,Scores!$F$253:$F$506,0)),\"\",INDIRECT(\"Scores!\"&\"R\"&(ROW(Scores!$253:$253)-1+MATCH('Individual Scores'!$D65,Scores!$F$253:$F$505,0))&\"C\"&COLUMN(Scores!L$1),FALSE)))","v":134},{"$f":"IF('Team Scores'!$Z$1<2,\"\",IF(ISERROR(MATCH('Individual Scores'!$D65,Scores!$F$253:$F$506,0)),\"\",INDIRECT(\"Scores!\"&\"R\"&(ROW(Scores!$253:$253)-1+MATCH('Individual Scores'!$D65,Scores!$F$253:$F$505,0))&\"C\"&COLUMN(Scores!N$1),FALSE)))","v":113},{"$f":"IF('Team Scores'!$Z$1<2,\"\",IF(ISERROR(MATCH('Individual Scores'!$D65,Scores!$F$253:$F$506,0)),\"\",INDIRECT(\"Scores!\"&\"R\"&(ROW(Scores!$253:$253)-1+MATCH('Individual Scores'!$D65,Scores!$F$253:$F$505,0))&\"C\"&COLUMN(Scores!O$1),FALSE)))","v":161},{"$f":"IF('Team Scores'!$Z$1<2,\"\",IF(ISERROR(MATCH('Individual Scores'!$D65,Scores!$F$253:$F$506,0)),\"\",INDIRECT(\"Scores!\"&\"R\"&(ROW(Scores!$253:$253)-1+MATCH('Individual Scores'!$D65,Scores!$F$253:$F$505,0))&\"C\"&COLUMN(Scores!P$1),FALSE)))","v":149},{"$f":"IF('Team Scores'!$Z$1<2,\"\",IF(ISERROR(MATCH('Individual Scores'!$D65,Scores!$F$253:$F$506,0)),\"\",INDIRECT(\"Scores!\"&\"R\"&(ROW(Scores!$253:$253)-1+MATCH('Individual Scores'!$D65,Scores!$F$253:$F$505,0))&\"C\"&COLUMN(Scores!S$1),FALSE)))","v":907},{"$f":"IF(MAX(AA65:AF65)>0,MAX(AA65:AF65),\"\")","v":199},{"$f":"IF(MAX(SUM(AA65:AC65),SUM(AD65:AF65))>0,MAX(SUM(AA65:AC65),SUM(AD65:AF65)),\"\")","v":484},null,{"$f":"IF('Team Scores'!$Z$1<3,\"\",IF(ISERROR(MATCH('Individual Scores'!$D65,Scores!$F$506:$F$759,0)),\"\",INDIRECT(\"Scores!\"&\"R\"&(ROW(Scores!$F$506:$F$759)-1+MATCH('Individual Scores'!$D65,Scores!$F$506:$F$759,0))&\"C\"&COLUMN(Scores!J$1),FALSE)))","v":""},{"$f":"IF('Team Scores'!$Z$1<3,\"\",IF(ISERROR(MATCH('Individual Scores'!$D65,Scores!$F$506:$F$759,0)),\"\",INDIRECT(\"Scores!\"&\"R\"&(ROW(Scores!$F$506:$F$759)-1+MATCH('Individual Scores'!$D65,Scores!$F$506:$F$759,0))&\"C\"&COLUMN(Scores!K$1),FALSE)))","v":""},{"$f":"IF('Team Scores'!$Z$1<3,\"\",IF(ISERROR(MATCH('Individual Scores'!$D65,Scores!$F$506:$F$759,0)),\"\",INDIRECT(\"Scores!\"&\"R\"&(ROW(Scores!$F$506:$F$759)-1+MATCH('Individual Scores'!$D65,Scores!$F$506:$F$759,0))&\"C\"&COLUMN(Scores!L$1),FALSE)))","v":""},{"$f":"IF('Team Scores'!$Z$1<3,\"\",IF(ISERROR(MATCH('Individual Scores'!$D65,Scores!$F$506:$F$759,0)),\"\",INDIRECT(\"Scores!\"&\"R\"&(ROW(Scores!$F$506:$F$759)-1+MATCH('Individual Scores'!$D65,Scores!$F$506:$F$759,0))&\"C\"&COLUMN(Scores!N$1),FALSE)))","v":""},{"$f":"IF('Team Scores'!$Z$1<3,\"\",IF(ISERROR(MATCH('Individual Scores'!$D65,Scores!$F$506:$F$759,0)),\"\",INDIRECT(\"Scores!\"&\"R\"&(ROW(Scores!$F$506:$F$759)-1+MATCH('Individual Scores'!$D65,Scores!$F$506:$F$759,0))&\"C\"&COLUMN(Scores!O$1),FALSE)))","v":""},{"$f":"IF('Team Scores'!$Z$1<3,\"\",IF(ISERROR(MATCH('Individual Scores'!$D65,Scores!$F$506:$F$759,0)),\"\",INDIRECT(\"Scores!\"&\"R\"&(ROW(Scores!$F$506:$F$759)-1+MATCH('Individual Scores'!$D65,Scores!$F$506:$F$759,0))&\"C\"&COLUMN(Scores!P$1),FALSE)))","v":""},{"$f":"IF('Team Scores'!$Z$1<3,\"\",IF(ISERROR(MATCH('Individual Scores'!$D65,Scores!$F$506:$F$759,0)),\"\",INDIRECT(\"Scores!\"&\"R\"&(ROW(Scores!$F$506:$F$759)-1+MATCH('Individual Scores'!$D65,Scores!$F$506:$F$759,0))&\"C\"&COLUMN(Scores!S$1),FALSE)))","v":""},"",""]
["NC","15 & <","F","Vacant-NC_G_U15",{"$f":"W66","v":""},{"$f":"AG66","v":""},{"$f":"AQ66","v":""},{"$f":"SUM(AQ66,AG66,W66)","v":0},{"$f":"IF(COUNT(Q66:V66,AA66:AF66,AK66:AP66)>=18/3*'Team Scores'!$Z$1,IF(H66-VLOOKUP(B66&C66,'Individual Awards Computations'!$AY$54:$AZ$58,2,FALSE)=0,\"Leader \"&C66&\":\"&B66,H66-VLOOKUP(B66&C66,'Individual Awards Computations'!$AY$54:$AZ$58,2,FALSE)),\"\")","v":""},"","","","","",{"$f":"COUNTIF($D$3:$D$169,D66)","v":1},null,{"$f":"IF(ISERROR(MATCH('Individual Scores'!$D66,Scores!$F$1:$F$253,0)),\"\",INDIRECT(\"Scores!\"&\"R\"&MATCH('Individual Scores'!$D66,Scores!$F$1:$F$253,0)&\"C\"&COLUMN(Scores!J$1),FALSE))","v":""},{"$f":"IF(ISERROR(MATCH('Individual Scores'!$D66,Scores!$F$1:$F$253,0)),\"\",INDIRECT(\"Scores!\"&\"R\"&MATCH('Individual Scores'!$D66,Scores!$F$1:$F$253,0)&\"C\"&COLUMN(Scores!K$1),FALSE))","v":""},{"$f":"IF(ISERROR(MATCH('Individual Scores'!$D66,Scores!$F$1:$F$253,0)),\"\",INDIRECT(\"Scores!\"&\"R\"&MATCH('Individual Scores'!$D66,Scores!$F$1:$F$253,0)&\"C\"&COLUMN(Scores!L$1),FALSE))","v":""},{"$f":"IF(ISERROR(MATCH('Individual Scores'!$D66,Scores!$F$1:$F$253,0)),\"\",INDIRECT(\"Scores!\"&\"R\"&MATCH('Individual Scores'!$D66,Scores!$F$1:$F$253,0)&\"C\"&COLUMN(Scores!N$1),FALSE))","v":""},{"$f":"IF(ISERROR(MATCH('Individual Scores'!$D66,Scores!$F$1:$F$253,0)),\"\",INDIRECT(\"Scores!\"&\"R\"&MATCH('Individual Scores'!$D66,Scores!$F$1:$F$253,0)&\"C\"&COLUMN(Scores!O$1),FALSE))","v":""},{"$f":"IF(ISERROR(MATCH('Individual Scores'!$D66,Scores!$F$1:$F$253,0)),\"\",INDIRECT(\"Scores!\"&\"R\"&MATCH('Individual Scores'!$D66,Scores!$F$1:$F$253,0)&\"C\"&COLUMN(Scores!P$1),FALSE))","v":""},{"$f":"IF(ISERROR(MATCH('Individual Scores'!$D66,Scores!$F$1:$F$253,0)),\"\",INDIRECT(\"Scores!\"&\"R\"&MATCH('Individual Scores'!$D66,Scores!$F$1:$F$253,0)&\"C\"&COLUMN(Scores!S$1),FALSE))","v":""},{"$f":"IF(MAX('Individual Scores'!Q66:V66)>0,MAX('Individual Scores'!Q66:V66),\"\")","v":""},{"$f":"IF(MAX(SUM('Individual Scores'!Q66:S66),SUM('Individual Scores'!T66:V66))>0,MAX(SUM('Individual Scores'!Q66:S66),SUM('Individual Scores'!T66:V66)),\"\")","v":""},null,{"$f":"IF('Team Scores'!$Z$1<2,\"\",IF(ISERROR(MATCH('Individual Scores'!$D66,Scores!$F$253:$F$506,0)),\"\",INDIRECT(\"Scores!\"&\"R\"&(ROW(Scores!$253:$253)-1+MATCH('Individual Scores'!$D66,Scores!$F$253:$F$505,0))&\"C\"&COLUMN(Scores!J$1),FALSE)))","v":""},{"$f":"IF('Team Scores'!$Z$1<2,\"\",IF(ISERROR(MATCH('Individual Scores'!$D66,Scores!$F$253:$F$506,0)),\"\",INDIRECT(\"Scores!\"&\"R\"&(ROW(Scores!$253:$253)-1+MATCH('Individual Scores'!$D66,Scores!$F$253:$F$505,0))&\"C\"&COLUMN(Scores!K$1),FALSE)))","v":""},{"$f":"IF('Team Scores'!$Z$1<2,\"\",IF(ISERROR(MATCH('Individual Scores'!$D66,Scores!$F$253:$F$506,0)),\"\",INDIRECT(\"Scores!\"&\"R\"&(ROW(Scores!$253:$253)-1+MATCH('Individual Scores'!$D66,Scores!$F$253:$F$505,0))&\"C\"&COLUMN(Scores!L$1),FALSE)))","v":""},{"$f":"IF('Team Scores'!$Z$1<2,\"\",IF(ISERROR(MATCH('Individual Scores'!$D66,Scores!$F$253:$F$506,0)),\"\",INDIRECT(\"Scores!\"&\"R\"&(ROW(Scores!$253:$253)-1+MATCH('Individual Scores'!$D66,Scores!$F$253:$F$505,0))&\"C\"&COLUMN(Scores!N$1),FALSE)))","v":""},{"$f":"IF('Team Scores'!$Z$1<2,\"\",IF(ISERROR(MATCH('Individual Scores'!$D66,Scores!$F$253:$F$506,0)),\"\",INDIRECT(\"Scores!\"&\"R\"&(ROW(Scores!$253:$253)-1+MATCH('Individual Scores'!$D66,Scores!$F$253:$F$505,0))&\"C\"&COLUMN(Scores!O$1),FALSE)))","v":""},{"$f":"IF('Team Scores'!$Z$1<2,\"\",IF(ISERROR(MATCH('Individual Scores'!$D66,Scores!$F$253:$F$506,0)),\"\",INDIRECT(\"Scores!\"&\"R\"&(ROW(Scores!$253:$253)-1+MATCH('Individual Scores'!$D66,Scores!$F$253:$F$505,0))&\"C\"&COLUMN(Scores!P$1),FALSE)))","v":""},{"$f":"IF('Team Scores'!$Z$1<2,\"\",IF(ISERROR(MATCH('Individual Scores'!$D66,Scores!$F$253:$F$506,0)),\"\",INDIRECT(\"Scores!\"&\"R\"&(ROW(Scores!$253:$253)-1+MATCH('Individual Scores'!$D66,Scores!$F$253:$F$505,0))&\"C\"&COLUMN(Scores!S$1),FALSE)))","v":""},"","",null,{"$f":"IF('Team Scores'!$Z$1<3,\"\",IF(ISERROR(MATCH('Individual Scores'!$D66,Scores!$F$506:$F$759,0)),\"\",INDIRECT(\"Scores!\"&\"R\"&(ROW(Scores!$F$506:$F$759)-1+MATCH('Individual Scores'!$D66,Scores!$F$506:$F$759,0))&\"C\"&COLUMN(Scores!J$1),FALSE)))","v":""},{"$f":"IF('Team Scores'!$Z$1<3,\"\",IF(ISERROR(MATCH('Individual Scores'!$D66,Scores!$F$506:$F$759,0)),\"\",INDIRECT(\"Scores!\"&\"R\"&(ROW(Scores!$F$506:$F$759)-1+MATCH('Individual Scores'!$D66,Scores!$F$506:$F$759,0))&\"C\"&COLUMN(Scores!K$1),FALSE)))","v":""},{"$f":"IF('Team Scores'!$Z$1<3,\"\",IF(ISERROR(MATCH('Individual Scores'!$D66,Scores!$F$506:$F$759,0)),\"\",INDIRECT(\"Scores!\"&\"R\"&(ROW(Scores!$F$506:$F$759)-1+MATCH('Individual Scores'!$D66,Scores!$F$506:$F$759,0))&\"C\"&COLUMN(Scores!L$1),FALSE)))","v":""},{"$f":"IF('Team Scores'!$Z$1<3,\"\",IF(ISERROR(MATCH('Individual Scores'!$D66,Scores!$F$506:$F$759,0)),\"\",INDIRECT(\"Scores!\"&\"R\"&(ROW(Scores!$F$506:$F$759)-1+MATCH('Individual Scores'!$D66,Scores!$F$506:$F$759,0))&\"C\"&COLUMN(Scores!N$1),FALSE)))","v":""},{"$f":"IF('Team Scores'!$Z$1<3,\"\",IF(ISERROR(MATCH('Individual Scores'!$D66,Scores!$F$506:$F$759,0)),\"\",INDIRECT(\"Scores!\"&\"R\"&(ROW(Scores!$F$506:$F$759)-1+MATCH('Individual Scores'!$D66,Scores!$F$506:$F$759,0))&\"C\"&COLUMN(Scores!O$1),FALSE)))","v":""},{"$f":"IF('Team Scores'!$Z$1<3,\"\",IF(ISERROR(MATCH('Individual Scores'!$D66,Scores!$F$506:$F$759,0)),\"\",INDIRECT(\"Scores!\"&\"R\"&(ROW(Scores!$F$506:$F$759)-1+MATCH('Individual Scores'!$D66,Scores!$F$506:$F$759,0))&\"C\"&COLUMN(Scores!P$1),FALSE)))","v":""},{"$f":"IF('Team Scores'!$Z$1<3,\"\",IF(ISERROR(MATCH('Individual Scores'!$D66,Scores!$F$506:$F$759,0)),\"\",INDIRECT(\"Scores!\"&\"R\"&(ROW(Scores!$F$506:$F$759)-1+MATCH('Individual Scores'!$D66,Scores!$F$506:$F$759,0))&\"C\"&COLUMN(Scores!S$1),FALSE)))","v":""},"",""]
["NC","15 & <","F",null,"","","",0,{"$f":"IF(COUNT(Q67:V67,AA67:AF67,AK67:AP67)>=18/3*'Team Scores'!$Z$1,IF(H67-VLOOKUP(B67&C67,'Individual Awards Computations'!$AY$54:$AZ$58,2,FALSE)=0,\"Leader \"&C67&\":\"&B67,H67-VLOOKUP(B67&C67,'Individual Awards Computations'!$AY$54:$AZ$58,2,FALSE)),\"\")","v":""},"","","","","",0,null,{"$f":"IF(ISERROR(MATCH('Individual Scores'!$D67,Scores!$F$1:$F$253,0)),\"\",INDIRECT(\"Scores!\"&\"R\"&MATCH('Individual Scores'!$D67,Scores!$F$1:$F$253,0)&\"C\"&COLUMN(Scores!J$1),FALSE))","v":""},{"$f":"IF(ISERROR(MATCH('Individual Scores'!$D67,Scores!$F$1:$F$253,0)),\"\",INDIRECT(\"Scores!\"&\"R\"&MATCH('Individual Scores'!$D67,Scores!$F$1:$F$253,0)&\"C\"&COLUMN(Scores!K$1),FALSE))","v":""},{"$f":"IF(ISERROR(MATCH('Individual Scores'!$D67,Scores!$F$1:$F$253,0)),\"\",INDIRECT(\"Scores!\"&\"R\"&MATCH('Individual Scores'!$D67,Scores!$F$1:$F$253,0)&\"C\"&COLUMN(Scores!L$1),FALSE))","v":""},{"$f":"IF(ISERROR(MATCH('Individual Scores'!$D67,Scores!$F$1:$F$253,0)),\"\",INDIRECT(\"Scores!\"&\"R\"&MATCH('Individual Scores'!$D67,Scores!$F$1:$F$253,0)&\"C\"&COLUMN(Scores!N$1),FALSE))","v":""},{"$f":"IF(ISERROR(MATCH('Individual Scores'!$D67,Scores!$F$1:$F$253,0)),\"\",INDIRECT(\"Scores!\"&\"R\"&MATCH('Individual Scores'!$D67,Scores!$F$1:$F$253,0)&\"C\"&COLUMN(Scores!O$1),FALSE))","v":""},{"$f":"IF(ISERROR(MATCH('Individual Scores'!$D67,Scores!$F$1:$F$253,0)),\"\",INDIRECT(\"Scores!\"&\"R\"&MATCH('Individual Scores'!$D67,Scores!$F$1:$F$253,0)&\"C\"&COLUMN(Scores!P$1),FALSE))","v":""},{"$f":"IF(ISERROR(MATCH('Individual Scores'!$D67,Scores!$F$1:$F$253,0)),\"\",INDIRECT(\"Scores!\"&\"R\"&MATCH('Individual Scores'!$D67,Scores!$F$1:$F$253,0)&\"C\"&COLUMN(Scores!S$1),FALSE))","v":""},{"$f":"IF(MAX('Individual Scores'!Q67:V67)>0,MAX('Individual Scores'!Q67:V67),\"\")","v":""},{"$f":"IF(MAX(SUM('Individual Scores'!Q67:S67),SUM('Individual Scores'!T67:V67))>0,MAX(SUM('Individual Scores'!Q67:S67),SUM('Individual Scores'!T67:V67)),\"\")","v":""},null,{"$f":"IF('Team Scores'!$Z$1<2,\"\",IF(ISERROR(MATCH('Individual Scores'!$D67,Scores!$F$253:$F$506,0)),\"\",INDIRECT(\"Scores!\"&\"R\"&(ROW(Scores!$253:$253)-1+MATCH('Individual Scores'!$D67,Scores!$F$253:$F$505,0))&\"C\"&COLUMN(Scores!J$1),FALSE)))","v":""},{"$f":"IF('Team Scores'!$Z$1<2,\"\",IF(ISERROR(MATCH('Individual Scores'!$D67,Scores!$F$253:$F$506,0)),\"\",INDIRECT(\"Scores!\"&\"R\"&(ROW(Scores!$253:$253)-1+MATCH('Individual Scores'!$D67,Scores!$F$253:$F$505,0))&\"C\"&COLUMN(Scores!K$1),FALSE)))","v":""},{"$f":"IF('Team Scores'!$Z$1<2,\"\",IF(ISERROR(MATCH('Individual Scores'!$D67,Scores!$F$253:$F$506,0)),\"\",INDIRECT(\"Scores!\"&\"R\"&(ROW(Scores!$253:$253)-1+MATCH('Individual Scores'!$D67,Scores!$F$253:$F$505,0))&\"C\"&COLUMN(Scores!L$1),FALSE)))","v":""},{"$f":"IF('Team Scores'!$Z$1<2,\"\",IF(ISERROR(MATCH('Individual Scores'!$D67,Scores!$F$253:$F$506,0)),\"\",INDIRECT(\"Scores!\"&\"R\"&(ROW(Scores!$253:$253)-1+MATCH('Individual Scores'!$D67,Scores!$F$253:$F$505,0))&\"C\"&COLUMN(Scores!N$1),FALSE)))","v":""},{"$f":"IF('Team Scores'!$Z$1<2,\"\",IF(ISERROR(MATCH('Individual Scores'!$D67,Scores!$F$253:$F$506,0)),\"\",INDIRECT(\"Scores!\"&\"R\"&(ROW(Scores!$253:$253)-1+MATCH('Individual Scores'!$D67,Scores!$F$253:$F$505,0))&\"C\"&COLUMN(Scores!O$1),FALSE)))","v":""},{"$f":"IF('Team Scores'!$Z$1<2,\"\",IF(ISERROR(MATCH('Individual Scores'!$D67,Scores!$F$253:$F$506,0)),\"\",INDIRECT(\"Scores!\"&\"R\"&(ROW(Scores!$253:$253)-1+MATCH('Individual Scores'!$D67,Scores!$F$253:$F$505,0))&\"C\"&COLUMN(Scores!P$1),FALSE)))","v":""},{"$f":"IF('Team Scores'!$Z$1<2,\"\",IF(ISERROR(MATCH('Individual Scores'!$D67,Scores!$F$253:$F$506,0)),\"\",INDIRECT(\"Scores!\"&\"R\"&(ROW(Scores!$253:$253)-1+MATCH('Individual Scores'!$D67,Scores!$F$253:$F$505,0))&\"C\"&COLUMN(Scores!S$1),FALSE)))","v":""},{"$f":"IF(MAX(AA67:AF67)>0,MAX(AA67:AF67),\"\")","v":""},{"$f":"IF(MAX(SUM(AA67:AC67),SUM(AD67:AF67))>0,MAX(SUM(AA67:AC67),SUM(AD67:AF67)),\"\")","v":""},null,{"$f":"IF('Team Scores'!$Z$1<3,\"\",IF(ISERROR(MATCH('Individual Scores'!$D67,Scores!$F$506:$F$759,0)),\"\",INDIRECT(\"Scores!\"&\"R\"&(ROW(Scores!$F$506:$F$759)-1+MATCH('Individual Scores'!$D67,Scores!$F$506:$F$759,0))&\"C\"&COLUMN(Scores!J$1),FALSE)))","v":""},{"$f":"IF('Team Scores'!$Z$1<3,\"\",IF(ISERROR(MATCH('Individual Scores'!$D67,Scores!$F$506:$F$759,0)),\"\",INDIRECT(\"Scores!\"&\"R\"&(ROW(Scores!$F$506:$F$759)-1+MATCH('Individual Scores'!$D67,Scores!$F$506:$F$759,0))&\"C\"&COLUMN(Scores!K$1),FALSE)))","v":""},{"$f":"IF('Team Scores'!$Z$1<3,\"\",IF(ISERROR(MATCH('Individual Scores'!$D67,Scores!$F$506:$F$759,0)),\"\",INDIRECT(\"Scores!\"&\"R\"&(ROW(Scores!$F$506:$F$759)-1+MATCH('Individual Scores'!$D67,Scores!$F$506:$F$759,0))&\"C\"&COLUMN(Scores!L$1),FALSE)))","v":""},{"$f":"IF('Team Scores'!$Z$1<3,\"\",IF(ISERROR(MATCH('Individual Scores'!$D67,Scores!$F$506:$F$759,0)),\"\",INDIRECT(\"Scores!\"&\"R\"&(ROW(Scores!$F$506:$F$759)-1+MATCH('Individual Scores'!$D67,Scores!$F$506:$F$759,0))&\"C\"&COLUMN(Scores!N$1),FALSE)))","v":""},{"$f":"IF('Team Scores'!$Z$1<3,\"\",IF(ISERROR(MATCH('Individual Scores'!$D67,Scores!$F$506:$F$759,0)),\"\",INDIRECT(\"Scores!\"&\"R\"&(ROW(Scores!$F$506:$F$759)-1+MATCH('Individual Scores'!$D67,Scores!$F$506:$F$759,0))&\"C\"&COLUMN(Scores!O$1),FALSE)))","v":""},{"$f":"IF('Team Scores'!$Z$1<3,\"\",IF(ISERROR(MATCH('Individual Scores'!$D67,Scores!$F$506:$F$759,0)),\"\",INDIRECT(\"Scores!\"&\"R\"&(ROW(Scores!$F$506:$F$759)-1+MATCH('Individual Scores'!$D67,Scores!$F$506:$F$759,0))&\"C\"&COLUMN(Scores!P$1),FALSE)))","v":""},{"$f":"IF('Team Scores'!$Z$1<3,\"\",IF(ISERROR(MATCH('Individual Scores'!$D67,Scores!$F$506:$F$759,0)),\"\",INDIRECT(\"Scores!\"&\"R\"&(ROW(Scores!$F$506:$F$759)-1+MATCH('Individual Scores'!$D67,Scores!$F$506:$F$759,0))&\"C\"&COLUMN(Scores!S$1),FALSE)))","v":""},"",""]
["NC","15 & <","M","Chad Severt",1156,1289,"",2445,{"$f":"IF(COUNT(Q68:V68,AA68:AF68,AK68:AP68)>=18/3*'Team Scores'!$Z$1,IF(H68-VLOOKUP(B68&C68,'Individual Awards Computations'!$AY$54:$AZ$58,2,FALSE)=0,\"Leader \"&C68&\":\"&B68,H68-VLOOKUP(B68&C68,'Individual Awards Computations'!$AY$54:$AZ$58,2,FALSE)),\"\")","v":-184},{"$f":"IF(H68=0,\"\",MAX(Q68:V68,AA68:AF68,AK68:AP68))","v":256},{"$f":"IF(H68=0,\"\",MAX(SUM(Q68:S68),SUM(T68:V68),SUM(AA68:AC68),SUM(AD68:AF68),SUM(AK68:AM68),SUM(AN68:AP68)))","v":703},{"$f":"IF(H68=0,\"\",AVERAGE(Q68:V68,AA68:AF68,AK68:AP68))","v":203.75},{"$f":"IF(H68=0,\"\",AVEDEV(Q68:V68,AA68:AF68,AK68:AP68))","v":20.75},{"$f":"IF(H68=0,\"\",ROUND(L68-M68,0)&\"-\"&ROUND(L68+M68,0))","v":"183-225"},1,null,{"$f":"IF(ISERROR(MATCH('Individual Scores'!$D68,Scores!$F$1:$F$253,0)),\"\",INDIRECT(\"Scores!\"&\"R\"&MATCH('Individual Scores'!$D68,Scores!$F$1:$F$253,0)&\"C\"&COLUMN(Scores!J$1),FALSE))","v":235},{"$f":"IF(ISERROR(MATCH('Individual Scores'!$D68,Scores!$F$1:$F$253,0)),\"\",INDIRECT(\"Scores!\"&\"R\"&MATCH('Individual Scores'!$D68,Scores!$F$1:$F$253,0)&\"C\"&COLUMN(Scores!K$1),FALSE))","v":179},{"$f":"IF(ISERROR(MATCH('Individual Scores'!$D68,Scores!$F$1:$F$253,0)),\"\",INDIRECT(\"Scores!\"&\"R\"&MATCH('Individual Scores'!$D68,Scores!$F$1:$F$253,0)&\"C\"&COLUMN(Scores!L$1),FALSE))","v":172},{"$f":"IF(ISERROR(MATCH('Individual Scores'!$D68,Scores!$F$1:$F$253,0)),\"\",INDIRECT(\"Scores!\"&\"R\"&MATCH('Individual Scores'!$D68,Scores!$F$1:$F$253,0)&\"C\"&COLUMN(Scores!N$1),FALSE))","v":204},{"$f":"IF(ISERROR(MATCH('Individual Scores'!$D68,Scores!$F$1:$F$253,0)),\"\",INDIRECT(\"Scores!\"&\"R\"&MATCH('Individual Scores'!$D68,Scores!$F$1:$F$253,0)&\"C\"&COLUMN(Scores!O$1),FALSE))","v":202},{"$f":"IF(ISERROR(MATCH('Individual Scores'!$D68,Scores!$F$1:$F$253,0)),\"\",INDIRECT(\"Scores!\"&\"R\"&MATCH('Individual Scores'!$D68,Scores!$F$1:$F$253,0)&\"C\"&COLUMN(Scores!P$1),FALSE))","v":164},{"$f":"IF(ISERROR(MATCH('Individual Scores'!$D68,Scores!$F$1:$F$253,0)),\"\",INDIRECT(\"Scores!\"&\"R\"&MATCH('Individual Scores'!$D68,Scores!$F$1:$F$253,0)&\"C\"&COLUMN(Scores!S$1),FALSE))","v":1156},{"$f":"IF(MAX('Individual Scores'!Q68:V68)>0,MAX('Individual Scores'!Q68:V68),\"\")","v":235},{"$f":"IF(MAX(SUM('Individual Scores'!Q68:S68),SUM('Individual Scores'!T68:V68))>0,MAX(SUM('Individual Scores'!Q68:S68),SUM('Individual Scores'!T68:V68)),\"\")","v":586},null,{"$f":"IF('Team Scores'!$Z$1<2,\"\",IF(ISERROR(MATCH('Individual Scores'!$D68,Scores!$F$253:$F$506,0)),\"\",INDIRECT(\"Scores!\"&\"R\"&(ROW(Scores!$253:$253)-1+MATCH('Individual Scores'!$D68,Scores!$F$253:$F$505,0))&\"C\"&COLUMN(Scores!J$1),FALSE)))","v":225},{"$f":"IF('Team Scores'!$Z$1<2,\"\",IF(ISERROR(MATCH('Individual Scores'!$D68,Scores!$F$253:$F$506,0)),\"\",INDIRECT(\"Scores!\"&\"R\"&(ROW(Scores!$253:$253)-1+MATCH('Individual Scores'!$D68,Scores!$F$253:$F$505,0))&\"C\"&COLUMN(Scores!K$1),FALSE)))","v":256},{"$f":"IF('Team Scores'!$Z$1<2,\"\",IF(ISERROR(MATCH('Individual Scores'!$D68,Scores!$F$253:$F$506,0)),\"\",INDIRECT(\"Scores!\"&\"R\"&(ROW(Scores!$253:$253)-1+MATCH('Individual Scores'!$D68,Scores!$F$253:$F$505,0))&\"C\"&COLUMN(Scores!L$1),FALSE)))","v":222},{"$f":"IF('Team Scores'!$Z$1<2,\"\",IF(ISERROR(MATCH('Individual Scores'!$D68,Scores!$F$253:$F$506,0)),\"\",INDIRECT(\"Scores!\"&\"R\"&(ROW(Scores!$253:$253)-1+MATCH('Individual Scores'!$D68,Scores!$F$253:$F$505,0))&\"C\"&COLUMN(Scores!N$1),FALSE)))","v":205},{"$f":"IF('Team Scores'!$Z$1<2,\"\",IF(ISERROR(MATCH('Individual Scores'!$D68,Scores!$F$253:$F$506,0)),\"\",INDIRECT(\"Scores!\"&\"R\"&(ROW(Scores!$253:$253)-1+MATCH('Individual Scores'!$D68,Scores!$F$253:$F$505,0))&\"C\"&COLUMN(Scores!O$1),FALSE)))","v":192},{"$f":"IF('Team Scores'!$Z$1<2,\"\",IF(ISERROR(MATCH('Individual Scores'!$D68,Scores!$F$253:$F$506,0)),\"\",INDIRECT(\"Scores!\"&\"R\"&(ROW(Scores!$253:$253)-1+MATCH('Individual Scores'!$D68,Scores!$F$253:$F$505,0))&\"C\"&COLUMN(Scores!P$1),FALSE)))","v":189},{"$f":"IF('Team Scores'!$Z$1<2,\"\",IF(ISERROR(MATCH('Individual Scores'!$D68,Scores!$F$253:$F$506,0)),\"\",INDIRECT(\"Scores!\"&\"R\"&(ROW(Scores!$253:$253)-1+MATCH('Individual Scores'!$D68,Scores!$F$253:$F$505,0))&\"C\"&COLUMN(Scores!S$1),FALSE)))","v":1289},256,703,null,{"$f":"IF('Team Scores'!$Z$1<3,\"\",IF(ISERROR(MATCH('Individual Scores'!$D68,Scores!$F$506:$F$759,0)),\"\",INDIRECT(\"Scores!\"&\"R\"&(ROW(Scores!$F$506:$F$759)-1+MATCH('Individual Scores'!$D68,Scores!$F$506:$F$759,0))&\"C\"&COLUMN(Scores!J$1),FALSE)))","v":""},{"$f":"IF('Team Scores'!$Z$1<3,\"\",IF(ISERROR(MATCH('Individual Scores'!$D68,Scores!$F$506:$F$759,0)),\"\",INDIRECT(\"Scores!\"&\"R\"&(ROW(Scores!$F$506:$F$759)-1+MATCH('Individual Scores'!$D68,Scores!$F$506:$F$759,0))&\"C\"&COLUMN(Scores!K$1),FALSE)))","v":""},{"$f":"IF('Team Scores'!$Z$1<3,\"\",IF(ISERROR(MATCH('Individual Scores'!$D68,Scores!$F$506:$F$759,0)),\"\",INDIRECT(\"Scores!\"&\"R\"&(ROW(Scores!$F$506:$F$759)-1+MATCH('Individual Scores'!$D68,Scores!$F$506:$F$759,0))&\"C\"&COLUMN(Scores!L$1),FALSE)))","v":""},{"$f":"IF('Team Scores'!$Z$1<3,\"\",IF(ISERROR(MATCH('Individual Scores'!$D68,Scores!$F$506:$F$759,0)),\"\",INDIRECT(\"Scores!\"&\"R\"&(ROW(Scores!$F$506:$F$759)-1+MATCH('Individual Scores'!$D68,Scores!$F$506:$F$759,0))&\"C\"&COLUMN(Scores!N$1),FALSE)))","v":""},{"$f":"IF('Team Scores'!$Z$1<3,\"\",IF(ISERROR(MATCH('Individual Scores'!$D68,Scores!$F$506:$F$759,0)),\"\",INDIRECT(\"Scores!\"&\"R\"&(ROW(Scores!$F$506:$F$759)-1+MATCH('Individual Scores'!$D68,Scores!$F$506:$F$759,0))&\"C\"&COLUMN(Scores!O$1),FALSE)))","v":""},{"$f":"IF('Team Scores'!$Z$1<3,\"\",IF(ISERROR(MATCH('Individual Scores'!$D68,Scores!$F$506:$F$759,0)),\"\",INDIRECT(\"Scores!\"&\"R\"&(ROW(Scores!$F$506:$F$759)-1+MATCH('Individual Scores'!$D68,Scores!$F$506:$F$759,0))&\"C\"&COLUMN(Scores!P$1),FALSE)))","v":""},{"$f":"IF('Team Scores'!$Z$1<3,\"\",IF(ISERROR(MATCH('Individual Scores'!$D68,Scores!$F$506:$F$759,0)),\"\",INDIRECT(\"Scores!\"&\"R\"&(ROW(Scores!$F$506:$F$759)-1+MATCH('Individual Scores'!$D68,Scores!$F$506:$F$759,0))&\"C\"&COLUMN(Scores!S$1),FALSE)))","v":""},"",""]
["NC","15 & <","M","Caleb Wallace",1005,932,"",1937,{"$f":"IF(COUNT(Q69:V69,AA69:AF69,AK69:AP69)>=18/3*'Team Scores'!$Z$1,IF(H69-VLOOKUP(B69&C69,'Individual Awards Computations'!$AY$54:$AZ$58,2,FALSE)=0,\"Leader \"&C69&\":\"&B69,H69-VLOOKUP(B69&C69,'Individual Awards Computations'!$AY$54:$AZ$58,2,FALSE)),\"\")","v":-692},186,541,161.41666666666666,14.347222222222223,"147-176",1,null,{"$f":"IF(ISERROR(MATCH('Individual Scores'!$D69,Scores!$F$1:$F$253,0)),\"\",INDIRECT(\"Scores!\"&\"R\"&MATCH('Individual Scores'!$D69,Scores!$F$1:$F$253,0)&\"C\"&COLUMN(Scores!J$1),FALSE))","v":174},{"$f":"IF(ISERROR(MATCH('Individual Scores'!$D69,Scores!$F$1:$F$253,0)),\"\",INDIRECT(\"Scores!\"&\"R\"&MATCH('Individual Scores'!$D69,Scores!$F$1:$F$253,0)&\"C\"&COLUMN(Scores!K$1),FALSE))","v":181},{"$f":"IF(ISERROR(MATCH('Individual Scores'!$D69,Scores!$F$1:$F$253,0)),\"\",INDIRECT(\"Scores!\"&\"R\"&MATCH('Individual Scores'!$D69,Scores!$F$1:$F$253,0)&\"C\"&COLUMN(Scores!L$1),FALSE))","v":186},{"$f":"IF(ISERROR(MATCH('Individual Scores'!$D69,Scores!$F$1:$F$253,0)),\"\",INDIRECT(\"Scores!\"&\"R\"&MATCH('Individual Scores'!$D69,Scores!$F$1:$F$253,0)&\"C\"&COLUMN(Scores!N$1),FALSE))","v":155},{"$f":"IF(ISERROR(MATCH('Individual Scores'!$D69,Scores!$F$1:$F$253,0)),\"\",INDIRECT(\"Scores!\"&\"R\"&MATCH('Individual Scores'!$D69,Scores!$F$1:$F$253,0)&\"C\"&COLUMN(Scores!O$1),FALSE))","v":180},{"$f":"IF(ISERROR(MATCH('Individual Scores'!$D69,Scores!$F$1:$F$253,0)),\"\",INDIRECT(\"Scores!\"&\"R\"&MATCH('Individual Scores'!$D69,Scores!$F$1:$F$253,0)&\"C\"&COLUMN(Scores!P$1),FALSE))","v":129},{"$f":"IF(ISERROR(MATCH('Individual Scores'!$D69,Scores!$F$1:$F$253,0)),\"\",INDIRECT(\"Scores!\"&\"R\"&MATCH('Individual Scores'!$D69,Scores!$F$1:$F$253,0)&\"C\"&COLUMN(Scores!S$1),FALSE))","v":1005},{"$f":"IF(MAX('Individual Scores'!Q69:V69)>0,MAX('Individual Scores'!Q69:V69),\"\")","v":186},{"$f":"IF(MAX(SUM('Individual Scores'!Q69:S69),SUM('Individual Scores'!T69:V69))>0,MAX(SUM('Individual Scores'!Q69:S69),SUM('Individual Scores'!T69:V69)),\"\")","v":541},null,{"$f":"IF('Team Scores'!$Z$1<2,\"\",IF(ISERROR(MATCH('Individual Scores'!$D69,Scores!$F$253:$F$506,0)),\"\",INDIRECT(\"Scores!\"&\"R\"&(ROW(Scores!$253:$253)-1+MATCH('Individual Scores'!$D69,Scores!$F$253:$F$505,0))&\"C\"&COLUMN(Scores!J$1),FALSE)))","v":149},{"$f":"IF('Team Scores'!$Z$1<2,\"\",IF(ISERROR(MATCH('Individual Scores'!$D69,Scores!$F$253:$F$506,0)),\"\",INDIRECT(\"Scores!\"&\"R\"&(ROW(Scores!$253:$253)-1+MATCH('Individual Scores'!$D69,Scores!$F$253:$F$505,0))&\"C\"&COLUMN(Scores!K$1),FALSE)))","v":159},{"$f":"IF('Team Scores'!$Z$1<2,\"\",IF(ISERROR(MATCH('Individual Scores'!$D69,Scores!$F$253:$F$506,0)),\"\",INDIRECT(\"Scores!\"&\"R\"&(ROW(Scores!$253:$253)-1+MATCH('Individual Scores'!$D69,Scores!$F$253:$F$505,0))&\"C\"&COLUMN(Scores!L$1),FALSE)))","v":162},{"$f":"IF('Team Scores'!$Z$1<2,\"\",IF(ISERROR(MATCH('Individual Scores'!$D69,Scores!$F$253:$F$506,0)),\"\",INDIRECT(\"Scores!\"&\"R\"&(ROW(Scores!$253:$253)-1+MATCH('Individual Scores'!$D69,Scores!$F$253:$F$505,0))&\"C\"&COLUMN(Scores!N$1),FALSE)))","v":129},{"$f":"IF('Team Scores'!$Z$1<2,\"\",IF(ISERROR(MATCH('Individual Scores'!$D69,Scores!$F$253:$F$506,0)),\"\",INDIRECT(\"Scores!\"&\"R\"&(ROW(Scores!$253:$253)-1+MATCH('Individual Scores'!$D69,Scores!$F$253:$F$505,0))&\"C\"&COLUMN(Scores!O$1),FALSE)))","v":164},{"$f":"IF('Team Scores'!$Z$1<2,\"\",IF(ISERROR(MATCH('Individual Scores'!$D69,Scores!$F$253:$F$506,0)),\"\",INDIRECT(\"Scores!\"&\"R\"&(ROW(Scores!$253:$253)-1+MATCH('Individual Scores'!$D69,Scores!$F$253:$F$505,0))&\"C\"&COLUMN(Scores!P$1),FALSE)))","v":169},{"$f":"IF('Team Scores'!$Z$1<2,\"\",IF(ISERROR(MATCH('Individual Scores'!$D69,Scores!$F$253:$F$506,0)),\"\",INDIRECT(\"Scores!\"&\"R\"&(ROW(Scores!$253:$253)-1+MATCH('Individual Scores'!$D69,Scores!$F$253:$F$505,0))&\"C\"&COLUMN(Scores!S$1),FALSE)))","v":932},169,470,null,{"$f":"IF('Team Scores'!$Z$1<3,\"\",IF(ISERROR(MATCH('Individual Scores'!$D69,Scores!$F$506:$F$759,0)),\"\",INDIRECT(\"Scores!\"&\"R\"&(ROW(Scores!$F$506:$F$759)-1+MATCH('Individual Scores'!$D69,Scores!$F$506:$F$759,0))&\"C\"&COLUMN(Scores!J$1),FALSE)))","v":""},{"$f":"IF('Team Scores'!$Z$1<3,\"\",IF(ISERROR(MATCH('Individual Scores'!$D69,Scores!$F$506:$F$759,0)),\"\",INDIRECT(\"Scores!\"&\"R\"&(ROW(Scores!$F$506:$F$759)-1+MATCH('Individual Scores'!$D69,Scores!$F$506:$F$759,0))&\"C\"&COLUMN(Scores!K$1),FALSE)))","v":""},{"$f":"IF('Team Scores'!$Z$1<3,\"\",IF(ISERROR(MATCH('Individual Scores'!$D69,Scores!$F$506:$F$759,0)),\"\",INDIRECT(\"Scores!\"&\"R\"&(ROW(Scores!$F$506:$F$759)-1+MATCH('Individual Scores'!$D69,Scores!$F$506:$F$759,0))&\"C\"&COLUMN(Scores!L$1),FALSE)))","v":""},{"$f":"IF('Team Scores'!$Z$1<3,\"\",IF(ISERROR(MATCH('Individual Scores'!$D69,Scores!$F$506:$F$759,0)),\"\",INDIRECT(\"Scores!\"&\"R\"&(ROW(Scores!$F$506:$F$759)-1+MATCH('Individual Scores'!$D69,Scores!$F$506:$F$759,0))&\"C\"&COLUMN(Scores!N$1),FALSE)))","v":""},{"$f":"IF('Team Scores'!$Z$1<3,\"\",IF(ISERROR(MATCH('Individual Scores'!$D69,Scores!$F$506:$F$759,0)),\"\",INDIRECT(\"Scores!\"&\"R\"&(ROW(Scores!$F$506:$F$759)-1+MATCH('Individual Scores'!$D69,Scores!$F$506:$F$759,0))&\"C\"&COLUMN(Scores!O$1),FALSE)))","v":""},{"$f":"IF('Team Scores'!$Z$1<3,\"\",IF(ISERROR(MATCH('Individual Scores'!$D69,Scores!$F$506:$F$759,0)),\"\",INDIRECT(\"Scores!\"&\"R\"&(ROW(Scores!$F$506:$F$759)-1+MATCH('Individual Scores'!$D69,Scores!$F$506:$F$759,0))&\"C\"&COLUMN(Scores!P$1),FALSE)))","v":""},{"$f":"IF('Team Scores'!$Z$1<3,\"\",IF(ISERROR(MATCH('Individual Scores'!$D69,Scores!$F$506:$F$759,0)),\"\",INDIRECT(\"Scores!\"&\"R\"&(ROW(Scores!$F$506:$F$759)-1+MATCH('Individual Scores'!$D69,Scores!$F$506:$F$759,0))&\"C\"&COLUMN(Scores!S$1),FALSE)))","v":""},{"$f":"IF(MAX(AK69:AP69)>0,MAX(AK69:AP69),\"\")","v":""},{"$f":"IF(MAX(SUM(AK69:AM69),SUM(AN69:AP69))>0,MAX(SUM(AK69:AM69),SUM(AN69:AP69)),\"\")","v":""}]
["NC","15 & <","M","Patrick Chan",1127,1082,"",2209,{"$f":"IF(COUNT(Q70:V70,AA70:AF70,AK70:AP70)>=18/3*'Team Scores'!$Z$1,IF(H70-VLOOKUP(B70&C70,'Individual Awards Computations'!$AY$54:$AZ$58,2,FALSE)=0,\"Leader \"&C70&\":\"&B70,H70-VLOOKUP(B70&C70,'Individual Awards Computations'!$AY$54:$AZ$58,2,FALSE)),\"\")","v":-420},203,573,184.08333333333334,12.069444444444443,"172-196",1,null,{"$f":"IF(ISERROR(MATCH('Individual Scores'!$D70,Scores!$F$1:$F$253,0)),\"\",INDIRECT(\"Scores!\"&\"R\"&MATCH('Individual Scores'!$D70,Scores!$F$1:$F$253,0)&\"C\"&COLUMN(Scores!J$1),FALSE))","v":193},{"$f":"IF(ISERROR(MATCH('Individual Scores'!$D70,Scores!$F$1:$F$253,0)),\"\",INDIRECT(\"Scores!\"&\"R\"&MATCH('Individual Scores'!$D70,Scores!$F$1:$F$253,0)&\"C\"&COLUMN(Scores!K$1),FALSE))","v":168},{"$f":"IF(ISERROR(MATCH('Individual Scores'!$D70,Scores!$F$1:$F$253,0)),\"\",INDIRECT(\"Scores!\"&\"R\"&MATCH('Individual Scores'!$D70,Scores!$F$1:$F$253,0)&\"C\"&COLUMN(Scores!L$1),FALSE))","v":193},{"$f":"IF(ISERROR(MATCH('Individual Scores'!$D70,Scores!$F$1:$F$253,0)),\"\",INDIRECT(\"Scores!\"&\"R\"&MATCH('Individual Scores'!$D70,Scores!$F$1:$F$253,0)&\"C\"&COLUMN(Scores!N$1),FALSE))","v":185},{"$f":"IF(ISERROR(MATCH('Individual Scores'!$D70,Scores!$F$1:$F$253,0)),\"\",INDIRECT(\"Scores!\"&\"R\"&MATCH('Individual Scores'!$D70,Scores!$F$1:$F$253,0)&\"C\"&COLUMN(Scores!O$1),FALSE))","v":187},{"$f":"IF(ISERROR(MATCH('Individual Scores'!$D70,Scores!$F$1:$F$253,0)),\"\",INDIRECT(\"Scores!\"&\"R\"&MATCH('Individual Scores'!$D70,Scores!$F$1:$F$253,0)&\"C\"&COLUMN(Scores!P$1),FALSE))","v":201},{"$f":"IF(ISERROR(MATCH('Individual Scores'!$D70,Scores!$F$1:$F$253,0)),\"\",INDIRECT(\"Scores!\"&\"R\"&MATCH('Individual Scores'!$D70,Scores!$F$1:$F$253,0)&\"C\"&COLUMN(Scores!S$1),FALSE))","v":1127},{"$f":"IF(MAX('Individual Scores'!Q70:V70)>0,MAX('Individual Scores'!Q70:V70),\"\")","v":201},{"$f":"IF(MAX(SUM('Individual Scores'!Q70:S70),SUM('Individual Scores'!T70:V70))>0,MAX(SUM('Individual Scores'!Q70:S70),SUM('Individual Scores'!T70:V70)),\"\")","v":573},null,{"$f":"IF('Team Scores'!$Z$1<2,\"\",IF(ISERROR(MATCH('Individual Scores'!$D70,Scores!$F$253:$F$506,0)),\"\",INDIRECT(\"Scores!\"&\"R\"&(ROW(Scores!$253:$253)-1+MATCH('Individual Scores'!$D70,Scores!$F$253:$F$505,0))&\"C\"&COLUMN(Scores!J$1),FALSE)))","v":199},{"$f":"IF('Team Scores'!$Z$1<2,\"\",IF(ISERROR(MATCH('Individual Scores'!$D70,Scores!$F$253:$F$506,0)),\"\",INDIRECT(\"Scores!\"&\"R\"&(ROW(Scores!$253:$253)-1+MATCH('Individual Scores'!$D70,Scores!$F$253:$F$505,0))&\"C\"&COLUMN(Scores!K$1),FALSE)))","v":171},{"$f":"IF('Team Scores'!$Z$1<2,\"\",IF(ISERROR(MATCH('Individual Scores'!$D70,Scores!$F$253:$F$506,0)),\"\",INDIRECT(\"Scores!\"&\"R\"&(ROW(Scores!$253:$253)-1+MATCH('Individual Scores'!$D70,Scores!$F$253:$F$505,0))&\"C\"&COLUMN(Scores!L$1),FALSE)))","v":147},{"$f":"IF('Team Scores'!$Z$1<2,\"\",IF(ISERROR(MATCH('Individual Scores'!$D70,Scores!$F$253:$F$506,0)),\"\",INDIRECT(\"Scores!\"&\"R\"&(ROW(Scores!$253:$253)-1+MATCH('Individual Scores'!$D70,Scores!$F$253:$F$505,0))&\"C\"&COLUMN(Scores!N$1),FALSE)))","v":203},{"$f":"IF('Team Scores'!$Z$1<2,\"\",IF(ISERROR(MATCH('Individual Scores'!$D70,Scores!$F$253:$F$506,0)),\"\",INDIRECT(\"Scores!\"&\"R\"&(ROW(Scores!$253:$253)-1+MATCH('Individual Scores'!$D70,Scores!$F$253:$F$505,0))&\"C\"&COLUMN(Scores!O$1),FALSE)))","v":181},{"$f":"IF('Team Scores'!$Z$1<2,\"\",IF(ISERROR(MATCH('Individual Scores'!$D70,Scores!$F$253:$F$506,0)),\"\",INDIRECT(\"Scores!\"&\"R\"&(ROW(Scores!$253:$253)-1+MATCH('Individual Scores'!$D70,Scores!$F$253:$F$505,0))&\"C\"&COLUMN(Scores!P$1),FALSE)))","v":181},{"$f":"IF('Team Scores'!$Z$1<2,\"\",IF(ISERROR(MATCH('Individual Scores'!$D70,Scores!$F$253:$F$506,0)),\"\",INDIRECT(\"Scores!\"&\"R\"&(ROW(Scores!$253:$253)-1+MATCH('Individual Scores'!$D70,Scores!$F$253:$F$505,0))&\"C\"&COLUMN(Scores!S$1),FALSE)))","v":1082},203,565,null,{"$f":"IF('Team Scores'!$Z$1<3,\"\",IF(ISERROR(MATCH('Individual Scores'!$D70,Scores!$F$506:$F$759,0)),\"\",INDIRECT(\"Scores!\"&\"R\"&(ROW(Scores!$F$506:$F$759)-1+MATCH('Individual Scores'!$D70,Scores!$F$506:$F$759,0))&\"C\"&COLUMN(Scores!J$1),FALSE)))","v":""},{"$f":"IF('Team Scores'!$Z$1<3,\"\",IF(ISERROR(MATCH('Individual Scores'!$D70,Scores!$F$506:$F$759,0)),\"\",INDIRECT(\"Scores!\"&\"R\"&(ROW(Scores!$F$506:$F$759)-1+MATCH('Individual Scores'!$D70,Scores!$F$506:$F$759,0))&\"C\"&COLUMN(Scores!K$1),FALSE)))","v":""},{"$f":"IF('Team Scores'!$Z$1<3,\"\",IF(ISERROR(MATCH('Individual Scores'!$D70,Scores!$F$506:$F$759,0)),\"\",INDIRECT(\"Scores!\"&\"R\"&(ROW(Scores!$F$506:$F$759)-1+MATCH('Individual Scores'!$D70,Scores!$F$506:$F$759,0))&\"C\"&COLUMN(Scores!L$1),FALSE)))","v":""},{"$f":"IF('Team Scores'!$Z$1<3,\"\",IF(ISERROR(MATCH('Individual Scores'!$D70,Scores!$F$506:$F$759,0)),\"\",INDIRECT(\"Scores!\"&\"R\"&(ROW(Scores!$F$506:$F$759)-1+MATCH('Individual Scores'!$D70,Scores!$F$506:$F$759,0))&\"C\"&COLUMN(Scores!N$1),FALSE)))","v":""},{"$f":"IF('Team Scores'!$Z$1<3,\"\",IF(ISERROR(MATCH('Individual Scores'!$D70,Scores!$F$506:$F$759,0)),\"\",INDIRECT(\"Scores!\"&\"R\"&(ROW(Scores!$F$506:$F$759)-1+MATCH('Individual Scores'!$D70,Scores!$F$506:$F$759,0))&\"C\"&COLUMN(Scores!O$1),FALSE)))","v":""},{"$f":"IF('Team Scores'!$Z$1<3,\"\",IF(ISERROR(MATCH('Individual Scores'!$D70,Scores!$F$506:$F$759,0)),\"\",INDIRECT(\"Scores!\"&\"R\"&(ROW(Scores!$F$506:$F$759)-1+MATCH('Individual Scores'!$D70,Scores!$F$506:$F$759,0))&\"C\"&COLUMN(Scores!P$1),FALSE)))","v":""},{"$f":"IF('Team Scores'!$Z$1<3,\"\",IF(ISERROR(MATCH('Individual Scores'!$D70,Scores!$F$506:$F$759,0)),\"\",INDIRECT(\"Scores!\"&\"R\"&(ROW(Scores!$F$506:$F$759)-1+MATCH('Individual Scores'!$D70,Scores!$F$506:$F$759,0))&\"C\"&COLUMN(Scores!S$1),FALSE)))","v":""},"",""]
["NC","15 & <","M","Thomas Perkins",880,1061,"",1941,{"$f":"IF(COUNT(Q71:V71,AA71:AF71,AK71:AP71)>=18/3*'Team Scores'!$Z$1,IF(H71-VLOOKUP(B71&C71,'Individual Awards Computations'!$AY$54:$AZ$58,2,FALSE)=0,\"Leader \"&C71&\":\"&B71,H71-VLOOKUP(B71&C71,'Individual Awards Computations'!$AY$54:$AZ$58,2,FALSE)),\"\")","v":-688},202,570,161.75,22.583333333333332,"139-184",1,null,{"$f":"IF(ISERROR(MATCH('Individual Scores'!$D71,Scores!$F$1:$F$253,0)),\"\",INDIRECT(\"Scores!\"&\"R\"&MATCH('Individual Scores'!$D71,Scores!$F$1:$F$253,0)&\"C\"&COLUMN(Scores!J$1),FALSE))","v":151},{"$f":"IF(ISERROR(MATCH('Individual Scores'!$D71,Scores!$F$1:$F$253,0)),\"\",INDIRECT(\"Scores!\"&\"R\"&MATCH('Individual Scores'!$D71,Scores!$F$1:$F$253,0)&\"C\"&COLUMN(Scores!K$1),FALSE))","v":147},{"$f":"IF(ISERROR(MATCH('Individual Scores'!$D71,Scores!$F$1:$F$253,0)),\"\",INDIRECT(\"Scores!\"&\"R\"&MATCH('Individual Scores'!$D71,Scores!$F$1:$F$253,0)&\"C\"&COLUMN(Scores!L$1),FALSE))","v":129},{"$f":"IF(ISERROR(MATCH('Individual Scores'!$D71,Scores!$F$1:$F$253,0)),\"\",INDIRECT(\"Scores!\"&\"R\"&MATCH('Individual Scores'!$D71,Scores!$F$1:$F$253,0)&\"C\"&COLUMN(Scores!N$1),FALSE))","v":107},{"$f":"IF(ISERROR(MATCH('Individual Scores'!$D71,Scores!$F$1:$F$253,0)),\"\",INDIRECT(\"Scores!\"&\"R\"&MATCH('Individual Scores'!$D71,Scores!$F$1:$F$253,0)&\"C\"&COLUMN(Scores!O$1),FALSE))","v":175},{"$f":"IF(ISERROR(MATCH('Individual Scores'!$D71,Scores!$F$1:$F$253,0)),\"\",INDIRECT(\"Scores!\"&\"R\"&MATCH('Individual Scores'!$D71,Scores!$F$1:$F$253,0)&\"C\"&COLUMN(Scores!P$1),FALSE))","v":171},{"$f":"IF(ISERROR(MATCH('Individual Scores'!$D71,Scores!$F$1:$F$253,0)),\"\",INDIRECT(\"Scores!\"&\"R\"&MATCH('Individual Scores'!$D71,Scores!$F$1:$F$253,0)&\"C\"&COLUMN(Scores!S$1),FALSE))","v":880},{"$f":"IF(MAX('Individual Scores'!Q71:V71)>0,MAX('Individual Scores'!Q71:V71),\"\")","v":175},{"$f":"IF(MAX(SUM('Individual Scores'!Q71:S71),SUM('Individual Scores'!T71:V71))>0,MAX(SUM('Individual Scores'!Q71:S71),SUM('Individual Scores'!T71:V71)),\"\")","v":453},null,{"$f":"IF('Team Scores'!$Z$1<2,\"\",IF(ISERROR(MATCH('Individual Scores'!$D71,Scores!$F$253:$F$506,0)),\"\",INDIRECT(\"Scores!\"&\"R\"&(ROW(Scores!$253:$253)-1+MATCH('Individual Scores'!$D71,Scores!$F$253:$F$505,0))&\"C\"&COLUMN(Scores!J$1),FALSE)))","v":177},{"$f":"IF('Team Scores'!$Z$1<2,\"\",IF(ISERROR(MATCH('Individual Scores'!$D71,Scores!$F$253:$F$506,0)),\"\",INDIRECT(\"Scores!\"&\"R\"&(ROW(Scores!$253:$253)-1+MATCH('Individual Scores'!$D71,Scores!$F$253:$F$505,0))&\"C\"&COLUMN(Scores!K$1),FALSE)))","v":191},{"$f":"IF('Team Scores'!$Z$1<2,\"\",IF(ISERROR(MATCH('Individual Scores'!$D71,Scores!$F$253:$F$506,0)),\"\",INDIRECT(\"Scores!\"&\"R\"&(ROW(Scores!$253:$253)-1+MATCH('Individual Scores'!$D71,Scores!$F$253:$F$505,0))&\"C\"&COLUMN(Scores!L$1),FALSE)))","v":202},{"$f":"IF('Team Scores'!$Z$1<2,\"\",IF(ISERROR(MATCH('Individual Scores'!$D71,Scores!$F$253:$F$506,0)),\"\",INDIRECT(\"Scores!\"&\"R\"&(ROW(Scores!$253:$253)-1+MATCH('Individual Scores'!$D71,Scores!$F$253:$F$505,0))&\"C\"&COLUMN(Scores!N$1),FALSE)))","v":153},{"$f":"IF('Team Scores'!$Z$1<2,\"\",IF(ISERROR(MATCH('Individual Scores'!$D71,Scores!$F$253:$F$506,0)),\"\",INDIRECT(\"Scores!\"&\"R\"&(ROW(Scores!$253:$253)-1+MATCH('Individual Scores'!$D71,Scores!$F$253:$F$505,0))&\"C\"&COLUMN(Scores!O$1),FALSE)))","v":148},{"$f":"IF('Team Scores'!$Z$1<2,\"\",IF(ISERROR(MATCH('Individual Scores'!$D71,Scores!$F$253:$F$506,0)),\"\",INDIRECT(\"Scores!\"&\"R\"&(ROW(Scores!$253:$253)-1+MATCH('Individual Scores'!$D71,Scores!$F$253:$F$505,0))&\"C\"&COLUMN(Scores!P$1),FALSE)))","v":190},{"$f":"IF('Team Scores'!$Z$1<2,\"\",IF(ISERROR(MATCH('Individual Scores'!$D71,Scores!$F$253:$F$506,0)),\"\",INDIRECT(\"Scores!\"&\"R\"&(ROW(Scores!$253:$253)-1+MATCH('Individual Scores'!$D71,Scores!$F$253:$F$505,0))&\"C\"&COLUMN(Scores!S$1),FALSE)))","v":1061},202,570,null,{"$f":"IF('Team Scores'!$Z$1<3,\"\",IF(ISERROR(MATCH('Individual Scores'!$D71,Scores!$F$506:$F$759,0)),\"\",INDIRECT(\"Scores!\"&\"R\"&(ROW(Scores!$F$506:$F$759)-1+MATCH('Individual Scores'!$D71,Scores!$F$506:$F$759,0))&\"C\"&COLUMN(Scores!J$1),FALSE)))","v":""},{"$f":"IF('Team Scores'!$Z$1<3,\"\",IF(ISERROR(MATCH('Individual Scores'!$D71,Scores!$F$506:$F$759,0)),\"\",INDIRECT(\"Scores!\"&\"R\"&(ROW(Scores!$F$506:$F$759)-1+MATCH('Individual Scores'!$D71,Scores!$F$506:$F$759,0))&\"C\"&COLUMN(Scores!K$1),FALSE)))","v":""},{"$f":"IF('Team Scores'!$Z$1<3,\"\",IF(ISERROR(MATCH('Individual Scores'!$D71,Scores!$F$506:$F$759,0)),\"\",INDIRECT(\"Scores!\"&\"R\"&(ROW(Scores!$F$506:$F$759)-1+MATCH('Individual Scores'!$D71,Scores!$F$506:$F$759,0))&\"C\"&COLUMN(Scores!L$1),FALSE)))","v":""},{"$f":"IF('Team Scores'!$Z$1<3,\"\",IF(ISERROR(MATCH('Individual Scores'!$D71,Scores!$F$506:$F$759,0)),\"\",INDIRECT(\"Scores!\"&\"R\"&(ROW(Scores!$F$506:$F$759)-1+MATCH('Individual Scores'!$D71,Scores!$F$506:$F$759,0))&\"C\"&COLUMN(Scores!N$1),FALSE)))","v":""},{"$f":"IF('Team Scores'!$Z$1<3,\"\",IF(ISERROR(MATCH('Individual Scores'!$D71,Scores!$F$506:$F$759,0)),\"\",INDIRECT(\"Scores!\"&\"R\"&(ROW(Scores!$F$506:$F$759)-1+MATCH('Individual Scores'!$D71,Scores!$F$506:$F$759,0))&\"C\"&COLUMN(Scores!O$1),FALSE)))","v":""},{"$f":"IF('Team Scores'!$Z$1<3,\"\",IF(ISERROR(MATCH('Individual Scores'!$D71,Scores!$F$506:$F$759,0)),\"\",INDIRECT(\"Scores!\"&\"R\"&(ROW(Scores!$F$506:$F$759)-1+MATCH('Individual Scores'!$D71,Scores!$F$506:$F$759,0))&\"C\"&COLUMN(Scores!P$1),FALSE)))","v":""},{"$f":"IF('Team Scores'!$Z$1<3,\"\",IF(ISERROR(MATCH('Individual Scores'!$D71,Scores!$F$506:$F$759,0)),\"\",INDIRECT(\"Scores!\"&\"R\"&(ROW(Scores!$F$506:$F$759)-1+MATCH('Individual Scores'!$D71,Scores!$F$506:$F$759,0))&\"C\"&COLUMN(Scores!S$1),FALSE)))","v":""},"",""]
["NC","15 & <","M","Steven Faulkner",1159,1136,"",2295,{"$f":"IF(COUNT(Q72:V72,AA72:AF72,AK72:AP72)>=18/3*'Team Scores'!$Z$1,IF(H72-VLOOKUP(B72&C72,'Individual Awards Computations'!$AY$54:$AZ$58,2,FALSE)=0,\"Leader \"&C72&\":\"&B72,H72-VLOOKUP(B72&C72,'Individual Awards Computations'!$AY$54:$AZ$58,2,FALSE)),\"\")","v":-334},245,638,191.25,18.791666666666668,"172-210",1,null,{"$f":"IF(ISERROR(MATCH('Individual Scores'!$D72,Scores!$F$1:$F$253,0)),\"\",INDIRECT(\"Scores!\"&\"R\"&MATCH('Individual Scores'!$D72,Scores!$F$1:$F$253,0)&\"C\"&COLUMN(Scores!J$1),FALSE))","v":245},{"$f":"IF(ISERROR(MATCH('Individual Scores'!$D72,Scores!$F$1:$F$253,0)),\"\",INDIRECT(\"Scores!\"&\"R\"&MATCH('Individual Scores'!$D72,Scores!$F$1:$F$253,0)&\"C\"&COLUMN(Scores!K$1),FALSE))","v":212},{"$f":"IF(ISERROR(MATCH('Individual Scores'!$D72,Scores!$F$1:$F$253,0)),\"\",INDIRECT(\"Scores!\"&\"R\"&MATCH('Individual Scores'!$D72,Scores!$F$1:$F$253,0)&\"C\"&COLUMN(Scores!L$1),FALSE))","v":181},{"$f":"IF(ISERROR(MATCH('Individual Scores'!$D72,Scores!$F$1:$F$253,0)),\"\",INDIRECT(\"Scores!\"&\"R\"&MATCH('Individual Scores'!$D72,Scores!$F$1:$F$253,0)&\"C\"&COLUMN(Scores!N$1),FALSE))","v":190},{"$f":"IF(ISERROR(MATCH('Individual Scores'!$D72,Scores!$F$1:$F$253,0)),\"\",INDIRECT(\"Scores!\"&\"R\"&MATCH('Individual Scores'!$D72,Scores!$F$1:$F$253,0)&\"C\"&COLUMN(Scores!O$1),FALSE))","v":177},{"$f":"IF(ISERROR(MATCH('Individual Scores'!$D72,Scores!$F$1:$F$253,0)),\"\",INDIRECT(\"Scores!\"&\"R\"&MATCH('Individual Scores'!$D72,Scores!$F$1:$F$253,0)&\"C\"&COLUMN(Scores!P$1),FALSE))","v":154},{"$f":"IF(ISERROR(MATCH('Individual Scores'!$D72,Scores!$F$1:$F$253,0)),\"\",INDIRECT(\"Scores!\"&\"R\"&MATCH('Individual Scores'!$D72,Scores!$F$1:$F$253,0)&\"C\"&COLUMN(Scores!S$1),FALSE))","v":1159},{"$f":"IF(MAX('Individual Scores'!Q72:V72)>0,MAX('Individual Scores'!Q72:V72),\"\")","v":245},{"$f":"IF(MAX(SUM('Individual Scores'!Q72:S72),SUM('Individual Scores'!T72:V72))>0,MAX(SUM('Individual Scores'!Q72:S72),SUM('Individual Scores'!T72:V72)),\"\")","v":638},null,{"$f":"IF('Team Scores'!$Z$1<2,\"\",IF(ISERROR(MATCH('Individual Scores'!$D72,Scores!$F$253:$F$506,0)),\"\",INDIRECT(\"Scores!\"&\"R\"&(ROW(Scores!$253:$253)-1+MATCH('Individual Scores'!$D72,Scores!$F$253:$F$505,0))&\"C\"&COLUMN(Scores!J$1),FALSE)))","v":216},{"$f":"IF('Team Scores'!$Z$1<2,\"\",IF(ISERROR(MATCH('Individual Scores'!$D72,Scores!$F$253:$F$506,0)),\"\",INDIRECT(\"Scores!\"&\"R\"&(ROW(Scores!$253:$253)-1+MATCH('Individual Scores'!$D72,Scores!$F$253:$F$505,0))&\"C\"&COLUMN(Scores!K$1),FALSE)))","v":179},{"$f":"IF('Team Scores'!$Z$1<2,\"\",IF(ISERROR(MATCH('Individual Scores'!$D72,Scores!$F$253:$F$506,0)),\"\",INDIRECT(\"Scores!\"&\"R\"&(ROW(Scores!$253:$253)-1+MATCH('Individual Scores'!$D72,Scores!$F$253:$F$505,0))&\"C\"&COLUMN(Scores!L$1),FALSE)))","v":189},{"$f":"IF('Team Scores'!$Z$1<2,\"\",IF(ISERROR(MATCH('Individual Scores'!$D72,Scores!$F$253:$F$506,0)),\"\",INDIRECT(\"Scores!\"&\"R\"&(ROW(Scores!$253:$253)-1+MATCH('Individual Scores'!$D72,Scores!$F$253:$F$505,0))&\"C\"&COLUMN(Scores!N$1),FALSE)))","v":194},{"$f":"IF('Team Scores'!$Z$1<2,\"\",IF(ISERROR(MATCH('Individual Scores'!$D72,Scores!$F$253:$F$506,0)),\"\",INDIRECT(\"Scores!\"&\"R\"&(ROW(Scores!$253:$253)-1+MATCH('Individual Scores'!$D72,Scores!$F$253:$F$505,0))&\"C\"&COLUMN(Scores!O$1),FALSE)))","v":202},{"$f":"IF('Team Scores'!$Z$1<2,\"\",IF(ISERROR(MATCH('Individual Scores'!$D72,Scores!$F$253:$F$506,0)),\"\",INDIRECT(\"Scores!\"&\"R\"&(ROW(Scores!$253:$253)-1+MATCH('Individual Scores'!$D72,Scores!$F$253:$F$505,0))&\"C\"&COLUMN(Scores!P$1),FALSE)))","v":156},{"$f":"IF('Team Scores'!$Z$1<2,\"\",IF(ISERROR(MATCH('Individual Scores'!$D72,Scores!$F$253:$F$506,0)),\"\",INDIRECT(\"Scores!\"&\"R\"&(ROW(Scores!$253:$253)-1+MATCH('Individual Scores'!$D72,Scores!$F$253:$F$505,0))&\"C\"&COLUMN(Scores!S$1),FALSE)))","v":1136},216,584,null,{"$f":"IF('Team Scores'!$Z$1<3,\"\",IF(ISERROR(MATCH('Individual Scores'!$D72,Scores!$F$506:$F$759,0)),\"\",INDIRECT(\"Scores!\"&\"R\"&(ROW(Scores!$F$506:$F$759)-1+MATCH('Individual Scores'!$D72,Scores!$F$506:$F$759,0))&\"C\"&COLUMN(Scores!J$1),FALSE)))","v":""},{"$f":"IF('Team Scores'!$Z$1<3,\"\",IF(ISERROR(MATCH('Individual Scores'!$D72,Scores!$F$506:$F$759,0)),\"\",INDIRECT(\"Scores!\"&\"R\"&(ROW(Scores!$F$506:$F$759)-1+MATCH('Individual Scores'!$D72,Scores!$F$506:$F$759,0))&\"C\"&COLUMN(Scores!K$1),FALSE)))","v":""},{"$f":"IF('Team Scores'!$Z$1<3,\"\",IF(ISERROR(MATCH('Individual Scores'!$D72,Scores!$F$506:$F$759,0)),\"\",INDIRECT(\"Scores!\"&\"R\"&(ROW(Scores!$F$506:$F$759)-1+MATCH('Individual Scores'!$D72,Scores!$F$506:$F$759,0))&\"C\"&COLUMN(Scores!L$1),FALSE)))","v":""},{"$f":"IF('Team Scores'!$Z$1<3,\"\",IF(ISERROR(MATCH('Individual Scores'!$D72,Scores!$F$506:$F$759,0)),\"\",INDIRECT(\"Scores!\"&\"R\"&(ROW(Scores!$F$506:$F$759)-1+MATCH('Individual Scores'!$D72,Scores!$F$506:$F$759,0))&\"C\"&COLUMN(Scores!N$1),FALSE)))","v":""},{"$f":"IF('Team Scores'!$Z$1<3,\"\",IF(ISERROR(MATCH('Individual Scores'!$D72,Scores!$F$506:$F$759,0)),\"\",INDIRECT(\"Scores!\"&\"R\"&(ROW(Scores!$F$506:$F$759)-1+MATCH('Individual Scores'!$D72,Scores!$F$506:$F$759,0))&\"C\"&COLUMN(Scores!O$1),FALSE)))","v":""},{"$f":"IF('Team Scores'!$Z$1<3,\"\",IF(ISERROR(MATCH('Individual Scores'!$D72,Scores!$F$506:$F$759,0)),\"\",INDIRECT(\"Scores!\"&\"R\"&(ROW(Scores!$F$506:$F$759)-1+MATCH('Individual Scores'!$D72,Scores!$F$506:$F$759,0))&\"C\"&COLUMN(Scores!P$1),FALSE)))","v":""},{"$f":"IF('Team Scores'!$Z$1<3,\"\",IF(ISERROR(MATCH('Individual Scores'!$D72,Scores!$F$506:$F$759,0)),\"\",INDIRECT(\"Scores!\"&\"R\"&(ROW(Scores!$F$506:$F$759)-1+MATCH('Individual Scores'!$D72,Scores!$F$506:$F$759,0))&\"C\"&COLUMN(Scores!S$1),FALSE)))","v":""},"",""]
["NC","15 & <","M","James Goodine Jr",973,1201,"",2174,{"$f":"IF(COUNT(Q73:V73,AA73:AF73,AK73:AP73)>=18/3*'Team Scores'!$Z$1,IF(H73-VLOOKUP(B73&C73,'Individual Awards Computations'!$AY$54:$AZ$58,2,FALSE)=0,\"Leader \"&C73&\":\"&B73,H73-VLOOKUP(B73&C73,'Individual Awards Computations'!$AY$54:$AZ$58,2,FALSE)),\"\")","v":-455},243,645,181.16666666666666,30.000000000000011,"151-211",1,null,{"$f":"IF(ISERROR(MATCH('Individual Scores'!$D73,Scores!$F$1:$F$253,0)),\"\",INDIRECT(\"Scores!\"&\"R\"&MATCH('Individual Scores'!$D73,Scores!$F$1:$F$253,0)&\"C\"&COLUMN(Scores!J$1),FALSE))","v":211},{"$f":"IF(ISERROR(MATCH('Individual Scores'!$D73,Scores!$F$1:$F$253,0)),\"\",INDIRECT(\"Scores!\"&\"R\"&MATCH('Individual Scores'!$D73,Scores!$F$1:$F$253,0)&\"C\"&COLUMN(Scores!K$1),FALSE))","v":171},{"$f":"IF(ISERROR(MATCH('Individual Scores'!$D73,Scores!$F$1:$F$253,0)),\"\",INDIRECT(\"Scores!\"&\"R\"&MATCH('Individual Scores'!$D73,Scores!$F$1:$F$253,0)&\"C\"&COLUMN(Scores!L$1),FALSE))","v":159},{"$f":"IF(ISERROR(MATCH('Individual Scores'!$D73,Scores!$F$1:$F$253,0)),\"\",INDIRECT(\"Scores!\"&\"R\"&MATCH('Individual Scores'!$D73,Scores!$F$1:$F$253,0)&\"C\"&COLUMN(Scores!N$1),FALSE))","v":137},{"$f":"IF(ISERROR(MATCH('Individual Scores'!$D73,Scores!$F$1:$F$253,0)),\"\",INDIRECT(\"Scores!\"&\"R\"&MATCH('Individual Scores'!$D73,Scores!$F$1:$F$253,0)&\"C\"&COLUMN(Scores!O$1),FALSE))","v":167},{"$f":"IF(ISERROR(MATCH('Individual Scores'!$D73,Scores!$F$1:$F$253,0)),\"\",INDIRECT(\"Scores!\"&\"R\"&MATCH('Individual Scores'!$D73,Scores!$F$1:$F$253,0)&\"C\"&COLUMN(Scores!P$1),FALSE))","v":128},{"$f":"IF(ISERROR(MATCH('Individual Scores'!$D73,Scores!$F$1:$F$253,0)),\"\",INDIRECT(\"Scores!\"&\"R\"&MATCH('Individual Scores'!$D73,Scores!$F$1:$F$253,0)&\"C\"&COLUMN(Scores!S$1),FALSE))","v":973},{"$f":"IF(MAX('Individual Scores'!Q73:V73)>0,MAX('Individual Scores'!Q73:V73),\"\")","v":211},{"$f":"IF(MAX(SUM('Individual Scores'!Q73:S73),SUM('Individual Scores'!T73:V73))>0,MAX(SUM('Individual Scores'!Q73:S73),SUM('Individual Scores'!T73:V73)),\"\")","v":541},null,{"$f":"IF('Team Scores'!$Z$1<2,\"\",IF(ISERROR(MATCH('Individual Scores'!$D73,Scores!$F$253:$F$506,0)),\"\",INDIRECT(\"Scores!\"&\"R\"&(ROW(Scores!$253:$253)-1+MATCH('Individual Scores'!$D73,Scores!$F$253:$F$505,0))&\"C\"&COLUMN(Scores!J$1),FALSE)))","v":206},{"$f":"IF('Team Scores'!$Z$1<2,\"\",IF(ISERROR(MATCH('Individual Scores'!$D73,Scores!$F$253:$F$506,0)),\"\",INDIRECT(\"Scores!\"&\"R\"&(ROW(Scores!$253:$253)-1+MATCH('Individual Scores'!$D73,Scores!$F$253:$F$505,0))&\"C\"&COLUMN(Scores!K$1),FALSE)))","v":205},{"$f":"IF('Team Scores'!$Z$1<2,\"\",IF(ISERROR(MATCH('Individual Scores'!$D73,Scores!$F$253:$F$506,0)),\"\",INDIRECT(\"Scores!\"&\"R\"&(ROW(Scores!$253:$253)-1+MATCH('Individual Scores'!$D73,Scores!$F$253:$F$505,0))&\"C\"&COLUMN(Scores!L$1),FALSE)))","v":145},{"$f":"IF('Team Scores'!$Z$1<2,\"\",IF(ISERROR(MATCH('Individual Scores'!$D73,Scores!$F$253:$F$506,0)),\"\",INDIRECT(\"Scores!\"&\"R\"&(ROW(Scores!$253:$253)-1+MATCH('Individual Scores'!$D73,Scores!$F$253:$F$505,0))&\"C\"&COLUMN(Scores!N$1),FALSE)))","v":243},{"$f":"IF('Team Scores'!$Z$1<2,\"\",IF(ISERROR(MATCH('Individual Scores'!$D73,Scores!$F$253:$F$506,0)),\"\",INDIRECT(\"Scores!\"&\"R\"&(ROW(Scores!$253:$253)-1+MATCH('Individual Scores'!$D73,Scores!$F$253:$F$505,0))&\"C\"&COLUMN(Scores!O$1),FALSE)))","v":204},{"$f":"IF('Team Scores'!$Z$1<2,\"\",IF(ISERROR(MATCH('Individual Scores'!$D73,Scores!$F$253:$F$506,0)),\"\",INDIRECT(\"Scores!\"&\"R\"&(ROW(Scores!$253:$253)-1+MATCH('Individual Scores'!$D73,Scores!$F$253:$F$505,0))&\"C\"&COLUMN(Scores!P$1),FALSE)))","v":198},{"$f":"IF('Team Scores'!$Z$1<2,\"\",IF(ISERROR(MATCH('Individual Scores'!$D73,Scores!$F$253:$F$506,0)),\"\",INDIRECT(\"Scores!\"&\"R\"&(ROW(Scores!$253:$253)-1+MATCH('Individual Scores'!$D73,Scores!$F$253:$F$505,0))&\"C\"&COLUMN(Scores!S$1),FALSE)))","v":1201},243,645,null,{"$f":"IF('Team Scores'!$Z$1<3,\"\",IF(ISERROR(MATCH('Individual Scores'!$D73,Scores!$F$506:$F$759,0)),\"\",INDIRECT(\"Scores!\"&\"R\"&(ROW(Scores!$F$506:$F$759)-1+MATCH('Individual Scores'!$D73,Scores!$F$506:$F$759,0))&\"C\"&COLUMN(Scores!J$1),FALSE)))","v":""},{"$f":"IF('Team Scores'!$Z$1<3,\"\",IF(ISERROR(MATCH('Individual Scores'!$D73,Scores!$F$506:$F$759,0)),\"\",INDIRECT(\"Scores!\"&\"R\"&(ROW(Scores!$F$506:$F$759)-1+MATCH('Individual Scores'!$D73,Scores!$F$506:$F$759,0))&\"C\"&COLUMN(Scores!K$1),FALSE)))","v":""},{"$f":"IF('Team Scores'!$Z$1<3,\"\",IF(ISERROR(MATCH('Individual Scores'!$D73,Scores!$F$506:$F$759,0)),\"\",INDIRECT(\"Scores!\"&\"R\"&(ROW(Scores!$F$506:$F$759)-1+MATCH('Individual Scores'!$D73,Scores!$F$506:$F$759,0))&\"C\"&COLUMN(Scores!L$1),FALSE)))","v":""},{"$f":"IF('Team Scores'!$Z$1<3,\"\",IF(ISERROR(MATCH('Individual Scores'!$D73,Scores!$F$506:$F$759,0)),\"\",INDIRECT(\"Scores!\"&\"R\"&(ROW(Scores!$F$506:$F$759)-1+MATCH('Individual Scores'!$D73,Scores!$F$506:$F$759,0))&\"C\"&COLUMN(Scores!N$1),FALSE)))","v":""},{"$f":"IF('Team Scores'!$Z$1<3,\"\",IF(ISERROR(MATCH('Individual Scores'!$D73,Scores!$F$506:$F$759,0)),\"\",INDIRECT(\"Scores!\"&\"R\"&(ROW(Scores!$F$506:$F$759)-1+MATCH('Individual Scores'!$D73,Scores!$F$506:$F$759,0))&\"C\"&COLUMN(Scores!O$1),FALSE)))","v":""},{"$f":"IF('Team Scores'!$Z$1<3,\"\",IF(ISERROR(MATCH('Individual Scores'!$D73,Scores!$F$506:$F$759,0)),\"\",INDIRECT(\"Scores!\"&\"R\"&(ROW(Scores!$F$506:$F$759)-1+MATCH('Individual Scores'!$D73,Scores!$F$506:$F$759,0))&\"C\"&COLUMN(Scores!P$1),FALSE)))","v":""},{"$f":"IF('Team Scores'!$Z$1<3,\"\",IF(ISERROR(MATCH('Individual Scores'!$D73,Scores!$F$506:$F$759,0)),\"\",INDIRECT(\"Scores!\"&\"R\"&(ROW(Scores!$F$506:$F$759)-1+MATCH('Individual Scores'!$D73,Scores!$F$506:$F$759,0))&\"C\"&COLUMN(Scores!S$1),FALSE)))","v":""},"",""]
["NC","15 & <","M","Aaron Jones",832,1135,"",1967,{"$f":"IF(COUNT(Q74:V74,AA74:AF74,AK74:AP74)>=18/3*'Team Scores'!$Z$1,IF(H74-VLOOKUP(B74&C74,'Individual Awards Computations'!$AY$54:$AZ$58,2,FALSE)=0,\"Leader \"&C74&\":\"&B74,H74-VLOOKUP(B74&C74,'Individual Awards Computations'!$AY$54:$AZ$58,2,FALSE)),\"\")","v":-662},211,571,163.91666666666666,25.430555555555561,"138-189",1,null,{"$f":"IF(ISERROR(MATCH('Individual Scores'!$D74,Scores!$F$1:$F$253,0)),\"\",INDIRECT(\"Scores!\"&\"R\"&MATCH('Individual Scores'!$D74,Scores!$F$1:$F$253,0)&\"C\"&COLUMN(Scores!J$1),FALSE))","v":138},{"$f":"IF(ISERROR(MATCH('Individual Scores'!$D74,Scores!$F$1:$F$253,0)),\"\",INDIRECT(\"Scores!\"&\"R\"&MATCH('Individual Scores'!$D74,Scores!$F$1:$F$253,0)&\"C\"&COLUMN(Scores!K$1),FALSE))","v":135},{"$f":"IF(ISERROR(MATCH('Individual Scores'!$D74,Scores!$F$1:$F$253,0)),\"\",INDIRECT(\"Scores!\"&\"R\"&MATCH('Individual Scores'!$D74,Scores!$F$1:$F$253,0)&\"C\"&COLUMN(Scores!L$1),FALSE))","v":165},{"$f":"IF(ISERROR(MATCH('Individual Scores'!$D74,Scores!$F$1:$F$253,0)),\"\",INDIRECT(\"Scores!\"&\"R\"&MATCH('Individual Scores'!$D74,Scores!$F$1:$F$253,0)&\"C\"&COLUMN(Scores!N$1),FALSE))","v":150},{"$f":"IF(ISERROR(MATCH('Individual Scores'!$D74,Scores!$F$1:$F$253,0)),\"\",INDIRECT(\"Scores!\"&\"R\"&MATCH('Individual Scores'!$D74,Scores!$F$1:$F$253,0)&\"C\"&COLUMN(Scores!O$1),FALSE))","v":98},{"$f":"IF(ISERROR(MATCH('Individual Scores'!$D74,Scores!$F$1:$F$253,0)),\"\",INDIRECT(\"Scores!\"&\"R\"&MATCH('Individual Scores'!$D74,Scores!$F$1:$F$253,0)&\"C\"&COLUMN(Scores!P$1),FALSE))","v":146},{"$f":"IF(ISERROR(MATCH('Individual Scores'!$D74,Scores!$F$1:$F$253,0)),\"\",INDIRECT(\"Scores!\"&\"R\"&MATCH('Individual Scores'!$D74,Scores!$F$1:$F$253,0)&\"C\"&COLUMN(Scores!S$1),FALSE))","v":832},{"$f":"IF(MAX('Individual Scores'!Q74:V74)>0,MAX('Individual Scores'!Q74:V74),\"\")","v":165},{"$f":"IF(MAX(SUM('Individual Scores'!Q74:S74),SUM('Individual Scores'!T74:V74))>0,MAX(SUM('Individual Scores'!Q74:S74),SUM('Individual Scores'!T74:V74)),\"\")","v":438},null,{"$f":"IF('Team Scores'!$Z$1<2,\"\",IF(ISERROR(MATCH('Individual Scores'!$D74,Scores!$F$253:$F$506,0)),\"\",INDIRECT(\"Scores!\"&\"R\"&(ROW(Scores!$253:$253)-1+MATCH('Individual Scores'!$D74,Scores!$F$253:$F$505,0))&\"C\"&COLUMN(Scores!J$1),FALSE)))","v":191},{"$f":"IF('Team Scores'!$Z$1<2,\"\",IF(ISERROR(MATCH('Individual Scores'!$D74,Scores!$F$253:$F$506,0)),\"\",INDIRECT(\"Scores!\"&\"R\"&(ROW(Scores!$253:$253)-1+MATCH('Individual Scores'!$D74,Scores!$F$253:$F$505,0))&\"C\"&COLUMN(Scores!K$1),FALSE)))","v":199},{"$f":"IF('Team Scores'!$Z$1<2,\"\",IF(ISERROR(MATCH('Individual Scores'!$D74,Scores!$F$253:$F$506,0)),\"\",INDIRECT(\"Scores!\"&\"R\"&(ROW(Scores!$253:$253)-1+MATCH('Individual Scores'!$D74,Scores!$F$253:$F$505,0))&\"C\"&COLUMN(Scores!L$1),FALSE)))","v":174},{"$f":"IF('Team Scores'!$Z$1<2,\"\",IF(ISERROR(MATCH('Individual Scores'!$D74,Scores!$F$253:$F$506,0)),\"\",INDIRECT(\"Scores!\"&\"R\"&(ROW(Scores!$253:$253)-1+MATCH('Individual Scores'!$D74,Scores!$F$253:$F$505,0))&\"C\"&COLUMN(Scores!N$1),FALSE)))","v":168},{"$f":"IF('Team Scores'!$Z$1<2,\"\",IF(ISERROR(MATCH('Individual Scores'!$D74,Scores!$F$253:$F$506,0)),\"\",INDIRECT(\"Scores!\"&\"R\"&(ROW(Scores!$253:$253)-1+MATCH('Individual Scores'!$D74,Scores!$F$253:$F$505,0))&\"C\"&COLUMN(Scores!O$1),FALSE)))","v":211},{"$f":"IF('Team Scores'!$Z$1<2,\"\",IF(ISERROR(MATCH('Individual Scores'!$D74,Scores!$F$253:$F$506,0)),\"\",INDIRECT(\"Scores!\"&\"R\"&(ROW(Scores!$253:$253)-1+MATCH('Individual Scores'!$D74,Scores!$F$253:$F$505,0))&\"C\"&COLUMN(Scores!P$1),FALSE)))","v":192},{"$f":"IF('Team Scores'!$Z$1<2,\"\",IF(ISERROR(MATCH('Individual Scores'!$D74,Scores!$F$253:$F$506,0)),\"\",INDIRECT(\"Scores!\"&\"R\"&(ROW(Scores!$253:$253)-1+MATCH('Individual Scores'!$D74,Scores!$F$253:$F$505,0))&\"C\"&COLUMN(Scores!S$1),FALSE)))","v":1135},211,571,null,{"$f":"IF('Team Scores'!$Z$1<3,\"\",IF(ISERROR(MATCH('Individual Scores'!$D74,Scores!$F$506:$F$759,0)),\"\",INDIRECT(\"Scores!\"&\"R\"&(ROW(Scores!$F$506:$F$759)-1+MATCH('Individual Scores'!$D74,Scores!$F$506:$F$759,0))&\"C\"&COLUMN(Scores!J$1),FALSE)))","v":""},{"$f":"IF('Team Scores'!$Z$1<3,\"\",IF(ISERROR(MATCH('Individual Scores'!$D74,Scores!$F$506:$F$759,0)),\"\",INDIRECT(\"Scores!\"&\"R\"&(ROW(Scores!$F$506:$F$759)-1+MATCH('Individual Scores'!$D74,Scores!$F$506:$F$759,0))&\"C\"&COLUMN(Scores!K$1),FALSE)))","v":""},{"$f":"IF('Team Scores'!$Z$1<3,\"\",IF(ISERROR(MATCH('Individual Scores'!$D74,Scores!$F$506:$F$759,0)),\"\",INDIRECT(\"Scores!\"&\"R\"&(ROW(Scores!$F$506:$F$759)-1+MATCH('Individual Scores'!$D74,Scores!$F$506:$F$759,0))&\"C\"&COLUMN(Scores!L$1),FALSE)))","v":""},{"$f":"IF('Team Scores'!$Z$1<3,\"\",IF(ISERROR(MATCH('Individual Scores'!$D74,Scores!$F$506:$F$759,0)),\"\",INDIRECT(\"Scores!\"&\"R\"&(ROW(Scores!$F$506:$F$759)-1+MATCH('Individual Scores'!$D74,Scores!$F$506:$F$759,0))&\"C\"&COLUMN(Scores!N$1),FALSE)))","v":""},{"$f":"IF('Team Scores'!$Z$1<3,\"\",IF(ISERROR(MATCH('Individual Scores'!$D74,Scores!$F$506:$F$759,0)),\"\",INDIRECT(\"Scores!\"&\"R\"&(ROW(Scores!$F$506:$F$759)-1+MATCH('Individual Scores'!$D74,Scores!$F$506:$F$759,0))&\"C\"&COLUMN(Scores!O$1),FALSE)))","v":""},{"$f":"IF('Team Scores'!$Z$1<3,\"\",IF(ISERROR(MATCH('Individual Scores'!$D74,Scores!$F$506:$F$759,0)),\"\",INDIRECT(\"Scores!\"&\"R\"&(ROW(Scores!$F$506:$F$759)-1+MATCH('Individual Scores'!$D74,Scores!$F$506:$F$759,0))&\"C\"&COLUMN(Scores!P$1),FALSE)))","v":""},{"$f":"IF('Team Scores'!$Z$1<3,\"\",IF(ISERROR(MATCH('Individual Scores'!$D74,Scores!$F$506:$F$759,0)),\"\",INDIRECT(\"Scores!\"&\"R\"&(ROW(Scores!$F$506:$F$759)-1+MATCH('Individual Scores'!$D74,Scores!$F$506:$F$759,0))&\"C\"&COLUMN(Scores!S$1),FALSE)))","v":""},"",""]
["NC","15 & <","M","Matthew Staunton",1032,1210,"",2242,{"$f":"IF(COUNT(Q75:V75,AA75:AF75,AK75:AP75)>=18/3*'Team Scores'!$Z$1,IF(H75-VLOOKUP(B75&C75,'Individual Awards Computations'!$AY$54:$AZ$58,2,FALSE)=0,\"Leader \"&C75&\":\"&B75,H75-VLOOKUP(B75&C75,'Individual Awards Computations'!$AY$54:$AZ$58,2,FALSE)),\"\")","v":-387},246,661,186.83333333333334,32.805555555555564,"154-220",1,null,{"$f":"IF(ISERROR(MATCH('Individual Scores'!$D75,Scores!$F$1:$F$253,0)),\"\",INDIRECT(\"Scores!\"&\"R\"&MATCH('Individual Scores'!$D75,Scores!$F$1:$F$253,0)&\"C\"&COLUMN(Scores!J$1),FALSE))","v":149},{"$f":"IF(ISERROR(MATCH('Individual Scores'!$D75,Scores!$F$1:$F$253,0)),\"\",INDIRECT(\"Scores!\"&\"R\"&MATCH('Individual Scores'!$D75,Scores!$F$1:$F$253,0)&\"C\"&COLUMN(Scores!K$1),FALSE))","v":186},{"$f":"IF(ISERROR(MATCH('Individual Scores'!$D75,Scores!$F$1:$F$253,0)),\"\",INDIRECT(\"Scores!\"&\"R\"&MATCH('Individual Scores'!$D75,Scores!$F$1:$F$253,0)&\"C\"&COLUMN(Scores!L$1),FALSE))","v":245},{"$f":"IF(ISERROR(MATCH('Individual Scores'!$D75,Scores!$F$1:$F$253,0)),\"\",INDIRECT(\"Scores!\"&\"R\"&MATCH('Individual Scores'!$D75,Scores!$F$1:$F$253,0)&\"C\"&COLUMN(Scores!N$1),FALSE))","v":145},{"$f":"IF(ISERROR(MATCH('Individual Scores'!$D75,Scores!$F$1:$F$253,0)),\"\",INDIRECT(\"Scores!\"&\"R\"&MATCH('Individual Scores'!$D75,Scores!$F$1:$F$253,0)&\"C\"&COLUMN(Scores!O$1),FALSE))","v":164},{"$f":"IF(ISERROR(MATCH('Individual Scores'!$D75,Scores!$F$1:$F$253,0)),\"\",INDIRECT(\"Scores!\"&\"R\"&MATCH('Individual Scores'!$D75,Scores!$F$1:$F$253,0)&\"C\"&COLUMN(Scores!P$1),FALSE))","v":143},{"$f":"IF(ISERROR(MATCH('Individual Scores'!$D75,Scores!$F$1:$F$253,0)),\"\",INDIRECT(\"Scores!\"&\"R\"&MATCH('Individual Scores'!$D75,Scores!$F$1:$F$253,0)&\"C\"&COLUMN(Scores!S$1),FALSE))","v":1032},{"$f":"IF(MAX('Individual Scores'!Q75:V75)>0,MAX('Individual Scores'!Q75:V75),\"\")","v":245},{"$f":"IF(MAX(SUM('Individual Scores'!Q75:S75),SUM('Individual Scores'!T75:V75))>0,MAX(SUM('Individual Scores'!Q75:S75),SUM('Individual Scores'!T75:V75)),\"\")","v":580},null,{"$f":"IF('Team Scores'!$Z$1<2,\"\",IF(ISERROR(MATCH('Individual Scores'!$D75,Scores!$F$253:$F$506,0)),\"\",INDIRECT(\"Scores!\"&\"R\"&(ROW(Scores!$253:$253)-1+MATCH('Individual Scores'!$D75,Scores!$F$253:$F$505,0))&\"C\"&COLUMN(Scores!J$1),FALSE)))","v":195},{"$f":"IF('Team Scores'!$Z$1<2,\"\",IF(ISERROR(MATCH('Individual Scores'!$D75,Scores!$F$253:$F$506,0)),\"\",INDIRECT(\"Scores!\"&\"R\"&(ROW(Scores!$253:$253)-1+MATCH('Individual Scores'!$D75,Scores!$F$253:$F$505,0))&\"C\"&COLUMN(Scores!K$1),FALSE)))","v":220},{"$f":"IF('Team Scores'!$Z$1<2,\"\",IF(ISERROR(MATCH('Individual Scores'!$D75,Scores!$F$253:$F$506,0)),\"\",INDIRECT(\"Scores!\"&\"R\"&(ROW(Scores!$253:$253)-1+MATCH('Individual Scores'!$D75,Scores!$F$253:$F$505,0))&\"C\"&COLUMN(Scores!L$1),FALSE)))","v":246},{"$f":"IF('Team Scores'!$Z$1<2,\"\",IF(ISERROR(MATCH('Individual Scores'!$D75,Scores!$F$253:$F$506,0)),\"\",INDIRECT(\"Scores!\"&\"R\"&(ROW(Scores!$253:$253)-1+MATCH('Individual Scores'!$D75,Scores!$F$253:$F$505,0))&\"C\"&COLUMN(Scores!N$1),FALSE)))","v":225},{"$f":"IF('Team Scores'!$Z$1<2,\"\",IF(ISERROR(MATCH('Individual Scores'!$D75,Scores!$F$253:$F$506,0)),\"\",INDIRECT(\"Scores!\"&\"R\"&(ROW(Scores!$253:$253)-1+MATCH('Individual Scores'!$D75,Scores!$F$253:$F$505,0))&\"C\"&COLUMN(Scores!O$1),FALSE)))","v":179},{"$f":"IF('Team Scores'!$Z$1<2,\"\",IF(ISERROR(MATCH('Individual Scores'!$D75,Scores!$F$253:$F$506,0)),\"\",INDIRECT(\"Scores!\"&\"R\"&(ROW(Scores!$253:$253)-1+MATCH('Individual Scores'!$D75,Scores!$F$253:$F$505,0))&\"C\"&COLUMN(Scores!P$1),FALSE)))","v":145},{"$f":"IF('Team Scores'!$Z$1<2,\"\",IF(ISERROR(MATCH('Individual Scores'!$D75,Scores!$F$253:$F$506,0)),\"\",INDIRECT(\"Scores!\"&\"R\"&(ROW(Scores!$253:$253)-1+MATCH('Individual Scores'!$D75,Scores!$F$253:$F$505,0))&\"C\"&COLUMN(Scores!S$1),FALSE)))","v":1210},246,661,null,{"$f":"IF('Team Scores'!$Z$1<3,\"\",IF(ISERROR(MATCH('Individual Scores'!$D75,Scores!$F$506:$F$759,0)),\"\",INDIRECT(\"Scores!\"&\"R\"&(ROW(Scores!$F$506:$F$759)-1+MATCH('Individual Scores'!$D75,Scores!$F$506:$F$759,0))&\"C\"&COLUMN(Scores!J$1),FALSE)))","v":""},{"$f":"IF('Team Scores'!$Z$1<3,\"\",IF(ISERROR(MATCH('Individual Scores'!$D75,Scores!$F$506:$F$759,0)),\"\",INDIRECT(\"Scores!\"&\"R\"&(ROW(Scores!$F$506:$F$759)-1+MATCH('Individual Scores'!$D75,Scores!$F$506:$F$759,0))&\"C\"&COLUMN(Scores!K$1),FALSE)))","v":""},{"$f":"IF('Team Scores'!$Z$1<3,\"\",IF(ISERROR(MATCH('Individual Scores'!$D75,Scores!$F$506:$F$759,0)),\"\",INDIRECT(\"Scores!\"&\"R\"&(ROW(Scores!$F$506:$F$759)-1+MATCH('Individual Scores'!$D75,Scores!$F$506:$F$759,0))&\"C\"&COLUMN(Scores!L$1),FALSE)))","v":""},{"$f":"IF('Team Scores'!$Z$1<3,\"\",IF(ISERROR(MATCH('Individual Scores'!$D75,Scores!$F$506:$F$759,0)),\"\",INDIRECT(\"Scores!\"&\"R\"&(ROW(Scores!$F$506:$F$759)-1+MATCH('Individual Scores'!$D75,Scores!$F$506:$F$759,0))&\"C\"&COLUMN(Scores!N$1),FALSE)))","v":""},{"$f":"IF('Team Scores'!$Z$1<3,\"\",IF(ISERROR(MATCH('Individual Scores'!$D75,Scores!$F$506:$F$759,0)),\"\",INDIRECT(\"Scores!\"&\"R\"&(ROW(Scores!$F$506:$F$759)-1+MATCH('Individual Scores'!$D75,Scores!$F$506:$F$759,0))&\"C\"&COLUMN(Scores!O$1),FALSE)))","v":""},{"$f":"IF('Team Scores'!$Z$1<3,\"\",IF(ISERROR(MATCH('Individual Scores'!$D75,Scores!$F$506:$F$759,0)),\"\",INDIRECT(\"Scores!\"&\"R\"&(ROW(Scores!$F$506:$F$759)-1+MATCH('Individual Scores'!$D75,Scores!$F$506:$F$759,0))&\"C\"&COLUMN(Scores!P$1),FALSE)))","v":""},{"$f":"IF('Team Scores'!$Z$1<3,\"\",IF(ISERROR(MATCH('Individual Scores'!$D75,Scores!$F$506:$F$759,0)),\"\",INDIRECT(\"Scores!\"&\"R\"&(ROW(Scores!$F$506:$F$759)-1+MATCH('Individual Scores'!$D75,Scores!$F$506:$F$759,0))&\"C\"&COLUMN(Scores!S$1),FALSE)))","v":""},"",""]
["NC","15 & <","M","Spencer Gutowsky",1254,1163,"",2417,{"$f":"IF(COUNT(Q76:V76,AA76:AF76,AK76:AP76)>=18/3*'Team Scores'!$Z$1,IF(H76-VLOOKUP(B76&C76,'Individual Awards Computations'!$AY$54:$AZ$58,2,FALSE)=0,\"Leader \"&C76&\":\"&B76,H76-VLOOKUP(B76&C76,'Individual Awards Computations'!$AY$54:$AZ$58,2,FALSE)),\"\")","v":-212},245,652,201.41666666666666,26.083333333333332,"175-228",1,null,{"$f":"IF(ISERROR(MATCH('Individual Scores'!$D76,Scores!$F$1:$F$253,0)),\"\",INDIRECT(\"Scores!\"&\"R\"&MATCH('Individual Scores'!$D76,Scores!$F$1:$F$253,0)&\"C\"&COLUMN(Scores!J$1),FALSE))","v":245},{"$f":"IF(ISERROR(MATCH('Individual Scores'!$D76,Scores!$F$1:$F$253,0)),\"\",INDIRECT(\"Scores!\"&\"R\"&MATCH('Individual Scores'!$D76,Scores!$F$1:$F$253,0)&\"C\"&COLUMN(Scores!K$1),FALSE))","v":221},{"$f":"IF(ISERROR(MATCH('Individual Scores'!$D76,Scores!$F$1:$F$253,0)),\"\",INDIRECT(\"Scores!\"&\"R\"&MATCH('Individual Scores'!$D76,Scores!$F$1:$F$253,0)&\"C\"&COLUMN(Scores!L$1),FALSE))","v":186},{"$f":"IF(ISERROR(MATCH('Individual Scores'!$D76,Scores!$F$1:$F$253,0)),\"\",INDIRECT(\"Scores!\"&\"R\"&MATCH('Individual Scores'!$D76,Scores!$F$1:$F$253,0)&\"C\"&COLUMN(Scores!N$1),FALSE))","v":225},{"$f":"IF(ISERROR(MATCH('Individual Scores'!$D76,Scores!$F$1:$F$253,0)),\"\",INDIRECT(\"Scores!\"&\"R\"&MATCH('Individual Scores'!$D76,Scores!$F$1:$F$253,0)&\"C\"&COLUMN(Scores!O$1),FALSE))","v":157},{"$f":"IF(ISERROR(MATCH('Individual Scores'!$D76,Scores!$F$1:$F$253,0)),\"\",INDIRECT(\"Scores!\"&\"R\"&MATCH('Individual Scores'!$D76,Scores!$F$1:$F$253,0)&\"C\"&COLUMN(Scores!P$1),FALSE))","v":220},{"$f":"IF(ISERROR(MATCH('Individual Scores'!$D76,Scores!$F$1:$F$253,0)),\"\",INDIRECT(\"Scores!\"&\"R\"&MATCH('Individual Scores'!$D76,Scores!$F$1:$F$253,0)&\"C\"&COLUMN(Scores!S$1),FALSE))","v":1254},{"$f":"IF(MAX('Individual Scores'!Q76:V76)>0,MAX('Individual Scores'!Q76:V76),\"\")","v":245},{"$f":"IF(MAX(SUM('Individual Scores'!Q76:S76),SUM('Individual Scores'!T76:V76))>0,MAX(SUM('Individual Scores'!Q76:S76),SUM('Individual Scores'!T76:V76)),\"\")","v":652},null,{"$f":"IF('Team Scores'!$Z$1<2,\"\",IF(ISERROR(MATCH('Individual Scores'!$D76,Scores!$F$253:$F$506,0)),\"\",INDIRECT(\"Scores!\"&\"R\"&(ROW(Scores!$253:$253)-1+MATCH('Individual Scores'!$D76,Scores!$F$253:$F$505,0))&\"C\"&COLUMN(Scores!J$1),FALSE)))","v":196},{"$f":"IF('Team Scores'!$Z$1<2,\"\",IF(ISERROR(MATCH('Individual Scores'!$D76,Scores!$F$253:$F$506,0)),\"\",INDIRECT(\"Scores!\"&\"R\"&(ROW(Scores!$253:$253)-1+MATCH('Individual Scores'!$D76,Scores!$F$253:$F$505,0))&\"C\"&COLUMN(Scores!K$1),FALSE)))","v":161},{"$f":"IF('Team Scores'!$Z$1<2,\"\",IF(ISERROR(MATCH('Individual Scores'!$D76,Scores!$F$253:$F$506,0)),\"\",INDIRECT(\"Scores!\"&\"R\"&(ROW(Scores!$253:$253)-1+MATCH('Individual Scores'!$D76,Scores!$F$253:$F$505,0))&\"C\"&COLUMN(Scores!L$1),FALSE)))","v":173},{"$f":"IF('Team Scores'!$Z$1<2,\"\",IF(ISERROR(MATCH('Individual Scores'!$D76,Scores!$F$253:$F$506,0)),\"\",INDIRECT(\"Scores!\"&\"R\"&(ROW(Scores!$253:$253)-1+MATCH('Individual Scores'!$D76,Scores!$F$253:$F$505,0))&\"C\"&COLUMN(Scores!N$1),FALSE)))","v":209},{"$f":"IF('Team Scores'!$Z$1<2,\"\",IF(ISERROR(MATCH('Individual Scores'!$D76,Scores!$F$253:$F$506,0)),\"\",INDIRECT(\"Scores!\"&\"R\"&(ROW(Scores!$253:$253)-1+MATCH('Individual Scores'!$D76,Scores!$F$253:$F$505,0))&\"C\"&COLUMN(Scores!O$1),FALSE)))","v":245},{"$f":"IF('Team Scores'!$Z$1<2,\"\",IF(ISERROR(MATCH('Individual Scores'!$D76,Scores!$F$253:$F$506,0)),\"\",INDIRECT(\"Scores!\"&\"R\"&(ROW(Scores!$253:$253)-1+MATCH('Individual Scores'!$D76,Scores!$F$253:$F$505,0))&\"C\"&COLUMN(Scores!P$1),FALSE)))","v":179},{"$f":"IF('Team Scores'!$Z$1<2,\"\",IF(ISERROR(MATCH('Individual Scores'!$D76,Scores!$F$253:$F$506,0)),\"\",INDIRECT(\"Scores!\"&\"R\"&(ROW(Scores!$253:$253)-1+MATCH('Individual Scores'!$D76,Scores!$F$253:$F$505,0))&\"C\"&COLUMN(Scores!S$1),FALSE)))","v":1163},245,633,null,{"$f":"IF('Team Scores'!$Z$1<3,\"\",IF(ISERROR(MATCH('Individual Scores'!$D76,Scores!$F$506:$F$759,0)),\"\",INDIRECT(\"Scores!\"&\"R\"&(ROW(Scores!$F$506:$F$759)-1+MATCH('Individual Scores'!$D76,Scores!$F$506:$F$759,0))&\"C\"&COLUMN(Scores!J$1),FALSE)))","v":""},{"$f":"IF('Team Scores'!$Z$1<3,\"\",IF(ISERROR(MATCH('Individual Scores'!$D76,Scores!$F$506:$F$759,0)),\"\",INDIRECT(\"Scores!\"&\"R\"&(ROW(Scores!$F$506:$F$759)-1+MATCH('Individual Scores'!$D76,Scores!$F$506:$F$759,0))&\"C\"&COLUMN(Scores!K$1),FALSE)))","v":""},{"$f":"IF('Team Scores'!$Z$1<3,\"\",IF(ISERROR(MATCH('Individual Scores'!$D76,Scores!$F$506:$F$759,0)),\"\",INDIRECT(\"Scores!\"&\"R\"&(ROW(Scores!$F$506:$F$759)-1+MATCH('Individual Scores'!$D76,Scores!$F$506:$F$759,0))&\"C\"&COLUMN(Scores!L$1),FALSE)))","v":""},{"$f":"IF('Team Scores'!$Z$1<3,\"\",IF(ISERROR(MATCH('Individual Scores'!$D76,Scores!$F$506:$F$759,0)),\"\",INDIRECT(\"Scores!\"&\"R\"&(ROW(Scores!$F$506:$F$759)-1+MATCH('Individual Scores'!$D76,Scores!$F$506:$F$759,0))&\"C\"&COLUMN(Scores!N$1),FALSE)))","v":""},{"$f":"IF('Team Scores'!$Z$1<3,\"\",IF(ISERROR(MATCH('Individual Scores'!$D76,Scores!$F$506:$F$759,0)),\"\",INDIRECT(\"Scores!\"&\"R\"&(ROW(Scores!$F$506:$F$759)-1+MATCH('Individual Scores'!$D76,Scores!$F$506:$F$759,0))&\"C\"&COLUMN(Scores!O$1),FALSE)))","v":""},{"$f":"IF('Team Scores'!$Z$1<3,\"\",IF(ISERROR(MATCH('Individual Scores'!$D76,Scores!$F$506:$F$759,0)),\"\",INDIRECT(\"Scores!\"&\"R\"&(ROW(Scores!$F$506:$F$759)-1+MATCH('Individual Scores'!$D76,Scores!$F$506:$F$759,0))&\"C\"&COLUMN(Scores!P$1),FALSE)))","v":""},{"$f":"IF('Team Scores'!$Z$1<3,\"\",IF(ISERROR(MATCH('Individual Scores'!$D76,Scores!$F$506:$F$759,0)),\"\",INDIRECT(\"Scores!\"&\"R\"&(ROW(Scores!$F$506:$F$759)-1+MATCH('Individual Scores'!$D76,Scores!$F$506:$F$759,0))&\"C\"&COLUMN(Scores!S$1),FALSE)))","v":""},"",""]
["NC","15 & <","M","Kaan Kurt",1034,1078,"",2112,{"$f":"IF(COUNT(Q77:V77,AA77:AF77,AK77:AP77)>=18/3*'Team Scores'!$Z$1,IF(H77-VLOOKUP(B77&C77,'Individual Awards Computations'!$AY$54:$AZ$58,2,FALSE)=0,\"Leader \"&C77&\":\"&B77,H77-VLOOKUP(B77&C77,'Individual Awards Computations'!$AY$54:$AZ$58,2,FALSE)),\"\")","v":-517},236,562,176,19.333333333333332,"157-195",1,null,{"$f":"IF(ISERROR(MATCH('Individual Scores'!$D77,Scores!$F$1:$F$253,0)),\"\",INDIRECT(\"Scores!\"&\"R\"&MATCH('Individual Scores'!$D77,Scores!$F$1:$F$253,0)&\"C\"&COLUMN(Scores!J$1),FALSE))","v":148},{"$f":"IF(ISERROR(MATCH('Individual Scores'!$D77,Scores!$F$1:$F$253,0)),\"\",INDIRECT(\"Scores!\"&\"R\"&MATCH('Individual Scores'!$D77,Scores!$F$1:$F$253,0)&\"C\"&COLUMN(Scores!K$1),FALSE))","v":210},{"$f":"IF(ISERROR(MATCH('Individual Scores'!$D77,Scores!$F$1:$F$253,0)),\"\",INDIRECT(\"Scores!\"&\"R\"&MATCH('Individual Scores'!$D77,Scores!$F$1:$F$253,0)&\"C\"&COLUMN(Scores!L$1),FALSE))","v":156},{"$f":"IF(ISERROR(MATCH('Individual Scores'!$D77,Scores!$F$1:$F$253,0)),\"\",INDIRECT(\"Scores!\"&\"R\"&MATCH('Individual Scores'!$D77,Scores!$F$1:$F$253,0)&\"C\"&COLUMN(Scores!N$1),FALSE))","v":179},{"$f":"IF(ISERROR(MATCH('Individual Scores'!$D77,Scores!$F$1:$F$253,0)),\"\",INDIRECT(\"Scores!\"&\"R\"&MATCH('Individual Scores'!$D77,Scores!$F$1:$F$253,0)&\"C\"&COLUMN(Scores!O$1),FALSE))","v":180},{"$f":"IF(ISERROR(MATCH('Individual Scores'!$D77,Scores!$F$1:$F$253,0)),\"\",INDIRECT(\"Scores!\"&\"R\"&MATCH('Individual Scores'!$D77,Scores!$F$1:$F$253,0)&\"C\"&COLUMN(Scores!P$1),FALSE))","v":161},{"$f":"IF(ISERROR(MATCH('Individual Scores'!$D77,Scores!$F$1:$F$253,0)),\"\",INDIRECT(\"Scores!\"&\"R\"&MATCH('Individual Scores'!$D77,Scores!$F$1:$F$253,0)&\"C\"&COLUMN(Scores!S$1),FALSE))","v":1034},{"$f":"IF(MAX('Individual Scores'!Q77:V77)>0,MAX('Individual Scores'!Q77:V77),\"\")","v":210},{"$f":"IF(MAX(SUM('Individual Scores'!Q77:S77),SUM('Individual Scores'!T77:V77))>0,MAX(SUM('Individual Scores'!Q77:S77),SUM('Individual Scores'!T77:V77)),\"\")","v":520},null,{"$f":"IF('Team Scores'!$Z$1<2,\"\",IF(ISERROR(MATCH('Individual Scores'!$D77,Scores!$F$253:$F$506,0)),\"\",INDIRECT(\"Scores!\"&\"R\"&(ROW(Scores!$253:$253)-1+MATCH('Individual Scores'!$D77,Scores!$F$253:$F$505,0))&\"C\"&COLUMN(Scores!J$1),FALSE)))","v":167},{"$f":"IF('Team Scores'!$Z$1<2,\"\",IF(ISERROR(MATCH('Individual Scores'!$D77,Scores!$F$253:$F$506,0)),\"\",INDIRECT(\"Scores!\"&\"R\"&(ROW(Scores!$253:$253)-1+MATCH('Individual Scores'!$D77,Scores!$F$253:$F$505,0))&\"C\"&COLUMN(Scores!K$1),FALSE)))","v":191},{"$f":"IF('Team Scores'!$Z$1<2,\"\",IF(ISERROR(MATCH('Individual Scores'!$D77,Scores!$F$253:$F$506,0)),\"\",INDIRECT(\"Scores!\"&\"R\"&(ROW(Scores!$253:$253)-1+MATCH('Individual Scores'!$D77,Scores!$F$253:$F$505,0))&\"C\"&COLUMN(Scores!L$1),FALSE)))","v":158},{"$f":"IF('Team Scores'!$Z$1<2,\"\",IF(ISERROR(MATCH('Individual Scores'!$D77,Scores!$F$253:$F$506,0)),\"\",INDIRECT(\"Scores!\"&\"R\"&(ROW(Scores!$253:$253)-1+MATCH('Individual Scores'!$D77,Scores!$F$253:$F$505,0))&\"C\"&COLUMN(Scores!N$1),FALSE)))","v":236},{"$f":"IF('Team Scores'!$Z$1<2,\"\",IF(ISERROR(MATCH('Individual Scores'!$D77,Scores!$F$253:$F$506,0)),\"\",INDIRECT(\"Scores!\"&\"R\"&(ROW(Scores!$253:$253)-1+MATCH('Individual Scores'!$D77,Scores!$F$253:$F$505,0))&\"C\"&COLUMN(Scores!O$1),FALSE)))","v":158},{"$f":"IF('Team Scores'!$Z$1<2,\"\",IF(ISERROR(MATCH('Individual Scores'!$D77,Scores!$F$253:$F$506,0)),\"\",INDIRECT(\"Scores!\"&\"R\"&(ROW(Scores!$253:$253)-1+MATCH('Individual Scores'!$D77,Scores!$F$253:$F$505,0))&\"C\"&COLUMN(Scores!P$1),FALSE)))","v":168},{"$f":"IF('Team Scores'!$Z$1<2,\"\",IF(ISERROR(MATCH('Individual Scores'!$D77,Scores!$F$253:$F$506,0)),\"\",INDIRECT(\"Scores!\"&\"R\"&(ROW(Scores!$253:$253)-1+MATCH('Individual Scores'!$D77,Scores!$F$253:$F$505,0))&\"C\"&COLUMN(Scores!S$1),FALSE)))","v":1078},236,562,null,{"$f":"IF('Team Scores'!$Z$1<3,\"\",IF(ISERROR(MATCH('Individual Scores'!$D77,Scores!$F$506:$F$759,0)),\"\",INDIRECT(\"Scores!\"&\"R\"&(ROW(Scores!$F$506:$F$759)-1+MATCH('Individual Scores'!$D77,Scores!$F$506:$F$759,0))&\"C\"&COLUMN(Scores!J$1),FALSE)))","v":""},{"$f":"IF('Team Scores'!$Z$1<3,\"\",IF(ISERROR(MATCH('Individual Scores'!$D77,Scores!$F$506:$F$759,0)),\"\",INDIRECT(\"Scores!\"&\"R\"&(ROW(Scores!$F$506:$F$759)-1+MATCH('Individual Scores'!$D77,Scores!$F$506:$F$759,0))&\"C\"&COLUMN(Scores!K$1),FALSE)))","v":""},{"$f":"IF('Team Scores'!$Z$1<3,\"\",IF(ISERROR(MATCH('Individual Scores'!$D77,Scores!$F$506:$F$759,0)),\"\",INDIRECT(\"Scores!\"&\"R\"&(ROW(Scores!$F$506:$F$759)-1+MATCH('Individual Scores'!$D77,Scores!$F$506:$F$759,0))&\"C\"&COLUMN(Scores!L$1),FALSE)))","v":""},{"$f":"IF('Team Scores'!$Z$1<3,\"\",IF(ISERROR(MATCH('Individual Scores'!$D77,Scores!$F$506:$F$759,0)),\"\",INDIRECT(\"Scores!\"&\"R\"&(ROW(Scores!$F$506:$F$759)-1+MATCH('Individual Scores'!$D77,Scores!$F$506:$F$759,0))&\"C\"&COLUMN(Scores!N$1),FALSE)))","v":""},{"$f":"IF('Team Scores'!$Z$1<3,\"\",IF(ISERROR(MATCH('Individual Scores'!$D77,Scores!$F$506:$F$759,0)),\"\",INDIRECT(\"Scores!\"&\"R\"&(ROW(Scores!$F$506:$F$759)-1+MATCH('Individual Scores'!$D77,Scores!$F$506:$F$759,0))&\"C\"&COLUMN(Scores!O$1),FALSE)))","v":""},{"$f":"IF('Team Scores'!$Z$1<3,\"\",IF(ISERROR(MATCH('Individual Scores'!$D77,Scores!$F$506:$F$759,0)),\"\",INDIRECT(\"Scores!\"&\"R\"&(ROW(Scores!$F$506:$F$759)-1+MATCH('Individual Scores'!$D77,Scores!$F$506:$F$759,0))&\"C\"&COLUMN(Scores!P$1),FALSE)))","v":""},{"$f":"IF('Team Scores'!$Z$1<3,\"\",IF(ISERROR(MATCH('Individual Scores'!$D77,Scores!$F$506:$F$759,0)),\"\",INDIRECT(\"Scores!\"&\"R\"&(ROW(Scores!$F$506:$F$759)-1+MATCH('Individual Scores'!$D77,Scores!$F$506:$F$759,0))&\"C\"&COLUMN(Scores!S$1),FALSE)))","v":""},"",""]
["NC","15 & <","M","Vacant-NC_B_U15",0,"","",0,{"$f":"IF(COUNT(Q78:V78,AA78:AF78,AK78:AP78)>=18/3*'Team Scores'!$Z$1,IF(H78-VLOOKUP(B78&C78,'Individual Awards Computations'!$AY$54:$AZ$58,2,FALSE)=0,\"Leader \"&C78&\":\"&B78,H78-VLOOKUP(B78&C78,'Individual Awards Computations'!$AY$54:$AZ$58,2,FALSE)),\"\")","v":""},"","","","","",1,null,{"$f":"IF(ISERROR(MATCH('Individual Scores'!$D78,Scores!$F$1:$F$253,0)),\"\",INDIRECT(\"Scores!\"&\"R\"&MATCH('Individual Scores'!$D78,Scores!$F$1:$F$253,0)&\"C\"&COLUMN(Scores!J$1),FALSE))","v":0},{"$f":"IF(ISERROR(MATCH('Individual Scores'!$D78,Scores!$F$1:$F$253,0)),\"\",INDIRECT(\"Scores!\"&\"R\"&MATCH('Individual Scores'!$D78,Scores!$F$1:$F$253,0)&\"C\"&COLUMN(Scores!K$1),FALSE))","v":0},{"$f":"IF(ISERROR(MATCH('Individual Scores'!$D78,Scores!$F$1:$F$253,0)),\"\",INDIRECT(\"Scores!\"&\"R\"&MATCH('Individual Scores'!$D78,Scores!$F$1:$F$253,0)&\"C\"&COLUMN(Scores!L$1),FALSE))","v":0},{"$f":"IF(ISERROR(MATCH('Individual Scores'!$D78,Scores!$F$1:$F$253,0)),\"\",INDIRECT(\"Scores!\"&\"R\"&MATCH('Individual Scores'!$D78,Scores!$F$1:$F$253,0)&\"C\"&COLUMN(Scores!N$1),FALSE))","v":0},{"$f":"IF(ISERROR(MATCH('Individual Scores'!$D78,Scores!$F$1:$F$253,0)),\"\",INDIRECT(\"Scores!\"&\"R\"&MATCH('Individual Scores'!$D78,Scores!$F$1:$F$253,0)&\"C\"&COLUMN(Scores!O$1),FALSE))","v":0},{"$f":"IF(ISERROR(MATCH('Individual Scores'!$D78,Scores!$F$1:$F$253,0)),\"\",INDIRECT(\"Scores!\"&\"R\"&MATCH('Individual Scores'!$D78,Scores!$F$1:$F$253,0)&\"C\"&COLUMN(Scores!P$1),FALSE))","v":0},{"$f":"IF(ISERROR(MATCH('Individual Scores'!$D78,Scores!$F$1:$F$253,0)),\"\",INDIRECT(\"Scores!\"&\"R\"&MATCH('Individual Scores'!$D78,Scores!$F$1:$F$253,0)&\"C\"&COLUMN(Scores!S$1),FALSE))","v":0},{"$f":"IF(MAX('Individual Scores'!Q78:V78)>0,MAX('Individual Scores'!Q78:V78),\"\")","v":""},{"$f":"IF(MAX(SUM('Individual Scores'!Q78:S78),SUM('Individual Scores'!T78:V78))>0,MAX(SUM('Individual Scores'!Q78:S78),SUM('Individual Scores'!T78:V78)),\"\")","v":""},null,{"$f":"IF('Team Scores'!$Z$1<2,\"\",IF(ISERROR(MATCH('Individual Scores'!$D78,Scores!$F$253:$F$506,0)),\"\",INDIRECT(\"Scores!\"&\"R\"&(ROW(Scores!$253:$253)-1+MATCH('Individual Scores'!$D78,Scores!$F$253:$F$505,0))&\"C\"&COLUMN(Scores!J$1),FALSE)))","v":""},{"$f":"IF('Team Scores'!$Z$1<2,\"\",IF(ISERROR(MATCH('Individual Scores'!$D78,Scores!$F$253:$F$506,0)),\"\",INDIRECT(\"Scores!\"&\"R\"&(ROW(Scores!$253:$253)-1+MATCH('Individual Scores'!$D78,Scores!$F$253:$F$505,0))&\"C\"&COLUMN(Scores!K$1),FALSE)))","v":""},{"$f":"IF('Team Scores'!$Z$1<2,\"\",IF(ISERROR(MATCH('Individual Scores'!$D78,Scores!$F$253:$F$506,0)),\"\",INDIRECT(\"Scores!\"&\"R\"&(ROW(Scores!$253:$253)-1+MATCH('Individual Scores'!$D78,Scores!$F$253:$F$505,0))&\"C\"&COLUMN(Scores!L$1),FALSE)))","v":""},{"$f":"IF('Team Scores'!$Z$1<2,\"\",IF(ISERROR(MATCH('Individual Scores'!$D78,Scores!$F$253:$F$506,0)),\"\",INDIRECT(\"Scores!\"&\"R\"&(ROW(Scores!$253:$253)-1+MATCH('Individual Scores'!$D78,Scores!$F$253:$F$505,0))&\"C\"&COLUMN(Scores!N$1),FALSE)))","v":""},{"$f":"IF('Team Scores'!$Z$1<2,\"\",IF(ISERROR(MATCH('Individual Scores'!$D78,Scores!$F$253:$F$506,0)),\"\",INDIRECT(\"Scores!\"&\"R\"&(ROW(Scores!$253:$253)-1+MATCH('Individual Scores'!$D78,Scores!$F$253:$F$505,0))&\"C\"&COLUMN(Scores!O$1),FALSE)))","v":""},{"$f":"IF('Team Scores'!$Z$1<2,\"\",IF(ISERROR(MATCH('Individual Scores'!$D78,Scores!$F$253:$F$506,0)),\"\",INDIRECT(\"Scores!\"&\"R\"&(ROW(Scores!$253:$253)-1+MATCH('Individual Scores'!$D78,Scores!$F$253:$F$505,0))&\"C\"&COLUMN(Scores!P$1),FALSE)))","v":""},{"$f":"IF('Team Scores'!$Z$1<2,\"\",IF(ISERROR(MATCH('Individual Scores'!$D78,Scores!$F$253:$F$506,0)),\"\",INDIRECT(\"Scores!\"&\"R\"&(ROW(Scores!$253:$253)-1+MATCH('Individual Scores'!$D78,Scores!$F$253:$F$505,0))&\"C\"&COLUMN(Scores!S$1),FALSE)))","v":""},"","",null,{"$f":"IF('Team Scores'!$Z$1<3,\"\",IF(ISERROR(MATCH('Individual Scores'!$D78,Scores!$F$506:$F$759,0)),\"\",INDIRECT(\"Scores!\"&\"R\"&(ROW(Scores!$F$506:$F$759)-1+MATCH('Individual Scores'!$D78,Scores!$F$506:$F$759,0))&\"C\"&COLUMN(Scores!J$1),FALSE)))","v":""},{"$f":"IF('Team Scores'!$Z$1<3,\"\",IF(ISERROR(MATCH('Individual Scores'!$D78,Scores!$F$506:$F$759,0)),\"\",INDIRECT(\"Scores!\"&\"R\"&(ROW(Scores!$F$506:$F$759)-1+MATCH('Individual Scores'!$D78,Scores!$F$506:$F$759,0))&\"C\"&COLUMN(Scores!K$1),FALSE)))","v":""},{"$f":"IF('Team Scores'!$Z$1<3,\"\",IF(ISERROR(MATCH('Individual Scores'!$D78,Scores!$F$506:$F$759,0)),\"\",INDIRECT(\"Scores!\"&\"R\"&(ROW(Scores!$F$506:$F$759)-1+MATCH('Individual Scores'!$D78,Scores!$F$506:$F$759,0))&\"C\"&COLUMN(Scores!L$1),FALSE)))","v":""},{"$f":"IF('Team Scores'!$Z$1<3,\"\",IF(ISERROR(MATCH('Individual Scores'!$D78,Scores!$F$506:$F$759,0)),\"\",INDIRECT(\"Scores!\"&\"R\"&(ROW(Scores!$F$506:$F$759)-1+MATCH('Individual Scores'!$D78,Scores!$F$506:$F$759,0))&\"C\"&COLUMN(Scores!N$1),FALSE)))","v":""},{"$f":"IF('Team Scores'!$Z$1<3,\"\",IF(ISERROR(MATCH('Individual Scores'!$D78,Scores!$F$506:$F$759,0)),\"\",INDIRECT(\"Scores!\"&\"R\"&(ROW(Scores!$F$506:$F$759)-1+MATCH('Individual Scores'!$D78,Scores!$F$506:$F$759,0))&\"C\"&COLUMN(Scores!O$1),FALSE)))","v":""},{"$f":"IF('Team Scores'!$Z$1<3,\"\",IF(ISERROR(MATCH('Individual Scores'!$D78,Scores!$F$506:$F$759,0)),\"\",INDIRECT(\"Scores!\"&\"R\"&(ROW(Scores!$F$506:$F$759)-1+MATCH('Individual Scores'!$D78,Scores!$F$506:$F$759,0))&\"C\"&COLUMN(Scores!P$1),FALSE)))","v":""},{"$f":"IF('Team Scores'!$Z$1<3,\"\",IF(ISERROR(MATCH('Individual Scores'!$D78,Scores!$F$506:$F$759,0)),\"\",INDIRECT(\"Scores!\"&\"R\"&(ROW(Scores!$F$506:$F$759)-1+MATCH('Individual Scores'!$D78,Scores!$F$506:$F$759,0))&\"C\"&COLUMN(Scores!S$1),FALSE)))","v":""},"",""]
["NC","15 & <","M","Jacob Bloomfield ","",1200,"",1200,{"$f":"IF(COUNT(Q79:V79,AA79:AF79,AK79:AP79)>=18/3*'Team Scores'!$Z$1,IF(H79-VLOOKUP(B79&C79,'Individual Awards Computations'!$AY$54:$AZ$58,2,FALSE)=0,\"Leader \"&C79&\":\"&B79,H79-VLOOKUP(B79&C79,'Individual Awards Computations'!$AY$54:$AZ$58,2,FALSE)),\"\")","v":""},257,691,200,34,"166-234",1,null,{"$f":"IF(ISERROR(MATCH('Individual Scores'!$D79,Scores!$F$1:$F$253,0)),\"\",INDIRECT(\"Scores!\"&\"R\"&MATCH('Individual Scores'!$D79,Scores!$F$1:$F$253,0)&\"C\"&COLUMN(Scores!J$1),FALSE))","v":""},{"$f":"IF(ISERROR(MATCH('Individual Scores'!$D79,Scores!$F$1:$F$253,0)),\"\",INDIRECT(\"Scores!\"&\"R\"&MATCH('Individual Scores'!$D79,Scores!$F$1:$F$253,0)&\"C\"&COLUMN(Scores!K$1),FALSE))","v":""},{"$f":"IF(ISERROR(MATCH('Individual Scores'!$D79,Scores!$F$1:$F$253,0)),\"\",INDIRECT(\"Scores!\"&\"R\"&MATCH('Individual Scores'!$D79,Scores!$F$1:$F$253,0)&\"C\"&COLUMN(Scores!L$1),FALSE))","v":""},{"$f":"IF(ISERROR(MATCH('Individual Scores'!$D79,Scores!$F$1:$F$253,0)),\"\",INDIRECT(\"Scores!\"&\"R\"&MATCH('Individual Scores'!$D79,Scores!$F$1:$F$253,0)&\"C\"&COLUMN(Scores!N$1),FALSE))","v":""},{"$f":"IF(ISERROR(MATCH('Individual Scores'!$D79,Scores!$F$1:$F$253,0)),\"\",INDIRECT(\"Scores!\"&\"R\"&MATCH('Individual Scores'!$D79,Scores!$F$1:$F$253,0)&\"C\"&COLUMN(Scores!O$1),FALSE))","v":""},{"$f":"IF(ISERROR(MATCH('Individual Scores'!$D79,Scores!$F$1:$F$253,0)),\"\",INDIRECT(\"Scores!\"&\"R\"&MATCH('Individual Scores'!$D79,Scores!$F$1:$F$253,0)&\"C\"&COLUMN(Scores!P$1),FALSE))","v":""},{"$f":"IF(ISERROR(MATCH('Individual Scores'!$D79,Scores!$F$1:$F$253,0)),\"\",INDIRECT(\"Scores!\"&\"R\"&MATCH('Individual Scores'!$D79,Scores!$F$1:$F$253,0)&\"C\"&COLUMN(Scores!S$1),FALSE))","v":""},{"$f":"IF(MAX('Individual Scores'!Q79:V79)>0,MAX('Individual Scores'!Q79:V79),\"\")","v":""},{"$f":"IF(MAX(SUM('Individual Scores'!Q79:S79),SUM('Individual Scores'!T79:V79))>0,MAX(SUM('Individual Scores'!Q79:S79),SUM('Individual Scores'!T79:V79)),\"\")","v":""},null,{"$f":"IF('Team Scores'!$Z$1<2,\"\",IF(ISERROR(MATCH('Individual Scores'!$D79,Scores!$F$253:$F$506,0)),\"\",INDIRECT(\"Scores!\"&\"R\"&(ROW(Scores!$253:$253)-1+MATCH('Individual Scores'!$D79,Scores!$F$253:$F$505,0))&\"C\"&COLUMN(Scores!J$1),FALSE)))","v":189},{"$f":"IF('Team Scores'!$Z$1<2,\"\",IF(ISERROR(MATCH('Individual Scores'!$D79,Scores!$F$253:$F$506,0)),\"\",INDIRECT(\"Scores!\"&\"R\"&(ROW(Scores!$253:$253)-1+MATCH('Individual Scores'!$D79,Scores!$F$253:$F$505,0))&\"C\"&COLUMN(Scores!K$1),FALSE)))","v":245},{"$f":"IF('Team Scores'!$Z$1<2,\"\",IF(ISERROR(MATCH('Individual Scores'!$D79,Scores!$F$253:$F$506,0)),\"\",INDIRECT(\"Scores!\"&\"R\"&(ROW(Scores!$253:$253)-1+MATCH('Individual Scores'!$D79,Scores!$F$253:$F$505,0))&\"C\"&COLUMN(Scores!L$1),FALSE)))","v":257},{"$f":"IF('Team Scores'!$Z$1<2,\"\",IF(ISERROR(MATCH('Individual Scores'!$D79,Scores!$F$253:$F$506,0)),\"\",INDIRECT(\"Scores!\"&\"R\"&(ROW(Scores!$253:$253)-1+MATCH('Individual Scores'!$D79,Scores!$F$253:$F$505,0))&\"C\"&COLUMN(Scores!N$1),FALSE)))","v":159},{"$f":"IF('Team Scores'!$Z$1<2,\"\",IF(ISERROR(MATCH('Individual Scores'!$D79,Scores!$F$253:$F$506,0)),\"\",INDIRECT(\"Scores!\"&\"R\"&(ROW(Scores!$253:$253)-1+MATCH('Individual Scores'!$D79,Scores!$F$253:$F$505,0))&\"C\"&COLUMN(Scores!O$1),FALSE)))","v":199},{"$f":"IF('Team Scores'!$Z$1<2,\"\",IF(ISERROR(MATCH('Individual Scores'!$D79,Scores!$F$253:$F$506,0)),\"\",INDIRECT(\"Scores!\"&\"R\"&(ROW(Scores!$253:$253)-1+MATCH('Individual Scores'!$D79,Scores!$F$253:$F$505,0))&\"C\"&COLUMN(Scores!P$1),FALSE)))","v":151},{"$f":"IF('Team Scores'!$Z$1<2,\"\",IF(ISERROR(MATCH('Individual Scores'!$D79,Scores!$F$253:$F$506,0)),\"\",INDIRECT(\"Scores!\"&\"R\"&(ROW(Scores!$253:$253)-1+MATCH('Individual Scores'!$D79,Scores!$F$253:$F$505,0))&\"C\"&COLUMN(Scores!S$1),FALSE)))","v":1200},257,691,null,{"$f":"IF('Team Scores'!$Z$1<3,\"\",IF(ISERROR(MATCH('Individual Scores'!$D79,Scores!$F$506:$F$759,0)),\"\",INDIRECT(\"Scores!\"&\"R\"&(ROW(Scores!$F$506:$F$759)-1+MATCH('Individual Scores'!$D79,Scores!$F$506:$F$759,0))&\"C\"&COLUMN(Scores!J$1),FALSE)))","v":""},{"$f":"IF('Team Scores'!$Z$1<3,\"\",IF(ISERROR(MATCH('Individual Scores'!$D79,Scores!$F$506:$F$759,0)),\"\",INDIRECT(\"Scores!\"&\"R\"&(ROW(Scores!$F$506:$F$759)-1+MATCH('Individual Scores'!$D79,Scores!$F$506:$F$759,0))&\"C\"&COLUMN(Scores!K$1),FALSE)))","v":""},{"$f":"IF('Team Scores'!$Z$1<3,\"\",IF(ISERROR(MATCH('Individual Scores'!$D79,Scores!$F$506:$F$759,0)),\"\",INDIRECT(\"Scores!\"&\"R\"&(ROW(Scores!$F$506:$F$759)-1+MATCH('Individual Scores'!$D79,Scores!$F$506:$F$759,0))&\"C\"&COLUMN(Scores!L$1),FALSE)))","v":""},{"$f":"IF('Team Scores'!$Z$1<3,\"\",IF(ISERROR(MATCH('Individual Scores'!$D79,Scores!$F$506:$F$759,0)),\"\",INDIRECT(\"Scores!\"&\"R\"&(ROW(Scores!$F$506:$F$759)-1+MATCH('Individual Scores'!$D79,Scores!$F$506:$F$759,0))&\"C\"&COLUMN(Scores!N$1),FALSE)))","v":""},{"$f":"IF('Team Scores'!$Z$1<3,\"\",IF(ISERROR(MATCH('Individual Scores'!$D79,Scores!$F$506:$F$759,0)),\"\",INDIRECT(\"Scores!\"&\"R\"&(ROW(Scores!$F$506:$F$759)-1+MATCH('Individual Scores'!$D79,Scores!$F$506:$F$759,0))&\"C\"&COLUMN(Scores!O$1),FALSE)))","v":""},{"$f":"IF('Team Scores'!$Z$1<3,\"\",IF(ISERROR(MATCH('Individual Scores'!$D79,Scores!$F$506:$F$759,0)),\"\",INDIRECT(\"Scores!\"&\"R\"&(ROW(Scores!$F$506:$F$759)-1+MATCH('Individual Scores'!$D79,Scores!$F$506:$F$759,0))&\"C\"&COLUMN(Scores!P$1),FALSE)))","v":""},{"$f":"IF('Team Scores'!$Z$1<3,\"\",IF(ISERROR(MATCH('Individual Scores'!$D79,Scores!$F$506:$F$759,0)),\"\",INDIRECT(\"Scores!\"&\"R\"&(ROW(Scores!$F$506:$F$759)-1+MATCH('Individual Scores'!$D79,Scores!$F$506:$F$759,0))&\"C\"&COLUMN(Scores!S$1),FALSE)))","v":""},"",""]
["NC","15 & <","M",null,"","","",0,{"$f":"IF(COUNT(Q80:V80,AA80:AF80,AK80:AP80)>=18/3*'Team Scores'!$Z$1,IF(H80-VLOOKUP(B80&C80,'Individual Awards Computations'!$AY$54:$AZ$58,2,FALSE)=0,\"Leader \"&C80&\":\"&B80,H80-VLOOKUP(B80&C80,'Individual Awards Computations'!$AY$54:$AZ$58,2,FALSE)),\"\")","v":""},"","","","","",0,null,{"$f":"IF(ISERROR(MATCH('Individual Scores'!$D80,Scores!$F$1:$F$253,0)),\"\",INDIRECT(\"Scores!\"&\"R\"&MATCH('Individual Scores'!$D80,Scores!$F$1:$F$253,0)&\"C\"&COLUMN(Scores!J$1),FALSE))","v":""},{"$f":"IF(ISERROR(MATCH('Individual Scores'!$D80,Scores!$F$1:$F$253,0)),\"\",INDIRECT(\"Scores!\"&\"R\"&MATCH('Individual Scores'!$D80,Scores!$F$1:$F$253,0)&\"C\"&COLUMN(Scores!K$1),FALSE))","v":""},{"$f":"IF(ISERROR(MATCH('Individual Scores'!$D80,Scores!$F$1:$F$253,0)),\"\",INDIRECT(\"Scores!\"&\"R\"&MATCH('Individual Scores'!$D80,Scores!$F$1:$F$253,0)&\"C\"&COLUMN(Scores!L$1),FALSE))","v":""},{"$f":"IF(ISERROR(MATCH('Individual Scores'!$D80,Scores!$F$1:$F$253,0)),\"\",INDIRECT(\"Scores!\"&\"R\"&MATCH('Individual Scores'!$D80,Scores!$F$1:$F$253,0)&\"C\"&COLUMN(Scores!N$1),FALSE))","v":""},{"$f":"IF(ISERROR(MATCH('Individual Scores'!$D80,Scores!$F$1:$F$253,0)),\"\",INDIRECT(\"Scores!\"&\"R\"&MATCH('Individual Scores'!$D80,Scores!$F$1:$F$253,0)&\"C\"&COLUMN(Scores!O$1),FALSE))","v":""},{"$f":"IF(ISERROR(MATCH('Individual Scores'!$D80,Scores!$F$1:$F$253,0)),\"\",INDIRECT(\"Scores!\"&\"R\"&MATCH('Individual Scores'!$D80,Scores!$F$1:$F$253,0)&\"C\"&COLUMN(Scores!P$1),FALSE))","v":""},{"$f":"IF(ISERROR(MATCH('Individual Scores'!$D80,Scores!$F$1:$F$253,0)),\"\",INDIRECT(\"Scores!\"&\"R\"&MATCH('Individual Scores'!$D80,Scores!$F$1:$F$253,0)&\"C\"&COLUMN(Scores!S$1),FALSE))","v":""},{"$f":"IF(MAX('Individual Scores'!Q80:V80)>0,MAX('Individual Scores'!Q80:V80),\"\")","v":""},{"$f":"IF(MAX(SUM('Individual Scores'!Q80:S80),SUM('Individual Scores'!T80:V80))>0,MAX(SUM('Individual Scores'!Q80:S80),SUM('Individual Scores'!T80:V80)),\"\")","v":""},null,{"$f":"IF('Team Scores'!$Z$1<2,\"\",IF(ISERROR(MATCH('Individual Scores'!$D80,Scores!$F$253:$F$506,0)),\"\",INDIRECT(\"Scores!\"&\"R\"&(ROW(Scores!$253:$253)-1+MATCH('Individual Scores'!$D80,Scores!$F$253:$F$505,0))&\"C\"&COLUMN(Scores!J$1),FALSE)))","v":""},{"$f":"IF('Team Scores'!$Z$1<2,\"\",IF(ISERROR(MATCH('Individual Scores'!$D80,Scores!$F$253:$F$506,0)),\"\",INDIRECT(\"Scores!\"&\"R\"&(ROW(Scores!$253:$253)-1+MATCH('Individual Scores'!$D80,Scores!$F$253:$F$505,0))&\"C\"&COLUMN(Scores!K$1),FALSE)))","v":""},{"$f":"IF('Team Scores'!$Z$1<2,\"\",IF(ISERROR(MATCH('Individual Scores'!$D80,Scores!$F$253:$F$506,0)),\"\",INDIRECT(\"Scores!\"&\"R\"&(ROW(Scores!$253:$253)-1+MATCH('Individual Scores'!$D80,Scores!$F$253:$F$505,0))&\"C\"&COLUMN(Scores!L$1),FALSE)))","v":""},{"$f":"IF('Team Scores'!$Z$1<2,\"\",IF(ISERROR(MATCH('Individual Scores'!$D80,Scores!$F$253:$F$506,0)),\"\",INDIRECT(\"Scores!\"&\"R\"&(ROW(Scores!$253:$253)-1+MATCH('Individual Scores'!$D80,Scores!$F$253:$F$505,0))&\"C\"&COLUMN(Scores!N$1),FALSE)))","v":""},{"$f":"IF('Team Scores'!$Z$1<2,\"\",IF(ISERROR(MATCH('Individual Scores'!$D80,Scores!$F$253:$F$506,0)),\"\",INDIRECT(\"Scores!\"&\"R\"&(ROW(Scores!$253:$253)-1+MATCH('Individual Scores'!$D80,Scores!$F$253:$F$505,0))&\"C\"&COLUMN(Scores!O$1),FALSE)))","v":""},{"$f":"IF('Team Scores'!$Z$1<2,\"\",IF(ISERROR(MATCH('Individual Scores'!$D80,Scores!$F$253:$F$506,0)),\"\",INDIRECT(\"Scores!\"&\"R\"&(ROW(Scores!$253:$253)-1+MATCH('Individual Scores'!$D80,Scores!$F$253:$F$505,0))&\"C\"&COLUMN(Scores!P$1),FALSE)))","v":""},{"$f":"IF('Team Scores'!$Z$1<2,\"\",IF(ISERROR(MATCH('Individual Scores'!$D80,Scores!$F$253:$F$506,0)),\"\",INDIRECT(\"Scores!\"&\"R\"&(ROW(Scores!$253:$253)-1+MATCH('Individual Scores'!$D80,Scores!$F$253:$F$505,0))&\"C\"&COLUMN(Scores!S$1),FALSE)))","v":""},"","",null,{"$f":"IF('Team Scores'!$Z$1<3,\"\",IF(ISERROR(MATCH('Individual Scores'!$D80,Scores!$F$506:$F$759,0)),\"\",INDIRECT(\"Scores!\"&\"R\"&(ROW(Scores!$F$506:$F$759)-1+MATCH('Individual Scores'!$D80,Scores!$F$506:$F$759,0))&\"C\"&COLUMN(Scores!J$1),FALSE)))","v":""},{"$f":"IF('Team Scores'!$Z$1<3,\"\",IF(ISERROR(MATCH('Individual Scores'!$D80,Scores!$F$506:$F$759,0)),\"\",INDIRECT(\"Scores!\"&\"R\"&(ROW(Scores!$F$506:$F$759)-1+MATCH('Individual Scores'!$D80,Scores!$F$506:$F$759,0))&\"C\"&COLUMN(Scores!K$1),FALSE)))","v":""},{"$f":"IF('Team Scores'!$Z$1<3,\"\",IF(ISERROR(MATCH('Individual Scores'!$D80,Scores!$F$506:$F$759,0)),\"\",INDIRECT(\"Scores!\"&\"R\"&(ROW(Scores!$F$506:$F$759)-1+MATCH('Individual Scores'!$D80,Scores!$F$506:$F$759,0))&\"C\"&COLUMN(Scores!L$1),FALSE)))","v":""},{"$f":"IF('Team Scores'!$Z$1<3,\"\",IF(ISERROR(MATCH('Individual Scores'!$D80,Scores!$F$506:$F$759,0)),\"\",INDIRECT(\"Scores!\"&\"R\"&(ROW(Scores!$F$506:$F$759)-1+MATCH('Individual Scores'!$D80,Scores!$F$506:$F$759,0))&\"C\"&COLUMN(Scores!N$1),FALSE)))","v":""},{"$f":"IF('Team Scores'!$Z$1<3,\"\",IF(ISERROR(MATCH('Individual Scores'!$D80,Scores!$F$506:$F$759,0)),\"\",INDIRECT(\"Scores!\"&\"R\"&(ROW(Scores!$F$506:$F$759)-1+MATCH('Individual Scores'!$D80,Scores!$F$506:$F$759,0))&\"C\"&COLUMN(Scores!O$1),FALSE)))","v":""},{"$f":"IF('Team Scores'!$Z$1<3,\"\",IF(ISERROR(MATCH('Individual Scores'!$D80,Scores!$F$506:$F$759,0)),\"\",INDIRECT(\"Scores!\"&\"R\"&(ROW(Scores!$F$506:$F$759)-1+MATCH('Individual Scores'!$D80,Scores!$F$506:$F$759,0))&\"C\"&COLUMN(Scores!P$1),FALSE)))","v":""},{"$f":"IF('Team Scores'!$Z$1<3,\"\",IF(ISERROR(MATCH('Individual Scores'!$D80,Scores!$F$506:$F$759,0)),\"\",INDIRECT(\"Scores!\"&\"R\"&(ROW(Scores!$F$506:$F$759)-1+MATCH('Individual Scores'!$D80,Scores!$F$506:$F$759,0))&\"C\"&COLUMN(Scores!S$1),FALSE)))","v":""},"",""]
["NC","16-20","F","Breanna Clemmer",1208,1238,"",2446,{"$f":"IF(COUNT(Q81:V81,AA81:AF81,AK81:AP81)>=18/3*'Team Scores'!$Z$1,IF(H81-VLOOKUP(B81&C81,'Individual Awards Computations'!$AY$54:$AZ$58,2,FALSE)=0,\"Leader \"&C81&\":\"&B81,H81-VLOOKUP(B81&C81,'Individual Awards Computations'!$AY$54:$AZ$58,2,FALSE)),\"\")","v":"Leader F:16-20"},268,666,203.83333333333334,21.805555555555557,"182-226",1,null,{"$f":"IF(ISERROR(MATCH('Individual Scores'!$D81,Scores!$F$1:$F$253,0)),\"\",INDIRECT(\"Scores!\"&\"R\"&MATCH('Individual Scores'!$D81,Scores!$F$1:$F$253,0)&\"C\"&COLUMN(Scores!J$1),FALSE))","v":190},{"$f":"IF(ISERROR(MATCH('Individual Scores'!$D81,Scores!$F$1:$F$253,0)),\"\",INDIRECT(\"Scores!\"&\"R\"&MATCH('Individual Scores'!$D81,Scores!$F$1:$F$253,0)&\"C\"&COLUMN(Scores!K$1),FALSE))","v":188},{"$f":"IF(ISERROR(MATCH('Individual Scores'!$D81,Scores!$F$1:$F$253,0)),\"\",INDIRECT(\"Scores!\"&\"R\"&MATCH('Individual Scores'!$D81,Scores!$F$1:$F$253,0)&\"C\"&COLUMN(Scores!L$1),FALSE))","v":190},{"$f":"IF(ISERROR(MATCH('Individual Scores'!$D81,Scores!$F$1:$F$253,0)),\"\",INDIRECT(\"Scores!\"&\"R\"&MATCH('Individual Scores'!$D81,Scores!$F$1:$F$253,0)&\"C\"&COLUMN(Scores!N$1),FALSE))","v":201},{"$f":"IF(ISERROR(MATCH('Individual Scores'!$D81,Scores!$F$1:$F$253,0)),\"\",INDIRECT(\"Scores!\"&\"R\"&MATCH('Individual Scores'!$D81,Scores!$F$1:$F$253,0)&\"C\"&COLUMN(Scores!O$1),FALSE))","v":171},{"$f":"IF(ISERROR(MATCH('Individual Scores'!$D81,Scores!$F$1:$F$253,0)),\"\",INDIRECT(\"Scores!\"&\"R\"&MATCH('Individual Scores'!$D81,Scores!$F$1:$F$253,0)&\"C\"&COLUMN(Scores!P$1),FALSE))","v":268},{"$f":"IF(ISERROR(MATCH('Individual Scores'!$D81,Scores!$F$1:$F$253,0)),\"\",INDIRECT(\"Scores!\"&\"R\"&MATCH('Individual Scores'!$D81,Scores!$F$1:$F$253,0)&\"C\"&COLUMN(Scores!S$1),FALSE))","v":1208},{"$f":"IF(MAX('Individual Scores'!Q81:V81)>0,MAX('Individual Scores'!Q81:V81),\"\")","v":268},{"$f":"IF(MAX(SUM('Individual Scores'!Q81:S81),SUM('Individual Scores'!T81:V81))>0,MAX(SUM('Individual Scores'!Q81:S81),SUM('Individual Scores'!T81:V81)),\"\")","v":640},null,{"$f":"IF('Team Scores'!$Z$1<2,\"\",IF(ISERROR(MATCH('Individual Scores'!$D81,Scores!$F$253:$F$506,0)),\"\",INDIRECT(\"Scores!\"&\"R\"&(ROW(Scores!$253:$253)-1+MATCH('Individual Scores'!$D81,Scores!$F$253:$F$505,0))&\"C\"&COLUMN(Scores!J$1),FALSE)))","v":217},{"$f":"IF('Team Scores'!$Z$1<2,\"\",IF(ISERROR(MATCH('Individual Scores'!$D81,Scores!$F$253:$F$506,0)),\"\",INDIRECT(\"Scores!\"&\"R\"&(ROW(Scores!$253:$253)-1+MATCH('Individual Scores'!$D81,Scores!$F$253:$F$505,0))&\"C\"&COLUMN(Scores!K$1),FALSE)))","v":225},{"$f":"IF('Team Scores'!$Z$1<2,\"\",IF(ISERROR(MATCH('Individual Scores'!$D81,Scores!$F$253:$F$506,0)),\"\",INDIRECT(\"Scores!\"&\"R\"&(ROW(Scores!$253:$253)-1+MATCH('Individual Scores'!$D81,Scores!$F$253:$F$505,0))&\"C\"&COLUMN(Scores!L$1),FALSE)))","v":224},{"$f":"IF('Team Scores'!$Z$1<2,\"\",IF(ISERROR(MATCH('Individual Scores'!$D81,Scores!$F$253:$F$506,0)),\"\",INDIRECT(\"Scores!\"&\"R\"&(ROW(Scores!$253:$253)-1+MATCH('Individual Scores'!$D81,Scores!$F$253:$F$505,0))&\"C\"&COLUMN(Scores!N$1),FALSE)))","v":178},{"$f":"IF('Team Scores'!$Z$1<2,\"\",IF(ISERROR(MATCH('Individual Scores'!$D81,Scores!$F$253:$F$506,0)),\"\",INDIRECT(\"Scores!\"&\"R\"&(ROW(Scores!$253:$253)-1+MATCH('Individual Scores'!$D81,Scores!$F$253:$F$505,0))&\"C\"&COLUMN(Scores!O$1),FALSE)))","v":178},{"$f":"IF('Team Scores'!$Z$1<2,\"\",IF(ISERROR(MATCH('Individual Scores'!$D81,Scores!$F$253:$F$506,0)),\"\",INDIRECT(\"Scores!\"&\"R\"&(ROW(Scores!$253:$253)-1+MATCH('Individual Scores'!$D81,Scores!$F$253:$F$505,0))&\"C\"&COLUMN(Scores!P$1),FALSE)))","v":216},{"$f":"IF('Team Scores'!$Z$1<2,\"\",IF(ISERROR(MATCH('Individual Scores'!$D81,Scores!$F$253:$F$506,0)),\"\",INDIRECT(\"Scores!\"&\"R\"&(ROW(Scores!$253:$253)-1+MATCH('Individual Scores'!$D81,Scores!$F$253:$F$505,0))&\"C\"&COLUMN(Scores!S$1),FALSE)))","v":1238},225,666,null,{"$f":"IF('Team Scores'!$Z$1<3,\"\",IF(ISERROR(MATCH('Individual Scores'!$D81,Scores!$F$506:$F$759,0)),\"\",INDIRECT(\"Scores!\"&\"R\"&(ROW(Scores!$F$506:$F$759)-1+MATCH('Individual Scores'!$D81,Scores!$F$506:$F$759,0))&\"C\"&COLUMN(Scores!J$1),FALSE)))","v":""},{"$f":"IF('Team Scores'!$Z$1<3,\"\",IF(ISERROR(MATCH('Individual Scores'!$D81,Scores!$F$506:$F$759,0)),\"\",INDIRECT(\"Scores!\"&\"R\"&(ROW(Scores!$F$506:$F$759)-1+MATCH('Individual Scores'!$D81,Scores!$F$506:$F$759,0))&\"C\"&COLUMN(Scores!K$1),FALSE)))","v":""},{"$f":"IF('Team Scores'!$Z$1<3,\"\",IF(ISERROR(MATCH('Individual Scores'!$D81,Scores!$F$506:$F$759,0)),\"\",INDIRECT(\"Scores!\"&\"R\"&(ROW(Scores!$F$506:$F$759)-1+MATCH('Individual Scores'!$D81,Scores!$F$506:$F$759,0))&\"C\"&COLUMN(Scores!L$1),FALSE)))","v":""},{"$f":"IF('Team Scores'!$Z$1<3,\"\",IF(ISERROR(MATCH('Individual Scores'!$D81,Scores!$F$506:$F$759,0)),\"\",INDIRECT(\"Scores!\"&\"R\"&(ROW(Scores!$F$506:$F$759)-1+MATCH('Individual Scores'!$D81,Scores!$F$506:$F$759,0))&\"C\"&COLUMN(Scores!N$1),FALSE)))","v":""},{"$f":"IF('Team Scores'!$Z$1<3,\"\",IF(ISERROR(MATCH('Individual Scores'!$D81,Scores!$F$506:$F$759,0)),\"\",INDIRECT(\"Scores!\"&\"R\"&(ROW(Scores!$F$506:$F$759)-1+MATCH('Individual Scores'!$D81,Scores!$F$506:$F$759,0))&\"C\"&COLUMN(Scores!O$1),FALSE)))","v":""},{"$f":"IF('Team Scores'!$Z$1<3,\"\",IF(ISERROR(MATCH('Individual Scores'!$D81,Scores!$F$506:$F$759,0)),\"\",INDIRECT(\"Scores!\"&\"R\"&(ROW(Scores!$F$506:$F$759)-1+MATCH('Individual Scores'!$D81,Scores!$F$506:$F$759,0))&\"C\"&COLUMN(Scores!P$1),FALSE)))","v":""},{"$f":"IF('Team Scores'!$Z$1<3,\"\",IF(ISERROR(MATCH('Individual Scores'!$D81,Scores!$F$506:$F$759,0)),\"\",INDIRECT(\"Scores!\"&\"R\"&(ROW(Scores!$F$506:$F$759)-1+MATCH('Individual Scores'!$D81,Scores!$F$506:$F$759,0))&\"C\"&COLUMN(Scores!S$1),FALSE)))","v":""},"",""]
["NC","16-20","F","Madysen Keller",1122,1231,"",2353,{"$f":"IF(COUNT(Q82:V82,AA82:AF82,AK82:AP82)>=18/3*'Team Scores'!$Z$1,IF(H82-VLOOKUP(B82&C82,'Individual Awards Computations'!$AY$54:$AZ$58,2,FALSE)=0,\"Leader \"&C82&\":\"&B82,H82-VLOOKUP(B82&C82,'Individual Awards Computations'!$AY$54:$AZ$58,2,FALSE)),\"\")","v":-93},265,678,196.08333333333334,19.083333333333332,"177-215",1,null,{"$f":"IF(ISERROR(MATCH('Individual Scores'!$D82,Scores!$F$1:$F$253,0)),\"\",INDIRECT(\"Scores!\"&\"R\"&MATCH('Individual Scores'!$D82,Scores!$F$1:$F$253,0)&\"C\"&COLUMN(Scores!J$1),FALSE))","v":181},{"$f":"IF(ISERROR(MATCH('Individual Scores'!$D82,Scores!$F$1:$F$253,0)),\"\",INDIRECT(\"Scores!\"&\"R\"&MATCH('Individual Scores'!$D82,Scores!$F$1:$F$253,0)&\"C\"&COLUMN(Scores!K$1),FALSE))","v":189},{"$f":"IF(ISERROR(MATCH('Individual Scores'!$D82,Scores!$F$1:$F$253,0)),\"\",INDIRECT(\"Scores!\"&\"R\"&MATCH('Individual Scores'!$D82,Scores!$F$1:$F$253,0)&\"C\"&COLUMN(Scores!L$1),FALSE))","v":204},{"$f":"IF(ISERROR(MATCH('Individual Scores'!$D82,Scores!$F$1:$F$253,0)),\"\",INDIRECT(\"Scores!\"&\"R\"&MATCH('Individual Scores'!$D82,Scores!$F$1:$F$253,0)&\"C\"&COLUMN(Scores!N$1),FALSE))","v":157},{"$f":"IF(ISERROR(MATCH('Individual Scores'!$D82,Scores!$F$1:$F$253,0)),\"\",INDIRECT(\"Scores!\"&\"R\"&MATCH('Individual Scores'!$D82,Scores!$F$1:$F$253,0)&\"C\"&COLUMN(Scores!O$1),FALSE))","v":203},{"$f":"IF(ISERROR(MATCH('Individual Scores'!$D82,Scores!$F$1:$F$253,0)),\"\",INDIRECT(\"Scores!\"&\"R\"&MATCH('Individual Scores'!$D82,Scores!$F$1:$F$253,0)&\"C\"&COLUMN(Scores!P$1),FALSE))","v":188},{"$f":"IF(ISERROR(MATCH('Individual Scores'!$D82,Scores!$F$1:$F$253,0)),\"\",INDIRECT(\"Scores!\"&\"R\"&MATCH('Individual Scores'!$D82,Scores!$F$1:$F$253,0)&\"C\"&COLUMN(Scores!S$1),FALSE))","v":1122},{"$f":"IF(MAX('Individual Scores'!Q82:V82)>0,MAX('Individual Scores'!Q82:V82),\"\")","v":204},{"$f":"IF(MAX(SUM('Individual Scores'!Q82:S82),SUM('Individual Scores'!T82:V82))>0,MAX(SUM('Individual Scores'!Q82:S82),SUM('Individual Scores'!T82:V82)),\"\")","v":574},null,{"$f":"IF('Team Scores'!$Z$1<2,\"\",IF(ISERROR(MATCH('Individual Scores'!$D82,Scores!$F$253:$F$506,0)),\"\",INDIRECT(\"Scores!\"&\"R\"&(ROW(Scores!$253:$253)-1+MATCH('Individual Scores'!$D82,Scores!$F$253:$F$505,0))&\"C\"&COLUMN(Scores!J$1),FALSE)))","v":198},{"$f":"IF('Team Scores'!$Z$1<2,\"\",IF(ISERROR(MATCH('Individual Scores'!$D82,Scores!$F$253:$F$506,0)),\"\",INDIRECT(\"Scores!\"&\"R\"&(ROW(Scores!$253:$253)-1+MATCH('Individual Scores'!$D82,Scores!$F$253:$F$505,0))&\"C\"&COLUMN(Scores!K$1),FALSE)))","v":215},{"$f":"IF('Team Scores'!$Z$1<2,\"\",IF(ISERROR(MATCH('Individual Scores'!$D82,Scores!$F$253:$F$506,0)),\"\",INDIRECT(\"Scores!\"&\"R\"&(ROW(Scores!$253:$253)-1+MATCH('Individual Scores'!$D82,Scores!$F$253:$F$505,0))&\"C\"&COLUMN(Scores!L$1),FALSE)))","v":265},{"$f":"IF('Team Scores'!$Z$1<2,\"\",IF(ISERROR(MATCH('Individual Scores'!$D82,Scores!$F$253:$F$506,0)),\"\",INDIRECT(\"Scores!\"&\"R\"&(ROW(Scores!$253:$253)-1+MATCH('Individual Scores'!$D82,Scores!$F$253:$F$505,0))&\"C\"&COLUMN(Scores!N$1),FALSE)))","v":206},{"$f":"IF('Team Scores'!$Z$1<2,\"\",IF(ISERROR(MATCH('Individual Scores'!$D82,Scores!$F$253:$F$506,0)),\"\",INDIRECT(\"Scores!\"&\"R\"&(ROW(Scores!$253:$253)-1+MATCH('Individual Scores'!$D82,Scores!$F$253:$F$505,0))&\"C\"&COLUMN(Scores!O$1),FALSE)))","v":185},{"$f":"IF('Team Scores'!$Z$1<2,\"\",IF(ISERROR(MATCH('Individual Scores'!$D82,Scores!$F$253:$F$506,0)),\"\",INDIRECT(\"Scores!\"&\"R\"&(ROW(Scores!$253:$253)-1+MATCH('Individual Scores'!$D82,Scores!$F$253:$F$505,0))&\"C\"&COLUMN(Scores!P$1),FALSE)))","v":162},{"$f":"IF('Team Scores'!$Z$1<2,\"\",IF(ISERROR(MATCH('Individual Scores'!$D82,Scores!$F$253:$F$506,0)),\"\",INDIRECT(\"Scores!\"&\"R\"&(ROW(Scores!$253:$253)-1+MATCH('Individual Scores'!$D82,Scores!$F$253:$F$505,0))&\"C\"&COLUMN(Scores!S$1),FALSE)))","v":1231},265,678,null,{"$f":"IF('Team Scores'!$Z$1<3,\"\",IF(ISERROR(MATCH('Individual Scores'!$D82,Scores!$F$506:$F$759,0)),\"\",INDIRECT(\"Scores!\"&\"R\"&(ROW(Scores!$F$506:$F$759)-1+MATCH('Individual Scores'!$D82,Scores!$F$506:$F$759,0))&\"C\"&COLUMN(Scores!J$1),FALSE)))","v":""},{"$f":"IF('Team Scores'!$Z$1<3,\"\",IF(ISERROR(MATCH('Individual Scores'!$D82,Scores!$F$506:$F$759,0)),\"\",INDIRECT(\"Scores!\"&\"R\"&(ROW(Scores!$F$506:$F$759)-1+MATCH('Individual Scores'!$D82,Scores!$F$506:$F$759,0))&\"C\"&COLUMN(Scores!K$1),FALSE)))","v":""},{"$f":"IF('Team Scores'!$Z$1<3,\"\",IF(ISERROR(MATCH('Individual Scores'!$D82,Scores!$F$506:$F$759,0)),\"\",INDIRECT(\"Scores!\"&\"R\"&(ROW(Scores!$F$506:$F$759)-1+MATCH('Individual Scores'!$D82,Scores!$F$506:$F$759,0))&\"C\"&COLUMN(Scores!L$1),FALSE)))","v":""},{"$f":"IF('Team Scores'!$Z$1<3,\"\",IF(ISERROR(MATCH('Individual Scores'!$D82,Scores!$F$506:$F$759,0)),\"\",INDIRECT(\"Scores!\"&\"R\"&(ROW(Scores!$F$506:$F$759)-1+MATCH('Individual Scores'!$D82,Scores!$F$506:$F$759,0))&\"C\"&COLUMN(Scores!N$1),FALSE)))","v":""},{"$f":"IF('Team Scores'!$Z$1<3,\"\",IF(ISERROR(MATCH('Individual Scores'!$D82,Scores!$F$506:$F$759,0)),\"\",INDIRECT(\"Scores!\"&\"R\"&(ROW(Scores!$F$506:$F$759)-1+MATCH('Individual Scores'!$D82,Scores!$F$506:$F$759,0))&\"C\"&COLUMN(Scores!O$1),FALSE)))","v":""},{"$f":"IF('Team Scores'!$Z$1<3,\"\",IF(ISERROR(MATCH('Individual Scores'!$D82,Scores!$F$506:$F$759,0)),\"\",INDIRECT(\"Scores!\"&\"R\"&(ROW(Scores!$F$506:$F$759)-1+MATCH('Individual Scores'!$D82,Scores!$F$506:$F$759,0))&\"C\"&COLUMN(Scores!P$1),FALSE)))","v":""},{"$f":"IF('Team Scores'!$Z$1<3,\"\",IF(ISERROR(MATCH('Individual Scores'!$D82,Scores!$F$506:$F$759,0)),\"\",INDIRECT(\"Scores!\"&\"R\"&(ROW(Scores!$F$506:$F$759)-1+MATCH('Individual Scores'!$D82,Scores!$F$506:$F$759,0))&\"C\"&COLUMN(Scores!S$1),FALSE)))","v":""},"",""]
["NC","16-20","F","Ashton Harnage",1119,"","",1119,{"$f":"IF(COUNT(Q83:V83,AA83:AF83,AK83:AP83)>=18/3*'Team Scores'!$Z$1,IF(H83-VLOOKUP(B83&C83,'Individual Awards Computations'!$AY$54:$AZ$58,2,FALSE)=0,\"Leader \"&C83&\":\"&B83,H83-VLOOKUP(B83&C83,'Individual Awards Computations'!$AY$54:$AZ$58,2,FALSE)),\"\")","v":""},218,589,186.5,19.666666666666668,"167-206",1,null,{"$f":"IF(ISERROR(MATCH('Individual Scores'!$D83,Scores!$F$1:$F$253,0)),\"\",INDIRECT(\"Scores!\"&\"R\"&MATCH('Individual Scores'!$D83,Scores!$F$1:$F$253,0)&\"C\"&COLUMN(Scores!J$1),FALSE))","v":214},{"$f":"IF(ISERROR(MATCH('Individual Scores'!$D83,Scores!$F$1:$F$253,0)),\"\",INDIRECT(\"Scores!\"&\"R\"&MATCH('Individual Scores'!$D83,Scores!$F$1:$F$253,0)&\"C\"&COLUMN(Scores!K$1),FALSE))","v":168},{"$f":"IF(ISERROR(MATCH('Individual Scores'!$D83,Scores!$F$1:$F$253,0)),\"\",INDIRECT(\"Scores!\"&\"R\"&MATCH('Individual Scores'!$D83,Scores!$F$1:$F$253,0)&\"C\"&COLUMN(Scores!L$1),FALSE))","v":148},{"$f":"IF(ISERROR(MATCH('Individual Scores'!$D83,Scores!$F$1:$F$253,0)),\"\",INDIRECT(\"Scores!\"&\"R\"&MATCH('Individual Scores'!$D83,Scores!$F$1:$F$253,0)&\"C\"&COLUMN(Scores!N$1),FALSE))","v":218},{"$f":"IF(ISERROR(MATCH('Individual Scores'!$D83,Scores!$F$1:$F$253,0)),\"\",INDIRECT(\"Scores!\"&\"R\"&MATCH('Individual Scores'!$D83,Scores!$F$1:$F$253,0)&\"C\"&COLUMN(Scores!O$1),FALSE))","v":186},{"$f":"IF(ISERROR(MATCH('Individual Scores'!$D83,Scores!$F$1:$F$253,0)),\"\",INDIRECT(\"Scores!\"&\"R\"&MATCH('Individual Scores'!$D83,Scores!$F$1:$F$253,0)&\"C\"&COLUMN(Scores!P$1),FALSE))","v":185},{"$f":"IF(ISERROR(MATCH('Individual Scores'!$D83,Scores!$F$1:$F$253,0)),\"\",INDIRECT(\"Scores!\"&\"R\"&MATCH('Individual Scores'!$D83,Scores!$F$1:$F$253,0)&\"C\"&COLUMN(Scores!S$1),FALSE))","v":1119},{"$f":"IF(MAX('Individual Scores'!Q83:V83)>0,MAX('Individual Scores'!Q83:V83),\"\")","v":218},{"$f":"IF(MAX(SUM('Individual Scores'!Q83:S83),SUM('Individual Scores'!T83:V83))>0,MAX(SUM('Individual Scores'!Q83:S83),SUM('Individual Scores'!T83:V83)),\"\")","v":589},null,{"$f":"IF('Team Scores'!$Z$1<2,\"\",IF(ISERROR(MATCH('Individual Scores'!$D83,Scores!$F$253:$F$506,0)),\"\",INDIRECT(\"Scores!\"&\"R\"&(ROW(Scores!$253:$253)-1+MATCH('Individual Scores'!$D83,Scores!$F$253:$F$505,0))&\"C\"&COLUMN(Scores!J$1),FALSE)))","v":""},{"$f":"IF('Team Scores'!$Z$1<2,\"\",IF(ISERROR(MATCH('Individual Scores'!$D83,Scores!$F$253:$F$506,0)),\"\",INDIRECT(\"Scores!\"&\"R\"&(ROW(Scores!$253:$253)-1+MATCH('Individual Scores'!$D83,Scores!$F$253:$F$505,0))&\"C\"&COLUMN(Scores!K$1),FALSE)))","v":""},{"$f":"IF('Team Scores'!$Z$1<2,\"\",IF(ISERROR(MATCH('Individual Scores'!$D83,Scores!$F$253:$F$506,0)),\"\",INDIRECT(\"Scores!\"&\"R\"&(ROW(Scores!$253:$253)-1+MATCH('Individual Scores'!$D83,Scores!$F$253:$F$505,0))&\"C\"&COLUMN(Scores!L$1),FALSE)))","v":""},{"$f":"IF('Team Scores'!$Z$1<2,\"\",IF(ISERROR(MATCH('Individual Scores'!$D83,Scores!$F$253:$F$506,0)),\"\",INDIRECT(\"Scores!\"&\"R\"&(ROW(Scores!$253:$253)-1+MATCH('Individual Scores'!$D83,Scores!$F$253:$F$505,0))&\"C\"&COLUMN(Scores!N$1),FALSE)))","v":""},{"$f":"IF('Team Scores'!$Z$1<2,\"\",IF(ISERROR(MATCH('Individual Scores'!$D83,Scores!$F$253:$F$506,0)),\"\",INDIRECT(\"Scores!\"&\"R\"&(ROW(Scores!$253:$253)-1+MATCH('Individual Scores'!$D83,Scores!$F$253:$F$505,0))&\"C\"&COLUMN(Scores!O$1),FALSE)))","v":""},{"$f":"IF('Team Scores'!$Z$1<2,\"\",IF(ISERROR(MATCH('Individual Scores'!$D83,Scores!$F$253:$F$506,0)),\"\",INDIRECT(\"Scores!\"&\"R\"&(ROW(Scores!$253:$253)-1+MATCH('Individual Scores'!$D83,Scores!$F$253:$F$505,0))&\"C\"&COLUMN(Scores!P$1),FALSE)))","v":""},{"$f":"IF('Team Scores'!$Z$1<2,\"\",IF(ISERROR(MATCH('Individual Scores'!$D83,Scores!$F$253:$F$506,0)),\"\",INDIRECT(\"Scores!\"&\"R\"&(ROW(Scores!$253:$253)-1+MATCH('Individual Scores'!$D83,Scores!$F$253:$F$505,0))&\"C\"&COLUMN(Scores!S$1),FALSE)))","v":""},"","",null,{"$f":"IF('Team Scores'!$Z$1<3,\"\",IF(ISERROR(MATCH('Individual Scores'!$D83,Scores!$F$506:$F$759,0)),\"\",INDIRECT(\"Scores!\"&\"R\"&(ROW(Scores!$F$506:$F$759)-1+MATCH('Individual Scores'!$D83,Scores!$F$506:$F$759,0))&\"C\"&COLUMN(Scores!J$1),FALSE)))","v":""},{"$f":"IF('Team Scores'!$Z$1<3,\"\",IF(ISERROR(MATCH('Individual Scores'!$D83,Scores!$F$506:$F$759,0)),\"\",INDIRECT(\"Scores!\"&\"R\"&(ROW(Scores!$F$506:$F$759)-1+MATCH('Individual Scores'!$D83,Scores!$F$506:$F$759,0))&\"C\"&COLUMN(Scores!K$1),FALSE)))","v":""},{"$f":"IF('Team Scores'!$Z$1<3,\"\",IF(ISERROR(MATCH('Individual Scores'!$D83,Scores!$F$506:$F$759,0)),\"\",INDIRECT(\"Scores!\"&\"R\"&(ROW(Scores!$F$506:$F$759)-1+MATCH('Individual Scores'!$D83,Scores!$F$506:$F$759,0))&\"C\"&COLUMN(Scores!L$1),FALSE)))","v":""},{"$f":"IF('Team Scores'!$Z$1<3,\"\",IF(ISERROR(MATCH('Individual Scores'!$D83,Scores!$F$506:$F$759,0)),\"\",INDIRECT(\"Scores!\"&\"R\"&(ROW(Scores!$F$506:$F$759)-1+MATCH('Individual Scores'!$D83,Scores!$F$506:$F$759,0))&\"C\"&COLUMN(Scores!N$1),FALSE)))","v":""},{"$f":"IF('Team Scores'!$Z$1<3,\"\",IF(ISERROR(MATCH('Individual Scores'!$D83,Scores!$F$506:$F$759,0)),\"\",INDIRECT(\"Scores!\"&\"R\"&(ROW(Scores!$F$506:$F$759)-1+MATCH('Individual Scores'!$D83,Scores!$F$506:$F$759,0))&\"C\"&COLUMN(Scores!O$1),FALSE)))","v":""},{"$f":"IF('Team Scores'!$Z$1<3,\"\",IF(ISERROR(MATCH('Individual Scores'!$D83,Scores!$F$506:$F$759,0)),\"\",INDIRECT(\"Scores!\"&\"R\"&(ROW(Scores!$F$506:$F$759)-1+MATCH('Individual Scores'!$D83,Scores!$F$506:$F$759,0))&\"C\"&COLUMN(Scores!P$1),FALSE)))","v":""},{"$f":"IF('Team Scores'!$Z$1<3,\"\",IF(ISERROR(MATCH('Individual Scores'!$D83,Scores!$F$506:$F$759,0)),\"\",INDIRECT(\"Scores!\"&\"R\"&(ROW(Scores!$F$506:$F$759)-1+MATCH('Individual Scores'!$D83,Scores!$F$506:$F$759,0))&\"C\"&COLUMN(Scores!S$1),FALSE)))","v":""},"",""]
["NC","16-20","F","Sydney Johnson",1113,942,"",2055,{"$f":"IF(COUNT(Q84:V84,AA84:AF84,AK84:AP84)>=18/3*'Team Scores'!$Z$1,IF(H84-VLOOKUP(B84&C84,'Individual Awards Computations'!$AY$54:$AZ$58,2,FALSE)=0,\"Leader \"&C84&\":\"&B84,H84-VLOOKUP(B84&C84,'Individual Awards Computations'!$AY$54:$AZ$58,2,FALSE)),\"\")","v":-391},206,589,171.25,20.458333333333332,"151-192",1,null,{"$f":"IF(ISERROR(MATCH('Individual Scores'!$D84,Scores!$F$1:$F$253,0)),\"\",INDIRECT(\"Scores!\"&\"R\"&MATCH('Individual Scores'!$D84,Scores!$F$1:$F$253,0)&\"C\"&COLUMN(Scores!J$1),FALSE))","v":158},{"$f":"IF(ISERROR(MATCH('Individual Scores'!$D84,Scores!$F$1:$F$253,0)),\"\",INDIRECT(\"Scores!\"&\"R\"&MATCH('Individual Scores'!$D84,Scores!$F$1:$F$253,0)&\"C\"&COLUMN(Scores!K$1),FALSE))","v":166},{"$f":"IF(ISERROR(MATCH('Individual Scores'!$D84,Scores!$F$1:$F$253,0)),\"\",INDIRECT(\"Scores!\"&\"R\"&MATCH('Individual Scores'!$D84,Scores!$F$1:$F$253,0)&\"C\"&COLUMN(Scores!L$1),FALSE))","v":200},{"$f":"IF(ISERROR(MATCH('Individual Scores'!$D84,Scores!$F$1:$F$253,0)),\"\",INDIRECT(\"Scores!\"&\"R\"&MATCH('Individual Scores'!$D84,Scores!$F$1:$F$253,0)&\"C\"&COLUMN(Scores!N$1),FALSE))","v":182},{"$f":"IF(ISERROR(MATCH('Individual Scores'!$D84,Scores!$F$1:$F$253,0)),\"\",INDIRECT(\"Scores!\"&\"R\"&MATCH('Individual Scores'!$D84,Scores!$F$1:$F$253,0)&\"C\"&COLUMN(Scores!O$1),FALSE))","v":206},{"$f":"IF(ISERROR(MATCH('Individual Scores'!$D84,Scores!$F$1:$F$253,0)),\"\",INDIRECT(\"Scores!\"&\"R\"&MATCH('Individual Scores'!$D84,Scores!$F$1:$F$253,0)&\"C\"&COLUMN(Scores!P$1),FALSE))","v":201},{"$f":"IF(ISERROR(MATCH('Individual Scores'!$D84,Scores!$F$1:$F$253,0)),\"\",INDIRECT(\"Scores!\"&\"R\"&MATCH('Individual Scores'!$D84,Scores!$F$1:$F$253,0)&\"C\"&COLUMN(Scores!S$1),FALSE))","v":1113},{"$f":"IF(MAX('Individual Scores'!Q84:V84)>0,MAX('Individual Scores'!Q84:V84),\"\")","v":206},{"$f":"IF(MAX(SUM('Individual Scores'!Q84:S84),SUM('Individual Scores'!T84:V84))>0,MAX(SUM('Individual Scores'!Q84:S84),SUM('Individual Scores'!T84:V84)),\"\")","v":589},null,{"$f":"IF('Team Scores'!$Z$1<2,\"\",IF(ISERROR(MATCH('Individual Scores'!$D84,Scores!$F$253:$F$506,0)),\"\",INDIRECT(\"Scores!\"&\"R\"&(ROW(Scores!$253:$253)-1+MATCH('Individual Scores'!$D84,Scores!$F$253:$F$505,0))&\"C\"&COLUMN(Scores!J$1),FALSE)))","v":170},{"$f":"IF('Team Scores'!$Z$1<2,\"\",IF(ISERROR(MATCH('Individual Scores'!$D84,Scores!$F$253:$F$506,0)),\"\",INDIRECT(\"Scores!\"&\"R\"&(ROW(Scores!$253:$253)-1+MATCH('Individual Scores'!$D84,Scores!$F$253:$F$505,0))&\"C\"&COLUMN(Scores!K$1),FALSE)))","v":158},{"$f":"IF('Team Scores'!$Z$1<2,\"\",IF(ISERROR(MATCH('Individual Scores'!$D84,Scores!$F$253:$F$506,0)),\"\",INDIRECT(\"Scores!\"&\"R\"&(ROW(Scores!$253:$253)-1+MATCH('Individual Scores'!$D84,Scores!$F$253:$F$505,0))&\"C\"&COLUMN(Scores!L$1),FALSE)))","v":190},{"$f":"IF('Team Scores'!$Z$1<2,\"\",IF(ISERROR(MATCH('Individual Scores'!$D84,Scores!$F$253:$F$506,0)),\"\",INDIRECT(\"Scores!\"&\"R\"&(ROW(Scores!$253:$253)-1+MATCH('Individual Scores'!$D84,Scores!$F$253:$F$505,0))&\"C\"&COLUMN(Scores!N$1),FALSE)))","v":127},{"$f":"IF('Team Scores'!$Z$1<2,\"\",IF(ISERROR(MATCH('Individual Scores'!$D84,Scores!$F$253:$F$506,0)),\"\",INDIRECT(\"Scores!\"&\"R\"&(ROW(Scores!$253:$253)-1+MATCH('Individual Scores'!$D84,Scores!$F$253:$F$505,0))&\"C\"&COLUMN(Scores!O$1),FALSE)))","v":142},{"$f":"IF('Team Scores'!$Z$1<2,\"\",IF(ISERROR(MATCH('Individual Scores'!$D84,Scores!$F$253:$F$506,0)),\"\",INDIRECT(\"Scores!\"&\"R\"&(ROW(Scores!$253:$253)-1+MATCH('Individual Scores'!$D84,Scores!$F$253:$F$505,0))&\"C\"&COLUMN(Scores!P$1),FALSE)))","v":155},{"$f":"IF('Team Scores'!$Z$1<2,\"\",IF(ISERROR(MATCH('Individual Scores'!$D84,Scores!$F$253:$F$506,0)),\"\",INDIRECT(\"Scores!\"&\"R\"&(ROW(Scores!$253:$253)-1+MATCH('Individual Scores'!$D84,Scores!$F$253:$F$505,0))&\"C\"&COLUMN(Scores!S$1),FALSE)))","v":942},190,518,null,{"$f":"IF('Team Scores'!$Z$1<3,\"\",IF(ISERROR(MATCH('Individual Scores'!$D84,Scores!$F$506:$F$759,0)),\"\",INDIRECT(\"Scores!\"&\"R\"&(ROW(Scores!$F$506:$F$759)-1+MATCH('Individual Scores'!$D84,Scores!$F$506:$F$759,0))&\"C\"&COLUMN(Scores!J$1),FALSE)))","v":""},{"$f":"IF('Team Scores'!$Z$1<3,\"\",IF(ISERROR(MATCH('Individual Scores'!$D84,Scores!$F$506:$F$759,0)),\"\",INDIRECT(\"Scores!\"&\"R\"&(ROW(Scores!$F$506:$F$759)-1+MATCH('Individual Scores'!$D84,Scores!$F$506:$F$759,0))&\"C\"&COLUMN(Scores!K$1),FALSE)))","v":""},{"$f":"IF('Team Scores'!$Z$1<3,\"\",IF(ISERROR(MATCH('Individual Scores'!$D84,Scores!$F$506:$F$759,0)),\"\",INDIRECT(\"Scores!\"&\"R\"&(ROW(Scores!$F$506:$F$759)-1+MATCH('Individual Scores'!$D84,Scores!$F$506:$F$759,0))&\"C\"&COLUMN(Scores!L$1),FALSE)))","v":""},{"$f":"IF('Team Scores'!$Z$1<3,\"\",IF(ISERROR(MATCH('Individual Scores'!$D84,Scores!$F$506:$F$759,0)),\"\",INDIRECT(\"Scores!\"&\"R\"&(ROW(Scores!$F$506:$F$759)-1+MATCH('Individual Scores'!$D84,Scores!$F$506:$F$759,0))&\"C\"&COLUMN(Scores!N$1),FALSE)))","v":""},{"$f":"IF('Team Scores'!$Z$1<3,\"\",IF(ISERROR(MATCH('Individual Scores'!$D84,Scores!$F$506:$F$759,0)),\"\",INDIRECT(\"Scores!\"&\"R\"&(ROW(Scores!$F$506:$F$759)-1+MATCH('Individual Scores'!$D84,Scores!$F$506:$F$759,0))&\"C\"&COLUMN(Scores!O$1),FALSE)))","v":""},{"$f":"IF('Team Scores'!$Z$1<3,\"\",IF(ISERROR(MATCH('Individual Scores'!$D84,Scores!$F$506:$F$759,0)),\"\",INDIRECT(\"Scores!\"&\"R\"&(ROW(Scores!$F$506:$F$759)-1+MATCH('Individual Scores'!$D84,Scores!$F$506:$F$759,0))&\"C\"&COLUMN(Scores!P$1),FALSE)))","v":""},{"$f":"IF('Team Scores'!$Z$1<3,\"\",IF(ISERROR(MATCH('Individual Scores'!$D84,Scores!$F$506:$F$759,0)),\"\",INDIRECT(\"Scores!\"&\"R\"&(ROW(Scores!$F$506:$F$759)-1+MATCH('Individual Scores'!$D84,Scores!$F$506:$F$759,0))&\"C\"&COLUMN(Scores!S$1),FALSE)))","v":""},"",""]
["NC","16-20","F","Brandi Barefoot",995,961,"",1956,{"$f":"IF(COUNT(Q85:V85,AA85:AF85,AK85:AP85)>=18/3*'Team Scores'!$Z$1,IF(H85-VLOOKUP(B85&C85,'Individual Awards Computations'!$AY$54:$AZ$58,2,FALSE)=0,\"Leader \"&C85&\":\"&B85,H85-VLOOKUP(B85&C85,'Individual Awards Computations'!$AY$54:$AZ$58,2,FALSE)),\"\")","v":-490},233,618,163,30.333333333333332,"133-193",1,null,{"$f":"IF(ISERROR(MATCH('Individual Scores'!$D85,Scores!$F$1:$F$253,0)),\"\",INDIRECT(\"Scores!\"&\"R\"&MATCH('Individual Scores'!$D85,Scores!$F$1:$F$253,0)&\"C\"&COLUMN(Scores!J$1),FALSE))","v":142},{"$f":"IF(ISERROR(MATCH('Individual Scores'!$D85,Scores!$F$1:$F$253,0)),\"\",INDIRECT(\"Scores!\"&\"R\"&MATCH('Individual Scores'!$D85,Scores!$F$1:$F$253,0)&\"C\"&COLUMN(Scores!K$1),FALSE))","v":105},{"$f":"IF(ISERROR(MATCH('Individual Scores'!$D85,Scores!$F$1:$F$253,0)),\"\",INDIRECT(\"Scores!\"&\"R\"&MATCH('Individual Scores'!$D85,Scores!$F$1:$F$253,0)&\"C\"&COLUMN(Scores!L$1),FALSE))","v":130},{"$f":"IF(ISERROR(MATCH('Individual Scores'!$D85,Scores!$F$1:$F$253,0)),\"\",INDIRECT(\"Scores!\"&\"R\"&MATCH('Individual Scores'!$D85,Scores!$F$1:$F$253,0)&\"C\"&COLUMN(Scores!N$1),FALSE))","v":233},{"$f":"IF(ISERROR(MATCH('Individual Scores'!$D85,Scores!$F$1:$F$253,0)),\"\",INDIRECT(\"Scores!\"&\"R\"&MATCH('Individual Scores'!$D85,Scores!$F$1:$F$253,0)&\"C\"&COLUMN(Scores!O$1),FALSE))","v":182},{"$f":"IF(ISERROR(MATCH('Individual Scores'!$D85,Scores!$F$1:$F$253,0)),\"\",INDIRECT(\"Scores!\"&\"R\"&MATCH('Individual Scores'!$D85,Scores!$F$1:$F$253,0)&\"C\"&COLUMN(Scores!P$1),FALSE))","v":203},{"$f":"IF(ISERROR(MATCH('Individual Scores'!$D85,Scores!$F$1:$F$253,0)),\"\",INDIRECT(\"Scores!\"&\"R\"&MATCH('Individual Scores'!$D85,Scores!$F$1:$F$253,0)&\"C\"&COLUMN(Scores!S$1),FALSE))","v":995},{"$f":"IF(MAX('Individual Scores'!Q85:V85)>0,MAX('Individual Scores'!Q85:V85),\"\")","v":233},{"$f":"IF(MAX(SUM('Individual Scores'!Q85:S85),SUM('Individual Scores'!T85:V85))>0,MAX(SUM('Individual Scores'!Q85:S85),SUM('Individual Scores'!T85:V85)),\"\")","v":618},null,{"$f":"IF('Team Scores'!$Z$1<2,\"\",IF(ISERROR(MATCH('Individual Scores'!$D85,Scores!$F$253:$F$506,0)),\"\",INDIRECT(\"Scores!\"&\"R\"&(ROW(Scores!$253:$253)-1+MATCH('Individual Scores'!$D85,Scores!$F$253:$F$505,0))&\"C\"&COLUMN(Scores!J$1),FALSE)))","v":184},{"$f":"IF('Team Scores'!$Z$1<2,\"\",IF(ISERROR(MATCH('Individual Scores'!$D85,Scores!$F$253:$F$506,0)),\"\",INDIRECT(\"Scores!\"&\"R\"&(ROW(Scores!$253:$253)-1+MATCH('Individual Scores'!$D85,Scores!$F$253:$F$505,0))&\"C\"&COLUMN(Scores!K$1),FALSE)))","v":162},{"$f":"IF('Team Scores'!$Z$1<2,\"\",IF(ISERROR(MATCH('Individual Scores'!$D85,Scores!$F$253:$F$506,0)),\"\",INDIRECT(\"Scores!\"&\"R\"&(ROW(Scores!$253:$253)-1+MATCH('Individual Scores'!$D85,Scores!$F$253:$F$505,0))&\"C\"&COLUMN(Scores!L$1),FALSE)))","v":195},{"$f":"IF('Team Scores'!$Z$1<2,\"\",IF(ISERROR(MATCH('Individual Scores'!$D85,Scores!$F$253:$F$506,0)),\"\",INDIRECT(\"Scores!\"&\"R\"&(ROW(Scores!$253:$253)-1+MATCH('Individual Scores'!$D85,Scores!$F$253:$F$505,0))&\"C\"&COLUMN(Scores!N$1),FALSE)))","v":137},{"$f":"IF('Team Scores'!$Z$1<2,\"\",IF(ISERROR(MATCH('Individual Scores'!$D85,Scores!$F$253:$F$506,0)),\"\",INDIRECT(\"Scores!\"&\"R\"&(ROW(Scores!$253:$253)-1+MATCH('Individual Scores'!$D85,Scores!$F$253:$F$505,0))&\"C\"&COLUMN(Scores!O$1),FALSE)))","v":146},{"$f":"IF('Team Scores'!$Z$1<2,\"\",IF(ISERROR(MATCH('Individual Scores'!$D85,Scores!$F$253:$F$506,0)),\"\",INDIRECT(\"Scores!\"&\"R\"&(ROW(Scores!$253:$253)-1+MATCH('Individual Scores'!$D85,Scores!$F$253:$F$505,0))&\"C\"&COLUMN(Scores!P$1),FALSE)))","v":137},{"$f":"IF('Team Scores'!$Z$1<2,\"\",IF(ISERROR(MATCH('Individual Scores'!$D85,Scores!$F$253:$F$506,0)),\"\",INDIRECT(\"Scores!\"&\"R\"&(ROW(Scores!$253:$253)-1+MATCH('Individual Scores'!$D85,Scores!$F$253:$F$505,0))&\"C\"&COLUMN(Scores!S$1),FALSE)))","v":961},195,541,null,{"$f":"IF('Team Scores'!$Z$1<3,\"\",IF(ISERROR(MATCH('Individual Scores'!$D85,Scores!$F$506:$F$759,0)),\"\",INDIRECT(\"Scores!\"&\"R\"&(ROW(Scores!$F$506:$F$759)-1+MATCH('Individual Scores'!$D85,Scores!$F$506:$F$759,0))&\"C\"&COLUMN(Scores!J$1),FALSE)))","v":""},{"$f":"IF('Team Scores'!$Z$1<3,\"\",IF(ISERROR(MATCH('Individual Scores'!$D85,Scores!$F$506:$F$759,0)),\"\",INDIRECT(\"Scores!\"&\"R\"&(ROW(Scores!$F$506:$F$759)-1+MATCH('Individual Scores'!$D85,Scores!$F$506:$F$759,0))&\"C\"&COLUMN(Scores!K$1),FALSE)))","v":""},{"$f":"IF('Team Scores'!$Z$1<3,\"\",IF(ISERROR(MATCH('Individual Scores'!$D85,Scores!$F$506:$F$759,0)),\"\",INDIRECT(\"Scores!\"&\"R\"&(ROW(Scores!$F$506:$F$759)-1+MATCH('Individual Scores'!$D85,Scores!$F$506:$F$759,0))&\"C\"&COLUMN(Scores!L$1),FALSE)))","v":""},{"$f":"IF('Team Scores'!$Z$1<3,\"\",IF(ISERROR(MATCH('Individual Scores'!$D85,Scores!$F$506:$F$759,0)),\"\",INDIRECT(\"Scores!\"&\"R\"&(ROW(Scores!$F$506:$F$759)-1+MATCH('Individual Scores'!$D85,Scores!$F$506:$F$759,0))&\"C\"&COLUMN(Scores!N$1),FALSE)))","v":""},{"$f":"IF('Team Scores'!$Z$1<3,\"\",IF(ISERROR(MATCH('Individual Scores'!$D85,Scores!$F$506:$F$759,0)),\"\",INDIRECT(\"Scores!\"&\"R\"&(ROW(Scores!$F$506:$F$759)-1+MATCH('Individual Scores'!$D85,Scores!$F$506:$F$759,0))&\"C\"&COLUMN(Scores!O$1),FALSE)))","v":""},{"$f":"IF('Team Scores'!$Z$1<3,\"\",IF(ISERROR(MATCH('Individual Scores'!$D85,Scores!$F$506:$F$759,0)),\"\",INDIRECT(\"Scores!\"&\"R\"&(ROW(Scores!$F$506:$F$759)-1+MATCH('Individual Scores'!$D85,Scores!$F$506:$F$759,0))&\"C\"&COLUMN(Scores!P$1),FALSE)))","v":""},{"$f":"IF('Team Scores'!$Z$1<3,\"\",IF(ISERROR(MATCH('Individual Scores'!$D85,Scores!$F$506:$F$759,0)),\"\",INDIRECT(\"Scores!\"&\"R\"&(ROW(Scores!$F$506:$F$759)-1+MATCH('Individual Scores'!$D85,Scores!$F$506:$F$759,0))&\"C\"&COLUMN(Scores!S$1),FALSE)))","v":""},"",""]
["NC","16-20","F","Rachel Parsons",826,1175,"",2001,{"$f":"IF(COUNT(Q86:V86,AA86:AF86,AK86:AP86)>=18/3*'Team Scores'!$Z$1,IF(H86-VLOOKUP(B86&C86,'Individual Awards Computations'!$AY$54:$AZ$58,2,FALSE)=0,\"Leader \"&C86&\":\"&B86,H86-VLOOKUP(B86&C86,'Individual Awards Computations'!$AY$54:$AZ$58,2,FALSE)),\"\")","v":-445},249,647,166.75,31.916666666666668,"135-199",1,null,{"$f":"IF(ISERROR(MATCH('Individual Scores'!$D86,Scores!$F$1:$F$253,0)),\"\",INDIRECT(\"Scores!\"&\"R\"&MATCH('Individual Scores'!$D86,Scores!$F$1:$F$253,0)&\"C\"&COLUMN(Scores!J$1),FALSE))","v":148},{"$f":"IF(ISERROR(MATCH('Individual Scores'!$D86,Scores!$F$1:$F$253,0)),\"\",INDIRECT(\"Scores!\"&\"R\"&MATCH('Individual Scores'!$D86,Scores!$F$1:$F$253,0)&\"C\"&COLUMN(Scores!K$1),FALSE))","v":148},{"$f":"IF(ISERROR(MATCH('Individual Scores'!$D86,Scores!$F$1:$F$253,0)),\"\",INDIRECT(\"Scores!\"&\"R\"&MATCH('Individual Scores'!$D86,Scores!$F$1:$F$253,0)&\"C\"&COLUMN(Scores!L$1),FALSE))","v":128},{"$f":"IF(ISERROR(MATCH('Individual Scores'!$D86,Scores!$F$1:$F$253,0)),\"\",INDIRECT(\"Scores!\"&\"R\"&MATCH('Individual Scores'!$D86,Scores!$F$1:$F$253,0)&\"C\"&COLUMN(Scores!N$1),FALSE))","v":171},{"$f":"IF(ISERROR(MATCH('Individual Scores'!$D86,Scores!$F$1:$F$253,0)),\"\",INDIRECT(\"Scores!\"&\"R\"&MATCH('Individual Scores'!$D86,Scores!$F$1:$F$253,0)&\"C\"&COLUMN(Scores!O$1),FALSE))","v":112},{"$f":"IF(ISERROR(MATCH('Individual Scores'!$D86,Scores!$F$1:$F$253,0)),\"\",INDIRECT(\"Scores!\"&\"R\"&MATCH('Individual Scores'!$D86,Scores!$F$1:$F$253,0)&\"C\"&COLUMN(Scores!P$1),FALSE))","v":119},{"$f":"IF(ISERROR(MATCH('Individual Scores'!$D86,Scores!$F$1:$F$253,0)),\"\",INDIRECT(\"Scores!\"&\"R\"&MATCH('Individual Scores'!$D86,Scores!$F$1:$F$253,0)&\"C\"&COLUMN(Scores!S$1),FALSE))","v":826},{"$f":"IF(MAX('Individual Scores'!Q86:V86)>0,MAX('Individual Scores'!Q86:V86),\"\")","v":171},{"$f":"IF(MAX(SUM('Individual Scores'!Q86:S86),SUM('Individual Scores'!T86:V86))>0,MAX(SUM('Individual Scores'!Q86:S86),SUM('Individual Scores'!T86:V86)),\"\")","v":424},null,{"$f":"IF('Team Scores'!$Z$1<2,\"\",IF(ISERROR(MATCH('Individual Scores'!$D86,Scores!$F$253:$F$506,0)),\"\",INDIRECT(\"Scores!\"&\"R\"&(ROW(Scores!$253:$253)-1+MATCH('Individual Scores'!$D86,Scores!$F$253:$F$505,0))&\"C\"&COLUMN(Scores!J$1),FALSE)))","v":249},{"$f":"IF('Team Scores'!$Z$1<2,\"\",IF(ISERROR(MATCH('Individual Scores'!$D86,Scores!$F$253:$F$506,0)),\"\",INDIRECT(\"Scores!\"&\"R\"&(ROW(Scores!$253:$253)-1+MATCH('Individual Scores'!$D86,Scores!$F$253:$F$505,0))&\"C\"&COLUMN(Scores!K$1),FALSE)))","v":204},{"$f":"IF('Team Scores'!$Z$1<2,\"\",IF(ISERROR(MATCH('Individual Scores'!$D86,Scores!$F$253:$F$506,0)),\"\",INDIRECT(\"Scores!\"&\"R\"&(ROW(Scores!$253:$253)-1+MATCH('Individual Scores'!$D86,Scores!$F$253:$F$505,0))&\"C\"&COLUMN(Scores!L$1),FALSE)))","v":194},{"$f":"IF('Team Scores'!$Z$1<2,\"\",IF(ISERROR(MATCH('Individual Scores'!$D86,Scores!$F$253:$F$506,0)),\"\",INDIRECT(\"Scores!\"&\"R\"&(ROW(Scores!$253:$253)-1+MATCH('Individual Scores'!$D86,Scores!$F$253:$F$505,0))&\"C\"&COLUMN(Scores!N$1),FALSE)))","v":191},{"$f":"IF('Team Scores'!$Z$1<2,\"\",IF(ISERROR(MATCH('Individual Scores'!$D86,Scores!$F$253:$F$506,0)),\"\",INDIRECT(\"Scores!\"&\"R\"&(ROW(Scores!$253:$253)-1+MATCH('Individual Scores'!$D86,Scores!$F$253:$F$505,0))&\"C\"&COLUMN(Scores!O$1),FALSE)))","v":154},{"$f":"IF('Team Scores'!$Z$1<2,\"\",IF(ISERROR(MATCH('Individual Scores'!$D86,Scores!$F$253:$F$506,0)),\"\",INDIRECT(\"Scores!\"&\"R\"&(ROW(Scores!$253:$253)-1+MATCH('Individual Scores'!$D86,Scores!$F$253:$F$505,0))&\"C\"&COLUMN(Scores!P$1),FALSE)))","v":183},{"$f":"IF('Team Scores'!$Z$1<2,\"\",IF(ISERROR(MATCH('Individual Scores'!$D86,Scores!$F$253:$F$506,0)),\"\",INDIRECT(\"Scores!\"&\"R\"&(ROW(Scores!$253:$253)-1+MATCH('Individual Scores'!$D86,Scores!$F$253:$F$505,0))&\"C\"&COLUMN(Scores!S$1),FALSE)))","v":1175},249,647,null,{"$f":"IF('Team Scores'!$Z$1<3,\"\",IF(ISERROR(MATCH('Individual Scores'!$D86,Scores!$F$506:$F$759,0)),\"\",INDIRECT(\"Scores!\"&\"R\"&(ROW(Scores!$F$506:$F$759)-1+MATCH('Individual Scores'!$D86,Scores!$F$506:$F$759,0))&\"C\"&COLUMN(Scores!J$1),FALSE)))","v":""},{"$f":"IF('Team Scores'!$Z$1<3,\"\",IF(ISERROR(MATCH('Individual Scores'!$D86,Scores!$F$506:$F$759,0)),\"\",INDIRECT(\"Scores!\"&\"R\"&(ROW(Scores!$F$506:$F$759)-1+MATCH('Individual Scores'!$D86,Scores!$F$506:$F$759,0))&\"C\"&COLUMN(Scores!K$1),FALSE)))","v":""},{"$f":"IF('Team Scores'!$Z$1<3,\"\",IF(ISERROR(MATCH('Individual Scores'!$D86,Scores!$F$506:$F$759,0)),\"\",INDIRECT(\"Scores!\"&\"R\"&(ROW(Scores!$F$506:$F$759)-1+MATCH('Individual Scores'!$D86,Scores!$F$506:$F$759,0))&\"C\"&COLUMN(Scores!L$1),FALSE)))","v":""},{"$f":"IF('Team Scores'!$Z$1<3,\"\",IF(ISERROR(MATCH('Individual Scores'!$D86,Scores!$F$506:$F$759,0)),\"\",INDIRECT(\"Scores!\"&\"R\"&(ROW(Scores!$F$506:$F$759)-1+MATCH('Individual Scores'!$D86,Scores!$F$506:$F$759,0))&\"C\"&COLUMN(Scores!N$1),FALSE)))","v":""},{"$f":"IF('Team Scores'!$Z$1<3,\"\",IF(ISERROR(MATCH('Individual Scores'!$D86,Scores!$F$506:$F$759,0)),\"\",INDIRECT(\"Scores!\"&\"R\"&(ROW(Scores!$F$506:$F$759)-1+MATCH('Individual Scores'!$D86,Scores!$F$506:$F$759,0))&\"C\"&COLUMN(Scores!O$1),FALSE)))","v":""},{"$f":"IF('Team Scores'!$Z$1<3,\"\",IF(ISERROR(MATCH('Individual Scores'!$D86,Scores!$F$506:$F$759,0)),\"\",INDIRECT(\"Scores!\"&\"R\"&(ROW(Scores!$F$506:$F$759)-1+MATCH('Individual Scores'!$D86,Scores!$F$506:$F$759,0))&\"C\"&COLUMN(Scores!P$1),FALSE)))","v":""},{"$f":"IF('Team Scores'!$Z$1<3,\"\",IF(ISERROR(MATCH('Individual Scores'!$D86,Scores!$F$506:$F$759,0)),\"\",INDIRECT(\"Scores!\"&\"R\"&(ROW(Scores!$F$506:$F$759)-1+MATCH('Individual Scores'!$D86,Scores!$F$506:$F$759,0))&\"C\"&COLUMN(Scores!S$1),FALSE)))","v":""},"",""]
["NC","16-20","F","Alisha Horne",1116,994,"",2110,{"$f":"IF(COUNT(Q87:V87,AA87:AF87,AK87:AP87)>=18/3*'Team Scores'!$Z$1,IF(H87-VLOOKUP(B87&C87,'Individual Awards Computations'!$AY$54:$AZ$58,2,FALSE)=0,\"Leader \"&C87&\":\"&B87,H87-VLOOKUP(B87&C87,'Individual Awards Computations'!$AY$54:$AZ$58,2,FALSE)),\"\")","v":-336},224,592,175.83333333333334,20.472222222222225,"155-196",1,null,{"$f":"IF(ISERROR(MATCH('Individual Scores'!$D87,Scores!$F$1:$F$253,0)),\"\",INDIRECT(\"Scores!\"&\"R\"&MATCH('Individual Scores'!$D87,Scores!$F$1:$F$253,0)&\"C\"&COLUMN(Scores!J$1),FALSE))","v":224},{"$f":"IF(ISERROR(MATCH('Individual Scores'!$D87,Scores!$F$1:$F$253,0)),\"\",INDIRECT(\"Scores!\"&\"R\"&MATCH('Individual Scores'!$D87,Scores!$F$1:$F$253,0)&\"C\"&COLUMN(Scores!K$1),FALSE))","v":201},{"$f":"IF(ISERROR(MATCH('Individual Scores'!$D87,Scores!$F$1:$F$253,0)),\"\",INDIRECT(\"Scores!\"&\"R\"&MATCH('Individual Scores'!$D87,Scores!$F$1:$F$253,0)&\"C\"&COLUMN(Scores!L$1),FALSE))","v":167},{"$f":"IF(ISERROR(MATCH('Individual Scores'!$D87,Scores!$F$1:$F$253,0)),\"\",INDIRECT(\"Scores!\"&\"R\"&MATCH('Individual Scores'!$D87,Scores!$F$1:$F$253,0)&\"C\"&COLUMN(Scores!N$1),FALSE))","v":144},{"$f":"IF(ISERROR(MATCH('Individual Scores'!$D87,Scores!$F$1:$F$253,0)),\"\",INDIRECT(\"Scores!\"&\"R\"&MATCH('Individual Scores'!$D87,Scores!$F$1:$F$253,0)&\"C\"&COLUMN(Scores!O$1),FALSE))","v":190},{"$f":"IF(ISERROR(MATCH('Individual Scores'!$D87,Scores!$F$1:$F$253,0)),\"\",INDIRECT(\"Scores!\"&\"R\"&MATCH('Individual Scores'!$D87,Scores!$F$1:$F$253,0)&\"C\"&COLUMN(Scores!P$1),FALSE))","v":190},{"$f":"IF(ISERROR(MATCH('Individual Scores'!$D87,Scores!$F$1:$F$253,0)),\"\",INDIRECT(\"Scores!\"&\"R\"&MATCH('Individual Scores'!$D87,Scores!$F$1:$F$253,0)&\"C\"&COLUMN(Scores!S$1),FALSE))","v":1116},{"$f":"IF(MAX('Individual Scores'!Q87:V87)>0,MAX('Individual Scores'!Q87:V87),\"\")","v":224},{"$f":"IF(MAX(SUM('Individual Scores'!Q87:S87),SUM('Individual Scores'!T87:V87))>0,MAX(SUM('Individual Scores'!Q87:S87),SUM('Individual Scores'!T87:V87)),\"\")","v":592},null,{"$f":"IF('Team Scores'!$Z$1<2,\"\",IF(ISERROR(MATCH('Individual Scores'!$D87,Scores!$F$253:$F$506,0)),\"\",INDIRECT(\"Scores!\"&\"R\"&(ROW(Scores!$253:$253)-1+MATCH('Individual Scores'!$D87,Scores!$F$253:$F$505,0))&\"C\"&COLUMN(Scores!J$1),FALSE)))","v":165},{"$f":"IF('Team Scores'!$Z$1<2,\"\",IF(ISERROR(MATCH('Individual Scores'!$D87,Scores!$F$253:$F$506,0)),\"\",INDIRECT(\"Scores!\"&\"R\"&(ROW(Scores!$253:$253)-1+MATCH('Individual Scores'!$D87,Scores!$F$253:$F$505,0))&\"C\"&COLUMN(Scores!K$1),FALSE)))","v":144},{"$f":"IF('Team Scores'!$Z$1<2,\"\",IF(ISERROR(MATCH('Individual Scores'!$D87,Scores!$F$253:$F$506,0)),\"\",INDIRECT(\"Scores!\"&\"R\"&(ROW(Scores!$253:$253)-1+MATCH('Individual Scores'!$D87,Scores!$F$253:$F$505,0))&\"C\"&COLUMN(Scores!L$1),FALSE)))","v":157},{"$f":"IF('Team Scores'!$Z$1<2,\"\",IF(ISERROR(MATCH('Individual Scores'!$D87,Scores!$F$253:$F$506,0)),\"\",INDIRECT(\"Scores!\"&\"R\"&(ROW(Scores!$253:$253)-1+MATCH('Individual Scores'!$D87,Scores!$F$253:$F$505,0))&\"C\"&COLUMN(Scores!N$1),FALSE)))","v":197},{"$f":"IF('Team Scores'!$Z$1<2,\"\",IF(ISERROR(MATCH('Individual Scores'!$D87,Scores!$F$253:$F$506,0)),\"\",INDIRECT(\"Scores!\"&\"R\"&(ROW(Scores!$253:$253)-1+MATCH('Individual Scores'!$D87,Scores!$F$253:$F$505,0))&\"C\"&COLUMN(Scores!O$1),FALSE)))","v":161},{"$f":"IF('Team Scores'!$Z$1<2,\"\",IF(ISERROR(MATCH('Individual Scores'!$D87,Scores!$F$253:$F$506,0)),\"\",INDIRECT(\"Scores!\"&\"R\"&(ROW(Scores!$253:$253)-1+MATCH('Individual Scores'!$D87,Scores!$F$253:$F$505,0))&\"C\"&COLUMN(Scores!P$1),FALSE)))","v":170},{"$f":"IF('Team Scores'!$Z$1<2,\"\",IF(ISERROR(MATCH('Individual Scores'!$D87,Scores!$F$253:$F$506,0)),\"\",INDIRECT(\"Scores!\"&\"R\"&(ROW(Scores!$253:$253)-1+MATCH('Individual Scores'!$D87,Scores!$F$253:$F$505,0))&\"C\"&COLUMN(Scores!S$1),FALSE)))","v":994},197,528,null,{"$f":"IF('Team Scores'!$Z$1<3,\"\",IF(ISERROR(MATCH('Individual Scores'!$D87,Scores!$F$506:$F$759,0)),\"\",INDIRECT(\"Scores!\"&\"R\"&(ROW(Scores!$F$506:$F$759)-1+MATCH('Individual Scores'!$D87,Scores!$F$506:$F$759,0))&\"C\"&COLUMN(Scores!J$1),FALSE)))","v":""},{"$f":"IF('Team Scores'!$Z$1<3,\"\",IF(ISERROR(MATCH('Individual Scores'!$D87,Scores!$F$506:$F$759,0)),\"\",INDIRECT(\"Scores!\"&\"R\"&(ROW(Scores!$F$506:$F$759)-1+MATCH('Individual Scores'!$D87,Scores!$F$506:$F$759,0))&\"C\"&COLUMN(Scores!K$1),FALSE)))","v":""},{"$f":"IF('Team Scores'!$Z$1<3,\"\",IF(ISERROR(MATCH('Individual Scores'!$D87,Scores!$F$506:$F$759,0)),\"\",INDIRECT(\"Scores!\"&\"R\"&(ROW(Scores!$F$506:$F$759)-1+MATCH('Individual Scores'!$D87,Scores!$F$506:$F$759,0))&\"C\"&COLUMN(Scores!L$1),FALSE)))","v":""},{"$f":"IF('Team Scores'!$Z$1<3,\"\",IF(ISERROR(MATCH('Individual Scores'!$D87,Scores!$F$506:$F$759,0)),\"\",INDIRECT(\"Scores!\"&\"R\"&(ROW(Scores!$F$506:$F$759)-1+MATCH('Individual Scores'!$D87,Scores!$F$506:$F$759,0))&\"C\"&COLUMN(Scores!N$1),FALSE)))","v":""},{"$f":"IF('Team Scores'!$Z$1<3,\"\",IF(ISERROR(MATCH('Individual Scores'!$D87,Scores!$F$506:$F$759,0)),\"\",INDIRECT(\"Scores!\"&\"R\"&(ROW(Scores!$F$506:$F$759)-1+MATCH('Individual Scores'!$D87,Scores!$F$506:$F$759,0))&\"C\"&COLUMN(Scores!O$1),FALSE)))","v":""},{"$f":"IF('Team Scores'!$Z$1<3,\"\",IF(ISERROR(MATCH('Individual Scores'!$D87,Scores!$F$506:$F$759,0)),\"\",INDIRECT(\"Scores!\"&\"R\"&(ROW(Scores!$F$506:$F$759)-1+MATCH('Individual Scores'!$D87,Scores!$F$506:$F$759,0))&\"C\"&COLUMN(Scores!P$1),FALSE)))","v":""},{"$f":"IF('Team Scores'!$Z$1<3,\"\",IF(ISERROR(MATCH('Individual Scores'!$D87,Scores!$F$506:$F$759,0)),\"\",INDIRECT(\"Scores!\"&\"R\"&(ROW(Scores!$F$506:$F$759)-1+MATCH('Individual Scores'!$D87,Scores!$F$506:$F$759,0))&\"C\"&COLUMN(Scores!S$1),FALSE)))","v":""},"",""]
["NC","16-20","F","Lakota Waters",1079,970,"",2049,{"$f":"IF(COUNT(Q88:V88,AA88:AF88,AK88:AP88)>=18/3*'Team Scores'!$Z$1,IF(H88-VLOOKUP(B88&C88,'Individual Awards Computations'!$AY$54:$AZ$58,2,FALSE)=0,\"Leader \"&C88&\":\"&B88,H88-VLOOKUP(B88&C88,'Individual Awards Computations'!$AY$54:$AZ$58,2,FALSE)),\"\")","v":-397},223,543,170.75,17.25,"154-188",1,null,{"$f":"IF(ISERROR(MATCH('Individual Scores'!$D88,Scores!$F$1:$F$253,0)),\"\",INDIRECT(\"Scores!\"&\"R\"&MATCH('Individual Scores'!$D88,Scores!$F$1:$F$253,0)&\"C\"&COLUMN(Scores!J$1),FALSE))","v":223},{"$f":"IF(ISERROR(MATCH('Individual Scores'!$D88,Scores!$F$1:$F$253,0)),\"\",INDIRECT(\"Scores!\"&\"R\"&MATCH('Individual Scores'!$D88,Scores!$F$1:$F$253,0)&\"C\"&COLUMN(Scores!K$1),FALSE))","v":136},{"$f":"IF(ISERROR(MATCH('Individual Scores'!$D88,Scores!$F$1:$F$253,0)),\"\",INDIRECT(\"Scores!\"&\"R\"&MATCH('Individual Scores'!$D88,Scores!$F$1:$F$253,0)&\"C\"&COLUMN(Scores!L$1),FALSE))","v":177},{"$f":"IF(ISERROR(MATCH('Individual Scores'!$D88,Scores!$F$1:$F$253,0)),\"\",INDIRECT(\"Scores!\"&\"R\"&MATCH('Individual Scores'!$D88,Scores!$F$1:$F$253,0)&\"C\"&COLUMN(Scores!N$1),FALSE))","v":168},{"$f":"IF(ISERROR(MATCH('Individual Scores'!$D88,Scores!$F$1:$F$253,0)),\"\",INDIRECT(\"Scores!\"&\"R\"&MATCH('Individual Scores'!$D88,Scores!$F$1:$F$253,0)&\"C\"&COLUMN(Scores!O$1),FALSE))","v":184},{"$f":"IF(ISERROR(MATCH('Individual Scores'!$D88,Scores!$F$1:$F$253,0)),\"\",INDIRECT(\"Scores!\"&\"R\"&MATCH('Individual Scores'!$D88,Scores!$F$1:$F$253,0)&\"C\"&COLUMN(Scores!P$1),FALSE))","v":191},{"$f":"IF(ISERROR(MATCH('Individual Scores'!$D88,Scores!$F$1:$F$253,0)),\"\",INDIRECT(\"Scores!\"&\"R\"&MATCH('Individual Scores'!$D88,Scores!$F$1:$F$253,0)&\"C\"&COLUMN(Scores!S$1),FALSE))","v":1079},{"$f":"IF(MAX('Individual Scores'!Q88:V88)>0,MAX('Individual Scores'!Q88:V88),\"\")","v":223},{"$f":"IF(MAX(SUM('Individual Scores'!Q88:S88),SUM('Individual Scores'!T88:V88))>0,MAX(SUM('Individual Scores'!Q88:S88),SUM('Individual Scores'!T88:V88)),\"\")","v":543},null,{"$f":"IF('Team Scores'!$Z$1<2,\"\",IF(ISERROR(MATCH('Individual Scores'!$D88,Scores!$F$253:$F$506,0)),\"\",INDIRECT(\"Scores!\"&\"R\"&(ROW(Scores!$253:$253)-1+MATCH('Individual Scores'!$D88,Scores!$F$253:$F$505,0))&\"C\"&COLUMN(Scores!J$1),FALSE)))","v":174},{"$f":"IF('Team Scores'!$Z$1<2,\"\",IF(ISERROR(MATCH('Individual Scores'!$D88,Scores!$F$253:$F$506,0)),\"\",INDIRECT(\"Scores!\"&\"R\"&(ROW(Scores!$253:$253)-1+MATCH('Individual Scores'!$D88,Scores!$F$253:$F$505,0))&\"C\"&COLUMN(Scores!K$1),FALSE)))","v":166},{"$f":"IF('Team Scores'!$Z$1<2,\"\",IF(ISERROR(MATCH('Individual Scores'!$D88,Scores!$F$253:$F$506,0)),\"\",INDIRECT(\"Scores!\"&\"R\"&(ROW(Scores!$253:$253)-1+MATCH('Individual Scores'!$D88,Scores!$F$253:$F$505,0))&\"C\"&COLUMN(Scores!L$1),FALSE)))","v":160},{"$f":"IF('Team Scores'!$Z$1<2,\"\",IF(ISERROR(MATCH('Individual Scores'!$D88,Scores!$F$253:$F$506,0)),\"\",INDIRECT(\"Scores!\"&\"R\"&(ROW(Scores!$253:$253)-1+MATCH('Individual Scores'!$D88,Scores!$F$253:$F$505,0))&\"C\"&COLUMN(Scores!N$1),FALSE)))","v":152},{"$f":"IF('Team Scores'!$Z$1<2,\"\",IF(ISERROR(MATCH('Individual Scores'!$D88,Scores!$F$253:$F$506,0)),\"\",INDIRECT(\"Scores!\"&\"R\"&(ROW(Scores!$253:$253)-1+MATCH('Individual Scores'!$D88,Scores!$F$253:$F$505,0))&\"C\"&COLUMN(Scores!O$1),FALSE)))","v":179},{"$f":"IF('Team Scores'!$Z$1<2,\"\",IF(ISERROR(MATCH('Individual Scores'!$D88,Scores!$F$253:$F$506,0)),\"\",INDIRECT(\"Scores!\"&\"R\"&(ROW(Scores!$253:$253)-1+MATCH('Individual Scores'!$D88,Scores!$F$253:$F$505,0))&\"C\"&COLUMN(Scores!P$1),FALSE)))","v":139},{"$f":"IF('Team Scores'!$Z$1<2,\"\",IF(ISERROR(MATCH('Individual Scores'!$D88,Scores!$F$253:$F$506,0)),\"\",INDIRECT(\"Scores!\"&\"R\"&(ROW(Scores!$253:$253)-1+MATCH('Individual Scores'!$D88,Scores!$F$253:$F$505,0))&\"C\"&COLUMN(Scores!S$1),FALSE)))","v":970},179,500,null,{"$f":"IF('Team Scores'!$Z$1<3,\"\",IF(ISERROR(MATCH('Individual Scores'!$D88,Scores!$F$506:$F$759,0)),\"\",INDIRECT(\"Scores!\"&\"R\"&(ROW(Scores!$F$506:$F$759)-1+MATCH('Individual Scores'!$D88,Scores!$F$506:$F$759,0))&\"C\"&COLUMN(Scores!J$1),FALSE)))","v":""},{"$f":"IF('Team Scores'!$Z$1<3,\"\",IF(ISERROR(MATCH('Individual Scores'!$D88,Scores!$F$506:$F$759,0)),\"\",INDIRECT(\"Scores!\"&\"R\"&(ROW(Scores!$F$506:$F$759)-1+MATCH('Individual Scores'!$D88,Scores!$F$506:$F$759,0))&\"C\"&COLUMN(Scores!K$1),FALSE)))","v":""},{"$f":"IF('Team Scores'!$Z$1<3,\"\",IF(ISERROR(MATCH('Individual Scores'!$D88,Scores!$F$506:$F$759,0)),\"\",INDIRECT(\"Scores!\"&\"R\"&(ROW(Scores!$F$506:$F$759)-1+MATCH('Individual Scores'!$D88,Scores!$F$506:$F$759,0))&\"C\"&COLUMN(Scores!L$1),FALSE)))","v":""},{"$f":"IF('Team Scores'!$Z$1<3,\"\",IF(ISERROR(MATCH('Individual Scores'!$D88,Scores!$F$506:$F$759,0)),\"\",INDIRECT(\"Scores!\"&\"R\"&(ROW(Scores!$F$506:$F$759)-1+MATCH('Individual Scores'!$D88,Scores!$F$506:$F$759,0))&\"C\"&COLUMN(Scores!N$1),FALSE)))","v":""},{"$f":"IF('Team Scores'!$Z$1<3,\"\",IF(ISERROR(MATCH('Individual Scores'!$D88,Scores!$F$506:$F$759,0)),\"\",INDIRECT(\"Scores!\"&\"R\"&(ROW(Scores!$F$506:$F$759)-1+MATCH('Individual Scores'!$D88,Scores!$F$506:$F$759,0))&\"C\"&COLUMN(Scores!O$1),FALSE)))","v":""},{"$f":"IF('Team Scores'!$Z$1<3,\"\",IF(ISERROR(MATCH('Individual Scores'!$D88,Scores!$F$506:$F$759,0)),\"\",INDIRECT(\"Scores!\"&\"R\"&(ROW(Scores!$F$506:$F$759)-1+MATCH('Individual Scores'!$D88,Scores!$F$506:$F$759,0))&\"C\"&COLUMN(Scores!P$1),FALSE)))","v":""},{"$f":"IF('Team Scores'!$Z$1<3,\"\",IF(ISERROR(MATCH('Individual Scores'!$D88,Scores!$F$506:$F$759,0)),\"\",INDIRECT(\"Scores!\"&\"R\"&(ROW(Scores!$F$506:$F$759)-1+MATCH('Individual Scores'!$D88,Scores!$F$506:$F$759,0))&\"C\"&COLUMN(Scores!S$1),FALSE)))","v":""},"",""]
["NC","16-20","F","Maria Freeman",710,813,"",1523,{"$f":"IF(COUNT(Q89:V89,AA89:AF89,AK89:AP89)>=18/3*'Team Scores'!$Z$1,IF(H89-VLOOKUP(B89&C89,'Individual Awards Computations'!$AY$54:$AZ$58,2,FALSE)=0,\"Leader \"&C89&\":\"&B89,H89-VLOOKUP(B89&C89,'Individual Awards Computations'!$AY$54:$AZ$58,2,FALSE)),\"\")","v":-923},169,412,126.91666666666667,20.416666666666668,"107-147",1,null,{"$f":"IF(ISERROR(MATCH('Individual Scores'!$D89,Scores!$F$1:$F$253,0)),\"\",INDIRECT(\"Scores!\"&\"R\"&MATCH('Individual Scores'!$D89,Scores!$F$1:$F$253,0)&\"C\"&COLUMN(Scores!J$1),FALSE))","v":142},{"$f":"IF(ISERROR(MATCH('Individual Scores'!$D89,Scores!$F$1:$F$253,0)),\"\",INDIRECT(\"Scores!\"&\"R\"&MATCH('Individual Scores'!$D89,Scores!$F$1:$F$253,0)&\"C\"&COLUMN(Scores!K$1),FALSE))","v":148},{"$f":"IF(ISERROR(MATCH('Individual Scores'!$D89,Scores!$F$1:$F$253,0)),\"\",INDIRECT(\"Scores!\"&\"R\"&MATCH('Individual Scores'!$D89,Scores!$F$1:$F$253,0)&\"C\"&COLUMN(Scores!L$1),FALSE))","v":77},{"$f":"IF(ISERROR(MATCH('Individual Scores'!$D89,Scores!$F$1:$F$253,0)),\"\",INDIRECT(\"Scores!\"&\"R\"&MATCH('Individual Scores'!$D89,Scores!$F$1:$F$253,0)&\"C\"&COLUMN(Scores!N$1),FALSE))","v":117},{"$f":"IF(ISERROR(MATCH('Individual Scores'!$D89,Scores!$F$1:$F$253,0)),\"\",INDIRECT(\"Scores!\"&\"R\"&MATCH('Individual Scores'!$D89,Scores!$F$1:$F$253,0)&\"C\"&COLUMN(Scores!O$1),FALSE))","v":99},{"$f":"IF(ISERROR(MATCH('Individual Scores'!$D89,Scores!$F$1:$F$253,0)),\"\",INDIRECT(\"Scores!\"&\"R\"&MATCH('Individual Scores'!$D89,Scores!$F$1:$F$253,0)&\"C\"&COLUMN(Scores!P$1),FALSE))","v":127},{"$f":"IF(ISERROR(MATCH('Individual Scores'!$D89,Scores!$F$1:$F$253,0)),\"\",INDIRECT(\"Scores!\"&\"R\"&MATCH('Individual Scores'!$D89,Scores!$F$1:$F$253,0)&\"C\"&COLUMN(Scores!S$1),FALSE))","v":710},{"$f":"IF(MAX('Individual Scores'!Q89:V89)>0,MAX('Individual Scores'!Q89:V89),\"\")","v":148},{"$f":"IF(MAX(SUM('Individual Scores'!Q89:S89),SUM('Individual Scores'!T89:V89))>0,MAX(SUM('Individual Scores'!Q89:S89),SUM('Individual Scores'!T89:V89)),\"\")","v":367},null,{"$f":"IF('Team Scores'!$Z$1<2,\"\",IF(ISERROR(MATCH('Individual Scores'!$D89,Scores!$F$253:$F$506,0)),\"\",INDIRECT(\"Scores!\"&\"R\"&(ROW(Scores!$253:$253)-1+MATCH('Individual Scores'!$D89,Scores!$F$253:$F$505,0))&\"C\"&COLUMN(Scores!J$1),FALSE)))","v":124},{"$f":"IF('Team Scores'!$Z$1<2,\"\",IF(ISERROR(MATCH('Individual Scores'!$D89,Scores!$F$253:$F$506,0)),\"\",INDIRECT(\"Scores!\"&\"R\"&(ROW(Scores!$253:$253)-1+MATCH('Individual Scores'!$D89,Scores!$F$253:$F$505,0))&\"C\"&COLUMN(Scores!K$1),FALSE)))","v":169},{"$f":"IF('Team Scores'!$Z$1<2,\"\",IF(ISERROR(MATCH('Individual Scores'!$D89,Scores!$F$253:$F$506,0)),\"\",INDIRECT(\"Scores!\"&\"R\"&(ROW(Scores!$253:$253)-1+MATCH('Individual Scores'!$D89,Scores!$F$253:$F$505,0))&\"C\"&COLUMN(Scores!L$1),FALSE)))","v":108},{"$f":"IF('Team Scores'!$Z$1<2,\"\",IF(ISERROR(MATCH('Individual Scores'!$D89,Scores!$F$253:$F$506,0)),\"\",INDIRECT(\"Scores!\"&\"R\"&(ROW(Scores!$253:$253)-1+MATCH('Individual Scores'!$D89,Scores!$F$253:$F$505,0))&\"C\"&COLUMN(Scores!N$1),FALSE)))","v":159},{"$f":"IF('Team Scores'!$Z$1<2,\"\",IF(ISERROR(MATCH('Individual Scores'!$D89,Scores!$F$253:$F$506,0)),\"\",INDIRECT(\"Scores!\"&\"R\"&(ROW(Scores!$253:$253)-1+MATCH('Individual Scores'!$D89,Scores!$F$253:$F$505,0))&\"C\"&COLUMN(Scores!O$1),FALSE)))","v":114},{"$f":"IF('Team Scores'!$Z$1<2,\"\",IF(ISERROR(MATCH('Individual Scores'!$D89,Scores!$F$253:$F$506,0)),\"\",INDIRECT(\"Scores!\"&\"R\"&(ROW(Scores!$253:$253)-1+MATCH('Individual Scores'!$D89,Scores!$F$253:$F$505,0))&\"C\"&COLUMN(Scores!P$1),FALSE)))","v":139},{"$f":"IF('Team Scores'!$Z$1<2,\"\",IF(ISERROR(MATCH('Individual Scores'!$D89,Scores!$F$253:$F$506,0)),\"\",INDIRECT(\"Scores!\"&\"R\"&(ROW(Scores!$253:$253)-1+MATCH('Individual Scores'!$D89,Scores!$F$253:$F$505,0))&\"C\"&COLUMN(Scores!S$1),FALSE)))","v":813},169,412,null,{"$f":"IF('Team Scores'!$Z$1<3,\"\",IF(ISERROR(MATCH('Individual Scores'!$D89,Scores!$F$506:$F$759,0)),\"\",INDIRECT(\"Scores!\"&\"R\"&(ROW(Scores!$F$506:$F$759)-1+MATCH('Individual Scores'!$D89,Scores!$F$506:$F$759,0))&\"C\"&COLUMN(Scores!J$1),FALSE)))","v":""},{"$f":"IF('Team Scores'!$Z$1<3,\"\",IF(ISERROR(MATCH('Individual Scores'!$D89,Scores!$F$506:$F$759,0)),\"\",INDIRECT(\"Scores!\"&\"R\"&(ROW(Scores!$F$506:$F$759)-1+MATCH('Individual Scores'!$D89,Scores!$F$506:$F$759,0))&\"C\"&COLUMN(Scores!K$1),FALSE)))","v":""},{"$f":"IF('Team Scores'!$Z$1<3,\"\",IF(ISERROR(MATCH('Individual Scores'!$D89,Scores!$F$506:$F$759,0)),\"\",INDIRECT(\"Scores!\"&\"R\"&(ROW(Scores!$F$506:$F$759)-1+MATCH('Individual Scores'!$D89,Scores!$F$506:$F$759,0))&\"C\"&COLUMN(Scores!L$1),FALSE)))","v":""},{"$f":"IF('Team Scores'!$Z$1<3,\"\",IF(ISERROR(MATCH('Individual Scores'!$D89,Scores!$F$506:$F$759,0)),\"\",INDIRECT(\"Scores!\"&\"R\"&(ROW(Scores!$F$506:$F$759)-1+MATCH('Individual Scores'!$D89,Scores!$F$506:$F$759,0))&\"C\"&COLUMN(Scores!N$1),FALSE)))","v":""},{"$f":"IF('Team Scores'!$Z$1<3,\"\",IF(ISERROR(MATCH('Individual Scores'!$D89,Scores!$F$506:$F$759,0)),\"\",INDIRECT(\"Scores!\"&\"R\"&(ROW(Scores!$F$506:$F$759)-1+MATCH('Individual Scores'!$D89,Scores!$F$506:$F$759,0))&\"C\"&COLUMN(Scores!O$1),FALSE)))","v":""},{"$f":"IF('Team Scores'!$Z$1<3,\"\",IF(ISERROR(MATCH('Individual Scores'!$D89,Scores!$F$506:$F$759,0)),\"\",INDIRECT(\"Scores!\"&\"R\"&(ROW(Scores!$F$506:$F$759)-1+MATCH('Individual Scores'!$D89,Scores!$F$506:$F$759,0))&\"C\"&COLUMN(Scores!P$1),FALSE)))","v":""},{"$f":"IF('Team Scores'!$Z$1<3,\"\",IF(ISERROR(MATCH('Individual Scores'!$D89,Scores!$F$506:$F$759,0)),\"\",INDIRECT(\"Scores!\"&\"R\"&(ROW(Scores!$F$506:$F$759)-1+MATCH('Individual Scores'!$D89,Scores!$F$506:$F$759,0))&\"C\"&COLUMN(Scores!S$1),FALSE)))","v":""},"",""]
["NC","15 & <","F","Hailey Wall",960,1124,"",2084,{"$f":"IF(COUNT(Q90:V90,AA90:AF90,AK90:AP90)>=18/3*'Team Scores'!$Z$1,IF(H90-VLOOKUP(B90&C90,'Individual Awards Computations'!$AY$54:$AZ$58,2,FALSE)=0,\"Leader \"&C90&\":\"&B90,H90-VLOOKUP(B90&C90,'Individual Awards Computations'!$AY$54:$AZ$58,2,FALSE)),\"\")","v":-329},238,564,173.66666666666666,18.444444444444443,"155-192",1,null,{"$f":"IF(ISERROR(MATCH('Individual Scores'!$D90,Scores!$F$1:$F$253,0)),\"\",INDIRECT(\"Scores!\"&\"R\"&MATCH('Individual Scores'!$D90,Scores!$F$1:$F$253,0)&\"C\"&COLUMN(Scores!J$1),FALSE))","v":156},{"$f":"IF(ISERROR(MATCH('Individual Scores'!$D90,Scores!$F$1:$F$253,0)),\"\",INDIRECT(\"Scores!\"&\"R\"&MATCH('Individual Scores'!$D90,Scores!$F$1:$F$253,0)&\"C\"&COLUMN(Scores!K$1),FALSE))","v":172},{"$f":"IF(ISERROR(MATCH('Individual Scores'!$D90,Scores!$F$1:$F$253,0)),\"\",INDIRECT(\"Scores!\"&\"R\"&MATCH('Individual Scores'!$D90,Scores!$F$1:$F$253,0)&\"C\"&COLUMN(Scores!L$1),FALSE))","v":155},{"$f":"IF(ISERROR(MATCH('Individual Scores'!$D90,Scores!$F$1:$F$253,0)),\"\",INDIRECT(\"Scores!\"&\"R\"&MATCH('Individual Scores'!$D90,Scores!$F$1:$F$253,0)&\"C\"&COLUMN(Scores!N$1),FALSE))","v":181},{"$f":"IF(ISERROR(MATCH('Individual Scores'!$D90,Scores!$F$1:$F$253,0)),\"\",INDIRECT(\"Scores!\"&\"R\"&MATCH('Individual Scores'!$D90,Scores!$F$1:$F$253,0)&\"C\"&COLUMN(Scores!O$1),FALSE))","v":126},{"$f":"IF(ISERROR(MATCH('Individual Scores'!$D90,Scores!$F$1:$F$253,0)),\"\",INDIRECT(\"Scores!\"&\"R\"&MATCH('Individual Scores'!$D90,Scores!$F$1:$F$253,0)&\"C\"&COLUMN(Scores!P$1),FALSE))","v":170},{"$f":"IF(ISERROR(MATCH('Individual Scores'!$D90,Scores!$F$1:$F$253,0)),\"\",INDIRECT(\"Scores!\"&\"R\"&MATCH('Individual Scores'!$D90,Scores!$F$1:$F$253,0)&\"C\"&COLUMN(Scores!S$1),FALSE))","v":960},{"$f":"IF(MAX('Individual Scores'!Q90:V90)>0,MAX('Individual Scores'!Q90:V90),\"\")","v":181},{"$f":"IF(MAX(SUM('Individual Scores'!Q90:S90),SUM('Individual Scores'!T90:V90))>0,MAX(SUM('Individual Scores'!Q90:S90),SUM('Individual Scores'!T90:V90)),\"\")","v":483},null,{"$f":"IF('Team Scores'!$Z$1<2,\"\",IF(ISERROR(MATCH('Individual Scores'!$D90,Scores!$F$253:$F$506,0)),\"\",INDIRECT(\"Scores!\"&\"R\"&(ROW(Scores!$253:$253)-1+MATCH('Individual Scores'!$D90,Scores!$F$253:$F$505,0))&\"C\"&COLUMN(Scores!J$1),FALSE)))","v":161},{"$f":"IF('Team Scores'!$Z$1<2,\"\",IF(ISERROR(MATCH('Individual Scores'!$D90,Scores!$F$253:$F$506,0)),\"\",INDIRECT(\"Scores!\"&\"R\"&(ROW(Scores!$253:$253)-1+MATCH('Individual Scores'!$D90,Scores!$F$253:$F$505,0))&\"C\"&COLUMN(Scores!K$1),FALSE)))","v":165},{"$f":"IF('Team Scores'!$Z$1<2,\"\",IF(ISERROR(MATCH('Individual Scores'!$D90,Scores!$F$253:$F$506,0)),\"\",INDIRECT(\"Scores!\"&\"R\"&(ROW(Scores!$253:$253)-1+MATCH('Individual Scores'!$D90,Scores!$F$253:$F$505,0))&\"C\"&COLUMN(Scores!L$1),FALSE)))","v":238},{"$f":"IF('Team Scores'!$Z$1<2,\"\",IF(ISERROR(MATCH('Individual Scores'!$D90,Scores!$F$253:$F$506,0)),\"\",INDIRECT(\"Scores!\"&\"R\"&(ROW(Scores!$253:$253)-1+MATCH('Individual Scores'!$D90,Scores!$F$253:$F$505,0))&\"C\"&COLUMN(Scores!N$1),FALSE)))","v":195},{"$f":"IF('Team Scores'!$Z$1<2,\"\",IF(ISERROR(MATCH('Individual Scores'!$D90,Scores!$F$253:$F$506,0)),\"\",INDIRECT(\"Scores!\"&\"R\"&(ROW(Scores!$253:$253)-1+MATCH('Individual Scores'!$D90,Scores!$F$253:$F$505,0))&\"C\"&COLUMN(Scores!O$1),FALSE)))","v":176},{"$f":"IF('Team Scores'!$Z$1<2,\"\",IF(ISERROR(MATCH('Individual Scores'!$D90,Scores!$F$253:$F$506,0)),\"\",INDIRECT(\"Scores!\"&\"R\"&(ROW(Scores!$253:$253)-1+MATCH('Individual Scores'!$D90,Scores!$F$253:$F$505,0))&\"C\"&COLUMN(Scores!P$1),FALSE)))","v":189},{"$f":"IF('Team Scores'!$Z$1<2,\"\",IF(ISERROR(MATCH('Individual Scores'!$D90,Scores!$F$253:$F$506,0)),\"\",INDIRECT(\"Scores!\"&\"R\"&(ROW(Scores!$253:$253)-1+MATCH('Individual Scores'!$D90,Scores!$F$253:$F$505,0))&\"C\"&COLUMN(Scores!S$1),FALSE)))","v":1124},238,564,null,{"$f":"IF('Team Scores'!$Z$1<3,\"\",IF(ISERROR(MATCH('Individual Scores'!$D90,Scores!$F$506:$F$759,0)),\"\",INDIRECT(\"Scores!\"&\"R\"&(ROW(Scores!$F$506:$F$759)-1+MATCH('Individual Scores'!$D90,Scores!$F$506:$F$759,0))&\"C\"&COLUMN(Scores!J$1),FALSE)))","v":""},{"$f":"IF('Team Scores'!$Z$1<3,\"\",IF(ISERROR(MATCH('Individual Scores'!$D90,Scores!$F$506:$F$759,0)),\"\",INDIRECT(\"Scores!\"&\"R\"&(ROW(Scores!$F$506:$F$759)-1+MATCH('Individual Scores'!$D90,Scores!$F$506:$F$759,0))&\"C\"&COLUMN(Scores!K$1),FALSE)))","v":""},{"$f":"IF('Team Scores'!$Z$1<3,\"\",IF(ISERROR(MATCH('Individual Scores'!$D90,Scores!$F$506:$F$759,0)),\"\",INDIRECT(\"Scores!\"&\"R\"&(ROW(Scores!$F$506:$F$759)-1+MATCH('Individual Scores'!$D90,Scores!$F$506:$F$759,0))&\"C\"&COLUMN(Scores!L$1),FALSE)))","v":""},{"$f":"IF('Team Scores'!$Z$1<3,\"\",IF(ISERROR(MATCH('Individual Scores'!$D90,Scores!$F$506:$F$759,0)),\"\",INDIRECT(\"Scores!\"&\"R\"&(ROW(Scores!$F$506:$F$759)-1+MATCH('Individual Scores'!$D90,Scores!$F$506:$F$759,0))&\"C\"&COLUMN(Scores!N$1),FALSE)))","v":""},{"$f":"IF('Team Scores'!$Z$1<3,\"\",IF(ISERROR(MATCH('Individual Scores'!$D90,Scores!$F$506:$F$759,0)),\"\",INDIRECT(\"Scores!\"&\"R\"&(ROW(Scores!$F$506:$F$759)-1+MATCH('Individual Scores'!$D90,Scores!$F$506:$F$759,0))&\"C\"&COLUMN(Scores!O$1),FALSE)))","v":""},{"$f":"IF('Team Scores'!$Z$1<3,\"\",IF(ISERROR(MATCH('Individual Scores'!$D90,Scores!$F$506:$F$759,0)),\"\",INDIRECT(\"Scores!\"&\"R\"&(ROW(Scores!$F$506:$F$759)-1+MATCH('Individual Scores'!$D90,Scores!$F$506:$F$759,0))&\"C\"&COLUMN(Scores!P$1),FALSE)))","v":""},{"$f":"IF('Team Scores'!$Z$1<3,\"\",IF(ISERROR(MATCH('Individual Scores'!$D90,Scores!$F$506:$F$759,0)),\"\",INDIRECT(\"Scores!\"&\"R\"&(ROW(Scores!$F$506:$F$759)-1+MATCH('Individual Scores'!$D90,Scores!$F$506:$F$759,0))&\"C\"&COLUMN(Scores!S$1),FALSE)))","v":""},"",""]
["NC","16-20","F","Nara Seymour",882,"","",882,{"$f":"IF(COUNT(Q91:V91,AA91:AF91,AK91:AP91)>=18/3*'Team Scores'!$Z$1,IF(H91-VLOOKUP(B91&C91,'Individual Awards Computations'!$AY$54:$AZ$58,2,FALSE)=0,\"Leader \"&C91&\":\"&B91,H91-VLOOKUP(B91&C91,'Individual Awards Computations'!$AY$54:$AZ$58,2,FALSE)),\"\")","v":""},176,484,147,16.333333333333332,"131-163",1,null,{"$f":"IF(ISERROR(MATCH('Individual Scores'!$D91,Scores!$F$1:$F$253,0)),\"\",INDIRECT(\"Scores!\"&\"R\"&MATCH('Individual Scores'!$D91,Scores!$F$1:$F$253,0)&\"C\"&COLUMN(Scores!J$1),FALSE))","v":176},{"$f":"IF(ISERROR(MATCH('Individual Scores'!$D91,Scores!$F$1:$F$253,0)),\"\",INDIRECT(\"Scores!\"&\"R\"&MATCH('Individual Scores'!$D91,Scores!$F$1:$F$253,0)&\"C\"&COLUMN(Scores!K$1),FALSE))","v":153},{"$f":"IF(ISERROR(MATCH('Individual Scores'!$D91,Scores!$F$1:$F$253,0)),\"\",INDIRECT(\"Scores!\"&\"R\"&MATCH('Individual Scores'!$D91,Scores!$F$1:$F$253,0)&\"C\"&COLUMN(Scores!L$1),FALSE))","v":155},{"$f":"IF(ISERROR(MATCH('Individual Scores'!$D91,Scores!$F$1:$F$253,0)),\"\",INDIRECT(\"Scores!\"&\"R\"&MATCH('Individual Scores'!$D91,Scores!$F$1:$F$253,0)&\"C\"&COLUMN(Scores!N$1),FALSE))","v":126},{"$f":"IF(ISERROR(MATCH('Individual Scores'!$D91,Scores!$F$1:$F$253,0)),\"\",INDIRECT(\"Scores!\"&\"R\"&MATCH('Individual Scores'!$D91,Scores!$F$1:$F$253,0)&\"C\"&COLUMN(Scores!O$1),FALSE))","v":153},{"$f":"IF(ISERROR(MATCH('Individual Scores'!$D91,Scores!$F$1:$F$253,0)),\"\",INDIRECT(\"Scores!\"&\"R\"&MATCH('Individual Scores'!$D91,Scores!$F$1:$F$253,0)&\"C\"&COLUMN(Scores!P$1),FALSE))","v":119},{"$f":"IF(ISERROR(MATCH('Individual Scores'!$D91,Scores!$F$1:$F$253,0)),\"\",INDIRECT(\"Scores!\"&\"R\"&MATCH('Individual Scores'!$D91,Scores!$F$1:$F$253,0)&\"C\"&COLUMN(Scores!S$1),FALSE))","v":882},{"$f":"IF(MAX('Individual Scores'!Q91:V91)>0,MAX('Individual Scores'!Q91:V91),\"\")","v":176},{"$f":"IF(MAX(SUM('Individual Scores'!Q91:S91),SUM('Individual Scores'!T91:V91))>0,MAX(SUM('Individual Scores'!Q91:S91),SUM('Individual Scores'!T91:V91)),\"\")","v":484},null,{"$f":"IF('Team Scores'!$Z$1<2,\"\",IF(ISERROR(MATCH('Individual Scores'!$D91,Scores!$F$253:$F$506,0)),\"\",INDIRECT(\"Scores!\"&\"R\"&(ROW(Scores!$253:$253)-1+MATCH('Individual Scores'!$D91,Scores!$F$253:$F$505,0))&\"C\"&COLUMN(Scores!J$1),FALSE)))","v":""},{"$f":"IF('Team Scores'!$Z$1<2,\"\",IF(ISERROR(MATCH('Individual Scores'!$D91,Scores!$F$253:$F$506,0)),\"\",INDIRECT(\"Scores!\"&\"R\"&(ROW(Scores!$253:$253)-1+MATCH('Individual Scores'!$D91,Scores!$F$253:$F$505,0))&\"C\"&COLUMN(Scores!K$1),FALSE)))","v":""},{"$f":"IF('Team Scores'!$Z$1<2,\"\",IF(ISERROR(MATCH('Individual Scores'!$D91,Scores!$F$253:$F$506,0)),\"\",INDIRECT(\"Scores!\"&\"R\"&(ROW(Scores!$253:$253)-1+MATCH('Individual Scores'!$D91,Scores!$F$253:$F$505,0))&\"C\"&COLUMN(Scores!L$1),FALSE)))","v":""},{"$f":"IF('Team Scores'!$Z$1<2,\"\",IF(ISERROR(MATCH('Individual Scores'!$D91,Scores!$F$253:$F$506,0)),\"\",INDIRECT(\"Scores!\"&\"R\"&(ROW(Scores!$253:$253)-1+MATCH('Individual Scores'!$D91,Scores!$F$253:$F$505,0))&\"C\"&COLUMN(Scores!N$1),FALSE)))","v":""},{"$f":"IF('Team Scores'!$Z$1<2,\"\",IF(ISERROR(MATCH('Individual Scores'!$D91,Scores!$F$253:$F$506,0)),\"\",INDIRECT(\"Scores!\"&\"R\"&(ROW(Scores!$253:$253)-1+MATCH('Individual Scores'!$D91,Scores!$F$253:$F$505,0))&\"C\"&COLUMN(Scores!O$1),FALSE)))","v":""},{"$f":"IF('Team Scores'!$Z$1<2,\"\",IF(ISERROR(MATCH('Individual Scores'!$D91,Scores!$F$253:$F$506,0)),\"\",INDIRECT(\"Scores!\"&\"R\"&(ROW(Scores!$253:$253)-1+MATCH('Individual Scores'!$D91,Scores!$F$253:$F$505,0))&\"C\"&COLUMN(Scores!P$1),FALSE)))","v":""},{"$f":"IF('Team Scores'!$Z$1<2,\"\",IF(ISERROR(MATCH('Individual Scores'!$D91,Scores!$F$253:$F$506,0)),\"\",INDIRECT(\"Scores!\"&\"R\"&(ROW(Scores!$253:$253)-1+MATCH('Individual Scores'!$D91,Scores!$F$253:$F$505,0))&\"C\"&COLUMN(Scores!S$1),FALSE)))","v":""},"","",null,{"$f":"IF('Team Scores'!$Z$1<3,\"\",IF(ISERROR(MATCH('Individual Scores'!$D91,Scores!$F$506:$F$759,0)),\"\",INDIRECT(\"Scores!\"&\"R\"&(ROW(Scores!$F$506:$F$759)-1+MATCH('Individual Scores'!$D91,Scores!$F$506:$F$759,0))&\"C\"&COLUMN(Scores!J$1),FALSE)))","v":""},{"$f":"IF('Team Scores'!$Z$1<3,\"\",IF(ISERROR(MATCH('Individual Scores'!$D91,Scores!$F$506:$F$759,0)),\"\",INDIRECT(\"Scores!\"&\"R\"&(ROW(Scores!$F$506:$F$759)-1+MATCH('Individual Scores'!$D91,Scores!$F$506:$F$759,0))&\"C\"&COLUMN(Scores!K$1),FALSE)))","v":""},{"$f":"IF('Team Scores'!$Z$1<3,\"\",IF(ISERROR(MATCH('Individual Scores'!$D91,Scores!$F$506:$F$759,0)),\"\",INDIRECT(\"Scores!\"&\"R\"&(ROW(Scores!$F$506:$F$759)-1+MATCH('Individual Scores'!$D91,Scores!$F$506:$F$759,0))&\"C\"&COLUMN(Scores!L$1),FALSE)))","v":""},{"$f":"IF('Team Scores'!$Z$1<3,\"\",IF(ISERROR(MATCH('Individual Scores'!$D91,Scores!$F$506:$F$759,0)),\"\",INDIRECT(\"Scores!\"&\"R\"&(ROW(Scores!$F$506:$F$759)-1+MATCH('Individual Scores'!$D91,Scores!$F$506:$F$759,0))&\"C\"&COLUMN(Scores!N$1),FALSE)))","v":""},{"$f":"IF('Team Scores'!$Z$1<3,\"\",IF(ISERROR(MATCH('Individual Scores'!$D91,Scores!$F$506:$F$759,0)),\"\",INDIRECT(\"Scores!\"&\"R\"&(ROW(Scores!$F$506:$F$759)-1+MATCH('Individual Scores'!$D91,Scores!$F$506:$F$759,0))&\"C\"&COLUMN(Scores!O$1),FALSE)))","v":""},{"$f":"IF('Team Scores'!$Z$1<3,\"\",IF(ISERROR(MATCH('Individual Scores'!$D91,Scores!$F$506:$F$759,0)),\"\",INDIRECT(\"Scores!\"&\"R\"&(ROW(Scores!$F$506:$F$759)-1+MATCH('Individual Scores'!$D91,Scores!$F$506:$F$759,0))&\"C\"&COLUMN(Scores!P$1),FALSE)))","v":""},{"$f":"IF('Team Scores'!$Z$1<3,\"\",IF(ISERROR(MATCH('Individual Scores'!$D91,Scores!$F$506:$F$759,0)),\"\",INDIRECT(\"Scores!\"&\"R\"&(ROW(Scores!$F$506:$F$759)-1+MATCH('Individual Scores'!$D91,Scores!$F$506:$F$759,0))&\"C\"&COLUMN(Scores!S$1),FALSE)))","v":""},"",""]
["NC","16-20","F","Brittany Worthy",null,null,null,null,null,null,null,null,null,null,1]
["NC","16-20","F","Vacant-NC_G_U20","","","",0,{"$f":"IF(COUNT(Q93:V93,AA93:AF93,AK93:AP93)>=18/3*'Team Scores'!$Z$1,IF(H93-VLOOKUP(B93&C93,'Individual Awards Computations'!$AY$54:$AZ$58,2,FALSE)=0,\"Leader \"&C93&\":\"&B93,H93-VLOOKUP(B93&C93,'Individual Awards Computations'!$AY$54:$AZ$58,2,FALSE)),\"\")","v":""},"","","","","",1,null,{"$f":"IF(ISERROR(MATCH('Individual Scores'!$D93,Scores!$F$1:$F$253,0)),\"\",INDIRECT(\"Scores!\"&\"R\"&MATCH('Individual Scores'!$D93,Scores!$F$1:$F$253,0)&\"C\"&COLUMN(Scores!J$1),FALSE))","v":""},{"$f":"IF(ISERROR(MATCH('Individual Scores'!$D93,Scores!$F$1:$F$253,0)),\"\",INDIRECT(\"Scores!\"&\"R\"&MATCH('Individual Scores'!$D93,Scores!$F$1:$F$253,0)&\"C\"&COLUMN(Scores!K$1),FALSE))","v":""},{"$f":"IF(ISERROR(MATCH('Individual Scores'!$D93,Scores!$F$1:$F$253,0)),\"\",INDIRECT(\"Scores!\"&\"R\"&MATCH('Individual Scores'!$D93,Scores!$F$1:$F$253,0)&\"C\"&COLUMN(Scores!L$1),FALSE))","v":""},{"$f":"IF(ISERROR(MATCH('Individual Scores'!$D93,Scores!$F$1:$F$253,0)),\"\",INDIRECT(\"Scores!\"&\"R\"&MATCH('Individual Scores'!$D93,Scores!$F$1:$F$253,0)&\"C\"&COLUMN(Scores!N$1),FALSE))","v":""},{"$f":"IF(ISERROR(MATCH('Individual Scores'!$D93,Scores!$F$1:$F$253,0)),\"\",INDIRECT(\"Scores!\"&\"R\"&MATCH('Individual Scores'!$D93,Scores!$F$1:$F$253,0)&\"C\"&COLUMN(Scores!O$1),FALSE))","v":""},{"$f":"IF(ISERROR(MATCH('Individual Scores'!$D93,Scores!$F$1:$F$253,0)),\"\",INDIRECT(\"Scores!\"&\"R\"&MATCH('Individual Scores'!$D93,Scores!$F$1:$F$253,0)&\"C\"&COLUMN(Scores!P$1),FALSE))","v":""},{"$f":"IF(ISERROR(MATCH('Individual Scores'!$D93,Scores!$F$1:$F$253,0)),\"\",INDIRECT(\"Scores!\"&\"R\"&MATCH('Individual Scores'!$D93,Scores!$F$1:$F$253,0)&\"C\"&COLUMN(Scores!S$1),FALSE))","v":""},{"$f":"IF(MAX('Individual Scores'!Q93:V93)>0,MAX('Individual Scores'!Q93:V93),\"\")","v":""},{"$f":"IF(MAX(SUM('Individual Scores'!Q93:S93),SUM('Individual Scores'!T93:V93))>0,MAX(SUM('Individual Scores'!Q93:S93),SUM('Individual Scores'!T93:V93)),\"\")","v":""},null,{"$f":"IF('Team Scores'!$Z$1<2,\"\",IF(ISERROR(MATCH('Individual Scores'!$D93,Scores!$F$253:$F$506,0)),\"\",INDIRECT(\"Scores!\"&\"R\"&(ROW(Scores!$253:$253)-1+MATCH('Individual Scores'!$D93,Scores!$F$253:$F$505,0))&\"C\"&COLUMN(Scores!J$1),FALSE)))","v":""},{"$f":"IF('Team Scores'!$Z$1<2,\"\",IF(ISERROR(MATCH('Individual Scores'!$D93,Scores!$F$253:$F$506,0)),\"\",INDIRECT(\"Scores!\"&\"R\"&(ROW(Scores!$253:$253)-1+MATCH('Individual Scores'!$D93,Scores!$F$253:$F$505,0))&\"C\"&COLUMN(Scores!K$1),FALSE)))","v":""},{"$f":"IF('Team Scores'!$Z$1<2,\"\",IF(ISERROR(MATCH('Individual Scores'!$D93,Scores!$F$253:$F$506,0)),\"\",INDIRECT(\"Scores!\"&\"R\"&(ROW(Scores!$253:$253)-1+MATCH('Individual Scores'!$D93,Scores!$F$253:$F$505,0))&\"C\"&COLUMN(Scores!L$1),FALSE)))","v":""},{"$f":"IF('Team Scores'!$Z$1<2,\"\",IF(ISERROR(MATCH('Individual Scores'!$D93,Scores!$F$253:$F$506,0)),\"\",INDIRECT(\"Scores!\"&\"R\"&(ROW(Scores!$253:$253)-1+MATCH('Individual Scores'!$D93,Scores!$F$253:$F$505,0))&\"C\"&COLUMN(Scores!N$1),FALSE)))","v":""},{"$f":"IF('Team Scores'!$Z$1<2,\"\",IF(ISERROR(MATCH('Individual Scores'!$D93,Scores!$F$253:$F$506,0)),\"\",INDIRECT(\"Scores!\"&\"R\"&(ROW(Scores!$253:$253)-1+MATCH('Individual Scores'!$D93,Scores!$F$253:$F$505,0))&\"C\"&COLUMN(Scores!O$1),FALSE)))","v":""},{"$f":"IF('Team Scores'!$Z$1<2,\"\",IF(ISERROR(MATCH('Individual Scores'!$D93,Scores!$F$253:$F$506,0)),\"\",INDIRECT(\"Scores!\"&\"R\"&(ROW(Scores!$253:$253)-1+MATCH('Individual Scores'!$D93,Scores!$F$253:$F$505,0))&\"C\"&COLUMN(Scores!P$1),FALSE)))","v":""},{"$f":"IF('Team Scores'!$Z$1<2,\"\",IF(ISERROR(MATCH('Individual Scores'!$D93,Scores!$F$253:$F$506,0)),\"\",INDIRECT(\"Scores!\"&\"R\"&(ROW(Scores!$253:$253)-1+MATCH('Individual Scores'!$D93,Scores!$F$253:$F$505,0))&\"C\"&COLUMN(Scores!S$1),FALSE)))","v":""},"","",null,{"$f":"IF('Team Scores'!$Z$1<3,\"\",IF(ISERROR(MATCH('Individual Scores'!$D93,Scores!$F$506:$F$759,0)),\"\",INDIRECT(\"Scores!\"&\"R\"&(ROW(Scores!$F$506:$F$759)-1+MATCH('Individual Scores'!$D93,Scores!$F$506:$F$759,0))&\"C\"&COLUMN(Scores!J$1),FALSE)))","v":""},{"$f":"IF('Team Scores'!$Z$1<3,\"\",IF(ISERROR(MATCH('Individual Scores'!$D93,Scores!$F$506:$F$759,0)),\"\",INDIRECT(\"Scores!\"&\"R\"&(ROW(Scores!$F$506:$F$759)-1+MATCH('Individual Scores'!$D93,Scores!$F$506:$F$759,0))&\"C\"&COLUMN(Scores!K$1),FALSE)))","v":""},{"$f":"IF('Team Scores'!$Z$1<3,\"\",IF(ISERROR(MATCH('Individual Scores'!$D93,Scores!$F$506:$F$759,0)),\"\",INDIRECT(\"Scores!\"&\"R\"&(ROW(Scores!$F$506:$F$759)-1+MATCH('Individual Scores'!$D93,Scores!$F$506:$F$759,0))&\"C\"&COLUMN(Scores!L$1),FALSE)))","v":""},{"$f":"IF('Team Scores'!$Z$1<3,\"\",IF(ISERROR(MATCH('Individual Scores'!$D93,Scores!$F$506:$F$759,0)),\"\",INDIRECT(\"Scores!\"&\"R\"&(ROW(Scores!$F$506:$F$759)-1+MATCH('Individual Scores'!$D93,Scores!$F$506:$F$759,0))&\"C\"&COLUMN(Scores!N$1),FALSE)))","v":""},{"$f":"IF('Team Scores'!$Z$1<3,\"\",IF(ISERROR(MATCH('Individual Scores'!$D93,Scores!$F$506:$F$759,0)),\"\",INDIRECT(\"Scores!\"&\"R\"&(ROW(Scores!$F$506:$F$759)-1+MATCH('Individual Scores'!$D93,Scores!$F$506:$F$759,0))&\"C\"&COLUMN(Scores!O$1),FALSE)))","v":""},{"$f":"IF('Team Scores'!$Z$1<3,\"\",IF(ISERROR(MATCH('Individual Scores'!$D93,Scores!$F$506:$F$759,0)),\"\",INDIRECT(\"Scores!\"&\"R\"&(ROW(Scores!$F$506:$F$759)-1+MATCH('Individual Scores'!$D93,Scores!$F$506:$F$759,0))&\"C\"&COLUMN(Scores!P$1),FALSE)))","v":""},{"$f":"IF('Team Scores'!$Z$1<3,\"\",IF(ISERROR(MATCH('Individual Scores'!$D93,Scores!$F$506:$F$759,0)),\"\",INDIRECT(\"Scores!\"&\"R\"&(ROW(Scores!$F$506:$F$759)-1+MATCH('Individual Scores'!$D93,Scores!$F$506:$F$759,0))&\"C\"&COLUMN(Scores!S$1),FALSE)))","v":""},"",""]
["NC","16-20","F","Jennifer Clemmer",{"$f":"W94","v":""},{"$f":"AG94","v":1010},{"$f":"AQ94","v":""},{"$f":"SUM(AQ94,AG94,W94)","v":1010},{"$f":"IF(COUNT(Q94:V94,AA94:AF94,AK94:AP94)>=18/3*'Team Scores'!$Z$1,IF(H94-VLOOKUP(B94&C94,'Individual Awards Computations'!$AY$54:$AZ$58,2,FALSE)=0,\"Leader \"&C94&\":\"&B94,H94-VLOOKUP(B94&C94,'Individual Awards Computations'!$AY$54:$AZ$58,2,FALSE)),\"\")","v":""},214,610,168.33333333333334,35,"133-203",1,null,{"$f":"IF(ISERROR(MATCH('Individual Scores'!$D94,Scores!$F$1:$F$253,0)),\"\",INDIRECT(\"Scores!\"&\"R\"&MATCH('Individual Scores'!$D94,Scores!$F$1:$F$253,0)&\"C\"&COLUMN(Scores!J$1),FALSE))","v":""},{"$f":"IF(ISERROR(MATCH('Individual Scores'!$D94,Scores!$F$1:$F$253,0)),\"\",INDIRECT(\"Scores!\"&\"R\"&MATCH('Individual Scores'!$D94,Scores!$F$1:$F$253,0)&\"C\"&COLUMN(Scores!K$1),FALSE))","v":""},{"$f":"IF(ISERROR(MATCH('Individual Scores'!$D94,Scores!$F$1:$F$253,0)),\"\",INDIRECT(\"Scores!\"&\"R\"&MATCH('Individual Scores'!$D94,Scores!$F$1:$F$253,0)&\"C\"&COLUMN(Scores!L$1),FALSE))","v":""},{"$f":"IF(ISERROR(MATCH('Individual Scores'!$D94,Scores!$F$1:$F$253,0)),\"\",INDIRECT(\"Scores!\"&\"R\"&MATCH('Individual Scores'!$D94,Scores!$F$1:$F$253,0)&\"C\"&COLUMN(Scores!N$1),FALSE))","v":""},{"$f":"IF(ISERROR(MATCH('Individual Scores'!$D94,Scores!$F$1:$F$253,0)),\"\",INDIRECT(\"Scores!\"&\"R\"&MATCH('Individual Scores'!$D94,Scores!$F$1:$F$253,0)&\"C\"&COLUMN(Scores!O$1),FALSE))","v":""},{"$f":"IF(ISERROR(MATCH('Individual Scores'!$D94,Scores!$F$1:$F$253,0)),\"\",INDIRECT(\"Scores!\"&\"R\"&MATCH('Individual Scores'!$D94,Scores!$F$1:$F$253,0)&\"C\"&COLUMN(Scores!P$1),FALSE))","v":""},{"$f":"IF(ISERROR(MATCH('Individual Scores'!$D94,Scores!$F$1:$F$253,0)),\"\",INDIRECT(\"Scores!\"&\"R\"&MATCH('Individual Scores'!$D94,Scores!$F$1:$F$253,0)&\"C\"&COLUMN(Scores!S$1),FALSE))","v":""},{"$f":"IF(MAX('Individual Scores'!Q94:V94)>0,MAX('Individual Scores'!Q94:V94),\"\")","v":""},{"$f":"IF(MAX(SUM('Individual Scores'!Q94:S94),SUM('Individual Scores'!T94:V94))>0,MAX(SUM('Individual Scores'!Q94:S94),SUM('Individual Scores'!T94:V94)),\"\")","v":""},null,{"$f":"IF('Team Scores'!$Z$1<2,\"\",IF(ISERROR(MATCH('Individual Scores'!$D94,Scores!$F$253:$F$506,0)),\"\",INDIRECT(\"Scores!\"&\"R\"&(ROW(Scores!$253:$253)-1+MATCH('Individual Scores'!$D94,Scores!$F$253:$F$505,0))&\"C\"&COLUMN(Scores!J$1),FALSE)))","v":194},{"$f":"IF('Team Scores'!$Z$1<2,\"\",IF(ISERROR(MATCH('Individual Scores'!$D94,Scores!$F$253:$F$506,0)),\"\",INDIRECT(\"Scores!\"&\"R\"&(ROW(Scores!$253:$253)-1+MATCH('Individual Scores'!$D94,Scores!$F$253:$F$505,0))&\"C\"&COLUMN(Scores!K$1),FALSE)))","v":202},{"$f":"IF('Team Scores'!$Z$1<2,\"\",IF(ISERROR(MATCH('Individual Scores'!$D94,Scores!$F$253:$F$506,0)),\"\",INDIRECT(\"Scores!\"&\"R\"&(ROW(Scores!$253:$253)-1+MATCH('Individual Scores'!$D94,Scores!$F$253:$F$505,0))&\"C\"&COLUMN(Scores!L$1),FALSE)))","v":214},{"$f":"IF('Team Scores'!$Z$1<2,\"\",IF(ISERROR(MATCH('Individual Scores'!$D94,Scores!$F$253:$F$506,0)),\"\",INDIRECT(\"Scores!\"&\"R\"&(ROW(Scores!$253:$253)-1+MATCH('Individual Scores'!$D94,Scores!$F$253:$F$505,0))&\"C\"&COLUMN(Scores!N$1),FALSE)))","v":119},{"$f":"IF('Team Scores'!$Z$1<2,\"\",IF(ISERROR(MATCH('Individual Scores'!$D94,Scores!$F$253:$F$506,0)),\"\",INDIRECT(\"Scores!\"&\"R\"&(ROW(Scores!$253:$253)-1+MATCH('Individual Scores'!$D94,Scores!$F$253:$F$505,0))&\"C\"&COLUMN(Scores!O$1),FALSE)))","v":138},{"$f":"IF('Team Scores'!$Z$1<2,\"\",IF(ISERROR(MATCH('Individual Scores'!$D94,Scores!$F$253:$F$506,0)),\"\",INDIRECT(\"Scores!\"&\"R\"&(ROW(Scores!$253:$253)-1+MATCH('Individual Scores'!$D94,Scores!$F$253:$F$505,0))&\"C\"&COLUMN(Scores!P$1),FALSE)))","v":143},{"$f":"IF('Team Scores'!$Z$1<2,\"\",IF(ISERROR(MATCH('Individual Scores'!$D94,Scores!$F$253:$F$506,0)),\"\",INDIRECT(\"Scores!\"&\"R\"&(ROW(Scores!$253:$253)-1+MATCH('Individual Scores'!$D94,Scores!$F$253:$F$505,0))&\"C\"&COLUMN(Scores!S$1),FALSE)))","v":1010},{"$f":"IF(MAX(AA94:AF94)>0,MAX(AA94:AF94),\"\")","v":214},{"$f":"IF(MAX(SUM(AA94:AC94),SUM(AD94:AF94))>0,MAX(SUM(AA94:AC94),SUM(AD94:AF94)),\"\")","v":610},null,{"$f":"IF('Team Scores'!$Z$1<3,\"\",IF(ISERROR(MATCH('Individual Scores'!$D94,Scores!$F$506:$F$759,0)),\"\",INDIRECT(\"Scores!\"&\"R\"&(ROW(Scores!$F$506:$F$759)-1+MATCH('Individual Scores'!$D94,Scores!$F$506:$F$759,0))&\"C\"&COLUMN(Scores!J$1),FALSE)))","v":""},{"$f":"IF('Team Scores'!$Z$1<3,\"\",IF(ISERROR(MATCH('Individual Scores'!$D94,Scores!$F$506:$F$759,0)),\"\",INDIRECT(\"Scores!\"&\"R\"&(ROW(Scores!$F$506:$F$759)-1+MATCH('Individual Scores'!$D94,Scores!$F$506:$F$759,0))&\"C\"&COLUMN(Scores!K$1),FALSE)))","v":""},{"$f":"IF('Team Scores'!$Z$1<3,\"\",IF(ISERROR(MATCH('Individual Scores'!$D94,Scores!$F$506:$F$759,0)),\"\",INDIRECT(\"Scores!\"&\"R\"&(ROW(Scores!$F$506:$F$759)-1+MATCH('Individual Scores'!$D94,Scores!$F$506:$F$759,0))&\"C\"&COLUMN(Scores!L$1),FALSE)))","v":""},{"$f":"IF('Team Scores'!$Z$1<3,\"\",IF(ISERROR(MATCH('Individual Scores'!$D94,Scores!$F$506:$F$759,0)),\"\",INDIRECT(\"Scores!\"&\"R\"&(ROW(Scores!$F$506:$F$759)-1+MATCH('Individual Scores'!$D94,Scores!$F$506:$F$759,0))&\"C\"&COLUMN(Scores!N$1),FALSE)))","v":""},{"$f":"IF('Team Scores'!$Z$1<3,\"\",IF(ISERROR(MATCH('Individual Scores'!$D94,Scores!$F$506:$F$759,0)),\"\",INDIRECT(\"Scores!\"&\"R\"&(ROW(Scores!$F$506:$F$759)-1+MATCH('Individual Scores'!$D94,Scores!$F$506:$F$759,0))&\"C\"&COLUMN(Scores!O$1),FALSE)))","v":""},{"$f":"IF('Team Scores'!$Z$1<3,\"\",IF(ISERROR(MATCH('Individual Scores'!$D94,Scores!$F$506:$F$759,0)),\"\",INDIRECT(\"Scores!\"&\"R\"&(ROW(Scores!$F$506:$F$759)-1+MATCH('Individual Scores'!$D94,Scores!$F$506:$F$759,0))&\"C\"&COLUMN(Scores!P$1),FALSE)))","v":""},{"$f":"IF('Team Scores'!$Z$1<3,\"\",IF(ISERROR(MATCH('Individual Scores'!$D94,Scores!$F$506:$F$759,0)),\"\",INDIRECT(\"Scores!\"&\"R\"&(ROW(Scores!$F$506:$F$759)-1+MATCH('Individual Scores'!$D94,Scores!$F$506:$F$759,0))&\"C\"&COLUMN(Scores!S$1),FALSE)))","v":""},"",""]
["NC","16-20","M","Jay Hargrove",{"$f":"W95","v":1207},{"$f":"AG95","v":1148},{"$f":"AQ95","v":""},{"$f":"SUM(AQ95,AG95,W95)","v":2355},{"$f":"IF(COUNT(Q95:V95,AA95:AF95,AK95:AP95)>=18/3*'Team Scores'!$Z$1,IF(H95-VLOOKUP(B95&C95,'Individual Awards Computations'!$AY$54:$AZ$58,2,FALSE)=0,\"Leader \"&C95&\":\"&B95,H95-VLOOKUP(B95&C95,'Individual Awards Computations'!$AY$54:$AZ$58,2,FALSE)),\"\")","v":""},248,681,201.16666666666666,25.833333333333332,"175-227",1,null,{"$f":"IF(ISERROR(MATCH('Individual Scores'!$D95,Scores!$F$1:$F$253,0)),\"\",INDIRECT(\"Scores!\"&\"R\"&MATCH('Individual Scores'!$D95,Scores!$F$1:$F$253,0)&\"C\"&COLUMN(Scores!J$1),FALSE))","v":248},{"$f":"IF(ISERROR(MATCH('Individual Scores'!$D95,Scores!$F$1:$F$253,0)),\"\",INDIRECT(\"Scores!\"&\"R\"&MATCH('Individual Scores'!$D95,Scores!$F$1:$F$253,0)&\"C\"&COLUMN(Scores!K$1),FALSE))","v":220},{"$f":"IF(ISERROR(MATCH('Individual Scores'!$D95,Scores!$F$1:$F$253,0)),\"\",INDIRECT(\"Scores!\"&\"R\"&MATCH('Individual Scores'!$D95,Scores!$F$1:$F$253,0)&\"C\"&COLUMN(Scores!L$1),FALSE))","v":213},{"$f":"IF(ISERROR(MATCH('Individual Scores'!$D95,Scores!$F$1:$F$253,0)),\"\",INDIRECT(\"Scores!\"&\"R\"&MATCH('Individual Scores'!$D95,Scores!$F$1:$F$253,0)&\"C\"&COLUMN(Scores!N$1),FALSE))","v":160},{"$f":"IF(ISERROR(MATCH('Individual Scores'!$D95,Scores!$F$1:$F$253,0)),\"\",INDIRECT(\"Scores!\"&\"R\"&MATCH('Individual Scores'!$D95,Scores!$F$1:$F$253,0)&\"C\"&COLUMN(Scores!O$1),FALSE))","v":179},{"$f":"IF(ISERROR(MATCH('Individual Scores'!$D95,Scores!$F$1:$F$253,0)),\"\",INDIRECT(\"Scores!\"&\"R\"&MATCH('Individual Scores'!$D95,Scores!$F$1:$F$253,0)&\"C\"&COLUMN(Scores!P$1),FALSE))","v":187},{"$f":"IF(ISERROR(MATCH('Individual Scores'!$D95,Scores!$F$1:$F$253,0)),\"\",INDIRECT(\"Scores!\"&\"R\"&MATCH('Individual Scores'!$D95,Scores!$F$1:$F$253,0)&\"C\"&COLUMN(Scores!S$1),FALSE))","v":1207},{"$f":"IF(MAX('Individual Scores'!Q95:V95)>0,MAX('Individual Scores'!Q95:V95),\"\")","v":248},{"$f":"IF(MAX(SUM('Individual Scores'!Q95:S95),SUM('Individual Scores'!T95:V95))>0,MAX(SUM('Individual Scores'!Q95:S95),SUM('Individual Scores'!T95:V95)),\"\")","v":681},null,{"$f":"IF('Team Scores'!$Z$1<2,\"\",IF(ISERROR(MATCH('Individual Scores'!$BF93,Scores!$F$253:$F$506,0)),\"\",INDIRECT(\"Scores!\"&\"R\"&(ROW(Scores!$253:$253)-1+MATCH('Individual Scores'!$BF93,Scores!$F$253:$F$505,0))&\"C\"&COLUMN(Scores!#REF!),FALSE)))","v":""},{"$f":"IF('Team Scores'!$Z$1<2,\"\",IF(ISERROR(MATCH('Individual Scores'!$BF93,Scores!$F$253:$F$506,0)),\"\",INDIRECT(\"Scores!\"&\"R\"&(ROW(Scores!$253:$253)-1+MATCH('Individual Scores'!$BF93,Scores!$F$253:$F$505,0))&\"C\"&COLUMN(Scores!#REF!),FALSE)))","v":""},{"$f":"IF('Team Scores'!$Z$1<2,\"\",IF(ISERROR(MATCH('Individual Scores'!$BF93,Scores!$F$253:$F$506,0)),\"\",INDIRECT(\"Scores!\"&\"R\"&(ROW(Scores!$253:$253)-1+MATCH('Individual Scores'!$BF93,Scores!$F$253:$F$505,0))&\"C\"&COLUMN(Scores!#REF!),FALSE)))","v":""},{"$f":"IF('Team Scores'!$Z$1<2,\"\",IF(ISERROR(MATCH('Individual Scores'!$BF93,Scores!$F$253:$F$506,0)),\"\",INDIRECT(\"Scores!\"&\"R\"&(ROW(Scores!$253:$253)-1+MATCH('Individual Scores'!$BF93,Scores!$F$253:$F$505,0))&\"C\"&COLUMN(Scores!#REF!),FALSE)))","v":""},{"$f":"IF('Team Scores'!$Z$1<2,\"\",IF(ISERROR(MATCH('Individual Scores'!$BF93,Scores!$F$253:$F$506,0)),\"\",INDIRECT(\"Scores!\"&\"R\"&(ROW(Scores!$253:$253)-1+MATCH('Individual Scores'!$BF93,Scores!$F$253:$F$505,0))&\"C\"&COLUMN(Scores!#REF!),FALSE)))","v":""},{"$f":"IF('Team Scores'!$Z$1<2,\"\",IF(ISERROR(MATCH('Individual Scores'!$BF93,Scores!$F$253:$F$506,0)),\"\",INDIRECT(\"Scores!\"&\"R\"&(ROW(Scores!$253:$253)-1+MATCH('Individual Scores'!$BF93,Scores!$F$253:$F$505,0))&\"C\"&COLUMN(Scores!#REF!),FALSE)))","v":""},{"$f":"IF('Team Scores'!$Z$1<2,\"\",IF(ISERROR(MATCH('Individual Scores'!$D95,Scores!$F$253:$F$506,0)),\"\",INDIRECT(\"Scores!\"&\"R\"&(ROW(Scores!$253:$253)-1+MATCH('Individual Scores'!$D95,Scores!$F$253:$F$505,0))&\"C\"&COLUMN(Scores!S$1),FALSE)))","v":1148},{"$f":"IF(MAX(AA95:AF95)>0,MAX(AA95:AF95),\"\")","v":""},{"$f":"IF(MAX(SUM(AA95:AC95),SUM(AD95:AF95))>0,MAX(SUM(AA95:AC95),SUM(AD95:AF95)),\"\")","v":""},null,{"$f":"IF('Team Scores'!$Z$1<3,\"\",IF(ISERROR(MATCH('Individual Scores'!$D95,Scores!$F$506:$F$759,0)),\"\",INDIRECT(\"Scores!\"&\"R\"&(ROW(Scores!$F$506:$F$759)-1+MATCH('Individual Scores'!$D95,Scores!$F$506:$F$759,0))&\"C\"&COLUMN(Scores!J$1),FALSE)))","v":""},{"$f":"IF('Team Scores'!$Z$1<3,\"\",IF(ISERROR(MATCH('Individual Scores'!$D95,Scores!$F$506:$F$759,0)),\"\",INDIRECT(\"Scores!\"&\"R\"&(ROW(Scores!$F$506:$F$759)-1+MATCH('Individual Scores'!$D95,Scores!$F$506:$F$759,0))&\"C\"&COLUMN(Scores!K$1),FALSE)))","v":""},{"$f":"IF('Team Scores'!$Z$1<3,\"\",IF(ISERROR(MATCH('Individual Scores'!$D95,Scores!$F$506:$F$759,0)),\"\",INDIRECT(\"Scores!\"&\"R\"&(ROW(Scores!$F$506:$F$759)-1+MATCH('Individual Scores'!$D95,Scores!$F$506:$F$759,0))&\"C\"&COLUMN(Scores!L$1),FALSE)))","v":""},{"$f":"IF('Team Scores'!$Z$1<3,\"\",IF(ISERROR(MATCH('Individual Scores'!$D95,Scores!$F$506:$F$759,0)),\"\",INDIRECT(\"Scores!\"&\"R\"&(ROW(Scores!$F$506:$F$759)-1+MATCH('Individual Scores'!$D95,Scores!$F$506:$F$759,0))&\"C\"&COLUMN(Scores!N$1),FALSE)))","v":""},{"$f":"IF('Team Scores'!$Z$1<3,\"\",IF(ISERROR(MATCH('Individual Scores'!$D95,Scores!$F$506:$F$759,0)),\"\",INDIRECT(\"Scores!\"&\"R\"&(ROW(Scores!$F$506:$F$759)-1+MATCH('Individual Scores'!$D95,Scores!$F$506:$F$759,0))&\"C\"&COLUMN(Scores!O$1),FALSE)))","v":""},{"$f":"IF('Team Scores'!$Z$1<3,\"\",IF(ISERROR(MATCH('Individual Scores'!$D95,Scores!$F$506:$F$759,0)),\"\",INDIRECT(\"Scores!\"&\"R\"&(ROW(Scores!$F$506:$F$759)-1+MATCH('Individual Scores'!$D95,Scores!$F$506:$F$759,0))&\"C\"&COLUMN(Scores!P$1),FALSE)))","v":""},{"$f":"IF('Team Scores'!$Z$1<3,\"\",IF(ISERROR(MATCH('Individual Scores'!$D95,Scores!$F$506:$F$759,0)),\"\",INDIRECT(\"Scores!\"&\"R\"&(ROW(Scores!$F$506:$F$759)-1+MATCH('Individual Scores'!$D95,Scores!$F$506:$F$759,0))&\"C\"&COLUMN(Scores!S$1),FALSE)))","v":""},"",""]
["NC","16-20","M","Trevor Cross",1153,1142,"",2295,{"$f":"IF(COUNT(Q96:V96,AA96:AF96,AK96:AP96)>=18/3*'Team Scores'!$Z$1,IF(H96-VLOOKUP(B96&C96,'Individual Awards Computations'!$AY$54:$AZ$58,2,FALSE)=0,\"Leader \"&C96&\":\"&B96,H96-VLOOKUP(B96&C96,'Individual Awards Computations'!$AY$54:$AZ$58,2,FALSE)),\"\")","v":""},218,593,192.16666666666666,16.5,"176-209",1,null,{"$f":"IF(ISERROR(MATCH('Individual Scores'!$D96,Scores!$F$1:$F$253,0)),\"\",INDIRECT(\"Scores!\"&\"R\"&MATCH('Individual Scores'!$D96,Scores!$F$1:$F$253,0)&\"C\"&COLUMN(Scores!J$1),FALSE))","v":196},{"$f":"IF(ISERROR(MATCH('Individual Scores'!$D96,Scores!$F$1:$F$253,0)),\"\",INDIRECT(\"Scores!\"&\"R\"&MATCH('Individual Scores'!$D96,Scores!$F$1:$F$253,0)&\"C\"&COLUMN(Scores!K$1),FALSE))","v":185},{"$f":"IF(ISERROR(MATCH('Individual Scores'!$D96,Scores!$F$1:$F$253,0)),\"\",INDIRECT(\"Scores!\"&\"R\"&MATCH('Individual Scores'!$D96,Scores!$F$1:$F$253,0)&\"C\"&COLUMN(Scores!L$1),FALSE))","v":212},{"$f":"IF(ISERROR(MATCH('Individual Scores'!$D96,Scores!$F$1:$F$253,0)),\"\",INDIRECT(\"Scores!\"&\"R\"&MATCH('Individual Scores'!$D96,Scores!$F$1:$F$253,0)&\"C\"&COLUMN(Scores!N$1),FALSE))","v":172},{"$f":"IF(ISERROR(MATCH('Individual Scores'!$D96,Scores!$F$1:$F$253,0)),\"\",INDIRECT(\"Scores!\"&\"R\"&MATCH('Individual Scores'!$D96,Scores!$F$1:$F$253,0)&\"C\"&COLUMN(Scores!O$1),FALSE))","v":170},{"$f":"IF(ISERROR(MATCH('Individual Scores'!$D96,Scores!$F$1:$F$253,0)),\"\",INDIRECT(\"Scores!\"&\"R\"&MATCH('Individual Scores'!$D96,Scores!$F$1:$F$253,0)&\"C\"&COLUMN(Scores!P$1),FALSE))","v":218},{"$f":"IF(ISERROR(MATCH('Individual Scores'!$D96,Scores!$F$1:$F$253,0)),\"\",INDIRECT(\"Scores!\"&\"R\"&MATCH('Individual Scores'!$D96,Scores!$F$1:$F$253,0)&\"C\"&COLUMN(Scores!S$1),FALSE))","v":1153},{"$f":"IF(MAX('Individual Scores'!Q96:V96)>0,MAX('Individual Scores'!Q96:V96),\"\")","v":218},{"$f":"IF(MAX(SUM('Individual Scores'!Q96:S96),SUM('Individual Scores'!T96:V96))>0,MAX(SUM('Individual Scores'!Q96:S96),SUM('Individual Scores'!T96:V96)),\"\")","v":593},null,{"$f":"IF('Team Scores'!$Z$1<2,\"\",IF(ISERROR(MATCH('Individual Scores'!$BF94,Scores!$F$253:$F$506,0)),\"\",INDIRECT(\"Scores!\"&\"R\"&(ROW(Scores!$253:$253)-1+MATCH('Individual Scores'!$BF94,Scores!$F$253:$F$505,0))&\"C\"&COLUMN(Scores!#REF!),FALSE)))","v":""},{"$f":"IF('Team Scores'!$Z$1<2,\"\",IF(ISERROR(MATCH('Individual Scores'!$BF94,Scores!$F$253:$F$506,0)),\"\",INDIRECT(\"Scores!\"&\"R\"&(ROW(Scores!$253:$253)-1+MATCH('Individual Scores'!$BF94,Scores!$F$253:$F$505,0))&\"C\"&COLUMN(Scores!#REF!),FALSE)))","v":""},{"$f":"IF('Team Scores'!$Z$1<2,\"\",IF(ISERROR(MATCH('Individual Scores'!$BF94,Scores!$F$253:$F$506,0)),\"\",INDIRECT(\"Scores!\"&\"R\"&(ROW(Scores!$253:$253)-1+MATCH('Individual Scores'!$BF94,Scores!$F$253:$F$505,0))&\"C\"&COLUMN(Scores!#REF!),FALSE)))","v":""},{"$f":"IF('Team Scores'!$Z$1<2,\"\",IF(ISERROR(MATCH('Individual Scores'!$BF94,Scores!$F$253:$F$506,0)),\"\",INDIRECT(\"Scores!\"&\"R\"&(ROW(Scores!$253:$253)-1+MATCH('Individual Scores'!$BF94,Scores!$F$253:$F$505,0))&\"C\"&COLUMN(Scores!#REF!),FALSE)))","v":""},{"$f":"IF('Team Scores'!$Z$1<2,\"\",IF(ISERROR(MATCH('Individual Scores'!$BF94,Scores!$F$253:$F$506,0)),\"\",INDIRECT(\"Scores!\"&\"R\"&(ROW(Scores!$253:$253)-1+MATCH('Individual Scores'!$BF94,Scores!$F$253:$F$505,0))&\"C\"&COLUMN(Scores!#REF!),FALSE)))","v":""},{"$f":"IF('Team Scores'!$Z$1<2,\"\",IF(ISERROR(MATCH('Individual Scores'!$BF94,Scores!$F$253:$F$506,0)),\"\",INDIRECT(\"Scores!\"&\"R\"&(ROW(Scores!$253:$253)-1+MATCH('Individual Scores'!$BF94,Scores!$F$253:$F$505,0))&\"C\"&COLUMN(Scores!#REF!),FALSE)))","v":""},{"$f":"IF('Team Scores'!$Z$1<2,\"\",IF(ISERROR(MATCH('Individual Scores'!$D96,Scores!$F$253:$F$506,0)),\"\",INDIRECT(\"Scores!\"&\"R\"&(ROW(Scores!$253:$253)-1+MATCH('Individual Scores'!$D96,Scores!$F$253:$F$505,0))&\"C\"&COLUMN(Scores!S$1),FALSE)))","v":1142},"","",null,{"$f":"IF('Team Scores'!$Z$1<3,\"\",IF(ISERROR(MATCH('Individual Scores'!$D96,Scores!$F$506:$F$759,0)),\"\",INDIRECT(\"Scores!\"&\"R\"&(ROW(Scores!$F$506:$F$759)-1+MATCH('Individual Scores'!$D96,Scores!$F$506:$F$759,0))&\"C\"&COLUMN(Scores!J$1),FALSE)))","v":""},{"$f":"IF('Team Scores'!$Z$1<3,\"\",IF(ISERROR(MATCH('Individual Scores'!$D96,Scores!$F$506:$F$759,0)),\"\",INDIRECT(\"Scores!\"&\"R\"&(ROW(Scores!$F$506:$F$759)-1+MATCH('Individual Scores'!$D96,Scores!$F$506:$F$759,0))&\"C\"&COLUMN(Scores!K$1),FALSE)))","v":""},{"$f":"IF('Team Scores'!$Z$1<3,\"\",IF(ISERROR(MATCH('Individual Scores'!$D96,Scores!$F$506:$F$759,0)),\"\",INDIRECT(\"Scores!\"&\"R\"&(ROW(Scores!$F$506:$F$759)-1+MATCH('Individual Scores'!$D96,Scores!$F$506:$F$759,0))&\"C\"&COLUMN(Scores!L$1),FALSE)))","v":""},{"$f":"IF('Team Scores'!$Z$1<3,\"\",IF(ISERROR(MATCH('Individual Scores'!$D96,Scores!$F$506:$F$759,0)),\"\",INDIRECT(\"Scores!\"&\"R\"&(ROW(Scores!$F$506:$F$759)-1+MATCH('Individual Scores'!$D96,Scores!$F$506:$F$759,0))&\"C\"&COLUMN(Scores!N$1),FALSE)))","v":""},{"$f":"IF('Team Scores'!$Z$1<3,\"\",IF(ISERROR(MATCH('Individual Scores'!$D96,Scores!$F$506:$F$759,0)),\"\",INDIRECT(\"Scores!\"&\"R\"&(ROW(Scores!$F$506:$F$759)-1+MATCH('Individual Scores'!$D96,Scores!$F$506:$F$759,0))&\"C\"&COLUMN(Scores!O$1),FALSE)))","v":""},{"$f":"IF('Team Scores'!$Z$1<3,\"\",IF(ISERROR(MATCH('Individual Scores'!$D96,Scores!$F$506:$F$759,0)),\"\",INDIRECT(\"Scores!\"&\"R\"&(ROW(Scores!$F$506:$F$759)-1+MATCH('Individual Scores'!$D96,Scores!$F$506:$F$759,0))&\"C\"&COLUMN(Scores!P$1),FALSE)))","v":""},{"$f":"IF('Team Scores'!$Z$1<3,\"\",IF(ISERROR(MATCH('Individual Scores'!$D96,Scores!$F$506:$F$759,0)),\"\",INDIRECT(\"Scores!\"&\"R\"&(ROW(Scores!$F$506:$F$759)-1+MATCH('Individual Scores'!$D96,Scores!$F$506:$F$759,0))&\"C\"&COLUMN(Scores!S$1),FALSE)))","v":""},"",""]
["NC","16-20","M","Troy White",1138,1532,"",2670,{"$f":"IF(COUNT(Q97:V97,AA97:AF97,AK97:AP97)>=18/3*'Team Scores'!$Z$1,IF(H97-VLOOKUP(B97&C97,'Individual Awards Computations'!$AY$54:$AZ$58,2,FALSE)=0,\"Leader \"&C97&\":\"&B97,H97-VLOOKUP(B97&C97,'Individual Awards Computations'!$AY$54:$AZ$58,2,FALSE)),\"\")","v":"Leader M:16-20"},279,801,222.5,34.833333333333336,"188-257",1,null,{"$f":"IF(ISERROR(MATCH('Individual Scores'!$D97,Scores!$F$1:$F$253,0)),\"\",INDIRECT(\"Scores!\"&\"R\"&MATCH('Individual Scores'!$D97,Scores!$F$1:$F$253,0)&\"C\"&COLUMN(Scores!J$1),FALSE))","v":193},{"$f":"IF(ISERROR(MATCH('Individual Scores'!$D97,Scores!$F$1:$F$253,0)),\"\",INDIRECT(\"Scores!\"&\"R\"&MATCH('Individual Scores'!$D97,Scores!$F$1:$F$253,0)&\"C\"&COLUMN(Scores!K$1),FALSE))","v":224},{"$f":"IF(ISERROR(MATCH('Individual Scores'!$D97,Scores!$F$1:$F$253,0)),\"\",INDIRECT(\"Scores!\"&\"R\"&MATCH('Individual Scores'!$D97,Scores!$F$1:$F$253,0)&\"C\"&COLUMN(Scores!L$1),FALSE))","v":210},{"$f":"IF(ISERROR(MATCH('Individual Scores'!$D97,Scores!$F$1:$F$253,0)),\"\",INDIRECT(\"Scores!\"&\"R\"&MATCH('Individual Scores'!$D97,Scores!$F$1:$F$253,0)&\"C\"&COLUMN(Scores!N$1),FALSE))","v":126},{"$f":"IF(ISERROR(MATCH('Individual Scores'!$D97,Scores!$F$1:$F$253,0)),\"\",INDIRECT(\"Scores!\"&\"R\"&MATCH('Individual Scores'!$D97,Scores!$F$1:$F$253,0)&\"C\"&COLUMN(Scores!O$1),FALSE))","v":194},{"$f":"IF(ISERROR(MATCH('Individual Scores'!$D97,Scores!$F$1:$F$253,0)),\"\",INDIRECT(\"Scores!\"&\"R\"&MATCH('Individual Scores'!$D97,Scores!$F$1:$F$253,0)&\"C\"&COLUMN(Scores!P$1),FALSE))","v":191},{"$f":"IF(ISERROR(MATCH('Individual Scores'!$D97,Scores!$F$1:$F$253,0)),\"\",INDIRECT(\"Scores!\"&\"R\"&MATCH('Individual Scores'!$D97,Scores!$F$1:$F$253,0)&\"C\"&COLUMN(Scores!S$1),FALSE))","v":1138},{"$f":"IF(MAX('Individual Scores'!Q97:V97)>0,MAX('Individual Scores'!Q97:V97),\"\")","v":224},{"$f":"IF(MAX(SUM('Individual Scores'!Q97:S97),SUM('Individual Scores'!T97:V97))>0,MAX(SUM('Individual Scores'!Q97:S97),SUM('Individual Scores'!T97:V97)),\"\")","v":627},null,{"$f":"IF('Team Scores'!$Z$1<2,\"\",IF(ISERROR(MATCH('Individual Scores'!$D97,Scores!$F$253:$F$506,0)),\"\",INDIRECT(\"Scores!\"&\"R\"&(ROW(Scores!$253:$253)-1+MATCH('Individual Scores'!$D97,Scores!$F$253:$F$505,0))&\"C\"&COLUMN(Scores!J$1),FALSE)))","v":212},{"$f":"IF('Team Scores'!$Z$1<2,\"\",IF(ISERROR(MATCH('Individual Scores'!$D97,Scores!$F$253:$F$506,0)),\"\",INDIRECT(\"Scores!\"&\"R\"&(ROW(Scores!$253:$253)-1+MATCH('Individual Scores'!$D97,Scores!$F$253:$F$505,0))&\"C\"&COLUMN(Scores!K$1),FALSE)))","v":241},{"$f":"IF('Team Scores'!$Z$1<2,\"\",IF(ISERROR(MATCH('Individual Scores'!$D97,Scores!$F$253:$F$506,0)),\"\",INDIRECT(\"Scores!\"&\"R\"&(ROW(Scores!$253:$253)-1+MATCH('Individual Scores'!$D97,Scores!$F$253:$F$505,0))&\"C\"&COLUMN(Scores!L$1),FALSE)))","v":278},{"$f":"IF('Team Scores'!$Z$1<2,\"\",IF(ISERROR(MATCH('Individual Scores'!$D97,Scores!$F$253:$F$506,0)),\"\",INDIRECT(\"Scores!\"&\"R\"&(ROW(Scores!$253:$253)-1+MATCH('Individual Scores'!$D97,Scores!$F$253:$F$505,0))&\"C\"&COLUMN(Scores!N$1),FALSE)))","v":265},{"$f":"IF('Team Scores'!$Z$1<2,\"\",IF(ISERROR(MATCH('Individual Scores'!$D97,Scores!$F$253:$F$506,0)),\"\",INDIRECT(\"Scores!\"&\"R\"&(ROW(Scores!$253:$253)-1+MATCH('Individual Scores'!$D97,Scores!$F$253:$F$505,0))&\"C\"&COLUMN(Scores!O$1),FALSE)))","v":257},{"$f":"IF('Team Scores'!$Z$1<2,\"\",IF(ISERROR(MATCH('Individual Scores'!$D97,Scores!$F$253:$F$506,0)),\"\",INDIRECT(\"Scores!\"&\"R\"&(ROW(Scores!$253:$253)-1+MATCH('Individual Scores'!$D97,Scores!$F$253:$F$505,0))&\"C\"&COLUMN(Scores!P$1),FALSE)))","v":279},{"$f":"IF('Team Scores'!$Z$1<2,\"\",IF(ISERROR(MATCH('Individual Scores'!$D97,Scores!$F$253:$F$506,0)),\"\",INDIRECT(\"Scores!\"&\"R\"&(ROW(Scores!$253:$253)-1+MATCH('Individual Scores'!$D97,Scores!$F$253:$F$505,0))&\"C\"&COLUMN(Scores!S$1),FALSE)))","v":1532},279,801,null,{"$f":"IF('Team Scores'!$Z$1<3,\"\",IF(ISERROR(MATCH('Individual Scores'!$D97,Scores!$F$506:$F$759,0)),\"\",INDIRECT(\"Scores!\"&\"R\"&(ROW(Scores!$F$506:$F$759)-1+MATCH('Individual Scores'!$D97,Scores!$F$506:$F$759,0))&\"C\"&COLUMN(Scores!J$1),FALSE)))","v":""},{"$f":"IF('Team Scores'!$Z$1<3,\"\",IF(ISERROR(MATCH('Individual Scores'!$D97,Scores!$F$506:$F$759,0)),\"\",INDIRECT(\"Scores!\"&\"R\"&(ROW(Scores!$F$506:$F$759)-1+MATCH('Individual Scores'!$D97,Scores!$F$506:$F$759,0))&\"C\"&COLUMN(Scores!K$1),FALSE)))","v":""},{"$f":"IF('Team Scores'!$Z$1<3,\"\",IF(ISERROR(MATCH('Individual Scores'!$D97,Scores!$F$506:$F$759,0)),\"\",INDIRECT(\"Scores!\"&\"R\"&(ROW(Scores!$F$506:$F$759)-1+MATCH('Individual Scores'!$D97,Scores!$F$506:$F$759,0))&\"C\"&COLUMN(Scores!L$1),FALSE)))","v":""},{"$f":"IF('Team Scores'!$Z$1<3,\"\",IF(ISERROR(MATCH('Individual Scores'!$D97,Scores!$F$506:$F$759,0)),\"\",INDIRECT(\"Scores!\"&\"R\"&(ROW(Scores!$F$506:$F$759)-1+MATCH('Individual Scores'!$D97,Scores!$F$506:$F$759,0))&\"C\"&COLUMN(Scores!N$1),FALSE)))","v":""},{"$f":"IF('Team Scores'!$Z$1<3,\"\",IF(ISERROR(MATCH('Individual Scores'!$D97,Scores!$F$506:$F$759,0)),\"\",INDIRECT(\"Scores!\"&\"R\"&(ROW(Scores!$F$506:$F$759)-1+MATCH('Individual Scores'!$D97,Scores!$F$506:$F$759,0))&\"C\"&COLUMN(Scores!O$1),FALSE)))","v":""},{"$f":"IF('Team Scores'!$Z$1<3,\"\",IF(ISERROR(MATCH('Individual Scores'!$D97,Scores!$F$506:$F$759,0)),\"\",INDIRECT(\"Scores!\"&\"R\"&(ROW(Scores!$F$506:$F$759)-1+MATCH('Individual Scores'!$D97,Scores!$F$506:$F$759,0))&\"C\"&COLUMN(Scores!P$1),FALSE)))","v":""},{"$f":"IF('Team Scores'!$Z$1<3,\"\",IF(ISERROR(MATCH('Individual Scores'!$D97,Scores!$F$506:$F$759,0)),\"\",INDIRECT(\"Scores!\"&\"R\"&(ROW(Scores!$F$506:$F$759)-1+MATCH('Individual Scores'!$D97,Scores!$F$506:$F$759,0))&\"C\"&COLUMN(Scores!S$1),FALSE)))","v":""},"",""]
["NC","16-20","M","Taylor Butgereit",1166,1279,"",2445,{"$f":"IF(COUNT(Q98:V98,AA98:AF98,AK98:AP98)>=18/3*'Team Scores'!$Z$1,IF(H98-VLOOKUP(B98&C98,'Individual Awards Computations'!$AY$54:$AZ$58,2,FALSE)=0,\"Leader \"&C98&\":\"&B98,H98-VLOOKUP(B98&C98,'Individual Awards Computations'!$AY$54:$AZ$58,2,FALSE)),\"\")","v":-225},257,704,203.75,20.541666666666668,"183-224",1,null,{"$f":"IF(ISERROR(MATCH('Individual Scores'!$D98,Scores!$F$1:$F$253,0)),\"\",INDIRECT(\"Scores!\"&\"R\"&MATCH('Individual Scores'!$D98,Scores!$F$1:$F$253,0)&\"C\"&COLUMN(Scores!J$1),FALSE))","v":180},{"$f":"IF(ISERROR(MATCH('Individual Scores'!$D98,Scores!$F$1:$F$253,0)),\"\",INDIRECT(\"Scores!\"&\"R\"&MATCH('Individual Scores'!$D98,Scores!$F$1:$F$253,0)&\"C\"&COLUMN(Scores!K$1),FALSE))","v":199},{"$f":"IF(ISERROR(MATCH('Individual Scores'!$D98,Scores!$F$1:$F$253,0)),\"\",INDIRECT(\"Scores!\"&\"R\"&MATCH('Individual Scores'!$D98,Scores!$F$1:$F$253,0)&\"C\"&COLUMN(Scores!L$1),FALSE))","v":181},{"$f":"IF(ISERROR(MATCH('Individual Scores'!$D98,Scores!$F$1:$F$253,0)),\"\",INDIRECT(\"Scores!\"&\"R\"&MATCH('Individual Scores'!$D98,Scores!$F$1:$F$253,0)&\"C\"&COLUMN(Scores!N$1),FALSE))","v":179},{"$f":"IF(ISERROR(MATCH('Individual Scores'!$D98,Scores!$F$1:$F$253,0)),\"\",INDIRECT(\"Scores!\"&\"R\"&MATCH('Individual Scores'!$D98,Scores!$F$1:$F$253,0)&\"C\"&COLUMN(Scores!O$1),FALSE))","v":225},{"$f":"IF(ISERROR(MATCH('Individual Scores'!$D98,Scores!$F$1:$F$253,0)),\"\",INDIRECT(\"Scores!\"&\"R\"&MATCH('Individual Scores'!$D98,Scores!$F$1:$F$253,0)&\"C\"&COLUMN(Scores!P$1),FALSE))","v":202},{"$f":"IF(ISERROR(MATCH('Individual Scores'!$D98,Scores!$F$1:$F$253,0)),\"\",INDIRECT(\"Scores!\"&\"R\"&MATCH('Individual Scores'!$D98,Scores!$F$1:$F$253,0)&\"C\"&COLUMN(Scores!S$1),FALSE))","v":1166},{"$f":"IF(MAX('Individual Scores'!Q98:V98)>0,MAX('Individual Scores'!Q98:V98),\"\")","v":225},{"$f":"IF(MAX(SUM('Individual Scores'!Q98:S98),SUM('Individual Scores'!T98:V98))>0,MAX(SUM('Individual Scores'!Q98:S98),SUM('Individual Scores'!T98:V98)),\"\")","v":606},null,{"$f":"IF('Team Scores'!$Z$1<2,\"\",IF(ISERROR(MATCH('Individual Scores'!$D98,Scores!$F$253:$F$506,0)),\"\",INDIRECT(\"Scores!\"&\"R\"&(ROW(Scores!$253:$253)-1+MATCH('Individual Scores'!$D98,Scores!$F$253:$F$505,0))&\"C\"&COLUMN(Scores!J$1),FALSE)))","v":166},{"$f":"IF('Team Scores'!$Z$1<2,\"\",IF(ISERROR(MATCH('Individual Scores'!$D98,Scores!$F$253:$F$506,0)),\"\",INDIRECT(\"Scores!\"&\"R\"&(ROW(Scores!$253:$253)-1+MATCH('Individual Scores'!$D98,Scores!$F$253:$F$505,0))&\"C\"&COLUMN(Scores!K$1),FALSE)))","v":213},{"$f":"IF('Team Scores'!$Z$1<2,\"\",IF(ISERROR(MATCH('Individual Scores'!$D98,Scores!$F$253:$F$506,0)),\"\",INDIRECT(\"Scores!\"&\"R\"&(ROW(Scores!$253:$253)-1+MATCH('Individual Scores'!$D98,Scores!$F$253:$F$505,0))&\"C\"&COLUMN(Scores!L$1),FALSE)))","v":196},{"$f":"IF('Team Scores'!$Z$1<2,\"\",IF(ISERROR(MATCH('Individual Scores'!$D98,Scores!$F$253:$F$506,0)),\"\",INDIRECT(\"Scores!\"&\"R\"&(ROW(Scores!$253:$253)-1+MATCH('Individual Scores'!$D98,Scores!$F$253:$F$505,0))&\"C\"&COLUMN(Scores!N$1),FALSE)))","v":223},{"$f":"IF('Team Scores'!$Z$1<2,\"\",IF(ISERROR(MATCH('Individual Scores'!$D98,Scores!$F$253:$F$506,0)),\"\",INDIRECT(\"Scores!\"&\"R\"&(ROW(Scores!$253:$253)-1+MATCH('Individual Scores'!$D98,Scores!$F$253:$F$505,0))&\"C\"&COLUMN(Scores!O$1),FALSE)))","v":257},{"$f":"IF('Team Scores'!$Z$1<2,\"\",IF(ISERROR(MATCH('Individual Scores'!$D98,Scores!$F$253:$F$506,0)),\"\",INDIRECT(\"Scores!\"&\"R\"&(ROW(Scores!$253:$253)-1+MATCH('Individual Scores'!$D98,Scores!$F$253:$F$505,0))&\"C\"&COLUMN(Scores!P$1),FALSE)))","v":224},{"$f":"IF('Team Scores'!$Z$1<2,\"\",IF(ISERROR(MATCH('Individual Scores'!$D98,Scores!$F$253:$F$506,0)),\"\",INDIRECT(\"Scores!\"&\"R\"&(ROW(Scores!$253:$253)-1+MATCH('Individual Scores'!$D98,Scores!$F$253:$F$505,0))&\"C\"&COLUMN(Scores!S$1),FALSE)))","v":1279},257,704,null,{"$f":"IF('Team Scores'!$Z$1<3,\"\",IF(ISERROR(MATCH('Individual Scores'!$D98,Scores!$F$506:$F$759,0)),\"\",INDIRECT(\"Scores!\"&\"R\"&(ROW(Scores!$F$506:$F$759)-1+MATCH('Individual Scores'!$D98,Scores!$F$506:$F$759,0))&\"C\"&COLUMN(Scores!J$1),FALSE)))","v":""},{"$f":"IF('Team Scores'!$Z$1<3,\"\",IF(ISERROR(MATCH('Individual Scores'!$D98,Scores!$F$506:$F$759,0)),\"\",INDIRECT(\"Scores!\"&\"R\"&(ROW(Scores!$F$506:$F$759)-1+MATCH('Individual Scores'!$D98,Scores!$F$506:$F$759,0))&\"C\"&COLUMN(Scores!K$1),FALSE)))","v":""},{"$f":"IF('Team Scores'!$Z$1<3,\"\",IF(ISERROR(MATCH('Individual Scores'!$D98,Scores!$F$506:$F$759,0)),\"\",INDIRECT(\"Scores!\"&\"R\"&(ROW(Scores!$F$506:$F$759)-1+MATCH('Individual Scores'!$D98,Scores!$F$506:$F$759,0))&\"C\"&COLUMN(Scores!L$1),FALSE)))","v":""},{"$f":"IF('Team Scores'!$Z$1<3,\"\",IF(ISERROR(MATCH('Individual Scores'!$D98,Scores!$F$506:$F$759,0)),\"\",INDIRECT(\"Scores!\"&\"R\"&(ROW(Scores!$F$506:$F$759)-1+MATCH('Individual Scores'!$D98,Scores!$F$506:$F$759,0))&\"C\"&COLUMN(Scores!N$1),FALSE)))","v":""},{"$f":"IF('Team Scores'!$Z$1<3,\"\",IF(ISERROR(MATCH('Individual Scores'!$D98,Scores!$F$506:$F$759,0)),\"\",INDIRECT(\"Scores!\"&\"R\"&(ROW(Scores!$F$506:$F$759)-1+MATCH('Individual Scores'!$D98,Scores!$F$506:$F$759,0))&\"C\"&COLUMN(Scores!O$1),FALSE)))","v":""},{"$f":"IF('Team Scores'!$Z$1<3,\"\",IF(ISERROR(MATCH('Individual Scores'!$D98,Scores!$F$506:$F$759,0)),\"\",INDIRECT(\"Scores!\"&\"R\"&(ROW(Scores!$F$506:$F$759)-1+MATCH('Individual Scores'!$D98,Scores!$F$506:$F$759,0))&\"C\"&COLUMN(Scores!P$1),FALSE)))","v":""},{"$f":"IF('Team Scores'!$Z$1<3,\"\",IF(ISERROR(MATCH('Individual Scores'!$D98,Scores!$F$506:$F$759,0)),\"\",INDIRECT(\"Scores!\"&\"R\"&(ROW(Scores!$F$506:$F$759)-1+MATCH('Individual Scores'!$D98,Scores!$F$506:$F$759,0))&\"C\"&COLUMN(Scores!S$1),FALSE)))","v":""},"",""]
["NC","16-20","M","Zac Ludwig",1134,1239,"",2373,{"$f":"IF(COUNT(Q99:V99,AA99:AF99,AK99:AP99)>=18/3*'Team Scores'!$Z$1,IF(H99-VLOOKUP(B99&C99,'Individual Awards Computations'!$AY$54:$AZ$58,2,FALSE)=0,\"Leader \"&C99&\":\"&B99,H99-VLOOKUP(B99&C99,'Individual Awards Computations'!$AY$54:$AZ$58,2,FALSE)),\"\")","v":-297},268,639,197.75,23.083333333333332,"175-221",{"$f":"COUNTIF($D$3:$D$169,D99)","v":1},null,{"$f":"IF(ISERROR(MATCH('Individual Scores'!$D99,Scores!$F$1:$F$253,0)),\"\",INDIRECT(\"Scores!\"&\"R\"&MATCH('Individual Scores'!$D99,Scores!$F$1:$F$253,0)&\"C\"&COLUMN(Scores!J$1),FALSE))","v":189},{"$f":"IF(ISERROR(MATCH('Individual Scores'!$D99,Scores!$F$1:$F$253,0)),\"\",INDIRECT(\"Scores!\"&\"R\"&MATCH('Individual Scores'!$D99,Scores!$F$1:$F$253,0)&\"C\"&COLUMN(Scores!K$1),FALSE))","v":153},{"$f":"IF(ISERROR(MATCH('Individual Scores'!$D99,Scores!$F$1:$F$253,0)),\"\",INDIRECT(\"Scores!\"&\"R\"&MATCH('Individual Scores'!$D99,Scores!$F$1:$F$253,0)&\"C\"&COLUMN(Scores!L$1),FALSE))","v":268},{"$f":"IF(ISERROR(MATCH('Individual Scores'!$D99,Scores!$F$1:$F$253,0)),\"\",INDIRECT(\"Scores!\"&\"R\"&MATCH('Individual Scores'!$D99,Scores!$F$1:$F$253,0)&\"C\"&COLUMN(Scores!N$1),FALSE))","v":199},{"$f":"IF(ISERROR(MATCH('Individual Scores'!$D99,Scores!$F$1:$F$253,0)),\"\",INDIRECT(\"Scores!\"&\"R\"&MATCH('Individual Scores'!$D99,Scores!$F$1:$F$253,0)&\"C\"&COLUMN(Scores!O$1),FALSE))","v":174},{"$f":"IF(ISERROR(MATCH('Individual Scores'!$D99,Scores!$F$1:$F$253,0)),\"\",INDIRECT(\"Scores!\"&\"R\"&MATCH('Individual Scores'!$D99,Scores!$F$1:$F$253,0)&\"C\"&COLUMN(Scores!P$1),FALSE))","v":151},{"$f":"IF(ISERROR(MATCH('Individual Scores'!$D99,Scores!$F$1:$F$253,0)),\"\",INDIRECT(\"Scores!\"&\"R\"&MATCH('Individual Scores'!$D99,Scores!$F$1:$F$253,0)&\"C\"&COLUMN(Scores!S$1),FALSE))","v":1134},{"$f":"IF(MAX('Individual Scores'!Q99:V99)>0,MAX('Individual Scores'!Q99:V99),\"\")","v":268},{"$f":"IF(MAX(SUM('Individual Scores'!Q99:S99),SUM('Individual Scores'!T99:V99))>0,MAX(SUM('Individual Scores'!Q99:S99),SUM('Individual Scores'!T99:V99)),\"\")","v":610},null,{"$f":"IF('Team Scores'!$Z$1<2,\"\",IF(ISERROR(MATCH('Individual Scores'!$D99,Scores!$F$253:$F$506,0)),\"\",INDIRECT(\"Scores!\"&\"R\"&(ROW(Scores!$253:$253)-1+MATCH('Individual Scores'!$D99,Scores!$F$253:$F$505,0))&\"C\"&COLUMN(Scores!J$1),FALSE)))","v":200},{"$f":"IF('Team Scores'!$Z$1<2,\"\",IF(ISERROR(MATCH('Individual Scores'!$D99,Scores!$F$253:$F$506,0)),\"\",INDIRECT(\"Scores!\"&\"R\"&(ROW(Scores!$253:$253)-1+MATCH('Individual Scores'!$D99,Scores!$F$253:$F$505,0))&\"C\"&COLUMN(Scores!K$1),FALSE)))","v":190},{"$f":"IF('Team Scores'!$Z$1<2,\"\",IF(ISERROR(MATCH('Individual Scores'!$D99,Scores!$F$253:$F$506,0)),\"\",INDIRECT(\"Scores!\"&\"R\"&(ROW(Scores!$253:$253)-1+MATCH('Individual Scores'!$D99,Scores!$F$253:$F$505,0))&\"C\"&COLUMN(Scores!L$1),FALSE)))","v":210},{"$f":"IF('Team Scores'!$Z$1<2,\"\",IF(ISERROR(MATCH('Individual Scores'!$D99,Scores!$F$253:$F$506,0)),\"\",INDIRECT(\"Scores!\"&\"R\"&(ROW(Scores!$253:$253)-1+MATCH('Individual Scores'!$D99,Scores!$F$253:$F$505,0))&\"C\"&COLUMN(Scores!N$1),FALSE)))","v":234},{"$f":"IF('Team Scores'!$Z$1<2,\"\",IF(ISERROR(MATCH('Individual Scores'!$D99,Scores!$F$253:$F$506,0)),\"\",INDIRECT(\"Scores!\"&\"R\"&(ROW(Scores!$253:$253)-1+MATCH('Individual Scores'!$D99,Scores!$F$253:$F$505,0))&\"C\"&COLUMN(Scores!O$1),FALSE)))","v":191},{"$f":"IF('Team Scores'!$Z$1<2,\"\",IF(ISERROR(MATCH('Individual Scores'!$D99,Scores!$F$253:$F$506,0)),\"\",INDIRECT(\"Scores!\"&\"R\"&(ROW(Scores!$253:$253)-1+MATCH('Individual Scores'!$D99,Scores!$F$253:$F$505,0))&\"C\"&COLUMN(Scores!P$1),FALSE)))","v":214},{"$f":"IF('Team Scores'!$Z$1<2,\"\",IF(ISERROR(MATCH('Individual Scores'!$D99,Scores!$F$253:$F$506,0)),\"\",INDIRECT(\"Scores!\"&\"R\"&(ROW(Scores!$253:$253)-1+MATCH('Individual Scores'!$D99,Scores!$F$253:$F$505,0))&\"C\"&COLUMN(Scores!S$1),FALSE)))","v":1239},234,639,null,{"$f":"IF('Team Scores'!$Z$1<3,\"\",IF(ISERROR(MATCH('Individual Scores'!$D99,Scores!$F$506:$F$759,0)),\"\",INDIRECT(\"Scores!\"&\"R\"&(ROW(Scores!$F$506:$F$759)-1+MATCH('Individual Scores'!$D99,Scores!$F$506:$F$759,0))&\"C\"&COLUMN(Scores!J$1),FALSE)))","v":""},{"$f":"IF('Team Scores'!$Z$1<3,\"\",IF(ISERROR(MATCH('Individual Scores'!$D99,Scores!$F$506:$F$759,0)),\"\",INDIRECT(\"Scores!\"&\"R\"&(ROW(Scores!$F$506:$F$759)-1+MATCH('Individual Scores'!$D99,Scores!$F$506:$F$759,0))&\"C\"&COLUMN(Scores!K$1),FALSE)))","v":""},{"$f":"IF('Team Scores'!$Z$1<3,\"\",IF(ISERROR(MATCH('Individual Scores'!$D99,Scores!$F$506:$F$759,0)),\"\",INDIRECT(\"Scores!\"&\"R\"&(ROW(Scores!$F$506:$F$759)-1+MATCH('Individual Scores'!$D99,Scores!$F$506:$F$759,0))&\"C\"&COLUMN(Scores!L$1),FALSE)))","v":""},{"$f":"IF('Team Scores'!$Z$1<3,\"\",IF(ISERROR(MATCH('Individual Scores'!$D99,Scores!$F$506:$F$759,0)),\"\",INDIRECT(\"Scores!\"&\"R\"&(ROW(Scores!$F$506:$F$759)-1+MATCH('Individual Scores'!$D99,Scores!$F$506:$F$759,0))&\"C\"&COLUMN(Scores!N$1),FALSE)))","v":""},{"$f":"IF('Team Scores'!$Z$1<3,\"\",IF(ISERROR(MATCH('Individual Scores'!$D99,Scores!$F$506:$F$759,0)),\"\",INDIRECT(\"Scores!\"&\"R\"&(ROW(Scores!$F$506:$F$759)-1+MATCH('Individual Scores'!$D99,Scores!$F$506:$F$759,0))&\"C\"&COLUMN(Scores!O$1),FALSE)))","v":""},{"$f":"IF('Team Scores'!$Z$1<3,\"\",IF(ISERROR(MATCH('Individual Scores'!$D99,Scores!$F$506:$F$759,0)),\"\",INDIRECT(\"Scores!\"&\"R\"&(ROW(Scores!$F$506:$F$759)-1+MATCH('Individual Scores'!$D99,Scores!$F$506:$F$759,0))&\"C\"&COLUMN(Scores!P$1),FALSE)))","v":""},{"$f":"IF('Team Scores'!$Z$1<3,\"\",IF(ISERROR(MATCH('Individual Scores'!$D99,Scores!$F$506:$F$759,0)),\"\",INDIRECT(\"Scores!\"&\"R\"&(ROW(Scores!$F$506:$F$759)-1+MATCH('Individual Scores'!$D99,Scores!$F$506:$F$759,0))&\"C\"&COLUMN(Scores!S$1),FALSE)))","v":""},"",""]
["NC","16-20","M","Matt Wyant",1088,1224,"",2312,{"$f":"IF(COUNT(Q100:V100,AA100:AF100,AK100:AP100)>=18/3*'Team Scores'!$Z$1,IF(H100-VLOOKUP(B100&C100,'Individual Awards Computations'!$AY$54:$AZ$58,2,FALSE)=0,\"Leader \"&C100&\":\"&B100,H100-VLOOKUP(B100&C100,'Individual Awards Computations'!$AY$54:$AZ$58,2,FALSE)),\"\")","v":-358},226,629,192.66666666666666,17.611111111111111,"175-210",1,null,{"$f":"IF(ISERROR(MATCH('Individual Scores'!$D100,Scores!$F$1:$F$253,0)),\"\",INDIRECT(\"Scores!\"&\"R\"&MATCH('Individual Scores'!$D100,Scores!$F$1:$F$253,0)&\"C\"&COLUMN(Scores!J$1),FALSE))","v":181},{"$f":"IF(ISERROR(MATCH('Individual Scores'!$D100,Scores!$F$1:$F$253,0)),\"\",INDIRECT(\"Scores!\"&\"R\"&MATCH('Individual Scores'!$D100,Scores!$F$1:$F$253,0)&\"C\"&COLUMN(Scores!K$1),FALSE))","v":167},{"$f":"IF(ISERROR(MATCH('Individual Scores'!$D100,Scores!$F$1:$F$253,0)),\"\",INDIRECT(\"Scores!\"&\"R\"&MATCH('Individual Scores'!$D100,Scores!$F$1:$F$253,0)&\"C\"&COLUMN(Scores!L$1),FALSE))","v":211},{"$f":"IF(ISERROR(MATCH('Individual Scores'!$D100,Scores!$F$1:$F$253,0)),\"\",INDIRECT(\"Scores!\"&\"R\"&MATCH('Individual Scores'!$D100,Scores!$F$1:$F$253,0)&\"C\"&COLUMN(Scores!N$1),FALSE))","v":192},{"$f":"IF(ISERROR(MATCH('Individual Scores'!$D100,Scores!$F$1:$F$253,0)),\"\",INDIRECT(\"Scores!\"&\"R\"&MATCH('Individual Scores'!$D100,Scores!$F$1:$F$253,0)&\"C\"&COLUMN(Scores!O$1),FALSE))","v":178},{"$f":"IF(ISERROR(MATCH('Individual Scores'!$D100,Scores!$F$1:$F$253,0)),\"\",INDIRECT(\"Scores!\"&\"R\"&MATCH('Individual Scores'!$D100,Scores!$F$1:$F$253,0)&\"C\"&COLUMN(Scores!P$1),FALSE))","v":159},{"$f":"IF(ISERROR(MATCH('Individual Scores'!$D100,Scores!$F$1:$F$253,0)),\"\",INDIRECT(\"Scores!\"&\"R\"&MATCH('Individual Scores'!$D100,Scores!$F$1:$F$253,0)&\"C\"&COLUMN(Scores!S$1),FALSE))","v":1088},{"$f":"IF(MAX('Individual Scores'!Q100:V100)>0,MAX('Individual Scores'!Q100:V100),\"\")","v":211},{"$f":"IF(MAX(SUM('Individual Scores'!Q100:S100),SUM('Individual Scores'!T100:V100))>0,MAX(SUM('Individual Scores'!Q100:S100),SUM('Individual Scores'!T100:V100)),\"\")","v":559},null,{"$f":"IF('Team Scores'!$Z$1<2,\"\",IF(ISERROR(MATCH('Individual Scores'!$D100,Scores!$F$253:$F$506,0)),\"\",INDIRECT(\"Scores!\"&\"R\"&(ROW(Scores!$253:$253)-1+MATCH('Individual Scores'!$D100,Scores!$F$253:$F$505,0))&\"C\"&COLUMN(Scores!J$1),FALSE)))","v":226},{"$f":"IF('Team Scores'!$Z$1<2,\"\",IF(ISERROR(MATCH('Individual Scores'!$D100,Scores!$F$253:$F$506,0)),\"\",INDIRECT(\"Scores!\"&\"R\"&(ROW(Scores!$253:$253)-1+MATCH('Individual Scores'!$D100,Scores!$F$253:$F$505,0))&\"C\"&COLUMN(Scores!K$1),FALSE)))","v":188},{"$f":"IF('Team Scores'!$Z$1<2,\"\",IF(ISERROR(MATCH('Individual Scores'!$D100,Scores!$F$253:$F$506,0)),\"\",INDIRECT(\"Scores!\"&\"R\"&(ROW(Scores!$253:$253)-1+MATCH('Individual Scores'!$D100,Scores!$F$253:$F$505,0))&\"C\"&COLUMN(Scores!L$1),FALSE)))","v":215},{"$f":"IF('Team Scores'!$Z$1<2,\"\",IF(ISERROR(MATCH('Individual Scores'!$D100,Scores!$F$253:$F$506,0)),\"\",INDIRECT(\"Scores!\"&\"R\"&(ROW(Scores!$253:$253)-1+MATCH('Individual Scores'!$D100,Scores!$F$253:$F$505,0))&\"C\"&COLUMN(Scores!N$1),FALSE)))","v":202},{"$f":"IF('Team Scores'!$Z$1<2,\"\",IF(ISERROR(MATCH('Individual Scores'!$D100,Scores!$F$253:$F$506,0)),\"\",INDIRECT(\"Scores!\"&\"R\"&(ROW(Scores!$253:$253)-1+MATCH('Individual Scores'!$D100,Scores!$F$253:$F$505,0))&\"C\"&COLUMN(Scores!O$1),FALSE)))","v":215},{"$f":"IF('Team Scores'!$Z$1<2,\"\",IF(ISERROR(MATCH('Individual Scores'!$D100,Scores!$F$253:$F$506,0)),\"\",INDIRECT(\"Scores!\"&\"R\"&(ROW(Scores!$253:$253)-1+MATCH('Individual Scores'!$D100,Scores!$F$253:$F$505,0))&\"C\"&COLUMN(Scores!P$1),FALSE)))","v":178},{"$f":"IF('Team Scores'!$Z$1<2,\"\",IF(ISERROR(MATCH('Individual Scores'!$D100,Scores!$F$253:$F$506,0)),\"\",INDIRECT(\"Scores!\"&\"R\"&(ROW(Scores!$253:$253)-1+MATCH('Individual Scores'!$D100,Scores!$F$253:$F$505,0))&\"C\"&COLUMN(Scores!S$1),FALSE)))","v":1224},{"$f":"IF(MAX(AA100:AF100)>0,MAX(AA100:AF100),\"\")","v":226},{"$f":"IF(MAX(SUM(AA100:AC100),SUM(AD100:AF100))>0,MAX(SUM(AA100:AC100),SUM(AD100:AF100)),\"\")","v":629},null,{"$f":"IF('Team Scores'!$Z$1<3,\"\",IF(ISERROR(MATCH('Individual Scores'!$D100,Scores!$F$506:$F$759,0)),\"\",INDIRECT(\"Scores!\"&\"R\"&(ROW(Scores!$F$506:$F$759)-1+MATCH('Individual Scores'!$D100,Scores!$F$506:$F$759,0))&\"C\"&COLUMN(Scores!J$1),FALSE)))","v":""},{"$f":"IF('Team Scores'!$Z$1<3,\"\",IF(ISERROR(MATCH('Individual Scores'!$D100,Scores!$F$506:$F$759,0)),\"\",INDIRECT(\"Scores!\"&\"R\"&(ROW(Scores!$F$506:$F$759)-1+MATCH('Individual Scores'!$D100,Scores!$F$506:$F$759,0))&\"C\"&COLUMN(Scores!K$1),FALSE)))","v":""},{"$f":"IF('Team Scores'!$Z$1<3,\"\",IF(ISERROR(MATCH('Individual Scores'!$D100,Scores!$F$506:$F$759,0)),\"\",INDIRECT(\"Scores!\"&\"R\"&(ROW(Scores!$F$506:$F$759)-1+MATCH('Individual Scores'!$D100,Scores!$F$506:$F$759,0))&\"C\"&COLUMN(Scores!L$1),FALSE)))","v":""},{"$f":"IF('Team Scores'!$Z$1<3,\"\",IF(ISERROR(MATCH('Individual Scores'!$D100,Scores!$F$506:$F$759,0)),\"\",INDIRECT(\"Scores!\"&\"R\"&(ROW(Scores!$F$506:$F$759)-1+MATCH('Individual Scores'!$D100,Scores!$F$506:$F$759,0))&\"C\"&COLUMN(Scores!N$1),FALSE)))","v":""},{"$f":"IF('Team Scores'!$Z$1<3,\"\",IF(ISERROR(MATCH('Individual Scores'!$D100,Scores!$F$506:$F$759,0)),\"\",INDIRECT(\"Scores!\"&\"R\"&(ROW(Scores!$F$506:$F$759)-1+MATCH('Individual Scores'!$D100,Scores!$F$506:$F$759,0))&\"C\"&COLUMN(Scores!O$1),FALSE)))","v":""},{"$f":"IF('Team Scores'!$Z$1<3,\"\",IF(ISERROR(MATCH('Individual Scores'!$D100,Scores!$F$506:$F$759,0)),\"\",INDIRECT(\"Scores!\"&\"R\"&(ROW(Scores!$F$506:$F$759)-1+MATCH('Individual Scores'!$D100,Scores!$F$506:$F$759,0))&\"C\"&COLUMN(Scores!P$1),FALSE)))","v":""},{"$f":"IF('Team Scores'!$Z$1<3,\"\",IF(ISERROR(MATCH('Individual Scores'!$D100,Scores!$F$506:$F$759,0)),\"\",INDIRECT(\"Scores!\"&\"R\"&(ROW(Scores!$F$506:$F$759)-1+MATCH('Individual Scores'!$D100,Scores!$F$506:$F$759,0))&\"C\"&COLUMN(Scores!S$1),FALSE)))","v":""},"",""]
["NC","16-20","M","Alex Scott",1202,1221,"",2423,{"$f":"IF(COUNT(Q101:V101,AA101:AF101,AK101:AP101)>=18/3*'Team Scores'!$Z$1,IF(H101-VLOOKUP(B101&C101,'Individual Awards Computations'!$AY$54:$AZ$58,2,FALSE)=0,\"Leader \"&C101&\":\"&B101,H101-VLOOKUP(B101&C101,'Individual Awards Computations'!$AY$54:$AZ$58,2,FALSE)),\"\")","v":-247},257,629,201.91666666666666,15.916666666666666,"186-218",1,null,{"$f":"IF(ISERROR(MATCH('Individual Scores'!$D101,Scores!$F$1:$F$253,0)),\"\",INDIRECT(\"Scores!\"&\"R\"&MATCH('Individual Scores'!$D101,Scores!$F$1:$F$253,0)&\"C\"&COLUMN(Scores!J$1),FALSE))","v":257},{"$f":"IF(ISERROR(MATCH('Individual Scores'!$D101,Scores!$F$1:$F$253,0)),\"\",INDIRECT(\"Scores!\"&\"R\"&MATCH('Individual Scores'!$D101,Scores!$F$1:$F$253,0)&\"C\"&COLUMN(Scores!K$1),FALSE))","v":163},{"$f":"IF(ISERROR(MATCH('Individual Scores'!$D101,Scores!$F$1:$F$253,0)),\"\",INDIRECT(\"Scores!\"&\"R\"&MATCH('Individual Scores'!$D101,Scores!$F$1:$F$253,0)&\"C\"&COLUMN(Scores!L$1),FALSE))","v":209},{"$f":"IF(ISERROR(MATCH('Individual Scores'!$D101,Scores!$F$1:$F$253,0)),\"\",INDIRECT(\"Scores!\"&\"R\"&MATCH('Individual Scores'!$D101,Scores!$F$1:$F$253,0)&\"C\"&COLUMN(Scores!N$1),FALSE))","v":196},{"$f":"IF(ISERROR(MATCH('Individual Scores'!$D101,Scores!$F$1:$F$253,0)),\"\",INDIRECT(\"Scores!\"&\"R\"&MATCH('Individual Scores'!$D101,Scores!$F$1:$F$253,0)&\"C\"&COLUMN(Scores!O$1),FALSE))","v":177},{"$f":"IF(ISERROR(MATCH('Individual Scores'!$D101,Scores!$F$1:$F$253,0)),\"\",INDIRECT(\"Scores!\"&\"R\"&MATCH('Individual Scores'!$D101,Scores!$F$1:$F$253,0)&\"C\"&COLUMN(Scores!P$1),FALSE))","v":200},{"$f":"IF(ISERROR(MATCH('Individual Scores'!$D101,Scores!$F$1:$F$253,0)),\"\",INDIRECT(\"Scores!\"&\"R\"&MATCH('Individual Scores'!$D101,Scores!$F$1:$F$253,0)&\"C\"&COLUMN(Scores!S$1),FALSE))","v":1202},{"$f":"IF(MAX('Individual Scores'!Q101:V101)>0,MAX('Individual Scores'!Q101:V101),\"\")","v":257},{"$f":"IF(MAX(SUM('Individual Scores'!Q101:S101),SUM('Individual Scores'!T101:V101))>0,MAX(SUM('Individual Scores'!Q101:S101),SUM('Individual Scores'!T101:V101)),\"\")","v":629},null,{"$f":"IF('Team Scores'!$Z$1<2,\"\",IF(ISERROR(MATCH('Individual Scores'!$D101,Scores!$F$253:$F$506,0)),\"\",INDIRECT(\"Scores!\"&\"R\"&(ROW(Scores!$253:$253)-1+MATCH('Individual Scores'!$D101,Scores!$F$253:$F$505,0))&\"C\"&COLUMN(Scores!J$1),FALSE)))","v":213},{"$f":"IF('Team Scores'!$Z$1<2,\"\",IF(ISERROR(MATCH('Individual Scores'!$D101,Scores!$F$253:$F$506,0)),\"\",INDIRECT(\"Scores!\"&\"R\"&(ROW(Scores!$253:$253)-1+MATCH('Individual Scores'!$D101,Scores!$F$253:$F$505,0))&\"C\"&COLUMN(Scores!K$1),FALSE)))","v":181},{"$f":"IF('Team Scores'!$Z$1<2,\"\",IF(ISERROR(MATCH('Individual Scores'!$D101,Scores!$F$253:$F$506,0)),\"\",INDIRECT(\"Scores!\"&\"R\"&(ROW(Scores!$253:$253)-1+MATCH('Individual Scores'!$D101,Scores!$F$253:$F$505,0))&\"C\"&COLUMN(Scores!L$1),FALSE)))","v":203},{"$f":"IF('Team Scores'!$Z$1<2,\"\",IF(ISERROR(MATCH('Individual Scores'!$D101,Scores!$F$253:$F$506,0)),\"\",INDIRECT(\"Scores!\"&\"R\"&(ROW(Scores!$253:$253)-1+MATCH('Individual Scores'!$D101,Scores!$F$253:$F$505,0))&\"C\"&COLUMN(Scores!N$1),FALSE)))","v":199},{"$f":"IF('Team Scores'!$Z$1<2,\"\",IF(ISERROR(MATCH('Individual Scores'!$D101,Scores!$F$253:$F$506,0)),\"\",INDIRECT(\"Scores!\"&\"R\"&(ROW(Scores!$253:$253)-1+MATCH('Individual Scores'!$D101,Scores!$F$253:$F$505,0))&\"C\"&COLUMN(Scores!O$1),FALSE)))","v":223},{"$f":"IF('Team Scores'!$Z$1<2,\"\",IF(ISERROR(MATCH('Individual Scores'!$D101,Scores!$F$253:$F$506,0)),\"\",INDIRECT(\"Scores!\"&\"R\"&(ROW(Scores!$253:$253)-1+MATCH('Individual Scores'!$D101,Scores!$F$253:$F$505,0))&\"C\"&COLUMN(Scores!P$1),FALSE)))","v":202},{"$f":"IF('Team Scores'!$Z$1<2,\"\",IF(ISERROR(MATCH('Individual Scores'!$D101,Scores!$F$253:$F$506,0)),\"\",INDIRECT(\"Scores!\"&\"R\"&(ROW(Scores!$253:$253)-1+MATCH('Individual Scores'!$D101,Scores!$F$253:$F$505,0))&\"C\"&COLUMN(Scores!S$1),FALSE)))","v":1221},223,624,null,{"$f":"IF('Team Scores'!$Z$1<3,\"\",IF(ISERROR(MATCH('Individual Scores'!$D101,Scores!$F$506:$F$759,0)),\"\",INDIRECT(\"Scores!\"&\"R\"&(ROW(Scores!$F$506:$F$759)-1+MATCH('Individual Scores'!$D101,Scores!$F$506:$F$759,0))&\"C\"&COLUMN(Scores!J$1),FALSE)))","v":""},{"$f":"IF('Team Scores'!$Z$1<3,\"\",IF(ISERROR(MATCH('Individual Scores'!$D101,Scores!$F$506:$F$759,0)),\"\",INDIRECT(\"Scores!\"&\"R\"&(ROW(Scores!$F$506:$F$759)-1+MATCH('Individual Scores'!$D101,Scores!$F$506:$F$759,0))&\"C\"&COLUMN(Scores!K$1),FALSE)))","v":""},{"$f":"IF('Team Scores'!$Z$1<3,\"\",IF(ISERROR(MATCH('Individual Scores'!$D101,Scores!$F$506:$F$759,0)),\"\",INDIRECT(\"Scores!\"&\"R\"&(ROW(Scores!$F$506:$F$759)-1+MATCH('Individual Scores'!$D101,Scores!$F$506:$F$759,0))&\"C\"&COLUMN(Scores!L$1),FALSE)))","v":""},{"$f":"IF('Team Scores'!$Z$1<3,\"\",IF(ISERROR(MATCH('Individual Scores'!$D101,Scores!$F$506:$F$759,0)),\"\",INDIRECT(\"Scores!\"&\"R\"&(ROW(Scores!$F$506:$F$759)-1+MATCH('Individual Scores'!$D101,Scores!$F$506:$F$759,0))&\"C\"&COLUMN(Scores!N$1),FALSE)))","v":""},{"$f":"IF('Team Scores'!$Z$1<3,\"\",IF(ISERROR(MATCH('Individual Scores'!$D101,Scores!$F$506:$F$759,0)),\"\",INDIRECT(\"Scores!\"&\"R\"&(ROW(Scores!$F$506:$F$759)-1+MATCH('Individual Scores'!$D101,Scores!$F$506:$F$759,0))&\"C\"&COLUMN(Scores!O$1),FALSE)))","v":""},{"$f":"IF('Team Scores'!$Z$1<3,\"\",IF(ISERROR(MATCH('Individual Scores'!$D101,Scores!$F$506:$F$759,0)),\"\",INDIRECT(\"Scores!\"&\"R\"&(ROW(Scores!$F$506:$F$759)-1+MATCH('Individual Scores'!$D101,Scores!$F$506:$F$759,0))&\"C\"&COLUMN(Scores!P$1),FALSE)))","v":""},{"$f":"IF('Team Scores'!$Z$1<3,\"\",IF(ISERROR(MATCH('Individual Scores'!$D101,Scores!$F$506:$F$759,0)),\"\",INDIRECT(\"Scores!\"&\"R\"&(ROW(Scores!$F$506:$F$759)-1+MATCH('Individual Scores'!$D101,Scores!$F$506:$F$759,0))&\"C\"&COLUMN(Scores!S$1),FALSE)))","v":""},"",""]
["NC","16-20","M","Quan Bethea",{"$f":"W102","v":540},{"$f":"AG102","v":1261},{"$f":"AQ102","v":""},{"$f":"SUM(AQ102,AG102,W102)","v":1801},{"$f":"IF(COUNT(Q102:V102,AA102:AF102,AK102:AP102)>=18/3*'Team Scores'!$Z$1,IF(H102-VLOOKUP(B102&C102,'Individual Awards Computations'!$AY$54:$AZ$58,2,FALSE)=0,\"Leader \"&C102&\":\"&B102,H102-VLOOKUP(B102&C102,'Individual Awards Computations'!$AY$54:$AZ$58,2,FALSE)),\"\")","v":-869},234,638,150.08333333333334,75.041666666666643,"75-225",1,null,{"$f":"IF(ISERROR(MATCH('Individual Scores'!$D102,Scores!$F$1:$F$253,0)),\"\",INDIRECT(\"Scores!\"&\"R\"&MATCH('Individual Scores'!$D102,Scores!$F$1:$F$253,0)&\"C\"&COLUMN(Scores!J$1),FALSE))","v":202},{"$f":"IF(ISERROR(MATCH('Individual Scores'!$D102,Scores!$F$1:$F$253,0)),\"\",INDIRECT(\"Scores!\"&\"R\"&MATCH('Individual Scores'!$D102,Scores!$F$1:$F$253,0)&\"C\"&COLUMN(Scores!K$1),FALSE))","v":159},{"$f":"IF(ISERROR(MATCH('Individual Scores'!$D102,Scores!$F$1:$F$253,0)),\"\",INDIRECT(\"Scores!\"&\"R\"&MATCH('Individual Scores'!$D102,Scores!$F$1:$F$253,0)&\"C\"&COLUMN(Scores!L$1),FALSE))","v":179},{"$f":"IF(ISERROR(MATCH('Individual Scores'!$D102,Scores!$F$1:$F$253,0)),\"\",INDIRECT(\"Scores!\"&\"R\"&MATCH('Individual Scores'!$D102,Scores!$F$1:$F$253,0)&\"C\"&COLUMN(Scores!N$1),FALSE))","v":0},{"$f":"IF(ISERROR(MATCH('Individual Scores'!$D102,Scores!$F$1:$F$253,0)),\"\",INDIRECT(\"Scores!\"&\"R\"&MATCH('Individual Scores'!$D102,Scores!$F$1:$F$253,0)&\"C\"&COLUMN(Scores!O$1),FALSE))","v":0},{"$f":"IF(ISERROR(MATCH('Individual Scores'!$D102,Scores!$F$1:$F$253,0)),\"\",INDIRECT(\"Scores!\"&\"R\"&MATCH('Individual Scores'!$D102,Scores!$F$1:$F$253,0)&\"C\"&COLUMN(Scores!P$1),FALSE))","v":0},{"$f":"IF(ISERROR(MATCH('Individual Scores'!$D102,Scores!$F$1:$F$253,0)),\"\",INDIRECT(\"Scores!\"&\"R\"&MATCH('Individual Scores'!$D102,Scores!$F$1:$F$253,0)&\"C\"&COLUMN(Scores!S$1),FALSE))","v":540},{"$f":"IF(MAX('Individual Scores'!Q102:V102)>0,MAX('Individual Scores'!Q102:V102),\"\")","v":202},{"$f":"IF(MAX(SUM('Individual Scores'!Q102:S102),SUM('Individual Scores'!T102:V102))>0,MAX(SUM('Individual Scores'!Q102:S102),SUM('Individual Scores'!T102:V102)),\"\")","v":540},null,{"$f":"IF('Team Scores'!$Z$1<2,\"\",IF(ISERROR(MATCH('Individual Scores'!$D102,Scores!$F$253:$F$506,0)),\"\",INDIRECT(\"Scores!\"&\"R\"&(ROW(Scores!$253:$253)-1+MATCH('Individual Scores'!$D102,Scores!$F$253:$F$505,0))&\"C\"&COLUMN(Scores!J$1),FALSE)))","v":204},{"$f":"IF('Team Scores'!$Z$1<2,\"\",IF(ISERROR(MATCH('Individual Scores'!$D102,Scores!$F$253:$F$506,0)),\"\",INDIRECT(\"Scores!\"&\"R\"&(ROW(Scores!$253:$253)-1+MATCH('Individual Scores'!$D102,Scores!$F$253:$F$505,0))&\"C\"&COLUMN(Scores!K$1),FALSE)))","v":234},{"$f":"IF('Team Scores'!$Z$1<2,\"\",IF(ISERROR(MATCH('Individual Scores'!$D102,Scores!$F$253:$F$506,0)),\"\",INDIRECT(\"Scores!\"&\"R\"&(ROW(Scores!$253:$253)-1+MATCH('Individual Scores'!$D102,Scores!$F$253:$F$505,0))&\"C\"&COLUMN(Scores!L$1),FALSE)))","v":185},{"$f":"IF('Team Scores'!$Z$1<2,\"\",IF(ISERROR(MATCH('Individual Scores'!$D102,Scores!$F$253:$F$506,0)),\"\",INDIRECT(\"Scores!\"&\"R\"&(ROW(Scores!$253:$253)-1+MATCH('Individual Scores'!$D102,Scores!$F$253:$F$505,0))&\"C\"&COLUMN(Scores!N$1),FALSE)))","v":195},{"$f":"IF('Team Scores'!$Z$1<2,\"\",IF(ISERROR(MATCH('Individual Scores'!$D102,Scores!$F$253:$F$506,0)),\"\",INDIRECT(\"Scores!\"&\"R\"&(ROW(Scores!$253:$253)-1+MATCH('Individual Scores'!$D102,Scores!$F$253:$F$505,0))&\"C\"&COLUMN(Scores!O$1),FALSE)))","v":234},{"$f":"IF('Team Scores'!$Z$1<2,\"\",IF(ISERROR(MATCH('Individual Scores'!$D102,Scores!$F$253:$F$506,0)),\"\",INDIRECT(\"Scores!\"&\"R\"&(ROW(Scores!$253:$253)-1+MATCH('Individual Scores'!$D102,Scores!$F$253:$F$505,0))&\"C\"&COLUMN(Scores!P$1),FALSE)))","v":209},{"$f":"IF('Team Scores'!$Z$1<2,\"\",IF(ISERROR(MATCH('Individual Scores'!$D102,Scores!$F$253:$F$506,0)),\"\",INDIRECT(\"Scores!\"&\"R\"&(ROW(Scores!$253:$253)-1+MATCH('Individual Scores'!$D102,Scores!$F$253:$F$505,0))&\"C\"&COLUMN(Scores!S$1),FALSE)))","v":1261},234,638,null,{"$f":"IF('Team Scores'!$Z$1<3,\"\",IF(ISERROR(MATCH('Individual Scores'!$D102,Scores!$F$506:$F$759,0)),\"\",INDIRECT(\"Scores!\"&\"R\"&(ROW(Scores!$F$506:$F$759)-1+MATCH('Individual Scores'!$D102,Scores!$F$506:$F$759,0))&\"C\"&COLUMN(Scores!J$1),FALSE)))","v":""},{"$f":"IF('Team Scores'!$Z$1<3,\"\",IF(ISERROR(MATCH('Individual Scores'!$D102,Scores!$F$506:$F$759,0)),\"\",INDIRECT(\"Scores!\"&\"R\"&(ROW(Scores!$F$506:$F$759)-1+MATCH('Individual Scores'!$D102,Scores!$F$506:$F$759,0))&\"C\"&COLUMN(Scores!K$1),FALSE)))","v":""},{"$f":"IF('Team Scores'!$Z$1<3,\"\",IF(ISERROR(MATCH('Individual Scores'!$D102,Scores!$F$506:$F$759,0)),\"\",INDIRECT(\"Scores!\"&\"R\"&(ROW(Scores!$F$506:$F$759)-1+MATCH('Individual Scores'!$D102,Scores!$F$506:$F$759,0))&\"C\"&COLUMN(Scores!L$1),FALSE)))","v":""},{"$f":"IF('Team Scores'!$Z$1<3,\"\",IF(ISERROR(MATCH('Individual Scores'!$D102,Scores!$F$506:$F$759,0)),\"\",INDIRECT(\"Scores!\"&\"R\"&(ROW(Scores!$F$506:$F$759)-1+MATCH('Individual Scores'!$D102,Scores!$F$506:$F$759,0))&\"C\"&COLUMN(Scores!N$1),FALSE)))","v":""},{"$f":"IF('Team Scores'!$Z$1<3,\"\",IF(ISERROR(MATCH('Individual Scores'!$D102,Scores!$F$506:$F$759,0)),\"\",INDIRECT(\"Scores!\"&\"R\"&(ROW(Scores!$F$506:$F$759)-1+MATCH('Individual Scores'!$D102,Scores!$F$506:$F$759,0))&\"C\"&COLUMN(Scores!O$1),FALSE)))","v":""},{"$f":"IF('Team Scores'!$Z$1<3,\"\",IF(ISERROR(MATCH('Individual Scores'!$D102,Scores!$F$506:$F$759,0)),\"\",INDIRECT(\"Scores!\"&\"R\"&(ROW(Scores!$F$506:$F$759)-1+MATCH('Individual Scores'!$D102,Scores!$F$506:$F$759,0))&\"C\"&COLUMN(Scores!P$1),FALSE)))","v":""},{"$f":"IF('Team Scores'!$Z$1<3,\"\",IF(ISERROR(MATCH('Individual Scores'!$D102,Scores!$F$506:$F$759,0)),\"\",INDIRECT(\"Scores!\"&\"R\"&(ROW(Scores!$F$506:$F$759)-1+MATCH('Individual Scores'!$D102,Scores!$F$506:$F$759,0))&\"C\"&COLUMN(Scores!S$1),FALSE)))","v":""},"",""]
["NC","16-20","M","Ben Estes",1268,0,"",1268,{"$f":"IF(COUNT(Q103:V103,AA103:AF103,AK103:AP103)>=18/3*'Team Scores'!$Z$1,IF(H103-VLOOKUP(B103&C103,'Individual Awards Computations'!$AY$54:$AZ$58,2,FALSE)=0,\"Leader \"&C103&\":\"&B103,H103-VLOOKUP(B103&C103,'Individual Awards Computations'!$AY$54:$AZ$58,2,FALSE)),\"\")","v":-1402},236,657,105.66666666666667,105.66666666666667,"0-211",1,null,{"$f":"IF(ISERROR(MATCH('Individual Scores'!$D103,Scores!$F$1:$F$253,0)),\"\",INDIRECT(\"Scores!\"&\"R\"&MATCH('Individual Scores'!$D103,Scores!$F$1:$F$253,0)&\"C\"&COLUMN(Scores!J$1),FALSE))","v":208},{"$f":"IF(ISERROR(MATCH('Individual Scores'!$D103,Scores!$F$1:$F$253,0)),\"\",INDIRECT(\"Scores!\"&\"R\"&MATCH('Individual Scores'!$D103,Scores!$F$1:$F$253,0)&\"C\"&COLUMN(Scores!K$1),FALSE))","v":201},{"$f":"IF(ISERROR(MATCH('Individual Scores'!$D103,Scores!$F$1:$F$253,0)),\"\",INDIRECT(\"Scores!\"&\"R\"&MATCH('Individual Scores'!$D103,Scores!$F$1:$F$253,0)&\"C\"&COLUMN(Scores!L$1),FALSE))","v":202},{"$f":"IF(ISERROR(MATCH('Individual Scores'!$D103,Scores!$F$1:$F$253,0)),\"\",INDIRECT(\"Scores!\"&\"R\"&MATCH('Individual Scores'!$D103,Scores!$F$1:$F$253,0)&\"C\"&COLUMN(Scores!N$1),FALSE))","v":236},{"$f":"IF(ISERROR(MATCH('Individual Scores'!$D103,Scores!$F$1:$F$253,0)),\"\",INDIRECT(\"Scores!\"&\"R\"&MATCH('Individual Scores'!$D103,Scores!$F$1:$F$253,0)&\"C\"&COLUMN(Scores!O$1),FALSE))","v":233},{"$f":"IF(ISERROR(MATCH('Individual Scores'!$D103,Scores!$F$1:$F$253,0)),\"\",INDIRECT(\"Scores!\"&\"R\"&MATCH('Individual Scores'!$D103,Scores!$F$1:$F$253,0)&\"C\"&COLUMN(Scores!P$1),FALSE))","v":188},{"$f":"IF(ISERROR(MATCH('Individual Scores'!$D103,Scores!$F$1:$F$253,0)),\"\",INDIRECT(\"Scores!\"&\"R\"&MATCH('Individual Scores'!$D103,Scores!$F$1:$F$253,0)&\"C\"&COLUMN(Scores!S$1),FALSE))","v":1268},{"$f":"IF(MAX('Individual Scores'!Q103:V103)>0,MAX('Individual Scores'!Q103:V103),\"\")","v":236},{"$f":"IF(MAX(SUM('Individual Scores'!Q103:S103),SUM('Individual Scores'!T103:V103))>0,MAX(SUM('Individual Scores'!Q103:S103),SUM('Individual Scores'!T103:V103)),\"\")","v":657},null,{"$f":"IF('Team Scores'!$Z$1<2,\"\",IF(ISERROR(MATCH('Individual Scores'!$D103,Scores!$F$253:$F$506,0)),\"\",INDIRECT(\"Scores!\"&\"R\"&(ROW(Scores!$253:$253)-1+MATCH('Individual Scores'!$D103,Scores!$F$253:$F$505,0))&\"C\"&COLUMN(Scores!J$1),FALSE)))","v":0},{"$f":"IF('Team Scores'!$Z$1<2,\"\",IF(ISERROR(MATCH('Individual Scores'!$D103,Scores!$F$253:$F$506,0)),\"\",INDIRECT(\"Scores!\"&\"R\"&(ROW(Scores!$253:$253)-1+MATCH('Individual Scores'!$D103,Scores!$F$253:$F$505,0))&\"C\"&COLUMN(Scores!K$1),FALSE)))","v":0},{"$f":"IF('Team Scores'!$Z$1<2,\"\",IF(ISERROR(MATCH('Individual Scores'!$D103,Scores!$F$253:$F$506,0)),\"\",INDIRECT(\"Scores!\"&\"R\"&(ROW(Scores!$253:$253)-1+MATCH('Individual Scores'!$D103,Scores!$F$253:$F$505,0))&\"C\"&COLUMN(Scores!L$1),FALSE)))","v":0},{"$f":"IF('Team Scores'!$Z$1<2,\"\",IF(ISERROR(MATCH('Individual Scores'!$D103,Scores!$F$253:$F$506,0)),\"\",INDIRECT(\"Scores!\"&\"R\"&(ROW(Scores!$253:$253)-1+MATCH('Individual Scores'!$D103,Scores!$F$253:$F$505,0))&\"C\"&COLUMN(Scores!N$1),FALSE)))","v":0},{"$f":"IF('Team Scores'!$Z$1<2,\"\",IF(ISERROR(MATCH('Individual Scores'!$D103,Scores!$F$253:$F$506,0)),\"\",INDIRECT(\"Scores!\"&\"R\"&(ROW(Scores!$253:$253)-1+MATCH('Individual Scores'!$D103,Scores!$F$253:$F$505,0))&\"C\"&COLUMN(Scores!O$1),FALSE)))","v":0},{"$f":"IF('Team Scores'!$Z$1<2,\"\",IF(ISERROR(MATCH('Individual Scores'!$D103,Scores!$F$253:$F$506,0)),\"\",INDIRECT(\"Scores!\"&\"R\"&(ROW(Scores!$253:$253)-1+MATCH('Individual Scores'!$D103,Scores!$F$253:$F$505,0))&\"C\"&COLUMN(Scores!P$1),FALSE)))","v":0},{"$f":"IF('Team Scores'!$Z$1<2,\"\",IF(ISERROR(MATCH('Individual Scores'!$D103,Scores!$F$253:$F$506,0)),\"\",INDIRECT(\"Scores!\"&\"R\"&(ROW(Scores!$253:$253)-1+MATCH('Individual Scores'!$D103,Scores!$F$253:$F$505,0))&\"C\"&COLUMN(Scores!S$1),FALSE)))","v":0},"","",null,{"$f":"IF('Team Scores'!$Z$1<3,\"\",IF(ISERROR(MATCH('Individual Scores'!$D103,Scores!$F$506:$F$759,0)),\"\",INDIRECT(\"Scores!\"&\"R\"&(ROW(Scores!$F$506:$F$759)-1+MATCH('Individual Scores'!$D103,Scores!$F$506:$F$759,0))&\"C\"&COLUMN(Scores!J$1),FALSE)))","v":""},{"$f":"IF('Team Scores'!$Z$1<3,\"\",IF(ISERROR(MATCH('Individual Scores'!$D103,Scores!$F$506:$F$759,0)),\"\",INDIRECT(\"Scores!\"&\"R\"&(ROW(Scores!$F$506:$F$759)-1+MATCH('Individual Scores'!$D103,Scores!$F$506:$F$759,0))&\"C\"&COLUMN(Scores!K$1),FALSE)))","v":""},{"$f":"IF('Team Scores'!$Z$1<3,\"\",IF(ISERROR(MATCH('Individual Scores'!$D103,Scores!$F$506:$F$759,0)),\"\",INDIRECT(\"Scores!\"&\"R\"&(ROW(Scores!$F$506:$F$759)-1+MATCH('Individual Scores'!$D103,Scores!$F$506:$F$759,0))&\"C\"&COLUMN(Scores!L$1),FALSE)))","v":""},{"$f":"IF('Team Scores'!$Z$1<3,\"\",IF(ISERROR(MATCH('Individual Scores'!$D103,Scores!$F$506:$F$759,0)),\"\",INDIRECT(\"Scores!\"&\"R\"&(ROW(Scores!$F$506:$F$759)-1+MATCH('Individual Scores'!$D103,Scores!$F$506:$F$759,0))&\"C\"&COLUMN(Scores!N$1),FALSE)))","v":""},{"$f":"IF('Team Scores'!$Z$1<3,\"\",IF(ISERROR(MATCH('Individual Scores'!$D103,Scores!$F$506:$F$759,0)),\"\",INDIRECT(\"Scores!\"&\"R\"&(ROW(Scores!$F$506:$F$759)-1+MATCH('Individual Scores'!$D103,Scores!$F$506:$F$759,0))&\"C\"&COLUMN(Scores!O$1),FALSE)))","v":""},{"$f":"IF('Team Scores'!$Z$1<3,\"\",IF(ISERROR(MATCH('Individual Scores'!$D103,Scores!$F$506:$F$759,0)),\"\",INDIRECT(\"Scores!\"&\"R\"&(ROW(Scores!$F$506:$F$759)-1+MATCH('Individual Scores'!$D103,Scores!$F$506:$F$759,0))&\"C\"&COLUMN(Scores!P$1),FALSE)))","v":""},{"$f":"IF('Team Scores'!$Z$1<3,\"\",IF(ISERROR(MATCH('Individual Scores'!$D103,Scores!$F$506:$F$759,0)),\"\",INDIRECT(\"Scores!\"&\"R\"&(ROW(Scores!$F$506:$F$759)-1+MATCH('Individual Scores'!$D103,Scores!$F$506:$F$759,0))&\"C\"&COLUMN(Scores!S$1),FALSE)))","v":""},"",""]
["NC","16-20","M","Nahshon Bennett",1239,1429,"",2668,{"$f":"IF(COUNT(Q104:V104,AA104:AF104,AK104:AP104)>=18/3*'Team Scores'!$Z$1,IF(H104-VLOOKUP(B104&C104,'Individual Awards Computations'!$AY$54:$AZ$58,2,FALSE)=0,\"Leader \"&C104&\":\"&B104,H104-VLOOKUP(B104&C104,'Individual Awards Computations'!$AY$54:$AZ$58,2,FALSE)),\"\")","v":-2},259,754,222.33333333333334,24.611111111111104,"198-247",1,null,{"$f":"IF(ISERROR(MATCH('Individual Scores'!$D104,Scores!$F$1:$F$253,0)),\"\",INDIRECT(\"Scores!\"&\"R\"&MATCH('Individual Scores'!$D104,Scores!$F$1:$F$253,0)&\"C\"&COLUMN(Scores!J$1),FALSE))","v":181},{"$f":"IF(ISERROR(MATCH('Individual Scores'!$D104,Scores!$F$1:$F$253,0)),\"\",INDIRECT(\"Scores!\"&\"R\"&MATCH('Individual Scores'!$D104,Scores!$F$1:$F$253,0)&\"C\"&COLUMN(Scores!K$1),FALSE))","v":173},{"$f":"IF(ISERROR(MATCH('Individual Scores'!$D104,Scores!$F$1:$F$253,0)),\"\",INDIRECT(\"Scores!\"&\"R\"&MATCH('Individual Scores'!$D104,Scores!$F$1:$F$253,0)&\"C\"&COLUMN(Scores!L$1),FALSE))","v":219},{"$f":"IF(ISERROR(MATCH('Individual Scores'!$D104,Scores!$F$1:$F$253,0)),\"\",INDIRECT(\"Scores!\"&\"R\"&MATCH('Individual Scores'!$D104,Scores!$F$1:$F$253,0)&\"C\"&COLUMN(Scores!N$1),FALSE))","v":197},{"$f":"IF(ISERROR(MATCH('Individual Scores'!$D104,Scores!$F$1:$F$253,0)),\"\",INDIRECT(\"Scores!\"&\"R\"&MATCH('Individual Scores'!$D104,Scores!$F$1:$F$253,0)&\"C\"&COLUMN(Scores!O$1),FALSE))","v":234},{"$f":"IF(ISERROR(MATCH('Individual Scores'!$D104,Scores!$F$1:$F$253,0)),\"\",INDIRECT(\"Scores!\"&\"R\"&MATCH('Individual Scores'!$D104,Scores!$F$1:$F$253,0)&\"C\"&COLUMN(Scores!P$1),FALSE))","v":235},{"$f":"IF(ISERROR(MATCH('Individual Scores'!$D104,Scores!$F$1:$F$253,0)),\"\",INDIRECT(\"Scores!\"&\"R\"&MATCH('Individual Scores'!$D104,Scores!$F$1:$F$253,0)&\"C\"&COLUMN(Scores!S$1),FALSE))","v":1239},{"$f":"IF(MAX('Individual Scores'!Q104:V104)>0,MAX('Individual Scores'!Q104:V104),\"\")","v":235},{"$f":"IF(MAX(SUM('Individual Scores'!Q104:S104),SUM('Individual Scores'!T104:V104))>0,MAX(SUM('Individual Scores'!Q104:S104),SUM('Individual Scores'!T104:V104)),\"\")","v":666},null,{"$f":"IF('Team Scores'!$Z$1<2,\"\",IF(ISERROR(MATCH('Individual Scores'!$D104,Scores!$F$253:$F$506,0)),\"\",INDIRECT(\"Scores!\"&\"R\"&(ROW(Scores!$253:$253)-1+MATCH('Individual Scores'!$D104,Scores!$F$253:$F$505,0))&\"C\"&COLUMN(Scores!J$1),FALSE)))","v":194},{"$f":"IF('Team Scores'!$Z$1<2,\"\",IF(ISERROR(MATCH('Individual Scores'!$D104,Scores!$F$253:$F$506,0)),\"\",INDIRECT(\"Scores!\"&\"R\"&(ROW(Scores!$253:$253)-1+MATCH('Individual Scores'!$D104,Scores!$F$253:$F$505,0))&\"C\"&COLUMN(Scores!K$1),FALSE)))","v":235},{"$f":"IF('Team Scores'!$Z$1<2,\"\",IF(ISERROR(MATCH('Individual Scores'!$D104,Scores!$F$253:$F$506,0)),\"\",INDIRECT(\"Scores!\"&\"R\"&(ROW(Scores!$253:$253)-1+MATCH('Individual Scores'!$D104,Scores!$F$253:$F$505,0))&\"C\"&COLUMN(Scores!L$1),FALSE)))","v":246},{"$f":"IF('Team Scores'!$Z$1<2,\"\",IF(ISERROR(MATCH('Individual Scores'!$D104,Scores!$F$253:$F$506,0)),\"\",INDIRECT(\"Scores!\"&\"R\"&(ROW(Scores!$253:$253)-1+MATCH('Individual Scores'!$D104,Scores!$F$253:$F$505,0))&\"C\"&COLUMN(Scores!N$1),FALSE)))","v":259},{"$f":"IF('Team Scores'!$Z$1<2,\"\",IF(ISERROR(MATCH('Individual Scores'!$D104,Scores!$F$253:$F$506,0)),\"\",INDIRECT(\"Scores!\"&\"R\"&(ROW(Scores!$253:$253)-1+MATCH('Individual Scores'!$D104,Scores!$F$253:$F$505,0))&\"C\"&COLUMN(Scores!O$1),FALSE)))","v":243},{"$f":"IF('Team Scores'!$Z$1<2,\"\",IF(ISERROR(MATCH('Individual Scores'!$D104,Scores!$F$253:$F$506,0)),\"\",INDIRECT(\"Scores!\"&\"R\"&(ROW(Scores!$253:$253)-1+MATCH('Individual Scores'!$D104,Scores!$F$253:$F$505,0))&\"C\"&COLUMN(Scores!P$1),FALSE)))","v":252},{"$f":"IF('Team Scores'!$Z$1<2,\"\",IF(ISERROR(MATCH('Individual Scores'!$D104,Scores!$F$253:$F$506,0)),\"\",INDIRECT(\"Scores!\"&\"R\"&(ROW(Scores!$253:$253)-1+MATCH('Individual Scores'!$D104,Scores!$F$253:$F$505,0))&\"C\"&COLUMN(Scores!S$1),FALSE)))","v":1429},259,754,null,{"$f":"IF('Team Scores'!$Z$1<3,\"\",IF(ISERROR(MATCH('Individual Scores'!$D104,Scores!$F$506:$F$759,0)),\"\",INDIRECT(\"Scores!\"&\"R\"&(ROW(Scores!$F$506:$F$759)-1+MATCH('Individual Scores'!$D104,Scores!$F$506:$F$759,0))&\"C\"&COLUMN(Scores!J$1),FALSE)))","v":""},{"$f":"IF('Team Scores'!$Z$1<3,\"\",IF(ISERROR(MATCH('Individual Scores'!$D104,Scores!$F$506:$F$759,0)),\"\",INDIRECT(\"Scores!\"&\"R\"&(ROW(Scores!$F$506:$F$759)-1+MATCH('Individual Scores'!$D104,Scores!$F$506:$F$759,0))&\"C\"&COLUMN(Scores!K$1),FALSE)))","v":""},{"$f":"IF('Team Scores'!$Z$1<3,\"\",IF(ISERROR(MATCH('Individual Scores'!$D104,Scores!$F$506:$F$759,0)),\"\",INDIRECT(\"Scores!\"&\"R\"&(ROW(Scores!$F$506:$F$759)-1+MATCH('Individual Scores'!$D104,Scores!$F$506:$F$759,0))&\"C\"&COLUMN(Scores!L$1),FALSE)))","v":""},{"$f":"IF('Team Scores'!$Z$1<3,\"\",IF(ISERROR(MATCH('Individual Scores'!$D104,Scores!$F$506:$F$759,0)),\"\",INDIRECT(\"Scores!\"&\"R\"&(ROW(Scores!$F$506:$F$759)-1+MATCH('Individual Scores'!$D104,Scores!$F$506:$F$759,0))&\"C\"&COLUMN(Scores!N$1),FALSE)))","v":""},{"$f":"IF('Team Scores'!$Z$1<3,\"\",IF(ISERROR(MATCH('Individual Scores'!$D104,Scores!$F$506:$F$759,0)),\"\",INDIRECT(\"Scores!\"&\"R\"&(ROW(Scores!$F$506:$F$759)-1+MATCH('Individual Scores'!$D104,Scores!$F$506:$F$759,0))&\"C\"&COLUMN(Scores!O$1),FALSE)))","v":""},{"$f":"IF('Team Scores'!$Z$1<3,\"\",IF(ISERROR(MATCH('Individual Scores'!$D104,Scores!$F$506:$F$759,0)),\"\",INDIRECT(\"Scores!\"&\"R\"&(ROW(Scores!$F$506:$F$759)-1+MATCH('Individual Scores'!$D104,Scores!$F$506:$F$759,0))&\"C\"&COLUMN(Scores!P$1),FALSE)))","v":""},{"$f":"IF('Team Scores'!$Z$1<3,\"\",IF(ISERROR(MATCH('Individual Scores'!$D104,Scores!$F$506:$F$759,0)),\"\",INDIRECT(\"Scores!\"&\"R\"&(ROW(Scores!$F$506:$F$759)-1+MATCH('Individual Scores'!$D104,Scores!$F$506:$F$759,0))&\"C\"&COLUMN(Scores!S$1),FALSE)))","v":""},"",""]
["NC","16-20","M","Jacob Horne",1251,1317,"",2568,{"$f":"IF(COUNT(Q105:V105,AA105:AF105,AK105:AP105)>=18/3*'Team Scores'!$Z$1,IF(H105-VLOOKUP(B105&C105,'Individual Awards Computations'!$AY$54:$AZ$58,2,FALSE)=0,\"Leader \"&C105&\":\"&B105,H105-VLOOKUP(B105&C105,'Individual Awards Computations'!$AY$54:$AZ$58,2,FALSE)),\"\")","v":-102},279,666,214,27,"187-241",1,null,{"$f":"IF(ISERROR(MATCH('Individual Scores'!$D105,Scores!$F$1:$F$253,0)),\"\",INDIRECT(\"Scores!\"&\"R\"&MATCH('Individual Scores'!$D105,Scores!$F$1:$F$253,0)&\"C\"&COLUMN(Scores!J$1),FALSE))","v":157},{"$f":"IF(ISERROR(MATCH('Individual Scores'!$D105,Scores!$F$1:$F$253,0)),\"\",INDIRECT(\"Scores!\"&\"R\"&MATCH('Individual Scores'!$D105,Scores!$F$1:$F$253,0)&\"C\"&COLUMN(Scores!K$1),FALSE))","v":223},{"$f":"IF(ISERROR(MATCH('Individual Scores'!$D105,Scores!$F$1:$F$253,0)),\"\",INDIRECT(\"Scores!\"&\"R\"&MATCH('Individual Scores'!$D105,Scores!$F$1:$F$253,0)&\"C\"&COLUMN(Scores!L$1),FALSE))","v":205},{"$f":"IF(ISERROR(MATCH('Individual Scores'!$D105,Scores!$F$1:$F$253,0)),\"\",INDIRECT(\"Scores!\"&\"R\"&MATCH('Individual Scores'!$D105,Scores!$F$1:$F$253,0)&\"C\"&COLUMN(Scores!N$1),FALSE))","v":180},{"$f":"IF(ISERROR(MATCH('Individual Scores'!$D105,Scores!$F$1:$F$253,0)),\"\",INDIRECT(\"Scores!\"&\"R\"&MATCH('Individual Scores'!$D105,Scores!$F$1:$F$253,0)&\"C\"&COLUMN(Scores!O$1),FALSE))","v":221},{"$f":"IF(ISERROR(MATCH('Individual Scores'!$D105,Scores!$F$1:$F$253,0)),\"\",INDIRECT(\"Scores!\"&\"R\"&MATCH('Individual Scores'!$D105,Scores!$F$1:$F$253,0)&\"C\"&COLUMN(Scores!P$1),FALSE))","v":265},{"$f":"IF(ISERROR(MATCH('Individual Scores'!$D105,Scores!$F$1:$F$253,0)),\"\",INDIRECT(\"Scores!\"&\"R\"&MATCH('Individual Scores'!$D105,Scores!$F$1:$F$253,0)&\"C\"&COLUMN(Scores!S$1),FALSE))","v":1251},{"$f":"IF(MAX('Individual Scores'!Q105:V105)>0,MAX('Individual Scores'!Q105:V105),\"\")","v":265},{"$f":"IF(MAX(SUM('Individual Scores'!Q105:S105),SUM('Individual Scores'!T105:V105))>0,MAX(SUM('Individual Scores'!Q105:S105),SUM('Individual Scores'!T105:V105)),\"\")","v":666},null,{"$f":"IF('Team Scores'!$Z$1<2,\"\",IF(ISERROR(MATCH('Individual Scores'!$D105,Scores!$F$253:$F$506,0)),\"\",INDIRECT(\"Scores!\"&\"R\"&(ROW(Scores!$253:$253)-1+MATCH('Individual Scores'!$D105,Scores!$F$253:$F$505,0))&\"C\"&COLUMN(Scores!J$1),FALSE)))","v":211},{"$f":"IF('Team Scores'!$Z$1<2,\"\",IF(ISERROR(MATCH('Individual Scores'!$D105,Scores!$F$253:$F$506,0)),\"\",INDIRECT(\"Scores!\"&\"R\"&(ROW(Scores!$253:$253)-1+MATCH('Individual Scores'!$D105,Scores!$F$253:$F$505,0))&\"C\"&COLUMN(Scores!K$1),FALSE)))","v":197},{"$f":"IF('Team Scores'!$Z$1<2,\"\",IF(ISERROR(MATCH('Individual Scores'!$D105,Scores!$F$253:$F$506,0)),\"\",INDIRECT(\"Scores!\"&\"R\"&(ROW(Scores!$253:$253)-1+MATCH('Individual Scores'!$D105,Scores!$F$253:$F$505,0))&\"C\"&COLUMN(Scores!L$1),FALSE)))","v":244},{"$f":"IF('Team Scores'!$Z$1<2,\"\",IF(ISERROR(MATCH('Individual Scores'!$D105,Scores!$F$253:$F$506,0)),\"\",INDIRECT(\"Scores!\"&\"R\"&(ROW(Scores!$253:$253)-1+MATCH('Individual Scores'!$D105,Scores!$F$253:$F$505,0))&\"C\"&COLUMN(Scores!N$1),FALSE)))","v":279},{"$f":"IF('Team Scores'!$Z$1<2,\"\",IF(ISERROR(MATCH('Individual Scores'!$D105,Scores!$F$253:$F$506,0)),\"\",INDIRECT(\"Scores!\"&\"R\"&(ROW(Scores!$253:$253)-1+MATCH('Individual Scores'!$D105,Scores!$F$253:$F$505,0))&\"C\"&COLUMN(Scores!O$1),FALSE)))","v":194},{"$f":"IF('Team Scores'!$Z$1<2,\"\",IF(ISERROR(MATCH('Individual Scores'!$D105,Scores!$F$253:$F$506,0)),\"\",INDIRECT(\"Scores!\"&\"R\"&(ROW(Scores!$253:$253)-1+MATCH('Individual Scores'!$D105,Scores!$F$253:$F$505,0))&\"C\"&COLUMN(Scores!P$1),FALSE)))","v":192},{"$f":"IF('Team Scores'!$Z$1<2,\"\",IF(ISERROR(MATCH('Individual Scores'!$D105,Scores!$F$253:$F$506,0)),\"\",INDIRECT(\"Scores!\"&\"R\"&(ROW(Scores!$253:$253)-1+MATCH('Individual Scores'!$D105,Scores!$F$253:$F$505,0))&\"C\"&COLUMN(Scores!S$1),FALSE)))","v":1317},279,665,null,{"$f":"IF('Team Scores'!$Z$1<3,\"\",IF(ISERROR(MATCH('Individual Scores'!$D105,Scores!$F$506:$F$759,0)),\"\",INDIRECT(\"Scores!\"&\"R\"&(ROW(Scores!$F$506:$F$759)-1+MATCH('Individual Scores'!$D105,Scores!$F$506:$F$759,0))&\"C\"&COLUMN(Scores!J$1),FALSE)))","v":""},{"$f":"IF('Team Scores'!$Z$1<3,\"\",IF(ISERROR(MATCH('Individual Scores'!$D105,Scores!$F$506:$F$759,0)),\"\",INDIRECT(\"Scores!\"&\"R\"&(ROW(Scores!$F$506:$F$759)-1+MATCH('Individual Scores'!$D105,Scores!$F$506:$F$759,0))&\"C\"&COLUMN(Scores!K$1),FALSE)))","v":""},{"$f":"IF('Team Scores'!$Z$1<3,\"\",IF(ISERROR(MATCH('Individual Scores'!$D105,Scores!$F$506:$F$759,0)),\"\",INDIRECT(\"Scores!\"&\"R\"&(ROW(Scores!$F$506:$F$759)-1+MATCH('Individual Scores'!$D105,Scores!$F$506:$F$759,0))&\"C\"&COLUMN(Scores!L$1),FALSE)))","v":""},{"$f":"IF('Team Scores'!$Z$1<3,\"\",IF(ISERROR(MATCH('Individual Scores'!$D105,Scores!$F$506:$F$759,0)),\"\",INDIRECT(\"Scores!\"&\"R\"&(ROW(Scores!$F$506:$F$759)-1+MATCH('Individual Scores'!$D105,Scores!$F$506:$F$759,0))&\"C\"&COLUMN(Scores!N$1),FALSE)))","v":""},{"$f":"IF('Team Scores'!$Z$1<3,\"\",IF(ISERROR(MATCH('Individual Scores'!$D105,Scores!$F$506:$F$759,0)),\"\",INDIRECT(\"Scores!\"&\"R\"&(ROW(Scores!$F$506:$F$759)-1+MATCH('Individual Scores'!$D105,Scores!$F$506:$F$759,0))&\"C\"&COLUMN(Scores!O$1),FALSE)))","v":""},{"$f":"IF('Team Scores'!$Z$1<3,\"\",IF(ISERROR(MATCH('Individual Scores'!$D105,Scores!$F$506:$F$759,0)),\"\",INDIRECT(\"Scores!\"&\"R\"&(ROW(Scores!$F$506:$F$759)-1+MATCH('Individual Scores'!$D105,Scores!$F$506:$F$759,0))&\"C\"&COLUMN(Scores!P$1),FALSE)))","v":""},{"$f":"IF('Team Scores'!$Z$1<3,\"\",IF(ISERROR(MATCH('Individual Scores'!$D105,Scores!$F$506:$F$759,0)),\"\",INDIRECT(\"Scores!\"&\"R\"&(ROW(Scores!$F$506:$F$759)-1+MATCH('Individual Scores'!$D105,Scores!$F$506:$F$759,0))&\"C\"&COLUMN(Scores!S$1),FALSE)))","v":""},"",""]
["NC","16-20","M","Vacant-NC_B_U20","","","",0,{"$f":"IF(COUNT(Q106:V106,AA106:AF106,AK106:AP106)>=18/3*'Team Scores'!$Z$1,IF(H106-VLOOKUP(B106&C106,'Individual Awards Computations'!$AY$54:$AZ$58,2,FALSE)=0,\"Leader \"&C106&\":\"&B106,H106-VLOOKUP(B106&C106,'Individual Awards Computations'!$AY$54:$AZ$58,2,FALSE)),\"\")","v":""},"","","","","",1,null,{"$f":"IF(ISERROR(MATCH('Individual Scores'!$D106,Scores!$F$1:$F$253,0)),\"\",INDIRECT(\"Scores!\"&\"R\"&MATCH('Individual Scores'!$D106,Scores!$F$1:$F$253,0)&\"C\"&COLUMN(Scores!J$1),FALSE))","v":""},{"$f":"IF(ISERROR(MATCH('Individual Scores'!$D106,Scores!$F$1:$F$253,0)),\"\",INDIRECT(\"Scores!\"&\"R\"&MATCH('Individual Scores'!$D106,Scores!$F$1:$F$253,0)&\"C\"&COLUMN(Scores!K$1),FALSE))","v":""},{"$f":"IF(ISERROR(MATCH('Individual Scores'!$D106,Scores!$F$1:$F$253,0)),\"\",INDIRECT(\"Scores!\"&\"R\"&MATCH('Individual Scores'!$D106,Scores!$F$1:$F$253,0)&\"C\"&COLUMN(Scores!L$1),FALSE))","v":""},{"$f":"IF(ISERROR(MATCH('Individual Scores'!$D106,Scores!$F$1:$F$253,0)),\"\",INDIRECT(\"Scores!\"&\"R\"&MATCH('Individual Scores'!$D106,Scores!$F$1:$F$253,0)&\"C\"&COLUMN(Scores!N$1),FALSE))","v":""},{"$f":"IF(ISERROR(MATCH('Individual Scores'!$D106,Scores!$F$1:$F$253,0)),\"\",INDIRECT(\"Scores!\"&\"R\"&MATCH('Individual Scores'!$D106,Scores!$F$1:$F$253,0)&\"C\"&COLUMN(Scores!O$1),FALSE))","v":""},{"$f":"IF(ISERROR(MATCH('Individual Scores'!$D106,Scores!$F$1:$F$253,0)),\"\",INDIRECT(\"Scores!\"&\"R\"&MATCH('Individual Scores'!$D106,Scores!$F$1:$F$253,0)&\"C\"&COLUMN(Scores!P$1),FALSE))","v":""},{"$f":"IF(ISERROR(MATCH('Individual Scores'!$D106,Scores!$F$1:$F$253,0)),\"\",INDIRECT(\"Scores!\"&\"R\"&MATCH('Individual Scores'!$D106,Scores!$F$1:$F$253,0)&\"C\"&COLUMN(Scores!S$1),FALSE))","v":""},{"$f":"IF(MAX('Individual Scores'!Q106:V106)>0,MAX('Individual Scores'!Q106:V106),\"\")","v":""},{"$f":"IF(MAX(SUM('Individual Scores'!Q106:S106),SUM('Individual Scores'!T106:V106))>0,MAX(SUM('Individual Scores'!Q106:S106),SUM('Individual Scores'!T106:V106)),\"\")","v":""},null,{"$f":"IF('Team Scores'!$Z$1<2,\"\",IF(ISERROR(MATCH('Individual Scores'!$D106,Scores!$F$253:$F$506,0)),\"\",INDIRECT(\"Scores!\"&\"R\"&(ROW(Scores!$253:$253)-1+MATCH('Individual Scores'!$D106,Scores!$F$253:$F$505,0))&\"C\"&COLUMN(Scores!J$1),FALSE)))","v":""},{"$f":"IF('Team Scores'!$Z$1<2,\"\",IF(ISERROR(MATCH('Individual Scores'!$D106,Scores!$F$253:$F$506,0)),\"\",INDIRECT(\"Scores!\"&\"R\"&(ROW(Scores!$253:$253)-1+MATCH('Individual Scores'!$D106,Scores!$F$253:$F$505,0))&\"C\"&COLUMN(Scores!K$1),FALSE)))","v":""},{"$f":"IF('Team Scores'!$Z$1<2,\"\",IF(ISERROR(MATCH('Individual Scores'!$D106,Scores!$F$253:$F$506,0)),\"\",INDIRECT(\"Scores!\"&\"R\"&(ROW(Scores!$253:$253)-1+MATCH('Individual Scores'!$D106,Scores!$F$253:$F$505,0))&\"C\"&COLUMN(Scores!L$1),FALSE)))","v":""},{"$f":"IF('Team Scores'!$Z$1<2,\"\",IF(ISERROR(MATCH('Individual Scores'!$D106,Scores!$F$253:$F$506,0)),\"\",INDIRECT(\"Scores!\"&\"R\"&(ROW(Scores!$253:$253)-1+MATCH('Individual Scores'!$D106,Scores!$F$253:$F$505,0))&\"C\"&COLUMN(Scores!N$1),FALSE)))","v":""},{"$f":"IF('Team Scores'!$Z$1<2,\"\",IF(ISERROR(MATCH('Individual Scores'!$D106,Scores!$F$253:$F$506,0)),\"\",INDIRECT(\"Scores!\"&\"R\"&(ROW(Scores!$253:$253)-1+MATCH('Individual Scores'!$D106,Scores!$F$253:$F$505,0))&\"C\"&COLUMN(Scores!O$1),FALSE)))","v":""},{"$f":"IF('Team Scores'!$Z$1<2,\"\",IF(ISERROR(MATCH('Individual Scores'!$D106,Scores!$F$253:$F$506,0)),\"\",INDIRECT(\"Scores!\"&\"R\"&(ROW(Scores!$253:$253)-1+MATCH('Individual Scores'!$D106,Scores!$F$253:$F$505,0))&\"C\"&COLUMN(Scores!P$1),FALSE)))","v":""},{"$f":"IF('Team Scores'!$Z$1<2,\"\",IF(ISERROR(MATCH('Individual Scores'!$D106,Scores!$F$253:$F$506,0)),\"\",INDIRECT(\"Scores!\"&\"R\"&(ROW(Scores!$253:$253)-1+MATCH('Individual Scores'!$D106,Scores!$F$253:$F$505,0))&\"C\"&COLUMN(Scores!S$1),FALSE)))","v":""},"","",null,{"$f":"IF('Team Scores'!$Z$1<3,\"\",IF(ISERROR(MATCH('Individual Scores'!$D106,Scores!$F$506:$F$759,0)),\"\",INDIRECT(\"Scores!\"&\"R\"&(ROW(Scores!$F$506:$F$759)-1+MATCH('Individual Scores'!$D106,Scores!$F$506:$F$759,0))&\"C\"&COLUMN(Scores!J$1),FALSE)))","v":""},{"$f":"IF('Team Scores'!$Z$1<3,\"\",IF(ISERROR(MATCH('Individual Scores'!$D106,Scores!$F$506:$F$759,0)),\"\",INDIRECT(\"Scores!\"&\"R\"&(ROW(Scores!$F$506:$F$759)-1+MATCH('Individual Scores'!$D106,Scores!$F$506:$F$759,0))&\"C\"&COLUMN(Scores!K$1),FALSE)))","v":""},{"$f":"IF('Team Scores'!$Z$1<3,\"\",IF(ISERROR(MATCH('Individual Scores'!$D106,Scores!$F$506:$F$759,0)),\"\",INDIRECT(\"Scores!\"&\"R\"&(ROW(Scores!$F$506:$F$759)-1+MATCH('Individual Scores'!$D106,Scores!$F$506:$F$759,0))&\"C\"&COLUMN(Scores!L$1),FALSE)))","v":""},{"$f":"IF('Team Scores'!$Z$1<3,\"\",IF(ISERROR(MATCH('Individual Scores'!$D106,Scores!$F$506:$F$759,0)),\"\",INDIRECT(\"Scores!\"&\"R\"&(ROW(Scores!$F$506:$F$759)-1+MATCH('Individual Scores'!$D106,Scores!$F$506:$F$759,0))&\"C\"&COLUMN(Scores!N$1),FALSE)))","v":""},{"$f":"IF('Team Scores'!$Z$1<3,\"\",IF(ISERROR(MATCH('Individual Scores'!$D106,Scores!$F$506:$F$759,0)),\"\",INDIRECT(\"Scores!\"&\"R\"&(ROW(Scores!$F$506:$F$759)-1+MATCH('Individual Scores'!$D106,Scores!$F$506:$F$759,0))&\"C\"&COLUMN(Scores!O$1),FALSE)))","v":""},{"$f":"IF('Team Scores'!$Z$1<3,\"\",IF(ISERROR(MATCH('Individual Scores'!$D106,Scores!$F$506:$F$759,0)),\"\",INDIRECT(\"Scores!\"&\"R\"&(ROW(Scores!$F$506:$F$759)-1+MATCH('Individual Scores'!$D106,Scores!$F$506:$F$759,0))&\"C\"&COLUMN(Scores!P$1),FALSE)))","v":""},{"$f":"IF('Team Scores'!$Z$1<3,\"\",IF(ISERROR(MATCH('Individual Scores'!$D106,Scores!$F$506:$F$759,0)),\"\",INDIRECT(\"Scores!\"&\"R\"&(ROW(Scores!$F$506:$F$759)-1+MATCH('Individual Scores'!$D106,Scores!$F$506:$F$759,0))&\"C\"&COLUMN(Scores!S$1),FALSE)))","v":""},"",""]
["NC","16-20","M",null,"","","",0,{"$f":"IF(COUNT(Q107:V107,AA107:AF107,AK107:AP107)>=18/3*'Team Scores'!$Z$1,IF(H107-VLOOKUP(B107&C107,'Individual Awards Computations'!$AY$54:$AZ$58,2,FALSE)=0,\"Leader \"&C107&\":\"&B107,H107-VLOOKUP(B107&C107,'Individual Awards Computations'!$AY$54:$AZ$58,2,FALSE)),\"\")","v":""},"","","","","",0,null,{"$f":"IF(ISERROR(MATCH('Individual Scores'!$D107,Scores!$F$1:$F$253,0)),\"\",INDIRECT(\"Scores!\"&\"R\"&MATCH('Individual Scores'!$D107,Scores!$F$1:$F$253,0)&\"C\"&COLUMN(Scores!J$1),FALSE))","v":""},{"$f":"IF(ISERROR(MATCH('Individual Scores'!$D107,Scores!$F$1:$F$253,0)),\"\",INDIRECT(\"Scores!\"&\"R\"&MATCH('Individual Scores'!$D107,Scores!$F$1:$F$253,0)&\"C\"&COLUMN(Scores!K$1),FALSE))","v":""},{"$f":"IF(ISERROR(MATCH('Individual Scores'!$D107,Scores!$F$1:$F$253,0)),\"\",INDIRECT(\"Scores!\"&\"R\"&MATCH('Individual Scores'!$D107,Scores!$F$1:$F$253,0)&\"C\"&COLUMN(Scores!L$1),FALSE))","v":""},{"$f":"IF(ISERROR(MATCH('Individual Scores'!$D107,Scores!$F$1:$F$253,0)),\"\",INDIRECT(\"Scores!\"&\"R\"&MATCH('Individual Scores'!$D107,Scores!$F$1:$F$253,0)&\"C\"&COLUMN(Scores!N$1),FALSE))","v":""},{"$f":"IF(ISERROR(MATCH('Individual Scores'!$D107,Scores!$F$1:$F$253,0)),\"\",INDIRECT(\"Scores!\"&\"R\"&MATCH('Individual Scores'!$D107,Scores!$F$1:$F$253,0)&\"C\"&COLUMN(Scores!O$1),FALSE))","v":""},{"$f":"IF(ISERROR(MATCH('Individual Scores'!$D107,Scores!$F$1:$F$253,0)),\"\",INDIRECT(\"Scores!\"&\"R\"&MATCH('Individual Scores'!$D107,Scores!$F$1:$F$253,0)&\"C\"&COLUMN(Scores!P$1),FALSE))","v":""},{"$f":"IF(ISERROR(MATCH('Individual Scores'!$D107,Scores!$F$1:$F$253,0)),\"\",INDIRECT(\"Scores!\"&\"R\"&MATCH('Individual Scores'!$D107,Scores!$F$1:$F$253,0)&\"C\"&COLUMN(Scores!S$1),FALSE))","v":""},{"$f":"IF(MAX('Individual Scores'!Q107:V107)>0,MAX('Individual Scores'!Q107:V107),\"\")","v":""},{"$f":"IF(MAX(SUM('Individual Scores'!Q107:S107),SUM('Individual Scores'!T107:V107))>0,MAX(SUM('Individual Scores'!Q107:S107),SUM('Individual Scores'!T107:V107)),\"\")","v":""},null,{"$f":"IF('Team Scores'!$Z$1<2,\"\",IF(ISERROR(MATCH('Individual Scores'!$D107,Scores!$F$253:$F$506,0)),\"\",INDIRECT(\"Scores!\"&\"R\"&(ROW(Scores!$253:$253)-1+MATCH('Individual Scores'!$D107,Scores!$F$253:$F$505,0))&\"C\"&COLUMN(Scores!J$1),FALSE)))","v":""},{"$f":"IF('Team Scores'!$Z$1<2,\"\",IF(ISERROR(MATCH('Individual Scores'!$D107,Scores!$F$253:$F$506,0)),\"\",INDIRECT(\"Scores!\"&\"R\"&(ROW(Scores!$253:$253)-1+MATCH('Individual Scores'!$D107,Scores!$F$253:$F$505,0))&\"C\"&COLUMN(Scores!K$1),FALSE)))","v":""},{"$f":"IF('Team Scores'!$Z$1<2,\"\",IF(ISERROR(MATCH('Individual Scores'!$D107,Scores!$F$253:$F$506,0)),\"\",INDIRECT(\"Scores!\"&\"R\"&(ROW(Scores!$253:$253)-1+MATCH('Individual Scores'!$D107,Scores!$F$253:$F$505,0))&\"C\"&COLUMN(Scores!L$1),FALSE)))","v":""},{"$f":"IF('Team Scores'!$Z$1<2,\"\",IF(ISERROR(MATCH('Individual Scores'!$D107,Scores!$F$253:$F$506,0)),\"\",INDIRECT(\"Scores!\"&\"R\"&(ROW(Scores!$253:$253)-1+MATCH('Individual Scores'!$D107,Scores!$F$253:$F$505,0))&\"C\"&COLUMN(Scores!N$1),FALSE)))","v":""},{"$f":"IF('Team Scores'!$Z$1<2,\"\",IF(ISERROR(MATCH('Individual Scores'!$D107,Scores!$F$253:$F$506,0)),\"\",INDIRECT(\"Scores!\"&\"R\"&(ROW(Scores!$253:$253)-1+MATCH('Individual Scores'!$D107,Scores!$F$253:$F$505,0))&\"C\"&COLUMN(Scores!O$1),FALSE)))","v":""},{"$f":"IF('Team Scores'!$Z$1<2,\"\",IF(ISERROR(MATCH('Individual Scores'!$D107,Scores!$F$253:$F$506,0)),\"\",INDIRECT(\"Scores!\"&\"R\"&(ROW(Scores!$253:$253)-1+MATCH('Individual Scores'!$D107,Scores!$F$253:$F$505,0))&\"C\"&COLUMN(Scores!P$1),FALSE)))","v":""},{"$f":"IF('Team Scores'!$Z$1<2,\"\",IF(ISERROR(MATCH('Individual Scores'!$D107,Scores!$F$253:$F$506,0)),\"\",INDIRECT(\"Scores!\"&\"R\"&(ROW(Scores!$253:$253)-1+MATCH('Individual Scores'!$D107,Scores!$F$253:$F$505,0))&\"C\"&COLUMN(Scores!S$1),FALSE)))","v":""},"","",null,{"$f":"IF('Team Scores'!$Z$1<3,\"\",IF(ISERROR(MATCH('Individual Scores'!$D107,Scores!$F$506:$F$759,0)),\"\",INDIRECT(\"Scores!\"&\"R\"&(ROW(Scores!$F$506:$F$759)-1+MATCH('Individual Scores'!$D107,Scores!$F$506:$F$759,0))&\"C\"&COLUMN(Scores!J$1),FALSE)))","v":""},{"$f":"IF('Team Scores'!$Z$1<3,\"\",IF(ISERROR(MATCH('Individual Scores'!$D107,Scores!$F$506:$F$759,0)),\"\",INDIRECT(\"Scores!\"&\"R\"&(ROW(Scores!$F$506:$F$759)-1+MATCH('Individual Scores'!$D107,Scores!$F$506:$F$759,0))&\"C\"&COLUMN(Scores!K$1),FALSE)))","v":""},{"$f":"IF('Team Scores'!$Z$1<3,\"\",IF(ISERROR(MATCH('Individual Scores'!$D107,Scores!$F$506:$F$759,0)),\"\",INDIRECT(\"Scores!\"&\"R\"&(ROW(Scores!$F$506:$F$759)-1+MATCH('Individual Scores'!$D107,Scores!$F$506:$F$759,0))&\"C\"&COLUMN(Scores!L$1),FALSE)))","v":""},{"$f":"IF('Team Scores'!$Z$1<3,\"\",IF(ISERROR(MATCH('Individual Scores'!$D107,Scores!$F$506:$F$759,0)),\"\",INDIRECT(\"Scores!\"&\"R\"&(ROW(Scores!$F$506:$F$759)-1+MATCH('Individual Scores'!$D107,Scores!$F$506:$F$759,0))&\"C\"&COLUMN(Scores!N$1),FALSE)))","v":""},{"$f":"IF('Team Scores'!$Z$1<3,\"\",IF(ISERROR(MATCH('Individual Scores'!$D107,Scores!$F$506:$F$759,0)),\"\",INDIRECT(\"Scores!\"&\"R\"&(ROW(Scores!$F$506:$F$759)-1+MATCH('Individual Scores'!$D107,Scores!$F$506:$F$759,0))&\"C\"&COLUMN(Scores!O$1),FALSE)))","v":""},{"$f":"IF('Team Scores'!$Z$1<3,\"\",IF(ISERROR(MATCH('Individual Scores'!$D107,Scores!$F$506:$F$759,0)),\"\",INDIRECT(\"Scores!\"&\"R\"&(ROW(Scores!$F$506:$F$759)-1+MATCH('Individual Scores'!$D107,Scores!$F$506:$F$759,0))&\"C\"&COLUMN(Scores!P$1),FALSE)))","v":""},{"$f":"IF('Team Scores'!$Z$1<3,\"\",IF(ISERROR(MATCH('Individual Scores'!$D107,Scores!$F$506:$F$759,0)),\"\",INDIRECT(\"Scores!\"&\"R\"&(ROW(Scores!$F$506:$F$759)-1+MATCH('Individual Scores'!$D107,Scores!$F$506:$F$759,0))&\"C\"&COLUMN(Scores!S$1),FALSE)))","v":""},"",""]
["SC","15 & <","F","Claire Marshall",1039,1040,"",2079,{"$f":"IF(COUNT(Q108:V108,AA108:AF108,AK108:AP108)>=18/3*'Team Scores'!$Z$1,IF(H108-VLOOKUP(B108&C108,'Individual Awards Computations'!$AY$54:$AZ$58,2,FALSE)=0,\"Leader \"&C108&\":\"&B108,H108-VLOOKUP(B108&C108,'Individual Awards Computations'!$AY$54:$AZ$58,2,FALSE)),\"\")","v":-334},207,547,173.25,14.416666666666666,"159-188",1,null,{"$f":"IF(ISERROR(MATCH('Individual Scores'!$D108,Scores!$F$1:$F$253,0)),\"\",INDIRECT(\"Scores!\"&\"R\"&MATCH('Individual Scores'!$D108,Scores!$F$1:$F$253,0)&\"C\"&COLUMN(Scores!J$1),FALSE))","v":207},{"$f":"IF(ISERROR(MATCH('Individual Scores'!$D108,Scores!$F$1:$F$253,0)),\"\",INDIRECT(\"Scores!\"&\"R\"&MATCH('Individual Scores'!$D108,Scores!$F$1:$F$253,0)&\"C\"&COLUMN(Scores!K$1),FALSE))","v":174},{"$f":"IF(ISERROR(MATCH('Individual Scores'!$D108,Scores!$F$1:$F$253,0)),\"\",INDIRECT(\"Scores!\"&\"R\"&MATCH('Individual Scores'!$D108,Scores!$F$1:$F$253,0)&\"C\"&COLUMN(Scores!L$1),FALSE))","v":166},{"$f":"IF(ISERROR(MATCH('Individual Scores'!$D108,Scores!$F$1:$F$253,0)),\"\",INDIRECT(\"Scores!\"&\"R\"&MATCH('Individual Scores'!$D108,Scores!$F$1:$F$253,0)&\"C\"&COLUMN(Scores!N$1),FALSE))","v":187},{"$f":"IF(ISERROR(MATCH('Individual Scores'!$D108,Scores!$F$1:$F$253,0)),\"\",INDIRECT(\"Scores!\"&\"R\"&MATCH('Individual Scores'!$D108,Scores!$F$1:$F$253,0)&\"C\"&COLUMN(Scores!O$1),FALSE))","v":159},{"$f":"IF(ISERROR(MATCH('Individual Scores'!$D108,Scores!$F$1:$F$253,0)),\"\",INDIRECT(\"Scores!\"&\"R\"&MATCH('Individual Scores'!$D108,Scores!$F$1:$F$253,0)&\"C\"&COLUMN(Scores!P$1),FALSE))","v":146},{"$f":"IF(ISERROR(MATCH('Individual Scores'!$D108,Scores!$F$1:$F$253,0)),\"\",INDIRECT(\"Scores!\"&\"R\"&MATCH('Individual Scores'!$D108,Scores!$F$1:$F$253,0)&\"C\"&COLUMN(Scores!S$1),FALSE))","v":1039},{"$f":"IF(MAX('Individual Scores'!Q108:V108)>0,MAX('Individual Scores'!Q108:V108),\"\")","v":207},{"$f":"IF(MAX(SUM('Individual Scores'!Q108:S108),SUM('Individual Scores'!T108:V108))>0,MAX(SUM('Individual Scores'!Q108:S108),SUM('Individual Scores'!T108:V108)),\"\")","v":547},null,{"$f":"IF('Team Scores'!$Z$1<2,\"\",IF(ISERROR(MATCH('Individual Scores'!$D108,Scores!$F$253:$F$506,0)),\"\",INDIRECT(\"Scores!\"&\"R\"&(ROW(Scores!$253:$253)-1+MATCH('Individual Scores'!$D108,Scores!$F$253:$F$505,0))&\"C\"&COLUMN(Scores!J$1),FALSE)))","v":178},{"$f":"IF('Team Scores'!$Z$1<2,\"\",IF(ISERROR(MATCH('Individual Scores'!$D108,Scores!$F$253:$F$506,0)),\"\",INDIRECT(\"Scores!\"&\"R\"&(ROW(Scores!$253:$253)-1+MATCH('Individual Scores'!$D108,Scores!$F$253:$F$505,0))&\"C\"&COLUMN(Scores!K$1),FALSE)))","v":162},{"$f":"IF('Team Scores'!$Z$1<2,\"\",IF(ISERROR(MATCH('Individual Scores'!$D108,Scores!$F$253:$F$506,0)),\"\",INDIRECT(\"Scores!\"&\"R\"&(ROW(Scores!$253:$253)-1+MATCH('Individual Scores'!$D108,Scores!$F$253:$F$505,0))&\"C\"&COLUMN(Scores!L$1),FALSE)))","v":182},{"$f":"IF('Team Scores'!$Z$1<2,\"\",IF(ISERROR(MATCH('Individual Scores'!$D108,Scores!$F$253:$F$506,0)),\"\",INDIRECT(\"Scores!\"&\"R\"&(ROW(Scores!$253:$253)-1+MATCH('Individual Scores'!$D108,Scores!$F$253:$F$505,0))&\"C\"&COLUMN(Scores!N$1),FALSE)))","v":198},{"$f":"IF('Team Scores'!$Z$1<2,\"\",IF(ISERROR(MATCH('Individual Scores'!$D108,Scores!$F$253:$F$506,0)),\"\",INDIRECT(\"Scores!\"&\"R\"&(ROW(Scores!$253:$253)-1+MATCH('Individual Scores'!$D108,Scores!$F$253:$F$505,0))&\"C\"&COLUMN(Scores!O$1),FALSE)))","v":161},{"$f":"IF('Team Scores'!$Z$1<2,\"\",IF(ISERROR(MATCH('Individual Scores'!$D108,Scores!$F$253:$F$506,0)),\"\",INDIRECT(\"Scores!\"&\"R\"&(ROW(Scores!$253:$253)-1+MATCH('Individual Scores'!$D108,Scores!$F$253:$F$505,0))&\"C\"&COLUMN(Scores!P$1),FALSE)))","v":159},{"$f":"IF('Team Scores'!$Z$1<2,\"\",IF(ISERROR(MATCH('Individual Scores'!$D108,Scores!$F$253:$F$506,0)),\"\",INDIRECT(\"Scores!\"&\"R\"&(ROW(Scores!$253:$253)-1+MATCH('Individual Scores'!$D108,Scores!$F$253:$F$505,0))&\"C\"&COLUMN(Scores!S$1),FALSE)))","v":1040},198,522,null,{"$f":"IF('Team Scores'!$Z$1<3,\"\",IF(ISERROR(MATCH('Individual Scores'!$D108,Scores!$F$506:$F$759,0)),\"\",INDIRECT(\"Scores!\"&\"R\"&(ROW(Scores!$F$506:$F$759)-1+MATCH('Individual Scores'!$D108,Scores!$F$506:$F$759,0))&\"C\"&COLUMN(Scores!J$1),FALSE)))","v":""},{"$f":"IF('Team Scores'!$Z$1<3,\"\",IF(ISERROR(MATCH('Individual Scores'!$D108,Scores!$F$506:$F$759,0)),\"\",INDIRECT(\"Scores!\"&\"R\"&(ROW(Scores!$F$506:$F$759)-1+MATCH('Individual Scores'!$D108,Scores!$F$506:$F$759,0))&\"C\"&COLUMN(Scores!K$1),FALSE)))","v":""},{"$f":"IF('Team Scores'!$Z$1<3,\"\",IF(ISERROR(MATCH('Individual Scores'!$D108,Scores!$F$506:$F$759,0)),\"\",INDIRECT(\"Scores!\"&\"R\"&(ROW(Scores!$F$506:$F$759)-1+MATCH('Individual Scores'!$D108,Scores!$F$506:$F$759,0))&\"C\"&COLUMN(Scores!L$1),FALSE)))","v":""},{"$f":"IF('Team Scores'!$Z$1<3,\"\",IF(ISERROR(MATCH('Individual Scores'!$D108,Scores!$F$506:$F$759,0)),\"\",INDIRECT(\"Scores!\"&\"R\"&(ROW(Scores!$F$506:$F$759)-1+MATCH('Individual Scores'!$D108,Scores!$F$506:$F$759,0))&\"C\"&COLUMN(Scores!N$1),FALSE)))","v":""},{"$f":"IF('Team Scores'!$Z$1<3,\"\",IF(ISERROR(MATCH('Individual Scores'!$D108,Scores!$F$506:$F$759,0)),\"\",INDIRECT(\"Scores!\"&\"R\"&(ROW(Scores!$F$506:$F$759)-1+MATCH('Individual Scores'!$D108,Scores!$F$506:$F$759,0))&\"C\"&COLUMN(Scores!O$1),FALSE)))","v":""},{"$f":"IF('Team Scores'!$Z$1<3,\"\",IF(ISERROR(MATCH('Individual Scores'!$D108,Scores!$F$506:$F$759,0)),\"\",INDIRECT(\"Scores!\"&\"R\"&(ROW(Scores!$F$506:$F$759)-1+MATCH('Individual Scores'!$D108,Scores!$F$506:$F$759,0))&\"C\"&COLUMN(Scores!P$1),FALSE)))","v":""},{"$f":"IF('Team Scores'!$Z$1<3,\"\",IF(ISERROR(MATCH('Individual Scores'!$D108,Scores!$F$506:$F$759,0)),\"\",INDIRECT(\"Scores!\"&\"R\"&(ROW(Scores!$F$506:$F$759)-1+MATCH('Individual Scores'!$D108,Scores!$F$506:$F$759,0))&\"C\"&COLUMN(Scores!S$1),FALSE)))","v":""},"",""]
["SC","15 & <","F","Madison Janack",1246,1165,"",2411,{"$f":"IF(COUNT(Q109:V109,AA109:AF109,AK109:AP109)>=18/3*'Team Scores'!$Z$1,IF(H109-VLOOKUP(B109&C109,'Individual Awards Computations'!$AY$54:$AZ$58,2,FALSE)=0,\"Leader \"&C109&\":\"&B109,H109-VLOOKUP(B109&C109,'Individual Awards Computations'!$AY$54:$AZ$58,2,FALSE)),\"\")","v":-2},228,630,200.91666666666666,16.263888888888889,"185-217",1,null,{"$f":"IF(ISERROR(MATCH('Individual Scores'!$D109,Scores!$F$1:$F$253,0)),\"\",INDIRECT(\"Scores!\"&\"R\"&MATCH('Individual Scores'!$D109,Scores!$F$1:$F$253,0)&\"C\"&COLUMN(Scores!J$1),FALSE))","v":222},{"$f":"IF(ISERROR(MATCH('Individual Scores'!$D109,Scores!$F$1:$F$253,0)),\"\",INDIRECT(\"Scores!\"&\"R\"&MATCH('Individual Scores'!$D109,Scores!$F$1:$F$253,0)&\"C\"&COLUMN(Scores!K$1),FALSE))","v":194},{"$f":"IF(ISERROR(MATCH('Individual Scores'!$D109,Scores!$F$1:$F$253,0)),\"\",INDIRECT(\"Scores!\"&\"R\"&MATCH('Individual Scores'!$D109,Scores!$F$1:$F$253,0)&\"C\"&COLUMN(Scores!L$1),FALSE))","v":212},{"$f":"IF(ISERROR(MATCH('Individual Scores'!$D109,Scores!$F$1:$F$253,0)),\"\",INDIRECT(\"Scores!\"&\"R\"&MATCH('Individual Scores'!$D109,Scores!$F$1:$F$253,0)&\"C\"&COLUMN(Scores!N$1),FALSE))","v":193},{"$f":"IF(ISERROR(MATCH('Individual Scores'!$D109,Scores!$F$1:$F$253,0)),\"\",INDIRECT(\"Scores!\"&\"R\"&MATCH('Individual Scores'!$D109,Scores!$F$1:$F$253,0)&\"C\"&COLUMN(Scores!O$1),FALSE))","v":197},{"$f":"IF(ISERROR(MATCH('Individual Scores'!$D109,Scores!$F$1:$F$253,0)),\"\",INDIRECT(\"Scores!\"&\"R\"&MATCH('Individual Scores'!$D109,Scores!$F$1:$F$253,0)&\"C\"&COLUMN(Scores!P$1),FALSE))","v":228},{"$f":"IF(ISERROR(MATCH('Individual Scores'!$D109,Scores!$F$1:$F$253,0)),\"\",INDIRECT(\"Scores!\"&\"R\"&MATCH('Individual Scores'!$D109,Scores!$F$1:$F$253,0)&\"C\"&COLUMN(Scores!S$1),FALSE))","v":1246},{"$f":"IF(MAX('Individual Scores'!Q109:V109)>0,MAX('Individual Scores'!Q109:V109),\"\")","v":228},{"$f":"IF(MAX(SUM('Individual Scores'!Q109:S109),SUM('Individual Scores'!T109:V109))>0,MAX(SUM('Individual Scores'!Q109:S109),SUM('Individual Scores'!T109:V109)),\"\")","v":628},null,{"$f":"IF('Team Scores'!$Z$1<2,\"\",IF(ISERROR(MATCH('Individual Scores'!$D109,Scores!$F$253:$F$506,0)),\"\",INDIRECT(\"Scores!\"&\"R\"&(ROW(Scores!$253:$253)-1+MATCH('Individual Scores'!$D109,Scores!$F$253:$F$505,0))&\"C\"&COLUMN(Scores!J$1),FALSE)))","v":214},{"$f":"IF('Team Scores'!$Z$1<2,\"\",IF(ISERROR(MATCH('Individual Scores'!$D109,Scores!$F$253:$F$506,0)),\"\",INDIRECT(\"Scores!\"&\"R\"&(ROW(Scores!$253:$253)-1+MATCH('Individual Scores'!$D109,Scores!$F$253:$F$505,0))&\"C\"&COLUMN(Scores!K$1),FALSE)))","v":213},{"$f":"IF('Team Scores'!$Z$1<2,\"\",IF(ISERROR(MATCH('Individual Scores'!$D109,Scores!$F$253:$F$506,0)),\"\",INDIRECT(\"Scores!\"&\"R\"&(ROW(Scores!$253:$253)-1+MATCH('Individual Scores'!$D109,Scores!$F$253:$F$505,0))&\"C\"&COLUMN(Scores!L$1),FALSE)))","v":203},{"$f":"IF('Team Scores'!$Z$1<2,\"\",IF(ISERROR(MATCH('Individual Scores'!$D109,Scores!$F$253:$F$506,0)),\"\",INDIRECT(\"Scores!\"&\"R\"&(ROW(Scores!$253:$253)-1+MATCH('Individual Scores'!$D109,Scores!$F$253:$F$505,0))&\"C\"&COLUMN(Scores!N$1),FALSE)))","v":212},{"$f":"IF('Team Scores'!$Z$1<2,\"\",IF(ISERROR(MATCH('Individual Scores'!$D109,Scores!$F$253:$F$506,0)),\"\",INDIRECT(\"Scores!\"&\"R\"&(ROW(Scores!$253:$253)-1+MATCH('Individual Scores'!$D109,Scores!$F$253:$F$505,0))&\"C\"&COLUMN(Scores!O$1),FALSE)))","v":166},{"$f":"IF('Team Scores'!$Z$1<2,\"\",IF(ISERROR(MATCH('Individual Scores'!$D109,Scores!$F$253:$F$506,0)),\"\",INDIRECT(\"Scores!\"&\"R\"&(ROW(Scores!$253:$253)-1+MATCH('Individual Scores'!$D109,Scores!$F$253:$F$505,0))&\"C\"&COLUMN(Scores!P$1),FALSE)))","v":157},{"$f":"IF('Team Scores'!$Z$1<2,\"\",IF(ISERROR(MATCH('Individual Scores'!$D109,Scores!$F$253:$F$506,0)),\"\",INDIRECT(\"Scores!\"&\"R\"&(ROW(Scores!$253:$253)-1+MATCH('Individual Scores'!$D109,Scores!$F$253:$F$505,0))&\"C\"&COLUMN(Scores!S$1),FALSE)))","v":1165},214,630,null,{"$f":"IF('Team Scores'!$Z$1<3,\"\",IF(ISERROR(MATCH('Individual Scores'!$D109,Scores!$F$506:$F$759,0)),\"\",INDIRECT(\"Scores!\"&\"R\"&(ROW(Scores!$F$506:$F$759)-1+MATCH('Individual Scores'!$D109,Scores!$F$506:$F$759,0))&\"C\"&COLUMN(Scores!J$1),FALSE)))","v":""},{"$f":"IF('Team Scores'!$Z$1<3,\"\",IF(ISERROR(MATCH('Individual Scores'!$D109,Scores!$F$506:$F$759,0)),\"\",INDIRECT(\"Scores!\"&\"R\"&(ROW(Scores!$F$506:$F$759)-1+MATCH('Individual Scores'!$D109,Scores!$F$506:$F$759,0))&\"C\"&COLUMN(Scores!K$1),FALSE)))","v":""},{"$f":"IF('Team Scores'!$Z$1<3,\"\",IF(ISERROR(MATCH('Individual Scores'!$D109,Scores!$F$506:$F$759,0)),\"\",INDIRECT(\"Scores!\"&\"R\"&(ROW(Scores!$F$506:$F$759)-1+MATCH('Individual Scores'!$D109,Scores!$F$506:$F$759,0))&\"C\"&COLUMN(Scores!L$1),FALSE)))","v":""},{"$f":"IF('Team Scores'!$Z$1<3,\"\",IF(ISERROR(MATCH('Individual Scores'!$D109,Scores!$F$506:$F$759,0)),\"\",INDIRECT(\"Scores!\"&\"R\"&(ROW(Scores!$F$506:$F$759)-1+MATCH('Individual Scores'!$D109,Scores!$F$506:$F$759,0))&\"C\"&COLUMN(Scores!N$1),FALSE)))","v":""},{"$f":"IF('Team Scores'!$Z$1<3,\"\",IF(ISERROR(MATCH('Individual Scores'!$D109,Scores!$F$506:$F$759,0)),\"\",INDIRECT(\"Scores!\"&\"R\"&(ROW(Scores!$F$506:$F$759)-1+MATCH('Individual Scores'!$D109,Scores!$F$506:$F$759,0))&\"C\"&COLUMN(Scores!O$1),FALSE)))","v":""},{"$f":"IF('Team Scores'!$Z$1<3,\"\",IF(ISERROR(MATCH('Individual Scores'!$D109,Scores!$F$506:$F$759,0)),\"\",INDIRECT(\"Scores!\"&\"R\"&(ROW(Scores!$F$506:$F$759)-1+MATCH('Individual Scores'!$D109,Scores!$F$506:$F$759,0))&\"C\"&COLUMN(Scores!P$1),FALSE)))","v":""},{"$f":"IF('Team Scores'!$Z$1<3,\"\",IF(ISERROR(MATCH('Individual Scores'!$D109,Scores!$F$506:$F$759,0)),\"\",INDIRECT(\"Scores!\"&\"R\"&(ROW(Scores!$F$506:$F$759)-1+MATCH('Individual Scores'!$D109,Scores!$F$506:$F$759,0))&\"C\"&COLUMN(Scores!S$1),FALSE)))","v":""},"",""]
["SC","15 & <","F","Stephanie Murphy",878,893,"",1771,{"$f":"IF(COUNT(Q110:V110,AA110:AF110,AK110:AP110)>=18/3*'Team Scores'!$Z$1,IF(H110-VLOOKUP(B110&C110,'Individual Awards Computations'!$AY$54:$AZ$58,2,FALSE)=0,\"Leader \"&C110&\":\"&B110,H110-VLOOKUP(B110&C110,'Individual Awards Computations'!$AY$54:$AZ$58,2,FALSE)),\"\")","v":-642},224,497,147.58333333333334,22.513888888888889,"125-170",1,null,{"$f":"IF(ISERROR(MATCH('Individual Scores'!$D110,Scores!$F$1:$F$253,0)),\"\",INDIRECT(\"Scores!\"&\"R\"&MATCH('Individual Scores'!$D110,Scores!$F$1:$F$253,0)&\"C\"&COLUMN(Scores!J$1),FALSE))","v":137},{"$f":"IF(ISERROR(MATCH('Individual Scores'!$D110,Scores!$F$1:$F$253,0)),\"\",INDIRECT(\"Scores!\"&\"R\"&MATCH('Individual Scores'!$D110,Scores!$F$1:$F$253,0)&\"C\"&COLUMN(Scores!K$1),FALSE))","v":149},{"$f":"IF(ISERROR(MATCH('Individual Scores'!$D110,Scores!$F$1:$F$253,0)),\"\",INDIRECT(\"Scores!\"&\"R\"&MATCH('Individual Scores'!$D110,Scores!$F$1:$F$253,0)&\"C\"&COLUMN(Scores!L$1),FALSE))","v":172},{"$f":"IF(ISERROR(MATCH('Individual Scores'!$D110,Scores!$F$1:$F$253,0)),\"\",INDIRECT(\"Scores!\"&\"R\"&MATCH('Individual Scores'!$D110,Scores!$F$1:$F$253,0)&\"C\"&COLUMN(Scores!N$1),FALSE))","v":116},{"$f":"IF(ISERROR(MATCH('Individual Scores'!$D110,Scores!$F$1:$F$253,0)),\"\",INDIRECT(\"Scores!\"&\"R\"&MATCH('Individual Scores'!$D110,Scores!$F$1:$F$253,0)&\"C\"&COLUMN(Scores!O$1),FALSE))","v":136},{"$f":"IF(ISERROR(MATCH('Individual Scores'!$D110,Scores!$F$1:$F$253,0)),\"\",INDIRECT(\"Scores!\"&\"R\"&MATCH('Individual Scores'!$D110,Scores!$F$1:$F$253,0)&\"C\"&COLUMN(Scores!P$1),FALSE))","v":168},{"$f":"IF(ISERROR(MATCH('Individual Scores'!$D110,Scores!$F$1:$F$253,0)),\"\",INDIRECT(\"Scores!\"&\"R\"&MATCH('Individual Scores'!$D110,Scores!$F$1:$F$253,0)&\"C\"&COLUMN(Scores!S$1),FALSE))","v":878},{"$f":"IF(MAX('Individual Scores'!Q110:V110)>0,MAX('Individual Scores'!Q110:V110),\"\")","v":172},{"$f":"IF(MAX(SUM('Individual Scores'!Q110:S110),SUM('Individual Scores'!T110:V110))>0,MAX(SUM('Individual Scores'!Q110:S110),SUM('Individual Scores'!T110:V110)),\"\")","v":458},null,{"$f":"IF('Team Scores'!$Z$1<2,\"\",IF(ISERROR(MATCH('Individual Scores'!$D110,Scores!$F$253:$F$506,0)),\"\",INDIRECT(\"Scores!\"&\"R\"&(ROW(Scores!$253:$253)-1+MATCH('Individual Scores'!$D110,Scores!$F$253:$F$505,0))&\"C\"&COLUMN(Scores!J$1),FALSE)))","v":113},{"$f":"IF('Team Scores'!$Z$1<2,\"\",IF(ISERROR(MATCH('Individual Scores'!$D110,Scores!$F$253:$F$506,0)),\"\",INDIRECT(\"Scores!\"&\"R\"&(ROW(Scores!$253:$253)-1+MATCH('Individual Scores'!$D110,Scores!$F$253:$F$505,0))&\"C\"&COLUMN(Scores!K$1),FALSE)))","v":224},{"$f":"IF('Team Scores'!$Z$1<2,\"\",IF(ISERROR(MATCH('Individual Scores'!$D110,Scores!$F$253:$F$506,0)),\"\",INDIRECT(\"Scores!\"&\"R\"&(ROW(Scores!$253:$253)-1+MATCH('Individual Scores'!$D110,Scores!$F$253:$F$505,0))&\"C\"&COLUMN(Scores!L$1),FALSE)))","v":160},{"$f":"IF('Team Scores'!$Z$1<2,\"\",IF(ISERROR(MATCH('Individual Scores'!$D110,Scores!$F$253:$F$506,0)),\"\",INDIRECT(\"Scores!\"&\"R\"&(ROW(Scores!$253:$253)-1+MATCH('Individual Scores'!$D110,Scores!$F$253:$F$505,0))&\"C\"&COLUMN(Scores!N$1),FALSE)))","v":138},{"$f":"IF('Team Scores'!$Z$1<2,\"\",IF(ISERROR(MATCH('Individual Scores'!$D110,Scores!$F$253:$F$506,0)),\"\",INDIRECT(\"Scores!\"&\"R\"&(ROW(Scores!$253:$253)-1+MATCH('Individual Scores'!$D110,Scores!$F$253:$F$505,0))&\"C\"&COLUMN(Scores!O$1),FALSE)))","v":139},{"$f":"IF('Team Scores'!$Z$1<2,\"\",IF(ISERROR(MATCH('Individual Scores'!$D110,Scores!$F$253:$F$506,0)),\"\",INDIRECT(\"Scores!\"&\"R\"&(ROW(Scores!$253:$253)-1+MATCH('Individual Scores'!$D110,Scores!$F$253:$F$505,0))&\"C\"&COLUMN(Scores!P$1),FALSE)))","v":119},{"$f":"IF('Team Scores'!$Z$1<2,\"\",IF(ISERROR(MATCH('Individual Scores'!$D110,Scores!$F$253:$F$506,0)),\"\",INDIRECT(\"Scores!\"&\"R\"&(ROW(Scores!$253:$253)-1+MATCH('Individual Scores'!$D110,Scores!$F$253:$F$505,0))&\"C\"&COLUMN(Scores!S$1),FALSE)))","v":893},224,497,null,{"$f":"IF('Team Scores'!$Z$1<3,\"\",IF(ISERROR(MATCH('Individual Scores'!$D110,Scores!$F$506:$F$759,0)),\"\",INDIRECT(\"Scores!\"&\"R\"&(ROW(Scores!$F$506:$F$759)-1+MATCH('Individual Scores'!$D110,Scores!$F$506:$F$759,0))&\"C\"&COLUMN(Scores!J$1),FALSE)))","v":""},{"$f":"IF('Team Scores'!$Z$1<3,\"\",IF(ISERROR(MATCH('Individual Scores'!$D110,Scores!$F$506:$F$759,0)),\"\",INDIRECT(\"Scores!\"&\"R\"&(ROW(Scores!$F$506:$F$759)-1+MATCH('Individual Scores'!$D110,Scores!$F$506:$F$759,0))&\"C\"&COLUMN(Scores!K$1),FALSE)))","v":""},{"$f":"IF('Team Scores'!$Z$1<3,\"\",IF(ISERROR(MATCH('Individual Scores'!$D110,Scores!$F$506:$F$759,0)),\"\",INDIRECT(\"Scores!\"&\"R\"&(ROW(Scores!$F$506:$F$759)-1+MATCH('Individual Scores'!$D110,Scores!$F$506:$F$759,0))&\"C\"&COLUMN(Scores!L$1),FALSE)))","v":""},{"$f":"IF('Team Scores'!$Z$1<3,\"\",IF(ISERROR(MATCH('Individual Scores'!$D110,Scores!$F$506:$F$759,0)),\"\",INDIRECT(\"Scores!\"&\"R\"&(ROW(Scores!$F$506:$F$759)-1+MATCH('Individual Scores'!$D110,Scores!$F$506:$F$759,0))&\"C\"&COLUMN(Scores!N$1),FALSE)))","v":""},{"$f":"IF('Team Scores'!$Z$1<3,\"\",IF(ISERROR(MATCH('Individual Scores'!$D110,Scores!$F$506:$F$759,0)),\"\",INDIRECT(\"Scores!\"&\"R\"&(ROW(Scores!$F$506:$F$759)-1+MATCH('Individual Scores'!$D110,Scores!$F$506:$F$759,0))&\"C\"&COLUMN(Scores!O$1),FALSE)))","v":""},{"$f":"IF('Team Scores'!$Z$1<3,\"\",IF(ISERROR(MATCH('Individual Scores'!$D110,Scores!$F$506:$F$759,0)),\"\",INDIRECT(\"Scores!\"&\"R\"&(ROW(Scores!$F$506:$F$759)-1+MATCH('Individual Scores'!$D110,Scores!$F$506:$F$759,0))&\"C\"&COLUMN(Scores!P$1),FALSE)))","v":""},{"$f":"IF('Team Scores'!$Z$1<3,\"\",IF(ISERROR(MATCH('Individual Scores'!$D110,Scores!$F$506:$F$759,0)),\"\",INDIRECT(\"Scores!\"&\"R\"&(ROW(Scores!$F$506:$F$759)-1+MATCH('Individual Scores'!$D110,Scores!$F$506:$F$759,0))&\"C\"&COLUMN(Scores!S$1),FALSE)))","v":""},"",""]
["SC","15 & <","F","Sharlie Walker",815,804,"",1619,{"$f":"IF(COUNT(Q111:V111,AA111:AF111,AK111:AP111)>=18/3*'Team Scores'!$Z$1,IF(H111-VLOOKUP(B111&C111,'Individual Awards Computations'!$AY$54:$AZ$58,2,FALSE)=0,\"Leader \"&C111&\":\"&B111,H111-VLOOKUP(B111&C111,'Individual Awards Computations'!$AY$54:$AZ$58,2,FALSE)),\"\")","v":-794},165,461,134.91666666666666,12.930555555555557,"122-148",1,null,{"$f":"IF(ISERROR(MATCH('Individual Scores'!$D111,Scores!$F$1:$F$253,0)),\"\",INDIRECT(\"Scores!\"&\"R\"&MATCH('Individual Scores'!$D111,Scores!$F$1:$F$253,0)&\"C\"&COLUMN(Scores!J$1),FALSE))","v":128},{"$f":"IF(ISERROR(MATCH('Individual Scores'!$D111,Scores!$F$1:$F$253,0)),\"\",INDIRECT(\"Scores!\"&\"R\"&MATCH('Individual Scores'!$D111,Scores!$F$1:$F$253,0)&\"C\"&COLUMN(Scores!K$1),FALSE))","v":107},{"$f":"IF(ISERROR(MATCH('Individual Scores'!$D111,Scores!$F$1:$F$253,0)),\"\",INDIRECT(\"Scores!\"&\"R\"&MATCH('Individual Scores'!$D111,Scores!$F$1:$F$253,0)&\"C\"&COLUMN(Scores!L$1),FALSE))","v":119},{"$f":"IF(ISERROR(MATCH('Individual Scores'!$D111,Scores!$F$1:$F$253,0)),\"\",INDIRECT(\"Scores!\"&\"R\"&MATCH('Individual Scores'!$D111,Scores!$F$1:$F$253,0)&\"C\"&COLUMN(Scores!N$1),FALSE))","v":165},{"$f":"IF(ISERROR(MATCH('Individual Scores'!$D111,Scores!$F$1:$F$253,0)),\"\",INDIRECT(\"Scores!\"&\"R\"&MATCH('Individual Scores'!$D111,Scores!$F$1:$F$253,0)&\"C\"&COLUMN(Scores!O$1),FALSE))","v":155},{"$f":"IF(ISERROR(MATCH('Individual Scores'!$D111,Scores!$F$1:$F$253,0)),\"\",INDIRECT(\"Scores!\"&\"R\"&MATCH('Individual Scores'!$D111,Scores!$F$1:$F$253,0)&\"C\"&COLUMN(Scores!P$1),FALSE))","v":141},{"$f":"IF(ISERROR(MATCH('Individual Scores'!$D111,Scores!$F$1:$F$253,0)),\"\",INDIRECT(\"Scores!\"&\"R\"&MATCH('Individual Scores'!$D111,Scores!$F$1:$F$253,0)&\"C\"&COLUMN(Scores!S$1),FALSE))","v":815},{"$f":"IF(MAX('Individual Scores'!Q111:V111)>0,MAX('Individual Scores'!Q111:V111),\"\")","v":165},{"$f":"IF(MAX(SUM('Individual Scores'!Q111:S111),SUM('Individual Scores'!T111:V111))>0,MAX(SUM('Individual Scores'!Q111:S111),SUM('Individual Scores'!T111:V111)),\"\")","v":461},null,{"$f":"IF('Team Scores'!$Z$1<2,\"\",IF(ISERROR(MATCH('Individual Scores'!$D111,Scores!$F$253:$F$506,0)),\"\",INDIRECT(\"Scores!\"&\"R\"&(ROW(Scores!$253:$253)-1+MATCH('Individual Scores'!$D111,Scores!$F$253:$F$505,0))&\"C\"&COLUMN(Scores!J$1),FALSE)))","v":139},{"$f":"IF('Team Scores'!$Z$1<2,\"\",IF(ISERROR(MATCH('Individual Scores'!$D111,Scores!$F$253:$F$506,0)),\"\",INDIRECT(\"Scores!\"&\"R\"&(ROW(Scores!$253:$253)-1+MATCH('Individual Scores'!$D111,Scores!$F$253:$F$505,0))&\"C\"&COLUMN(Scores!K$1),FALSE)))","v":145},{"$f":"IF('Team Scores'!$Z$1<2,\"\",IF(ISERROR(MATCH('Individual Scores'!$D111,Scores!$F$253:$F$506,0)),\"\",INDIRECT(\"Scores!\"&\"R\"&(ROW(Scores!$253:$253)-1+MATCH('Individual Scores'!$D111,Scores!$F$253:$F$505,0))&\"C\"&COLUMN(Scores!L$1),FALSE)))","v":113},{"$f":"IF('Team Scores'!$Z$1<2,\"\",IF(ISERROR(MATCH('Individual Scores'!$D111,Scores!$F$253:$F$506,0)),\"\",INDIRECT(\"Scores!\"&\"R\"&(ROW(Scores!$253:$253)-1+MATCH('Individual Scores'!$D111,Scores!$F$253:$F$505,0))&\"C\"&COLUMN(Scores!N$1),FALSE)))","v":136},{"$f":"IF('Team Scores'!$Z$1<2,\"\",IF(ISERROR(MATCH('Individual Scores'!$D111,Scores!$F$253:$F$506,0)),\"\",INDIRECT(\"Scores!\"&\"R\"&(ROW(Scores!$253:$253)-1+MATCH('Individual Scores'!$D111,Scores!$F$253:$F$505,0))&\"C\"&COLUMN(Scores!O$1),FALSE)))","v":130},{"$f":"IF('Team Scores'!$Z$1<2,\"\",IF(ISERROR(MATCH('Individual Scores'!$D111,Scores!$F$253:$F$506,0)),\"\",INDIRECT(\"Scores!\"&\"R\"&(ROW(Scores!$253:$253)-1+MATCH('Individual Scores'!$D111,Scores!$F$253:$F$505,0))&\"C\"&COLUMN(Scores!P$1),FALSE)))","v":141},{"$f":"IF('Team Scores'!$Z$1<2,\"\",IF(ISERROR(MATCH('Individual Scores'!$D111,Scores!$F$253:$F$506,0)),\"\",INDIRECT(\"Scores!\"&\"R\"&(ROW(Scores!$253:$253)-1+MATCH('Individual Scores'!$D111,Scores!$F$253:$F$505,0))&\"C\"&COLUMN(Scores!S$1),FALSE)))","v":804},145,407,null,{"$f":"IF('Team Scores'!$Z$1<3,\"\",IF(ISERROR(MATCH('Individual Scores'!$D111,Scores!$F$506:$F$759,0)),\"\",INDIRECT(\"Scores!\"&\"R\"&(ROW(Scores!$F$506:$F$759)-1+MATCH('Individual Scores'!$D111,Scores!$F$506:$F$759,0))&\"C\"&COLUMN(Scores!J$1),FALSE)))","v":""},{"$f":"IF('Team Scores'!$Z$1<3,\"\",IF(ISERROR(MATCH('Individual Scores'!$D111,Scores!$F$506:$F$759,0)),\"\",INDIRECT(\"Scores!\"&\"R\"&(ROW(Scores!$F$506:$F$759)-1+MATCH('Individual Scores'!$D111,Scores!$F$506:$F$759,0))&\"C\"&COLUMN(Scores!K$1),FALSE)))","v":""},{"$f":"IF('Team Scores'!$Z$1<3,\"\",IF(ISERROR(MATCH('Individual Scores'!$D111,Scores!$F$506:$F$759,0)),\"\",INDIRECT(\"Scores!\"&\"R\"&(ROW(Scores!$F$506:$F$759)-1+MATCH('Individual Scores'!$D111,Scores!$F$506:$F$759,0))&\"C\"&COLUMN(Scores!L$1),FALSE)))","v":""},{"$f":"IF('Team Scores'!$Z$1<3,\"\",IF(ISERROR(MATCH('Individual Scores'!$D111,Scores!$F$506:$F$759,0)),\"\",INDIRECT(\"Scores!\"&\"R\"&(ROW(Scores!$F$506:$F$759)-1+MATCH('Individual Scores'!$D111,Scores!$F$506:$F$759,0))&\"C\"&COLUMN(Scores!N$1),FALSE)))","v":""},{"$f":"IF('Team Scores'!$Z$1<3,\"\",IF(ISERROR(MATCH('Individual Scores'!$D111,Scores!$F$506:$F$759,0)),\"\",INDIRECT(\"Scores!\"&\"R\"&(ROW(Scores!$F$506:$F$759)-1+MATCH('Individual Scores'!$D111,Scores!$F$506:$F$759,0))&\"C\"&COLUMN(Scores!O$1),FALSE)))","v":""},{"$f":"IF('Team Scores'!$Z$1<3,\"\",IF(ISERROR(MATCH('Individual Scores'!$D111,Scores!$F$506:$F$759,0)),\"\",INDIRECT(\"Scores!\"&\"R\"&(ROW(Scores!$F$506:$F$759)-1+MATCH('Individual Scores'!$D111,Scores!$F$506:$F$759,0))&\"C\"&COLUMN(Scores!P$1),FALSE)))","v":""},{"$f":"IF('Team Scores'!$Z$1<3,\"\",IF(ISERROR(MATCH('Individual Scores'!$D111,Scores!$F$506:$F$759,0)),\"\",INDIRECT(\"Scores!\"&\"R\"&(ROW(Scores!$F$506:$F$759)-1+MATCH('Individual Scores'!$D111,Scores!$F$506:$F$759,0))&\"C\"&COLUMN(Scores!S$1),FALSE)))","v":""},"",""]
["SC","15 & <","F","Jaycee McCarthy",913,876,"",1789,{"$f":"IF(COUNT(Q112:V112,AA112:AF112,AK112:AP112)>=18/3*'Team Scores'!$Z$1,IF(H112-VLOOKUP(B112&C112,'Individual Awards Computations'!$AY$54:$AZ$58,2,FALSE)=0,\"Leader \"&C112&\":\"&B112,H112-VLOOKUP(B112&C112,'Individual Awards Computations'!$AY$54:$AZ$58,2,FALSE)),\"\")","v":-624},212,502,149.08333333333334,21.944444444444446,"127-171",1,null,{"$f":"IF(ISERROR(MATCH('Individual Scores'!$D112,Scores!$F$1:$F$253,0)),\"\",INDIRECT(\"Scores!\"&\"R\"&MATCH('Individual Scores'!$D112,Scores!$F$1:$F$253,0)&\"C\"&COLUMN(Scores!J$1),FALSE))","v":114},{"$f":"IF(ISERROR(MATCH('Individual Scores'!$D112,Scores!$F$1:$F$253,0)),\"\",INDIRECT(\"Scores!\"&\"R\"&MATCH('Individual Scores'!$D112,Scores!$F$1:$F$253,0)&\"C\"&COLUMN(Scores!K$1),FALSE))","v":161},{"$f":"IF(ISERROR(MATCH('Individual Scores'!$D112,Scores!$F$1:$F$253,0)),\"\",INDIRECT(\"Scores!\"&\"R\"&MATCH('Individual Scores'!$D112,Scores!$F$1:$F$253,0)&\"C\"&COLUMN(Scores!L$1),FALSE))","v":136},{"$f":"IF(ISERROR(MATCH('Individual Scores'!$D112,Scores!$F$1:$F$253,0)),\"\",INDIRECT(\"Scores!\"&\"R\"&MATCH('Individual Scores'!$D112,Scores!$F$1:$F$253,0)&\"C\"&COLUMN(Scores!N$1),FALSE))","v":212},{"$f":"IF(ISERROR(MATCH('Individual Scores'!$D112,Scores!$F$1:$F$253,0)),\"\",INDIRECT(\"Scores!\"&\"R\"&MATCH('Individual Scores'!$D112,Scores!$F$1:$F$253,0)&\"C\"&COLUMN(Scores!O$1),FALSE))","v":146},{"$f":"IF(ISERROR(MATCH('Individual Scores'!$D112,Scores!$F$1:$F$253,0)),\"\",INDIRECT(\"Scores!\"&\"R\"&MATCH('Individual Scores'!$D112,Scores!$F$1:$F$253,0)&\"C\"&COLUMN(Scores!P$1),FALSE))","v":144},{"$f":"IF(ISERROR(MATCH('Individual Scores'!$D112,Scores!$F$1:$F$253,0)),\"\",INDIRECT(\"Scores!\"&\"R\"&MATCH('Individual Scores'!$D112,Scores!$F$1:$F$253,0)&\"C\"&COLUMN(Scores!S$1),FALSE))","v":913},{"$f":"IF(MAX('Individual Scores'!Q112:V112)>0,MAX('Individual Scores'!Q112:V112),\"\")","v":212},{"$f":"IF(MAX(SUM('Individual Scores'!Q112:S112),SUM('Individual Scores'!T112:V112))>0,MAX(SUM('Individual Scores'!Q112:S112),SUM('Individual Scores'!T112:V112)),\"\")","v":502},null,{"$f":"IF('Team Scores'!$Z$1<2,\"\",IF(ISERROR(MATCH('Individual Scores'!$D112,Scores!$F$253:$F$506,0)),\"\",INDIRECT(\"Scores!\"&\"R\"&(ROW(Scores!$253:$253)-1+MATCH('Individual Scores'!$D112,Scores!$F$253:$F$505,0))&\"C\"&COLUMN(Scores!J$1),FALSE)))","v":147},{"$f":"IF('Team Scores'!$Z$1<2,\"\",IF(ISERROR(MATCH('Individual Scores'!$D112,Scores!$F$253:$F$506,0)),\"\",INDIRECT(\"Scores!\"&\"R\"&(ROW(Scores!$253:$253)-1+MATCH('Individual Scores'!$D112,Scores!$F$253:$F$505,0))&\"C\"&COLUMN(Scores!K$1),FALSE)))","v":193},{"$f":"IF('Team Scores'!$Z$1<2,\"\",IF(ISERROR(MATCH('Individual Scores'!$D112,Scores!$F$253:$F$506,0)),\"\",INDIRECT(\"Scores!\"&\"R\"&(ROW(Scores!$253:$253)-1+MATCH('Individual Scores'!$D112,Scores!$F$253:$F$505,0))&\"C\"&COLUMN(Scores!L$1),FALSE)))","v":115},{"$f":"IF('Team Scores'!$Z$1<2,\"\",IF(ISERROR(MATCH('Individual Scores'!$D112,Scores!$F$253:$F$506,0)),\"\",INDIRECT(\"Scores!\"&\"R\"&(ROW(Scores!$253:$253)-1+MATCH('Individual Scores'!$D112,Scores!$F$253:$F$505,0))&\"C\"&COLUMN(Scores!N$1),FALSE)))","v":129},{"$f":"IF('Team Scores'!$Z$1<2,\"\",IF(ISERROR(MATCH('Individual Scores'!$D112,Scores!$F$253:$F$506,0)),\"\",INDIRECT(\"Scores!\"&\"R\"&(ROW(Scores!$253:$253)-1+MATCH('Individual Scores'!$D112,Scores!$F$253:$F$505,0))&\"C\"&COLUMN(Scores!O$1),FALSE)))","v":130},{"$f":"IF('Team Scores'!$Z$1<2,\"\",IF(ISERROR(MATCH('Individual Scores'!$D112,Scores!$F$253:$F$506,0)),\"\",INDIRECT(\"Scores!\"&\"R\"&(ROW(Scores!$253:$253)-1+MATCH('Individual Scores'!$D112,Scores!$F$253:$F$505,0))&\"C\"&COLUMN(Scores!P$1),FALSE)))","v":162},{"$f":"IF('Team Scores'!$Z$1<2,\"\",IF(ISERROR(MATCH('Individual Scores'!$D112,Scores!$F$253:$F$506,0)),\"\",INDIRECT(\"Scores!\"&\"R\"&(ROW(Scores!$253:$253)-1+MATCH('Individual Scores'!$D112,Scores!$F$253:$F$505,0))&\"C\"&COLUMN(Scores!S$1),FALSE)))","v":876},193,455,null,{"$f":"IF('Team Scores'!$Z$1<3,\"\",IF(ISERROR(MATCH('Individual Scores'!$D112,Scores!$F$506:$F$759,0)),\"\",INDIRECT(\"Scores!\"&\"R\"&(ROW(Scores!$F$506:$F$759)-1+MATCH('Individual Scores'!$D112,Scores!$F$506:$F$759,0))&\"C\"&COLUMN(Scores!J$1),FALSE)))","v":""},{"$f":"IF('Team Scores'!$Z$1<3,\"\",IF(ISERROR(MATCH('Individual Scores'!$D112,Scores!$F$506:$F$759,0)),\"\",INDIRECT(\"Scores!\"&\"R\"&(ROW(Scores!$F$506:$F$759)-1+MATCH('Individual Scores'!$D112,Scores!$F$506:$F$759,0))&\"C\"&COLUMN(Scores!K$1),FALSE)))","v":""},{"$f":"IF('Team Scores'!$Z$1<3,\"\",IF(ISERROR(MATCH('Individual Scores'!$D112,Scores!$F$506:$F$759,0)),\"\",INDIRECT(\"Scores!\"&\"R\"&(ROW(Scores!$F$506:$F$759)-1+MATCH('Individual Scores'!$D112,Scores!$F$506:$F$759,0))&\"C\"&COLUMN(Scores!L$1),FALSE)))","v":""},{"$f":"IF('Team Scores'!$Z$1<3,\"\",IF(ISERROR(MATCH('Individual Scores'!$D112,Scores!$F$506:$F$759,0)),\"\",INDIRECT(\"Scores!\"&\"R\"&(ROW(Scores!$F$506:$F$759)-1+MATCH('Individual Scores'!$D112,Scores!$F$506:$F$759,0))&\"C\"&COLUMN(Scores!N$1),FALSE)))","v":""},{"$f":"IF('Team Scores'!$Z$1<3,\"\",IF(ISERROR(MATCH('Individual Scores'!$D112,Scores!$F$506:$F$759,0)),\"\",INDIRECT(\"Scores!\"&\"R\"&(ROW(Scores!$F$506:$F$759)-1+MATCH('Individual Scores'!$D112,Scores!$F$506:$F$759,0))&\"C\"&COLUMN(Scores!O$1),FALSE)))","v":""},{"$f":"IF('Team Scores'!$Z$1<3,\"\",IF(ISERROR(MATCH('Individual Scores'!$D112,Scores!$F$506:$F$759,0)),\"\",INDIRECT(\"Scores!\"&\"R\"&(ROW(Scores!$F$506:$F$759)-1+MATCH('Individual Scores'!$D112,Scores!$F$506:$F$759,0))&\"C\"&COLUMN(Scores!P$1),FALSE)))","v":""},{"$f":"IF('Team Scores'!$Z$1<3,\"\",IF(ISERROR(MATCH('Individual Scores'!$D112,Scores!$F$506:$F$759,0)),\"\",INDIRECT(\"Scores!\"&\"R\"&(ROW(Scores!$F$506:$F$759)-1+MATCH('Individual Scores'!$D112,Scores!$F$506:$F$759,0))&\"C\"&COLUMN(Scores!S$1),FALSE)))","v":""},"",""]
["SC","15 & <","F","Kaylin Hurayt",800,764,"",1564,{"$f":"IF(COUNT(Q113:V113,AA113:AF113,AK113:AP113)>=18/3*'Team Scores'!$Z$1,IF(H113-VLOOKUP(B113&C113,'Individual Awards Computations'!$AY$54:$AZ$58,2,FALSE)=0,\"Leader \"&C113&\":\"&B113,H113-VLOOKUP(B113&C113,'Individual Awards Computations'!$AY$54:$AZ$58,2,FALSE)),\"\")","v":-849},178,428,130.33333333333334,16.611111111111111,"114-147",1,null,{"$f":"IF(ISERROR(MATCH('Individual Scores'!$D113,Scores!$F$1:$F$253,0)),\"\",INDIRECT(\"Scores!\"&\"R\"&MATCH('Individual Scores'!$D113,Scores!$F$1:$F$253,0)&\"C\"&COLUMN(Scores!J$1),FALSE))","v":135},{"$f":"IF(ISERROR(MATCH('Individual Scores'!$D113,Scores!$F$1:$F$253,0)),\"\",INDIRECT(\"Scores!\"&\"R\"&MATCH('Individual Scores'!$D113,Scores!$F$1:$F$253,0)&\"C\"&COLUMN(Scores!K$1),FALSE))","v":131},{"$f":"IF(ISERROR(MATCH('Individual Scores'!$D113,Scores!$F$1:$F$253,0)),\"\",INDIRECT(\"Scores!\"&\"R\"&MATCH('Individual Scores'!$D113,Scores!$F$1:$F$253,0)&\"C\"&COLUMN(Scores!L$1),FALSE))","v":106},{"$f":"IF(ISERROR(MATCH('Individual Scores'!$D113,Scores!$F$1:$F$253,0)),\"\",INDIRECT(\"Scores!\"&\"R\"&MATCH('Individual Scores'!$D113,Scores!$F$1:$F$253,0)&\"C\"&COLUMN(Scores!N$1),FALSE))","v":111},{"$f":"IF(ISERROR(MATCH('Individual Scores'!$D113,Scores!$F$1:$F$253,0)),\"\",INDIRECT(\"Scores!\"&\"R\"&MATCH('Individual Scores'!$D113,Scores!$F$1:$F$253,0)&\"C\"&COLUMN(Scores!O$1),FALSE))","v":178},{"$f":"IF(ISERROR(MATCH('Individual Scores'!$D113,Scores!$F$1:$F$253,0)),\"\",INDIRECT(\"Scores!\"&\"R\"&MATCH('Individual Scores'!$D113,Scores!$F$1:$F$253,0)&\"C\"&COLUMN(Scores!P$1),FALSE))","v":139},{"$f":"IF(ISERROR(MATCH('Individual Scores'!$D113,Scores!$F$1:$F$253,0)),\"\",INDIRECT(\"Scores!\"&\"R\"&MATCH('Individual Scores'!$D113,Scores!$F$1:$F$253,0)&\"C\"&COLUMN(Scores!S$1),FALSE))","v":800},{"$f":"IF(MAX('Individual Scores'!Q113:V113)>0,MAX('Individual Scores'!Q113:V113),\"\")","v":178},{"$f":"IF(MAX(SUM('Individual Scores'!Q113:S113),SUM('Individual Scores'!T113:V113))>0,MAX(SUM('Individual Scores'!Q113:S113),SUM('Individual Scores'!T113:V113)),\"\")","v":428},null,{"$f":"IF('Team Scores'!$Z$1<2,\"\",IF(ISERROR(MATCH('Individual Scores'!$D113,Scores!$F$253:$F$506,0)),\"\",INDIRECT(\"Scores!\"&\"R\"&(ROW(Scores!$253:$253)-1+MATCH('Individual Scores'!$D113,Scores!$F$253:$F$505,0))&\"C\"&COLUMN(Scores!J$1),FALSE)))","v":103},{"$f":"IF('Team Scores'!$Z$1<2,\"\",IF(ISERROR(MATCH('Individual Scores'!$D113,Scores!$F$253:$F$506,0)),\"\",INDIRECT(\"Scores!\"&\"R\"&(ROW(Scores!$253:$253)-1+MATCH('Individual Scores'!$D113,Scores!$F$253:$F$505,0))&\"C\"&COLUMN(Scores!K$1),FALSE)))","v":108},{"$f":"IF('Team Scores'!$Z$1<2,\"\",IF(ISERROR(MATCH('Individual Scores'!$D113,Scores!$F$253:$F$506,0)),\"\",INDIRECT(\"Scores!\"&\"R\"&(ROW(Scores!$253:$253)-1+MATCH('Individual Scores'!$D113,Scores!$F$253:$F$505,0))&\"C\"&COLUMN(Scores!L$1),FALSE)))","v":150},{"$f":"IF('Team Scores'!$Z$1<2,\"\",IF(ISERROR(MATCH('Individual Scores'!$D113,Scores!$F$253:$F$506,0)),\"\",INDIRECT(\"Scores!\"&\"R\"&(ROW(Scores!$253:$253)-1+MATCH('Individual Scores'!$D113,Scores!$F$253:$F$505,0))&\"C\"&COLUMN(Scores!N$1),FALSE)))","v":135},{"$f":"IF('Team Scores'!$Z$1<2,\"\",IF(ISERROR(MATCH('Individual Scores'!$D113,Scores!$F$253:$F$506,0)),\"\",INDIRECT(\"Scores!\"&\"R\"&(ROW(Scores!$253:$253)-1+MATCH('Individual Scores'!$D113,Scores!$F$253:$F$505,0))&\"C\"&COLUMN(Scores!O$1),FALSE)))","v":144},{"$f":"IF('Team Scores'!$Z$1<2,\"\",IF(ISERROR(MATCH('Individual Scores'!$D113,Scores!$F$253:$F$506,0)),\"\",INDIRECT(\"Scores!\"&\"R\"&(ROW(Scores!$253:$253)-1+MATCH('Individual Scores'!$D113,Scores!$F$253:$F$505,0))&\"C\"&COLUMN(Scores!P$1),FALSE)))","v":124},{"$f":"IF('Team Scores'!$Z$1<2,\"\",IF(ISERROR(MATCH('Individual Scores'!$D113,Scores!$F$253:$F$506,0)),\"\",INDIRECT(\"Scores!\"&\"R\"&(ROW(Scores!$253:$253)-1+MATCH('Individual Scores'!$D113,Scores!$F$253:$F$505,0))&\"C\"&COLUMN(Scores!S$1),FALSE)))","v":764},150,403,null,{"$f":"IF('Team Scores'!$Z$1<3,\"\",IF(ISERROR(MATCH('Individual Scores'!$D113,Scores!$F$506:$F$759,0)),\"\",INDIRECT(\"Scores!\"&\"R\"&(ROW(Scores!$F$506:$F$759)-1+MATCH('Individual Scores'!$D113,Scores!$F$506:$F$759,0))&\"C\"&COLUMN(Scores!J$1),FALSE)))","v":""},{"$f":"IF('Team Scores'!$Z$1<3,\"\",IF(ISERROR(MATCH('Individual Scores'!$D113,Scores!$F$506:$F$759,0)),\"\",INDIRECT(\"Scores!\"&\"R\"&(ROW(Scores!$F$506:$F$759)-1+MATCH('Individual Scores'!$D113,Scores!$F$506:$F$759,0))&\"C\"&COLUMN(Scores!K$1),FALSE)))","v":""},{"$f":"IF('Team Scores'!$Z$1<3,\"\",IF(ISERROR(MATCH('Individual Scores'!$D113,Scores!$F$506:$F$759,0)),\"\",INDIRECT(\"Scores!\"&\"R\"&(ROW(Scores!$F$506:$F$759)-1+MATCH('Individual Scores'!$D113,Scores!$F$506:$F$759,0))&\"C\"&COLUMN(Scores!L$1),FALSE)))","v":""},{"$f":"IF('Team Scores'!$Z$1<3,\"\",IF(ISERROR(MATCH('Individual Scores'!$D113,Scores!$F$506:$F$759,0)),\"\",INDIRECT(\"Scores!\"&\"R\"&(ROW(Scores!$F$506:$F$759)-1+MATCH('Individual Scores'!$D113,Scores!$F$506:$F$759,0))&\"C\"&COLUMN(Scores!N$1),FALSE)))","v":""},{"$f":"IF('Team Scores'!$Z$1<3,\"\",IF(ISERROR(MATCH('Individual Scores'!$D113,Scores!$F$506:$F$759,0)),\"\",INDIRECT(\"Scores!\"&\"R\"&(ROW(Scores!$F$506:$F$759)-1+MATCH('Individual Scores'!$D113,Scores!$F$506:$F$759,0))&\"C\"&COLUMN(Scores!O$1),FALSE)))","v":""},{"$f":"IF('Team Scores'!$Z$1<3,\"\",IF(ISERROR(MATCH('Individual Scores'!$D113,Scores!$F$506:$F$759,0)),\"\",INDIRECT(\"Scores!\"&\"R\"&(ROW(Scores!$F$506:$F$759)-1+MATCH('Individual Scores'!$D113,Scores!$F$506:$F$759,0))&\"C\"&COLUMN(Scores!P$1),FALSE)))","v":""},{"$f":"IF('Team Scores'!$Z$1<3,\"\",IF(ISERROR(MATCH('Individual Scores'!$D113,Scores!$F$506:$F$759,0)),\"\",INDIRECT(\"Scores!\"&\"R\"&(ROW(Scores!$F$506:$F$759)-1+MATCH('Individual Scores'!$D113,Scores!$F$506:$F$759,0))&\"C\"&COLUMN(Scores!S$1),FALSE)))","v":""},"",""]
["SC","15 & <","F","Danielle Lane",1188,1188,"",2376,{"$f":"IF(COUNT(Q114:V114,AA114:AF114,AK114:AP114)>=18/3*'Team Scores'!$Z$1,IF(H114-VLOOKUP(B114&C114,'Individual Awards Computations'!$AY$54:$AZ$58,2,FALSE)=0,\"Leader \"&C114&\":\"&B114,H114-VLOOKUP(B114&C114,'Individual Awards Computations'!$AY$54:$AZ$58,2,FALSE)),\"\")","v":-37},237,630,198,28.333333333333332,"170-226",1,null,{"$f":"IF(ISERROR(MATCH('Individual Scores'!$D114,Scores!$F$1:$F$253,0)),\"\",INDIRECT(\"Scores!\"&\"R\"&MATCH('Individual Scores'!$D114,Scores!$F$1:$F$253,0)&\"C\"&COLUMN(Scores!J$1),FALSE))","v":192},{"$f":"IF(ISERROR(MATCH('Individual Scores'!$D114,Scores!$F$1:$F$253,0)),\"\",INDIRECT(\"Scores!\"&\"R\"&MATCH('Individual Scores'!$D114,Scores!$F$1:$F$253,0)&\"C\"&COLUMN(Scores!K$1),FALSE))","v":236},{"$f":"IF(ISERROR(MATCH('Individual Scores'!$D114,Scores!$F$1:$F$253,0)),\"\",INDIRECT(\"Scores!\"&\"R\"&MATCH('Individual Scores'!$D114,Scores!$F$1:$F$253,0)&\"C\"&COLUMN(Scores!L$1),FALSE))","v":194},{"$f":"IF(ISERROR(MATCH('Individual Scores'!$D114,Scores!$F$1:$F$253,0)),\"\",INDIRECT(\"Scores!\"&\"R\"&MATCH('Individual Scores'!$D114,Scores!$F$1:$F$253,0)&\"C\"&COLUMN(Scores!N$1),FALSE))","v":165},{"$f":"IF(ISERROR(MATCH('Individual Scores'!$D114,Scores!$F$1:$F$253,0)),\"\",INDIRECT(\"Scores!\"&\"R\"&MATCH('Individual Scores'!$D114,Scores!$F$1:$F$253,0)&\"C\"&COLUMN(Scores!O$1),FALSE))","v":176},{"$f":"IF(ISERROR(MATCH('Individual Scores'!$D114,Scores!$F$1:$F$253,0)),\"\",INDIRECT(\"Scores!\"&\"R\"&MATCH('Individual Scores'!$D114,Scores!$F$1:$F$253,0)&\"C\"&COLUMN(Scores!P$1),FALSE))","v":225},{"$f":"IF(ISERROR(MATCH('Individual Scores'!$D114,Scores!$F$1:$F$253,0)),\"\",INDIRECT(\"Scores!\"&\"R\"&MATCH('Individual Scores'!$D114,Scores!$F$1:$F$253,0)&\"C\"&COLUMN(Scores!S$1),FALSE))","v":1188},{"$f":"IF(MAX('Individual Scores'!Q114:V114)>0,MAX('Individual Scores'!Q114:V114),\"\")","v":236},{"$f":"IF(MAX(SUM('Individual Scores'!Q114:S114),SUM('Individual Scores'!T114:V114))>0,MAX(SUM('Individual Scores'!Q114:S114),SUM('Individual Scores'!T114:V114)),\"\")","v":622},null,{"$f":"IF('Team Scores'!$Z$1<2,\"\",IF(ISERROR(MATCH('Individual Scores'!$D114,Scores!$F$253:$F$506,0)),\"\",INDIRECT(\"Scores!\"&\"R\"&(ROW(Scores!$253:$253)-1+MATCH('Individual Scores'!$D114,Scores!$F$253:$F$505,0))&\"C\"&COLUMN(Scores!J$1),FALSE)))","v":237},{"$f":"IF('Team Scores'!$Z$1<2,\"\",IF(ISERROR(MATCH('Individual Scores'!$D114,Scores!$F$253:$F$506,0)),\"\",INDIRECT(\"Scores!\"&\"R\"&(ROW(Scores!$253:$253)-1+MATCH('Individual Scores'!$D114,Scores!$F$253:$F$505,0))&\"C\"&COLUMN(Scores!K$1),FALSE)))","v":168},{"$f":"IF('Team Scores'!$Z$1<2,\"\",IF(ISERROR(MATCH('Individual Scores'!$D114,Scores!$F$253:$F$506,0)),\"\",INDIRECT(\"Scores!\"&\"R\"&(ROW(Scores!$253:$253)-1+MATCH('Individual Scores'!$D114,Scores!$F$253:$F$505,0))&\"C\"&COLUMN(Scores!L$1),FALSE)))","v":225},{"$f":"IF('Team Scores'!$Z$1<2,\"\",IF(ISERROR(MATCH('Individual Scores'!$D114,Scores!$F$253:$F$506,0)),\"\",INDIRECT(\"Scores!\"&\"R\"&(ROW(Scores!$253:$253)-1+MATCH('Individual Scores'!$D114,Scores!$F$253:$F$505,0))&\"C\"&COLUMN(Scores!N$1),FALSE)))","v":237},{"$f":"IF('Team Scores'!$Z$1<2,\"\",IF(ISERROR(MATCH('Individual Scores'!$D114,Scores!$F$253:$F$506,0)),\"\",INDIRECT(\"Scores!\"&\"R\"&(ROW(Scores!$253:$253)-1+MATCH('Individual Scores'!$D114,Scores!$F$253:$F$505,0))&\"C\"&COLUMN(Scores!O$1),FALSE)))","v":178},{"$f":"IF('Team Scores'!$Z$1<2,\"\",IF(ISERROR(MATCH('Individual Scores'!$D114,Scores!$F$253:$F$506,0)),\"\",INDIRECT(\"Scores!\"&\"R\"&(ROW(Scores!$253:$253)-1+MATCH('Individual Scores'!$D114,Scores!$F$253:$F$505,0))&\"C\"&COLUMN(Scores!P$1),FALSE)))","v":143},{"$f":"IF('Team Scores'!$Z$1<2,\"\",IF(ISERROR(MATCH('Individual Scores'!$D114,Scores!$F$253:$F$506,0)),\"\",INDIRECT(\"Scores!\"&\"R\"&(ROW(Scores!$253:$253)-1+MATCH('Individual Scores'!$D114,Scores!$F$253:$F$505,0))&\"C\"&COLUMN(Scores!S$1),FALSE)))","v":1188},{"$f":"IF(MAX(AA114:AF114)>0,MAX(AA114:AF114),\"\")","v":237},{"$f":"IF(MAX(SUM(AA114:AC114),SUM(AD114:AF114))>0,MAX(SUM(AA114:AC114),SUM(AD114:AF114)),\"\")","v":630},null,{"$f":"IF('Team Scores'!$Z$1<3,\"\",IF(ISERROR(MATCH('Individual Scores'!$D114,Scores!$F$506:$F$759,0)),\"\",INDIRECT(\"Scores!\"&\"R\"&(ROW(Scores!$F$506:$F$759)-1+MATCH('Individual Scores'!$D114,Scores!$F$506:$F$759,0))&\"C\"&COLUMN(Scores!J$1),FALSE)))","v":""},{"$f":"IF('Team Scores'!$Z$1<3,\"\",IF(ISERROR(MATCH('Individual Scores'!$D114,Scores!$F$506:$F$759,0)),\"\",INDIRECT(\"Scores!\"&\"R\"&(ROW(Scores!$F$506:$F$759)-1+MATCH('Individual Scores'!$D114,Scores!$F$506:$F$759,0))&\"C\"&COLUMN(Scores!K$1),FALSE)))","v":""},{"$f":"IF('Team Scores'!$Z$1<3,\"\",IF(ISERROR(MATCH('Individual Scores'!$D114,Scores!$F$506:$F$759,0)),\"\",INDIRECT(\"Scores!\"&\"R\"&(ROW(Scores!$F$506:$F$759)-1+MATCH('Individual Scores'!$D114,Scores!$F$506:$F$759,0))&\"C\"&COLUMN(Scores!L$1),FALSE)))","v":""},{"$f":"IF('Team Scores'!$Z$1<3,\"\",IF(ISERROR(MATCH('Individual Scores'!$D114,Scores!$F$506:$F$759,0)),\"\",INDIRECT(\"Scores!\"&\"R\"&(ROW(Scores!$F$506:$F$759)-1+MATCH('Individual Scores'!$D114,Scores!$F$506:$F$759,0))&\"C\"&COLUMN(Scores!N$1),FALSE)))","v":""},{"$f":"IF('Team Scores'!$Z$1<3,\"\",IF(ISERROR(MATCH('Individual Scores'!$D114,Scores!$F$506:$F$759,0)),\"\",INDIRECT(\"Scores!\"&\"R\"&(ROW(Scores!$F$506:$F$759)-1+MATCH('Individual Scores'!$D114,Scores!$F$506:$F$759,0))&\"C\"&COLUMN(Scores!O$1),FALSE)))","v":""},{"$f":"IF('Team Scores'!$Z$1<3,\"\",IF(ISERROR(MATCH('Individual Scores'!$D114,Scores!$F$506:$F$759,0)),\"\",INDIRECT(\"Scores!\"&\"R\"&(ROW(Scores!$F$506:$F$759)-1+MATCH('Individual Scores'!$D114,Scores!$F$506:$F$759,0))&\"C\"&COLUMN(Scores!P$1),FALSE)))","v":""},{"$f":"IF('Team Scores'!$Z$1<3,\"\",IF(ISERROR(MATCH('Individual Scores'!$D114,Scores!$F$506:$F$759,0)),\"\",INDIRECT(\"Scores!\"&\"R\"&(ROW(Scores!$F$506:$F$759)-1+MATCH('Individual Scores'!$D114,Scores!$F$506:$F$759,0))&\"C\"&COLUMN(Scores!S$1),FALSE)))","v":""},"",""]
["SC","15 & <","F","Hailee Shields",1035,886,"",1921,{"$f":"IF(COUNT(Q115:V115,AA115:AF115,AK115:AP115)>=18/3*'Team Scores'!$Z$1,IF(H115-VLOOKUP(B115&C115,'Individual Awards Computations'!$AY$54:$AZ$58,2,FALSE)=0,\"Leader \"&C115&\":\"&B115,H115-VLOOKUP(B115&C115,'Individual Awards Computations'!$AY$54:$AZ$58,2,FALSE)),\"\")","v":""},223,589,172.5,27,"146-200",1,null,{"$f":"IF(ISERROR(MATCH('Individual Scores'!$D115,Scores!$F$1:$F$253,0)),\"\",INDIRECT(\"Scores!\"&\"R\"&MATCH('Individual Scores'!$D115,Scores!$F$1:$F$253,0)&\"C\"&COLUMN(Scores!J$1),FALSE))","v":223},{"$f":"IF(ISERROR(MATCH('Individual Scores'!$D115,Scores!$F$1:$F$253,0)),\"\",INDIRECT(\"Scores!\"&\"R\"&MATCH('Individual Scores'!$D115,Scores!$F$1:$F$253,0)&\"C\"&COLUMN(Scores!K$1),FALSE))","v":163},{"$f":"IF(ISERROR(MATCH('Individual Scores'!$D115,Scores!$F$1:$F$253,0)),\"\",INDIRECT(\"Scores!\"&\"R\"&MATCH('Individual Scores'!$D115,Scores!$F$1:$F$253,0)&\"C\"&COLUMN(Scores!L$1),FALSE))","v":203},{"$f":"IF(ISERROR(MATCH('Individual Scores'!$D115,Scores!$F$1:$F$253,0)),\"\",INDIRECT(\"Scores!\"&\"R\"&MATCH('Individual Scores'!$D115,Scores!$F$1:$F$253,0)&\"C\"&COLUMN(Scores!N$1),FALSE))","v":159},{"$f":"IF(ISERROR(MATCH('Individual Scores'!$D115,Scores!$F$1:$F$253,0)),\"\",INDIRECT(\"Scores!\"&\"R\"&MATCH('Individual Scores'!$D115,Scores!$F$1:$F$253,0)&\"C\"&COLUMN(Scores!O$1),FALSE))","v":141},{"$f":"IF(ISERROR(MATCH('Individual Scores'!$D115,Scores!$F$1:$F$253,0)),\"\",INDIRECT(\"Scores!\"&\"R\"&MATCH('Individual Scores'!$D115,Scores!$F$1:$F$253,0)&\"C\"&COLUMN(Scores!P$1),FALSE))","v":146},{"$f":"IF(ISERROR(MATCH('Individual Scores'!$D115,Scores!$F$1:$F$253,0)),\"\",INDIRECT(\"Scores!\"&\"R\"&MATCH('Individual Scores'!$D115,Scores!$F$1:$F$253,0)&\"C\"&COLUMN(Scores!S$1),FALSE))","v":1035},null,null,null,null,null,null,null,null,null,{"$f":"IF('Team Scores'!$Z$1<2,\"\",IF(ISERROR(MATCH('Individual Scores'!$D115,Scores!$F$253:$F$506,0)),\"\",INDIRECT(\"Scores!\"&\"R\"&(ROW(Scores!$253:$253)-1+MATCH('Individual Scores'!$D115,Scores!$F$253:$F$505,0))&\"C\"&COLUMN(Scores!S$1),FALSE)))","v":886},null,null,null,{"$f":"IF('Team Scores'!$Z$1<3,\"\",IF(ISERROR(MATCH('Individual Scores'!$D115,Scores!$F$506:$F$759,0)),\"\",INDIRECT(\"Scores!\"&\"R\"&(ROW(Scores!$F$506:$F$759)-1+MATCH('Individual Scores'!$D115,Scores!$F$506:$F$759,0))&\"C\"&COLUMN(Scores!J$1),FALSE)))","v":""},{"$f":"IF('Team Scores'!$Z$1<3,\"\",IF(ISERROR(MATCH('Individual Scores'!$D115,Scores!$F$506:$F$759,0)),\"\",INDIRECT(\"Scores!\"&\"R\"&(ROW(Scores!$F$506:$F$759)-1+MATCH('Individual Scores'!$D115,Scores!$F$506:$F$759,0))&\"C\"&COLUMN(Scores!K$1),FALSE)))","v":""},{"$f":"IF('Team Scores'!$Z$1<3,\"\",IF(ISERROR(MATCH('Individual Scores'!$D115,Scores!$F$506:$F$759,0)),\"\",INDIRECT(\"Scores!\"&\"R\"&(ROW(Scores!$F$506:$F$759)-1+MATCH('Individual Scores'!$D115,Scores!$F$506:$F$759,0))&\"C\"&COLUMN(Scores!L$1),FALSE)))","v":""},{"$f":"IF('Team Scores'!$Z$1<3,\"\",IF(ISERROR(MATCH('Individual Scores'!$D115,Scores!$F$506:$F$759,0)),\"\",INDIRECT(\"Scores!\"&\"R\"&(ROW(Scores!$F$506:$F$759)-1+MATCH('Individual Scores'!$D115,Scores!$F$506:$F$759,0))&\"C\"&COLUMN(Scores!N$1),FALSE)))","v":""},{"$f":"IF('Team Scores'!$Z$1<3,\"\",IF(ISERROR(MATCH('Individual Scores'!$D115,Scores!$F$506:$F$759,0)),\"\",INDIRECT(\"Scores!\"&\"R\"&(ROW(Scores!$F$506:$F$759)-1+MATCH('Individual Scores'!$D115,Scores!$F$506:$F$759,0))&\"C\"&COLUMN(Scores!O$1),FALSE)))","v":""},{"$f":"IF('Team Scores'!$Z$1<3,\"\",IF(ISERROR(MATCH('Individual Scores'!$D115,Scores!$F$506:$F$759,0)),\"\",INDIRECT(\"Scores!\"&\"R\"&(ROW(Scores!$F$506:$F$759)-1+MATCH('Individual Scores'!$D115,Scores!$F$506:$F$759,0))&\"C\"&COLUMN(Scores!P$1),FALSE)))","v":""},{"$f":"IF('Team Scores'!$Z$1<3,\"\",IF(ISERROR(MATCH('Individual Scores'!$D115,Scores!$F$506:$F$759,0)),\"\",INDIRECT(\"Scores!\"&\"R\"&(ROW(Scores!$F$506:$F$759)-1+MATCH('Individual Scores'!$D115,Scores!$F$506:$F$759,0))&\"C\"&COLUMN(Scores!S$1),FALSE)))","v":""},"",""]
["SC","15 & <","F","Hannah Simmons",720,706,"",1426,{"$f":"IF(COUNT(Q116:V116,AA116:AF116,AK116:AP116)>=18/3*'Team Scores'!$Z$1,IF(H116-VLOOKUP(B116&C116,'Individual Awards Computations'!$AY$54:$AZ$58,2,FALSE)=0,\"Leader \"&C116&\":\"&B116,H116-VLOOKUP(B116&C116,'Individual Awards Computations'!$AY$54:$AZ$58,2,FALSE)),\"\")","v":-987},142,375,118.83333333333333,10.833333333333334,"108-130",1,null,{"$f":"IF(ISERROR(MATCH('Individual Scores'!$D116,Scores!$F$1:$F$253,0)),\"\",INDIRECT(\"Scores!\"&\"R\"&MATCH('Individual Scores'!$D116,Scores!$F$1:$F$253,0)&\"C\"&COLUMN(Scores!J$1),FALSE))","v":114},{"$f":"IF(ISERROR(MATCH('Individual Scores'!$D116,Scores!$F$1:$F$253,0)),\"\",INDIRECT(\"Scores!\"&\"R\"&MATCH('Individual Scores'!$D116,Scores!$F$1:$F$253,0)&\"C\"&COLUMN(Scores!K$1),FALSE))","v":135},{"$f":"IF(ISERROR(MATCH('Individual Scores'!$D116,Scores!$F$1:$F$253,0)),\"\",INDIRECT(\"Scores!\"&\"R\"&MATCH('Individual Scores'!$D116,Scores!$F$1:$F$253,0)&\"C\"&COLUMN(Scores!L$1),FALSE))","v":97},{"$f":"IF(ISERROR(MATCH('Individual Scores'!$D116,Scores!$F$1:$F$253,0)),\"\",INDIRECT(\"Scores!\"&\"R\"&MATCH('Individual Scores'!$D116,Scores!$F$1:$F$253,0)&\"C\"&COLUMN(Scores!N$1),FALSE))","v":129},{"$f":"IF(ISERROR(MATCH('Individual Scores'!$D116,Scores!$F$1:$F$253,0)),\"\",INDIRECT(\"Scores!\"&\"R\"&MATCH('Individual Scores'!$D116,Scores!$F$1:$F$253,0)&\"C\"&COLUMN(Scores!O$1),FALSE))","v":127},{"$f":"IF(ISERROR(MATCH('Individual Scores'!$D116,Scores!$F$1:$F$253,0)),\"\",INDIRECT(\"Scores!\"&\"R\"&MATCH('Individual Scores'!$D116,Scores!$F$1:$F$253,0)&\"C\"&COLUMN(Scores!P$1),FALSE))","v":118},{"$f":"IF(ISERROR(MATCH('Individual Scores'!$D116,Scores!$F$1:$F$253,0)),\"\",INDIRECT(\"Scores!\"&\"R\"&MATCH('Individual Scores'!$D116,Scores!$F$1:$F$253,0)&\"C\"&COLUMN(Scores!S$1),FALSE))","v":720},{"$f":"IF(MAX('Individual Scores'!Q116:V116)>0,MAX('Individual Scores'!Q116:V116),\"\")","v":135},{"$f":"IF(MAX(SUM('Individual Scores'!Q116:S116),SUM('Individual Scores'!T116:V116))>0,MAX(SUM('Individual Scores'!Q116:S116),SUM('Individual Scores'!T116:V116)),\"\")","v":374},null,{"$f":"IF('Team Scores'!$Z$1<2,\"\",IF(ISERROR(MATCH('Individual Scores'!$D116,Scores!$F$253:$F$506,0)),\"\",INDIRECT(\"Scores!\"&\"R\"&(ROW(Scores!$253:$253)-1+MATCH('Individual Scores'!$D116,Scores!$F$253:$F$505,0))&\"C\"&COLUMN(Scores!J$1),FALSE)))","v":142},{"$f":"IF('Team Scores'!$Z$1<2,\"\",IF(ISERROR(MATCH('Individual Scores'!$D116,Scores!$F$253:$F$506,0)),\"\",INDIRECT(\"Scores!\"&\"R\"&(ROW(Scores!$253:$253)-1+MATCH('Individual Scores'!$D116,Scores!$F$253:$F$505,0))&\"C\"&COLUMN(Scores!K$1),FALSE)))","v":120},{"$f":"IF('Team Scores'!$Z$1<2,\"\",IF(ISERROR(MATCH('Individual Scores'!$D116,Scores!$F$253:$F$506,0)),\"\",INDIRECT(\"Scores!\"&\"R\"&(ROW(Scores!$253:$253)-1+MATCH('Individual Scores'!$D116,Scores!$F$253:$F$505,0))&\"C\"&COLUMN(Scores!L$1),FALSE)))","v":113},{"$f":"IF('Team Scores'!$Z$1<2,\"\",IF(ISERROR(MATCH('Individual Scores'!$D116,Scores!$F$253:$F$506,0)),\"\",INDIRECT(\"Scores!\"&\"R\"&(ROW(Scores!$253:$253)-1+MATCH('Individual Scores'!$D116,Scores!$F$253:$F$505,0))&\"C\"&COLUMN(Scores!N$1),FALSE)))","v":125},{"$f":"IF('Team Scores'!$Z$1<2,\"\",IF(ISERROR(MATCH('Individual Scores'!$D116,Scores!$F$253:$F$506,0)),\"\",INDIRECT(\"Scores!\"&\"R\"&(ROW(Scores!$253:$253)-1+MATCH('Individual Scores'!$D116,Scores!$F$253:$F$505,0))&\"C\"&COLUMN(Scores!O$1),FALSE)))","v":111},{"$f":"IF('Team Scores'!$Z$1<2,\"\",IF(ISERROR(MATCH('Individual Scores'!$D116,Scores!$F$253:$F$506,0)),\"\",INDIRECT(\"Scores!\"&\"R\"&(ROW(Scores!$253:$253)-1+MATCH('Individual Scores'!$D116,Scores!$F$253:$F$505,0))&\"C\"&COLUMN(Scores!P$1),FALSE)))","v":95},{"$f":"IF('Team Scores'!$Z$1<2,\"\",IF(ISERROR(MATCH('Individual Scores'!$D116,Scores!$F$253:$F$506,0)),\"\",INDIRECT(\"Scores!\"&\"R\"&(ROW(Scores!$253:$253)-1+MATCH('Individual Scores'!$D116,Scores!$F$253:$F$505,0))&\"C\"&COLUMN(Scores!S$1),FALSE)))","v":706},142,375,null,{"$f":"IF('Team Scores'!$Z$1<3,\"\",IF(ISERROR(MATCH('Individual Scores'!$D116,Scores!$F$506:$F$759,0)),\"\",INDIRECT(\"Scores!\"&\"R\"&(ROW(Scores!$F$506:$F$759)-1+MATCH('Individual Scores'!$D116,Scores!$F$506:$F$759,0))&\"C\"&COLUMN(Scores!J$1),FALSE)))","v":""},{"$f":"IF('Team Scores'!$Z$1<3,\"\",IF(ISERROR(MATCH('Individual Scores'!$D116,Scores!$F$506:$F$759,0)),\"\",INDIRECT(\"Scores!\"&\"R\"&(ROW(Scores!$F$506:$F$759)-1+MATCH('Individual Scores'!$D116,Scores!$F$506:$F$759,0))&\"C\"&COLUMN(Scores!K$1),FALSE)))","v":""},{"$f":"IF('Team Scores'!$Z$1<3,\"\",IF(ISERROR(MATCH('Individual Scores'!$D116,Scores!$F$506:$F$759,0)),\"\",INDIRECT(\"Scores!\"&\"R\"&(ROW(Scores!$F$506:$F$759)-1+MATCH('Individual Scores'!$D116,Scores!$F$506:$F$759,0))&\"C\"&COLUMN(Scores!L$1),FALSE)))","v":""},{"$f":"IF('Team Scores'!$Z$1<3,\"\",IF(ISERROR(MATCH('Individual Scores'!$D116,Scores!$F$506:$F$759,0)),\"\",INDIRECT(\"Scores!\"&\"R\"&(ROW(Scores!$F$506:$F$759)-1+MATCH('Individual Scores'!$D116,Scores!$F$506:$F$759,0))&\"C\"&COLUMN(Scores!N$1),FALSE)))","v":""},{"$f":"IF('Team Scores'!$Z$1<3,\"\",IF(ISERROR(MATCH('Individual Scores'!$D116,Scores!$F$506:$F$759,0)),\"\",INDIRECT(\"Scores!\"&\"R\"&(ROW(Scores!$F$506:$F$759)-1+MATCH('Individual Scores'!$D116,Scores!$F$506:$F$759,0))&\"C\"&COLUMN(Scores!O$1),FALSE)))","v":""},{"$f":"IF('Team Scores'!$Z$1<3,\"\",IF(ISERROR(MATCH('Individual Scores'!$D116,Scores!$F$506:$F$759,0)),\"\",INDIRECT(\"Scores!\"&\"R\"&(ROW(Scores!$F$506:$F$759)-1+MATCH('Individual Scores'!$D116,Scores!$F$506:$F$759,0))&\"C\"&COLUMN(Scores!P$1),FALSE)))","v":""},{"$f":"IF('Team Scores'!$Z$1<3,\"\",IF(ISERROR(MATCH('Individual Scores'!$D116,Scores!$F$506:$F$759,0)),\"\",INDIRECT(\"Scores!\"&\"R\"&(ROW(Scores!$F$506:$F$759)-1+MATCH('Individual Scores'!$D116,Scores!$F$506:$F$759,0))&\"C\"&COLUMN(Scores!S$1),FALSE)))","v":""},"",""]
["SC","15 & <","F","Torie Libby",972,1090,"",2062,{"$f":"IF(COUNT(Q117:V117,AA117:AF117,AK117:AP117)>=18/3*'Team Scores'!$Z$1,IF(H117-VLOOKUP(B117&C117,'Individual Awards Computations'!$AY$54:$AZ$58,2,FALSE)=0,\"Leader \"&C117&\":\"&B117,H117-VLOOKUP(B117&C117,'Individual Awards Computations'!$AY$54:$AZ$58,2,FALSE)),\"\")","v":-351},211,549,171.83333333333334,16.972222222222225,"155-189",1,null,{"$f":"IF(ISERROR(MATCH('Individual Scores'!$D117,Scores!$F$1:$F$253,0)),\"\",INDIRECT(\"Scores!\"&\"R\"&MATCH('Individual Scores'!$D117,Scores!$F$1:$F$253,0)&\"C\"&COLUMN(Scores!J$1),FALSE))","v":160},{"$f":"IF(ISERROR(MATCH('Individual Scores'!$D117,Scores!$F$1:$F$253,0)),\"\",INDIRECT(\"Scores!\"&\"R\"&MATCH('Individual Scores'!$D117,Scores!$F$1:$F$253,0)&\"C\"&COLUMN(Scores!K$1),FALSE))","v":182},{"$f":"IF(ISERROR(MATCH('Individual Scores'!$D117,Scores!$F$1:$F$253,0)),\"\",INDIRECT(\"Scores!\"&\"R\"&MATCH('Individual Scores'!$D117,Scores!$F$1:$F$253,0)&\"C\"&COLUMN(Scores!L$1),FALSE))","v":189},{"$f":"IF(ISERROR(MATCH('Individual Scores'!$D117,Scores!$F$1:$F$253,0)),\"\",INDIRECT(\"Scores!\"&\"R\"&MATCH('Individual Scores'!$D117,Scores!$F$1:$F$253,0)&\"C\"&COLUMN(Scores!N$1),FALSE))","v":152},{"$f":"IF(ISERROR(MATCH('Individual Scores'!$D117,Scores!$F$1:$F$253,0)),\"\",INDIRECT(\"Scores!\"&\"R\"&MATCH('Individual Scores'!$D117,Scores!$F$1:$F$253,0)&\"C\"&COLUMN(Scores!O$1),FALSE))","v":134},{"$f":"IF(ISERROR(MATCH('Individual Scores'!$D117,Scores!$F$1:$F$253,0)),\"\",INDIRECT(\"Scores!\"&\"R\"&MATCH('Individual Scores'!$D117,Scores!$F$1:$F$253,0)&\"C\"&COLUMN(Scores!P$1),FALSE))","v":155},{"$f":"IF(ISERROR(MATCH('Individual Scores'!$D117,Scores!$F$1:$F$253,0)),\"\",INDIRECT(\"Scores!\"&\"R\"&MATCH('Individual Scores'!$D117,Scores!$F$1:$F$253,0)&\"C\"&COLUMN(Scores!S$1),FALSE))","v":972},{"$f":"IF(MAX('Individual Scores'!Q117:V117)>0,MAX('Individual Scores'!Q117:V117),\"\")","v":189},{"$f":"IF(MAX(SUM('Individual Scores'!Q117:S117),SUM('Individual Scores'!T117:V117))>0,MAX(SUM('Individual Scores'!Q117:S117),SUM('Individual Scores'!T117:V117)),\"\")","v":531},null,{"$f":"IF('Team Scores'!$Z$1<2,\"\",IF(ISERROR(MATCH('Individual Scores'!$D117,Scores!$F$253:$F$506,0)),\"\",INDIRECT(\"Scores!\"&\"R\"&(ROW(Scores!$253:$253)-1+MATCH('Individual Scores'!$D117,Scores!$F$253:$F$505,0))&\"C\"&COLUMN(Scores!J$1),FALSE)))","v":178},{"$f":"IF('Team Scores'!$Z$1<2,\"\",IF(ISERROR(MATCH('Individual Scores'!$D117,Scores!$F$253:$F$506,0)),\"\",INDIRECT(\"Scores!\"&\"R\"&(ROW(Scores!$253:$253)-1+MATCH('Individual Scores'!$D117,Scores!$F$253:$F$505,0))&\"C\"&COLUMN(Scores!K$1),FALSE)))","v":170},{"$f":"IF('Team Scores'!$Z$1<2,\"\",IF(ISERROR(MATCH('Individual Scores'!$D117,Scores!$F$253:$F$506,0)),\"\",INDIRECT(\"Scores!\"&\"R\"&(ROW(Scores!$253:$253)-1+MATCH('Individual Scores'!$D117,Scores!$F$253:$F$505,0))&\"C\"&COLUMN(Scores!L$1),FALSE)))","v":201},{"$f":"IF('Team Scores'!$Z$1<2,\"\",IF(ISERROR(MATCH('Individual Scores'!$D117,Scores!$F$253:$F$506,0)),\"\",INDIRECT(\"Scores!\"&\"R\"&(ROW(Scores!$253:$253)-1+MATCH('Individual Scores'!$D117,Scores!$F$253:$F$505,0))&\"C\"&COLUMN(Scores!N$1),FALSE)))","v":159},{"$f":"IF('Team Scores'!$Z$1<2,\"\",IF(ISERROR(MATCH('Individual Scores'!$D117,Scores!$F$253:$F$506,0)),\"\",INDIRECT(\"Scores!\"&\"R\"&(ROW(Scores!$253:$253)-1+MATCH('Individual Scores'!$D117,Scores!$F$253:$F$505,0))&\"C\"&COLUMN(Scores!O$1),FALSE)))","v":171},{"$f":"IF('Team Scores'!$Z$1<2,\"\",IF(ISERROR(MATCH('Individual Scores'!$D117,Scores!$F$253:$F$506,0)),\"\",INDIRECT(\"Scores!\"&\"R\"&(ROW(Scores!$253:$253)-1+MATCH('Individual Scores'!$D117,Scores!$F$253:$F$505,0))&\"C\"&COLUMN(Scores!P$1),FALSE)))","v":211},{"$f":"IF('Team Scores'!$Z$1<2,\"\",IF(ISERROR(MATCH('Individual Scores'!$D117,Scores!$F$253:$F$506,0)),\"\",INDIRECT(\"Scores!\"&\"R\"&(ROW(Scores!$253:$253)-1+MATCH('Individual Scores'!$D117,Scores!$F$253:$F$505,0))&\"C\"&COLUMN(Scores!S$1),FALSE)))","v":1090},211,549,null,{"$f":"IF('Team Scores'!$Z$1<3,\"\",IF(ISERROR(MATCH('Individual Scores'!$D117,Scores!$F$506:$F$759,0)),\"\",INDIRECT(\"Scores!\"&\"R\"&(ROW(Scores!$F$506:$F$759)-1+MATCH('Individual Scores'!$D117,Scores!$F$506:$F$759,0))&\"C\"&COLUMN(Scores!J$1),FALSE)))","v":""},{"$f":"IF('Team Scores'!$Z$1<3,\"\",IF(ISERROR(MATCH('Individual Scores'!$D117,Scores!$F$506:$F$759,0)),\"\",INDIRECT(\"Scores!\"&\"R\"&(ROW(Scores!$F$506:$F$759)-1+MATCH('Individual Scores'!$D117,Scores!$F$506:$F$759,0))&\"C\"&COLUMN(Scores!K$1),FALSE)))","v":""},{"$f":"IF('Team Scores'!$Z$1<3,\"\",IF(ISERROR(MATCH('Individual Scores'!$D117,Scores!$F$506:$F$759,0)),\"\",INDIRECT(\"Scores!\"&\"R\"&(ROW(Scores!$F$506:$F$759)-1+MATCH('Individual Scores'!$D117,Scores!$F$506:$F$759,0))&\"C\"&COLUMN(Scores!L$1),FALSE)))","v":""},{"$f":"IF('Team Scores'!$Z$1<3,\"\",IF(ISERROR(MATCH('Individual Scores'!$D117,Scores!$F$506:$F$759,0)),\"\",INDIRECT(\"Scores!\"&\"R\"&(ROW(Scores!$F$506:$F$759)-1+MATCH('Individual Scores'!$D117,Scores!$F$506:$F$759,0))&\"C\"&COLUMN(Scores!N$1),FALSE)))","v":""},{"$f":"IF('Team Scores'!$Z$1<3,\"\",IF(ISERROR(MATCH('Individual Scores'!$D117,Scores!$F$506:$F$759,0)),\"\",INDIRECT(\"Scores!\"&\"R\"&(ROW(Scores!$F$506:$F$759)-1+MATCH('Individual Scores'!$D117,Scores!$F$506:$F$759,0))&\"C\"&COLUMN(Scores!O$1),FALSE)))","v":""},{"$f":"IF('Team Scores'!$Z$1<3,\"\",IF(ISERROR(MATCH('Individual Scores'!$D117,Scores!$F$506:$F$759,0)),\"\",INDIRECT(\"Scores!\"&\"R\"&(ROW(Scores!$F$506:$F$759)-1+MATCH('Individual Scores'!$D117,Scores!$F$506:$F$759,0))&\"C\"&COLUMN(Scores!P$1),FALSE)))","v":""},{"$f":"IF('Team Scores'!$Z$1<3,\"\",IF(ISERROR(MATCH('Individual Scores'!$D117,Scores!$F$506:$F$759,0)),\"\",INDIRECT(\"Scores!\"&\"R\"&(ROW(Scores!$F$506:$F$759)-1+MATCH('Individual Scores'!$D117,Scores!$F$506:$F$759,0))&\"C\"&COLUMN(Scores!S$1),FALSE)))","v":""},"",""]
["SC","15 & <","F","April Anne Calatrava",874,946,"",1820,{"$f":"IF(COUNT(Q118:V118,AA118:AF118,AK118:AP118)>=18/3*'Team Scores'!$Z$1,IF(H118-VLOOKUP(B118&C118,'Individual Awards Computations'!$AY$54:$AZ$58,2,FALSE)=0,\"Leader \"&C118&\":\"&B118,H118-VLOOKUP(B118&C118,'Individual Awards Computations'!$AY$54:$AZ$58,2,FALSE)),\"\")","v":-593},181,483,151.66666666666666,12.277777777777777,"139-164",1,null,{"$f":"IF(ISERROR(MATCH('Individual Scores'!$D118,Scores!$F$1:$F$253,0)),\"\",INDIRECT(\"Scores!\"&\"R\"&MATCH('Individual Scores'!$D118,Scores!$F$1:$F$253,0)&\"C\"&COLUMN(Scores!J$1),FALSE))","v":127},{"$f":"IF(ISERROR(MATCH('Individual Scores'!$D118,Scores!$F$1:$F$253,0)),\"\",INDIRECT(\"Scores!\"&\"R\"&MATCH('Individual Scores'!$D118,Scores!$F$1:$F$253,0)&\"C\"&COLUMN(Scores!K$1),FALSE))","v":181},{"$f":"IF(ISERROR(MATCH('Individual Scores'!$D118,Scores!$F$1:$F$253,0)),\"\",INDIRECT(\"Scores!\"&\"R\"&MATCH('Individual Scores'!$D118,Scores!$F$1:$F$253,0)&\"C\"&COLUMN(Scores!L$1),FALSE))","v":149},{"$f":"IF(ISERROR(MATCH('Individual Scores'!$D118,Scores!$F$1:$F$253,0)),\"\",INDIRECT(\"Scores!\"&\"R\"&MATCH('Individual Scores'!$D118,Scores!$F$1:$F$253,0)&\"C\"&COLUMN(Scores!N$1),FALSE))","v":143},{"$f":"IF(ISERROR(MATCH('Individual Scores'!$D118,Scores!$F$1:$F$253,0)),\"\",INDIRECT(\"Scores!\"&\"R\"&MATCH('Individual Scores'!$D118,Scores!$F$1:$F$253,0)&\"C\"&COLUMN(Scores!O$1),FALSE))","v":128},{"$f":"IF(ISERROR(MATCH('Individual Scores'!$D118,Scores!$F$1:$F$253,0)),\"\",INDIRECT(\"Scores!\"&\"R\"&MATCH('Individual Scores'!$D118,Scores!$F$1:$F$253,0)&\"C\"&COLUMN(Scores!P$1),FALSE))","v":146},{"$f":"IF(ISERROR(MATCH('Individual Scores'!$D118,Scores!$F$1:$F$253,0)),\"\",INDIRECT(\"Scores!\"&\"R\"&MATCH('Individual Scores'!$D118,Scores!$F$1:$F$253,0)&\"C\"&COLUMN(Scores!S$1),FALSE))","v":874},{"$f":"IF(MAX('Individual Scores'!Q118:V118)>0,MAX('Individual Scores'!Q118:V118),\"\")","v":181},{"$f":"IF(MAX(SUM('Individual Scores'!Q118:S118),SUM('Individual Scores'!T118:V118))>0,MAX(SUM('Individual Scores'!Q118:S118),SUM('Individual Scores'!T118:V118)),\"\")","v":457},null,{"$f":"IF('Team Scores'!$Z$1<2,\"\",IF(ISERROR(MATCH('Individual Scores'!$D118,Scores!$F$253:$F$506,0)),\"\",INDIRECT(\"Scores!\"&\"R\"&(ROW(Scores!$253:$253)-1+MATCH('Individual Scores'!$D118,Scores!$F$253:$F$505,0))&\"C\"&COLUMN(Scores!J$1),FALSE)))","v":160},{"$f":"IF('Team Scores'!$Z$1<2,\"\",IF(ISERROR(MATCH('Individual Scores'!$D118,Scores!$F$253:$F$506,0)),\"\",INDIRECT(\"Scores!\"&\"R\"&(ROW(Scores!$253:$253)-1+MATCH('Individual Scores'!$D118,Scores!$F$253:$F$505,0))&\"C\"&COLUMN(Scores!K$1),FALSE)))","v":149},{"$f":"IF('Team Scores'!$Z$1<2,\"\",IF(ISERROR(MATCH('Individual Scores'!$D118,Scores!$F$253:$F$506,0)),\"\",INDIRECT(\"Scores!\"&\"R\"&(ROW(Scores!$253:$253)-1+MATCH('Individual Scores'!$D118,Scores!$F$253:$F$505,0))&\"C\"&COLUMN(Scores!L$1),FALSE)))","v":154},{"$f":"IF('Team Scores'!$Z$1<2,\"\",IF(ISERROR(MATCH('Individual Scores'!$D118,Scores!$F$253:$F$506,0)),\"\",INDIRECT(\"Scores!\"&\"R\"&(ROW(Scores!$253:$253)-1+MATCH('Individual Scores'!$D118,Scores!$F$253:$F$505,0))&\"C\"&COLUMN(Scores!N$1),FALSE)))","v":146},{"$f":"IF('Team Scores'!$Z$1<2,\"\",IF(ISERROR(MATCH('Individual Scores'!$D118,Scores!$F$253:$F$506,0)),\"\",INDIRECT(\"Scores!\"&\"R\"&(ROW(Scores!$253:$253)-1+MATCH('Individual Scores'!$D118,Scores!$F$253:$F$505,0))&\"C\"&COLUMN(Scores!O$1),FALSE)))","v":168},{"$f":"IF('Team Scores'!$Z$1<2,\"\",IF(ISERROR(MATCH('Individual Scores'!$D118,Scores!$F$253:$F$506,0)),\"\",INDIRECT(\"Scores!\"&\"R\"&(ROW(Scores!$253:$253)-1+MATCH('Individual Scores'!$D118,Scores!$F$253:$F$505,0))&\"C\"&COLUMN(Scores!P$1),FALSE)))","v":169},{"$f":"IF('Team Scores'!$Z$1<2,\"\",IF(ISERROR(MATCH('Individual Scores'!$D118,Scores!$F$253:$F$506,0)),\"\",INDIRECT(\"Scores!\"&\"R\"&(ROW(Scores!$253:$253)-1+MATCH('Individual Scores'!$D118,Scores!$F$253:$F$505,0))&\"C\"&COLUMN(Scores!S$1),FALSE)))","v":946},169,483,null,{"$f":"IF('Team Scores'!$Z$1<3,\"\",IF(ISERROR(MATCH('Individual Scores'!$D118,Scores!$F$506:$F$759,0)),\"\",INDIRECT(\"Scores!\"&\"R\"&(ROW(Scores!$F$506:$F$759)-1+MATCH('Individual Scores'!$D118,Scores!$F$506:$F$759,0))&\"C\"&COLUMN(Scores!J$1),FALSE)))","v":""},{"$f":"IF('Team Scores'!$Z$1<3,\"\",IF(ISERROR(MATCH('Individual Scores'!$D118,Scores!$F$506:$F$759,0)),\"\",INDIRECT(\"Scores!\"&\"R\"&(ROW(Scores!$F$506:$F$759)-1+MATCH('Individual Scores'!$D118,Scores!$F$506:$F$759,0))&\"C\"&COLUMN(Scores!K$1),FALSE)))","v":""},{"$f":"IF('Team Scores'!$Z$1<3,\"\",IF(ISERROR(MATCH('Individual Scores'!$D118,Scores!$F$506:$F$759,0)),\"\",INDIRECT(\"Scores!\"&\"R\"&(ROW(Scores!$F$506:$F$759)-1+MATCH('Individual Scores'!$D118,Scores!$F$506:$F$759,0))&\"C\"&COLUMN(Scores!L$1),FALSE)))","v":""},{"$f":"IF('Team Scores'!$Z$1<3,\"\",IF(ISERROR(MATCH('Individual Scores'!$D118,Scores!$F$506:$F$759,0)),\"\",INDIRECT(\"Scores!\"&\"R\"&(ROW(Scores!$F$506:$F$759)-1+MATCH('Individual Scores'!$D118,Scores!$F$506:$F$759,0))&\"C\"&COLUMN(Scores!N$1),FALSE)))","v":""},{"$f":"IF('Team Scores'!$Z$1<3,\"\",IF(ISERROR(MATCH('Individual Scores'!$D118,Scores!$F$506:$F$759,0)),\"\",INDIRECT(\"Scores!\"&\"R\"&(ROW(Scores!$F$506:$F$759)-1+MATCH('Individual Scores'!$D118,Scores!$F$506:$F$759,0))&\"C\"&COLUMN(Scores!O$1),FALSE)))","v":""},{"$f":"IF('Team Scores'!$Z$1<3,\"\",IF(ISERROR(MATCH('Individual Scores'!$D118,Scores!$F$506:$F$759,0)),\"\",INDIRECT(\"Scores!\"&\"R\"&(ROW(Scores!$F$506:$F$759)-1+MATCH('Individual Scores'!$D118,Scores!$F$506:$F$759,0))&\"C\"&COLUMN(Scores!P$1),FALSE)))","v":""},{"$f":"IF('Team Scores'!$Z$1<3,\"\",IF(ISERROR(MATCH('Individual Scores'!$D118,Scores!$F$506:$F$759,0)),\"\",INDIRECT(\"Scores!\"&\"R\"&(ROW(Scores!$F$506:$F$759)-1+MATCH('Individual Scores'!$D118,Scores!$F$506:$F$759,0))&\"C\"&COLUMN(Scores!S$1),FALSE)))","v":""},"",""]
["SC","15 & <","F","Vacant-SC_G_U15","","","",0,{"$f":"IF(COUNT(Q119:V119,AA119:AF119,AK119:AP119)>=18/3*'Team Scores'!$Z$1,IF(H119-VLOOKUP(B119&C119,'Individual Awards Computations'!$AY$54:$AZ$58,2,FALSE)=0,\"Leader \"&C119&\":\"&B119,H119-VLOOKUP(B119&C119,'Individual Awards Computations'!$AY$54:$AZ$58,2,FALSE)),\"\")","v":""},"","","","","",1,null,{"$f":"IF(ISERROR(MATCH('Individual Scores'!$D119,Scores!$F$1:$F$253,0)),\"\",INDIRECT(\"Scores!\"&\"R\"&MATCH('Individual Scores'!$D119,Scores!$F$1:$F$253,0)&\"C\"&COLUMN(Scores!J$1),FALSE))","v":""},{"$f":"IF(ISERROR(MATCH('Individual Scores'!$D119,Scores!$F$1:$F$253,0)),\"\",INDIRECT(\"Scores!\"&\"R\"&MATCH('Individual Scores'!$D119,Scores!$F$1:$F$253,0)&\"C\"&COLUMN(Scores!K$1),FALSE))","v":""},{"$f":"IF(ISERROR(MATCH('Individual Scores'!$D119,Scores!$F$1:$F$253,0)),\"\",INDIRECT(\"Scores!\"&\"R\"&MATCH('Individual Scores'!$D119,Scores!$F$1:$F$253,0)&\"C\"&COLUMN(Scores!L$1),FALSE))","v":""},{"$f":"IF(ISERROR(MATCH('Individual Scores'!$D119,Scores!$F$1:$F$253,0)),\"\",INDIRECT(\"Scores!\"&\"R\"&MATCH('Individual Scores'!$D119,Scores!$F$1:$F$253,0)&\"C\"&COLUMN(Scores!N$1),FALSE))","v":""},{"$f":"IF(ISERROR(MATCH('Individual Scores'!$D119,Scores!$F$1:$F$253,0)),\"\",INDIRECT(\"Scores!\"&\"R\"&MATCH('Individual Scores'!$D119,Scores!$F$1:$F$253,0)&\"C\"&COLUMN(Scores!O$1),FALSE))","v":""},{"$f":"IF(ISERROR(MATCH('Individual Scores'!$D119,Scores!$F$1:$F$253,0)),\"\",INDIRECT(\"Scores!\"&\"R\"&MATCH('Individual Scores'!$D119,Scores!$F$1:$F$253,0)&\"C\"&COLUMN(Scores!P$1),FALSE))","v":""},{"$f":"IF(ISERROR(MATCH('Individual Scores'!$D119,Scores!$F$1:$F$253,0)),\"\",INDIRECT(\"Scores!\"&\"R\"&MATCH('Individual Scores'!$D119,Scores!$F$1:$F$253,0)&\"C\"&COLUMN(Scores!S$1),FALSE))","v":""},{"$f":"IF(MAX('Individual Scores'!Q119:V119)>0,MAX('Individual Scores'!Q119:V119),\"\")","v":""},{"$f":"IF(MAX(SUM('Individual Scores'!Q119:S119),SUM('Individual Scores'!T119:V119))>0,MAX(SUM('Individual Scores'!Q119:S119),SUM('Individual Scores'!T119:V119)),\"\")","v":""},null,{"$f":"IF('Team Scores'!$Z$1<2,\"\",IF(ISERROR(MATCH('Individual Scores'!$D119,Scores!$F$253:$F$506,0)),\"\",INDIRECT(\"Scores!\"&\"R\"&(ROW(Scores!$253:$253)-1+MATCH('Individual Scores'!$D119,Scores!$F$253:$F$505,0))&\"C\"&COLUMN(Scores!J$1),FALSE)))","v":""},{"$f":"IF('Team Scores'!$Z$1<2,\"\",IF(ISERROR(MATCH('Individual Scores'!$D119,Scores!$F$253:$F$506,0)),\"\",INDIRECT(\"Scores!\"&\"R\"&(ROW(Scores!$253:$253)-1+MATCH('Individual Scores'!$D119,Scores!$F$253:$F$505,0))&\"C\"&COLUMN(Scores!K$1),FALSE)))","v":""},{"$f":"IF('Team Scores'!$Z$1<2,\"\",IF(ISERROR(MATCH('Individual Scores'!$D119,Scores!$F$253:$F$506,0)),\"\",INDIRECT(\"Scores!\"&\"R\"&(ROW(Scores!$253:$253)-1+MATCH('Individual Scores'!$D119,Scores!$F$253:$F$505,0))&\"C\"&COLUMN(Scores!L$1),FALSE)))","v":""},{"$f":"IF('Team Scores'!$Z$1<2,\"\",IF(ISERROR(MATCH('Individual Scores'!$D119,Scores!$F$253:$F$506,0)),\"\",INDIRECT(\"Scores!\"&\"R\"&(ROW(Scores!$253:$253)-1+MATCH('Individual Scores'!$D119,Scores!$F$253:$F$505,0))&\"C\"&COLUMN(Scores!N$1),FALSE)))","v":""},{"$f":"IF('Team Scores'!$Z$1<2,\"\",IF(ISERROR(MATCH('Individual Scores'!$D119,Scores!$F$253:$F$506,0)),\"\",INDIRECT(\"Scores!\"&\"R\"&(ROW(Scores!$253:$253)-1+MATCH('Individual Scores'!$D119,Scores!$F$253:$F$505,0))&\"C\"&COLUMN(Scores!O$1),FALSE)))","v":""},{"$f":"IF('Team Scores'!$Z$1<2,\"\",IF(ISERROR(MATCH('Individual Scores'!$D119,Scores!$F$253:$F$506,0)),\"\",INDIRECT(\"Scores!\"&\"R\"&(ROW(Scores!$253:$253)-1+MATCH('Individual Scores'!$D119,Scores!$F$253:$F$505,0))&\"C\"&COLUMN(Scores!P$1),FALSE)))","v":""},{"$f":"IF('Team Scores'!$Z$1<2,\"\",IF(ISERROR(MATCH('Individual Scores'!$D119,Scores!$F$253:$F$506,0)),\"\",INDIRECT(\"Scores!\"&\"R\"&(ROW(Scores!$253:$253)-1+MATCH('Individual Scores'!$D119,Scores!$F$253:$F$505,0))&\"C\"&COLUMN(Scores!S$1),FALSE)))","v":""},"","",null,{"$f":"IF('Team Scores'!$Z$1<3,\"\",IF(ISERROR(MATCH('Individual Scores'!$D119,Scores!$F$506:$F$759,0)),\"\",INDIRECT(\"Scores!\"&\"R\"&(ROW(Scores!$F$506:$F$759)-1+MATCH('Individual Scores'!$D119,Scores!$F$506:$F$759,0))&\"C\"&COLUMN(Scores!J$1),FALSE)))","v":""},{"$f":"IF('Team Scores'!$Z$1<3,\"\",IF(ISERROR(MATCH('Individual Scores'!$D119,Scores!$F$506:$F$759,0)),\"\",INDIRECT(\"Scores!\"&\"R\"&(ROW(Scores!$F$506:$F$759)-1+MATCH('Individual Scores'!$D119,Scores!$F$506:$F$759,0))&\"C\"&COLUMN(Scores!K$1),FALSE)))","v":""},{"$f":"IF('Team Scores'!$Z$1<3,\"\",IF(ISERROR(MATCH('Individual Scores'!$D119,Scores!$F$506:$F$759,0)),\"\",INDIRECT(\"Scores!\"&\"R\"&(ROW(Scores!$F$506:$F$759)-1+MATCH('Individual Scores'!$D119,Scores!$F$506:$F$759,0))&\"C\"&COLUMN(Scores!L$1),FALSE)))","v":""},{"$f":"IF('Team Scores'!$Z$1<3,\"\",IF(ISERROR(MATCH('Individual Scores'!$D119,Scores!$F$506:$F$759,0)),\"\",INDIRECT(\"Scores!\"&\"R\"&(ROW(Scores!$F$506:$F$759)-1+MATCH('Individual Scores'!$D119,Scores!$F$506:$F$759,0))&\"C\"&COLUMN(Scores!N$1),FALSE)))","v":""},{"$f":"IF('Team Scores'!$Z$1<3,\"\",IF(ISERROR(MATCH('Individual Scores'!$D119,Scores!$F$506:$F$759,0)),\"\",INDIRECT(\"Scores!\"&\"R\"&(ROW(Scores!$F$506:$F$759)-1+MATCH('Individual Scores'!$D119,Scores!$F$506:$F$759,0))&\"C\"&COLUMN(Scores!O$1),FALSE)))","v":""},{"$f":"IF('Team Scores'!$Z$1<3,\"\",IF(ISERROR(MATCH('Individual Scores'!$D119,Scores!$F$506:$F$759,0)),\"\",INDIRECT(\"Scores!\"&\"R\"&(ROW(Scores!$F$506:$F$759)-1+MATCH('Individual Scores'!$D119,Scores!$F$506:$F$759,0))&\"C\"&COLUMN(Scores!P$1),FALSE)))","v":""},{"$f":"IF('Team Scores'!$Z$1<3,\"\",IF(ISERROR(MATCH('Individual Scores'!$D119,Scores!$F$506:$F$759,0)),\"\",INDIRECT(\"Scores!\"&\"R\"&(ROW(Scores!$F$506:$F$759)-1+MATCH('Individual Scores'!$D119,Scores!$F$506:$F$759,0))&\"C\"&COLUMN(Scores!S$1),FALSE)))","v":""},"",""]
["SC","15 & <","F",null,"","","",0,{"$f":"IF(COUNT(Q120:V120,AA120:AF120,AK120:AP120)>=18/3*'Team Scores'!$Z$1,IF(H120-VLOOKUP(B120&C120,'Individual Awards Computations'!$AY$54:$AZ$58,2,FALSE)=0,\"Leader \"&C120&\":\"&B120,H120-VLOOKUP(B120&C120,'Individual Awards Computations'!$AY$54:$AZ$58,2,FALSE)),\"\")","v":""},"","","","","",0,null,{"$f":"IF(ISERROR(MATCH('Individual Scores'!$D120,Scores!$F$1:$F$253,0)),\"\",INDIRECT(\"Scores!\"&\"R\"&MATCH('Individual Scores'!$D120,Scores!$F$1:$F$253,0)&\"C\"&COLUMN(Scores!J$1),FALSE))","v":""},{"$f":"IF(ISERROR(MATCH('Individual Scores'!$D120,Scores!$F$1:$F$253,0)),\"\",INDIRECT(\"Scores!\"&\"R\"&MATCH('Individual Scores'!$D120,Scores!$F$1:$F$253,0)&\"C\"&COLUMN(Scores!K$1),FALSE))","v":""},{"$f":"IF(ISERROR(MATCH('Individual Scores'!$D120,Scores!$F$1:$F$253,0)),\"\",INDIRECT(\"Scores!\"&\"R\"&MATCH('Individual Scores'!$D120,Scores!$F$1:$F$253,0)&\"C\"&COLUMN(Scores!L$1),FALSE))","v":""},{"$f":"IF(ISERROR(MATCH('Individual Scores'!$D120,Scores!$F$1:$F$253,0)),\"\",INDIRECT(\"Scores!\"&\"R\"&MATCH('Individual Scores'!$D120,Scores!$F$1:$F$253,0)&\"C\"&COLUMN(Scores!N$1),FALSE))","v":""},{"$f":"IF(ISERROR(MATCH('Individual Scores'!$D120,Scores!$F$1:$F$253,0)),\"\",INDIRECT(\"Scores!\"&\"R\"&MATCH('Individual Scores'!$D120,Scores!$F$1:$F$253,0)&\"C\"&COLUMN(Scores!O$1),FALSE))","v":""},{"$f":"IF(ISERROR(MATCH('Individual Scores'!$D120,Scores!$F$1:$F$253,0)),\"\",INDIRECT(\"Scores!\"&\"R\"&MATCH('Individual Scores'!$D120,Scores!$F$1:$F$253,0)&\"C\"&COLUMN(Scores!P$1),FALSE))","v":""},{"$f":"IF(ISERROR(MATCH('Individual Scores'!$D120,Scores!$F$1:$F$253,0)),\"\",INDIRECT(\"Scores!\"&\"R\"&MATCH('Individual Scores'!$D120,Scores!$F$1:$F$253,0)&\"C\"&COLUMN(Scores!S$1),FALSE))","v":""},{"$f":"IF(MAX('Individual Scores'!Q120:V120)>0,MAX('Individual Scores'!Q120:V120),\"\")","v":""},{"$f":"IF(MAX(SUM('Individual Scores'!Q120:S120),SUM('Individual Scores'!T120:V120))>0,MAX(SUM('Individual Scores'!Q120:S120),SUM('Individual Scores'!T120:V120)),\"\")","v":""},null,{"$f":"IF('Team Scores'!$Z$1<2,\"\",IF(ISERROR(MATCH('Individual Scores'!$D120,Scores!$F$253:$F$506,0)),\"\",INDIRECT(\"Scores!\"&\"R\"&(ROW(Scores!$253:$253)-1+MATCH('Individual Scores'!$D120,Scores!$F$253:$F$505,0))&\"C\"&COLUMN(Scores!J$1),FALSE)))","v":""},{"$f":"IF('Team Scores'!$Z$1<2,\"\",IF(ISERROR(MATCH('Individual Scores'!$D120,Scores!$F$253:$F$506,0)),\"\",INDIRECT(\"Scores!\"&\"R\"&(ROW(Scores!$253:$253)-1+MATCH('Individual Scores'!$D120,Scores!$F$253:$F$505,0))&\"C\"&COLUMN(Scores!K$1),FALSE)))","v":""},{"$f":"IF('Team Scores'!$Z$1<2,\"\",IF(ISERROR(MATCH('Individual Scores'!$D120,Scores!$F$253:$F$506,0)),\"\",INDIRECT(\"Scores!\"&\"R\"&(ROW(Scores!$253:$253)-1+MATCH('Individual Scores'!$D120,Scores!$F$253:$F$505,0))&\"C\"&COLUMN(Scores!L$1),FALSE)))","v":""},{"$f":"IF('Team Scores'!$Z$1<2,\"\",IF(ISERROR(MATCH('Individual Scores'!$D120,Scores!$F$253:$F$506,0)),\"\",INDIRECT(\"Scores!\"&\"R\"&(ROW(Scores!$253:$253)-1+MATCH('Individual Scores'!$D120,Scores!$F$253:$F$505,0))&\"C\"&COLUMN(Scores!N$1),FALSE)))","v":""},{"$f":"IF('Team Scores'!$Z$1<2,\"\",IF(ISERROR(MATCH('Individual Scores'!$D120,Scores!$F$253:$F$506,0)),\"\",INDIRECT(\"Scores!\"&\"R\"&(ROW(Scores!$253:$253)-1+MATCH('Individual Scores'!$D120,Scores!$F$253:$F$505,0))&\"C\"&COLUMN(Scores!O$1),FALSE)))","v":""},{"$f":"IF('Team Scores'!$Z$1<2,\"\",IF(ISERROR(MATCH('Individual Scores'!$D120,Scores!$F$253:$F$506,0)),\"\",INDIRECT(\"Scores!\"&\"R\"&(ROW(Scores!$253:$253)-1+MATCH('Individual Scores'!$D120,Scores!$F$253:$F$505,0))&\"C\"&COLUMN(Scores!P$1),FALSE)))","v":""},{"$f":"IF('Team Scores'!$Z$1<2,\"\",IF(ISERROR(MATCH('Individual Scores'!$D120,Scores!$F$253:$F$506,0)),\"\",INDIRECT(\"Scores!\"&\"R\"&(ROW(Scores!$253:$253)-1+MATCH('Individual Scores'!$D120,Scores!$F$253:$F$505,0))&\"C\"&COLUMN(Scores!S$1),FALSE)))","v":""},"","",null,{"$f":"IF('Team Scores'!$Z$1<3,\"\",IF(ISERROR(MATCH('Individual Scores'!$D120,Scores!$F$506:$F$759,0)),\"\",INDIRECT(\"Scores!\"&\"R\"&(ROW(Scores!$F$506:$F$759)-1+MATCH('Individual Scores'!$D120,Scores!$F$506:$F$759,0))&\"C\"&COLUMN(Scores!J$1),FALSE)))","v":""},{"$f":"IF('Team Scores'!$Z$1<3,\"\",IF(ISERROR(MATCH('Individual Scores'!$D120,Scores!$F$506:$F$759,0)),\"\",INDIRECT(\"Scores!\"&\"R\"&(ROW(Scores!$F$506:$F$759)-1+MATCH('Individual Scores'!$D120,Scores!$F$506:$F$759,0))&\"C\"&COLUMN(Scores!K$1),FALSE)))","v":""},{"$f":"IF('Team Scores'!$Z$1<3,\"\",IF(ISERROR(MATCH('Individual Scores'!$D120,Scores!$F$506:$F$759,0)),\"\",INDIRECT(\"Scores!\"&\"R\"&(ROW(Scores!$F$506:$F$759)-1+MATCH('Individual Scores'!$D120,Scores!$F$506:$F$759,0))&\"C\"&COLUMN(Scores!L$1),FALSE)))","v":""},{"$f":"IF('Team Scores'!$Z$1<3,\"\",IF(ISERROR(MATCH('Individual Scores'!$D120,Scores!$F$506:$F$759,0)),\"\",INDIRECT(\"Scores!\"&\"R\"&(ROW(Scores!$F$506:$F$759)-1+MATCH('Individual Scores'!$D120,Scores!$F$506:$F$759,0))&\"C\"&COLUMN(Scores!N$1),FALSE)))","v":""},{"$f":"IF('Team Scores'!$Z$1<3,\"\",IF(ISERROR(MATCH('Individual Scores'!$D120,Scores!$F$506:$F$759,0)),\"\",INDIRECT(\"Scores!\"&\"R\"&(ROW(Scores!$F$506:$F$759)-1+MATCH('Individual Scores'!$D120,Scores!$F$506:$F$759,0))&\"C\"&COLUMN(Scores!O$1),FALSE)))","v":""},{"$f":"IF('Team Scores'!$Z$1<3,\"\",IF(ISERROR(MATCH('Individual Scores'!$D120,Scores!$F$506:$F$759,0)),\"\",INDIRECT(\"Scores!\"&\"R\"&(ROW(Scores!$F$506:$F$759)-1+MATCH('Individual Scores'!$D120,Scores!$F$506:$F$759,0))&\"C\"&COLUMN(Scores!P$1),FALSE)))","v":""},{"$f":"IF('Team Scores'!$Z$1<3,\"\",IF(ISERROR(MATCH('Individual Scores'!$D120,Scores!$F$506:$F$759,0)),\"\",INDIRECT(\"Scores!\"&\"R\"&(ROW(Scores!$F$506:$F$759)-1+MATCH('Individual Scores'!$D120,Scores!$F$506:$F$759,0))&\"C\"&COLUMN(Scores!S$1),FALSE)))","v":""},"",""]
["SC","15 & <","M","Blake Kempfer",1088,1016,"",2104,{"$f":"IF(COUNT(Q121:V121,AA121:AF121,AK121:AP121)>=18/3*'Team Scores'!$Z$1,IF(H121-VLOOKUP(B121&C121,'Individual Awards Computations'!$AY$54:$AZ$58,2,FALSE)=0,\"Leader \"&C121&\":\"&B121,H121-VLOOKUP(B121&C121,'Individual Awards Computations'!$AY$54:$AZ$58,2,FALSE)),\"\")","v":-525},219,620,175.33333333333334,22.277777777777782,"153-198",1,null,{"$f":"IF(ISERROR(MATCH('Individual Scores'!$D121,Scores!$F$1:$F$253,0)),\"\",INDIRECT(\"Scores!\"&\"R\"&MATCH('Individual Scores'!$D121,Scores!$F$1:$F$253,0)&\"C\"&COLUMN(Scores!J$1),FALSE))","v":219},{"$f":"IF(ISERROR(MATCH('Individual Scores'!$D121,Scores!$F$1:$F$253,0)),\"\",INDIRECT(\"Scores!\"&\"R\"&MATCH('Individual Scores'!$D121,Scores!$F$1:$F$253,0)&\"C\"&COLUMN(Scores!K$1),FALSE))","v":183},{"$f":"IF(ISERROR(MATCH('Individual Scores'!$D121,Scores!$F$1:$F$253,0)),\"\",INDIRECT(\"Scores!\"&\"R\"&MATCH('Individual Scores'!$D121,Scores!$F$1:$F$253,0)&\"C\"&COLUMN(Scores!L$1),FALSE))","v":218},{"$f":"IF(ISERROR(MATCH('Individual Scores'!$D121,Scores!$F$1:$F$253,0)),\"\",INDIRECT(\"Scores!\"&\"R\"&MATCH('Individual Scores'!$D121,Scores!$F$1:$F$253,0)&\"C\"&COLUMN(Scores!N$1),FALSE))","v":140},{"$f":"IF(ISERROR(MATCH('Individual Scores'!$D121,Scores!$F$1:$F$253,0)),\"\",INDIRECT(\"Scores!\"&\"R\"&MATCH('Individual Scores'!$D121,Scores!$F$1:$F$253,0)&\"C\"&COLUMN(Scores!O$1),FALSE))","v":173},{"$f":"IF(ISERROR(MATCH('Individual Scores'!$D121,Scores!$F$1:$F$253,0)),\"\",INDIRECT(\"Scores!\"&\"R\"&MATCH('Individual Scores'!$D121,Scores!$F$1:$F$253,0)&\"C\"&COLUMN(Scores!P$1),FALSE))","v":155},{"$f":"IF(ISERROR(MATCH('Individual Scores'!$D121,Scores!$F$1:$F$253,0)),\"\",INDIRECT(\"Scores!\"&\"R\"&MATCH('Individual Scores'!$D121,Scores!$F$1:$F$253,0)&\"C\"&COLUMN(Scores!S$1),FALSE))","v":1088},{"$f":"IF(MAX('Individual Scores'!Q121:V121)>0,MAX('Individual Scores'!Q121:V121),\"\")","v":219},{"$f":"IF(MAX(SUM('Individual Scores'!Q121:S121),SUM('Individual Scores'!T121:V121))>0,MAX(SUM('Individual Scores'!Q121:S121),SUM('Individual Scores'!T121:V121)),\"\")","v":620},null,{"$f":"IF('Team Scores'!$Z$1<2,\"\",IF(ISERROR(MATCH('Individual Scores'!$D121,Scores!$F$253:$F$506,0)),\"\",INDIRECT(\"Scores!\"&\"R\"&(ROW(Scores!$253:$253)-1+MATCH('Individual Scores'!$D121,Scores!$F$253:$F$505,0))&\"C\"&COLUMN(Scores!J$1),FALSE)))","v":215},{"$f":"IF('Team Scores'!$Z$1<2,\"\",IF(ISERROR(MATCH('Individual Scores'!$D121,Scores!$F$253:$F$506,0)),\"\",INDIRECT(\"Scores!\"&\"R\"&(ROW(Scores!$253:$253)-1+MATCH('Individual Scores'!$D121,Scores!$F$253:$F$505,0))&\"C\"&COLUMN(Scores!K$1),FALSE)))","v":152},{"$f":"IF('Team Scores'!$Z$1<2,\"\",IF(ISERROR(MATCH('Individual Scores'!$D121,Scores!$F$253:$F$506,0)),\"\",INDIRECT(\"Scores!\"&\"R\"&(ROW(Scores!$253:$253)-1+MATCH('Individual Scores'!$D121,Scores!$F$253:$F$505,0))&\"C\"&COLUMN(Scores!L$1),FALSE)))","v":160},{"$f":"IF('Team Scores'!$Z$1<2,\"\",IF(ISERROR(MATCH('Individual Scores'!$D121,Scores!$F$253:$F$506,0)),\"\",INDIRECT(\"Scores!\"&\"R\"&(ROW(Scores!$253:$253)-1+MATCH('Individual Scores'!$D121,Scores!$F$253:$F$505,0))&\"C\"&COLUMN(Scores!N$1),FALSE)))","v":167},{"$f":"IF('Team Scores'!$Z$1<2,\"\",IF(ISERROR(MATCH('Individual Scores'!$D121,Scores!$F$253:$F$506,0)),\"\",INDIRECT(\"Scores!\"&\"R\"&(ROW(Scores!$253:$253)-1+MATCH('Individual Scores'!$D121,Scores!$F$253:$F$505,0))&\"C\"&COLUMN(Scores!O$1),FALSE)))","v":172},{"$f":"IF('Team Scores'!$Z$1<2,\"\",IF(ISERROR(MATCH('Individual Scores'!$D121,Scores!$F$253:$F$506,0)),\"\",INDIRECT(\"Scores!\"&\"R\"&(ROW(Scores!$253:$253)-1+MATCH('Individual Scores'!$D121,Scores!$F$253:$F$505,0))&\"C\"&COLUMN(Scores!P$1),FALSE)))","v":150},{"$f":"IF('Team Scores'!$Z$1<2,\"\",IF(ISERROR(MATCH('Individual Scores'!$D121,Scores!$F$253:$F$506,0)),\"\",INDIRECT(\"Scores!\"&\"R\"&(ROW(Scores!$253:$253)-1+MATCH('Individual Scores'!$D121,Scores!$F$253:$F$505,0))&\"C\"&COLUMN(Scores!S$1),FALSE)))","v":1016},215,527,null,{"$f":"IF('Team Scores'!$Z$1<3,\"\",IF(ISERROR(MATCH('Individual Scores'!$D121,Scores!$F$506:$F$759,0)),\"\",INDIRECT(\"Scores!\"&\"R\"&(ROW(Scores!$F$506:$F$759)-1+MATCH('Individual Scores'!$D121,Scores!$F$506:$F$759,0))&\"C\"&COLUMN(Scores!J$1),FALSE)))","v":""},{"$f":"IF('Team Scores'!$Z$1<3,\"\",IF(ISERROR(MATCH('Individual Scores'!$D121,Scores!$F$506:$F$759,0)),\"\",INDIRECT(\"Scores!\"&\"R\"&(ROW(Scores!$F$506:$F$759)-1+MATCH('Individual Scores'!$D121,Scores!$F$506:$F$759,0))&\"C\"&COLUMN(Scores!K$1),FALSE)))","v":""},{"$f":"IF('Team Scores'!$Z$1<3,\"\",IF(ISERROR(MATCH('Individual Scores'!$D121,Scores!$F$506:$F$759,0)),\"\",INDIRECT(\"Scores!\"&\"R\"&(ROW(Scores!$F$506:$F$759)-1+MATCH('Individual Scores'!$D121,Scores!$F$506:$F$759,0))&\"C\"&COLUMN(Scores!L$1),FALSE)))","v":""},{"$f":"IF('Team Scores'!$Z$1<3,\"\",IF(ISERROR(MATCH('Individual Scores'!$D121,Scores!$F$506:$F$759,0)),\"\",INDIRECT(\"Scores!\"&\"R\"&(ROW(Scores!$F$506:$F$759)-1+MATCH('Individual Scores'!$D121,Scores!$F$506:$F$759,0))&\"C\"&COLUMN(Scores!N$1),FALSE)))","v":""},{"$f":"IF('Team Scores'!$Z$1<3,\"\",IF(ISERROR(MATCH('Individual Scores'!$D121,Scores!$F$506:$F$759,0)),\"\",INDIRECT(\"Scores!\"&\"R\"&(ROW(Scores!$F$506:$F$759)-1+MATCH('Individual Scores'!$D121,Scores!$F$506:$F$759,0))&\"C\"&COLUMN(Scores!O$1),FALSE)))","v":""},{"$f":"IF('Team Scores'!$Z$1<3,\"\",IF(ISERROR(MATCH('Individual Scores'!$D121,Scores!$F$506:$F$759,0)),\"\",INDIRECT(\"Scores!\"&\"R\"&(ROW(Scores!$F$506:$F$759)-1+MATCH('Individual Scores'!$D121,Scores!$F$506:$F$759,0))&\"C\"&COLUMN(Scores!P$1),FALSE)))","v":""},{"$f":"IF('Team Scores'!$Z$1<3,\"\",IF(ISERROR(MATCH('Individual Scores'!$D121,Scores!$F$506:$F$759,0)),\"\",INDIRECT(\"Scores!\"&\"R\"&(ROW(Scores!$F$506:$F$759)-1+MATCH('Individual Scores'!$D121,Scores!$F$506:$F$759,0))&\"C\"&COLUMN(Scores!S$1),FALSE)))","v":""},"",""]
["SC","15 & <","M","Ryan Lapano",1114,1135,"",2249,{"$f":"IF(COUNT(Q122:V122,AA122:AF122,AK122:AP122)>=18/3*'Team Scores'!$Z$1,IF(H122-VLOOKUP(B122&C122,'Individual Awards Computations'!$AY$54:$AZ$58,2,FALSE)=0,\"Leader \"&C122&\":\"&B122,H122-VLOOKUP(B122&C122,'Individual Awards Computations'!$AY$54:$AZ$58,2,FALSE)),\"\")","v":-380},224,603,187.41666666666666,20.013888888888889,"167-207",1,null,{"$f":"IF(ISERROR(MATCH('Individual Scores'!$D122,Scores!$F$1:$F$253,0)),\"\",INDIRECT(\"Scores!\"&\"R\"&MATCH('Individual Scores'!$D122,Scores!$F$1:$F$253,0)&\"C\"&COLUMN(Scores!J$1),FALSE))","v":181},{"$f":"IF(ISERROR(MATCH('Individual Scores'!$D122,Scores!$F$1:$F$253,0)),\"\",INDIRECT(\"Scores!\"&\"R\"&MATCH('Individual Scores'!$D122,Scores!$F$1:$F$253,0)&\"C\"&COLUMN(Scores!K$1),FALSE))","v":224},{"$f":"IF(ISERROR(MATCH('Individual Scores'!$D122,Scores!$F$1:$F$253,0)),\"\",INDIRECT(\"Scores!\"&\"R\"&MATCH('Individual Scores'!$D122,Scores!$F$1:$F$253,0)&\"C\"&COLUMN(Scores!L$1),FALSE))","v":193},{"$f":"IF(ISERROR(MATCH('Individual Scores'!$D122,Scores!$F$1:$F$253,0)),\"\",INDIRECT(\"Scores!\"&\"R\"&MATCH('Individual Scores'!$D122,Scores!$F$1:$F$253,0)&\"C\"&COLUMN(Scores!N$1),FALSE))","v":200},{"$f":"IF(ISERROR(MATCH('Individual Scores'!$D122,Scores!$F$1:$F$253,0)),\"\",INDIRECT(\"Scores!\"&\"R\"&MATCH('Individual Scores'!$D122,Scores!$F$1:$F$253,0)&\"C\"&COLUMN(Scores!O$1),FALSE))","v":164},{"$f":"IF(ISERROR(MATCH('Individual Scores'!$D122,Scores!$F$1:$F$253,0)),\"\",INDIRECT(\"Scores!\"&\"R\"&MATCH('Individual Scores'!$D122,Scores!$F$1:$F$253,0)&\"C\"&COLUMN(Scores!P$1),FALSE))","v":152},{"$f":"IF(ISERROR(MATCH('Individual Scores'!$D122,Scores!$F$1:$F$253,0)),\"\",INDIRECT(\"Scores!\"&\"R\"&MATCH('Individual Scores'!$D122,Scores!$F$1:$F$253,0)&\"C\"&COLUMN(Scores!S$1),FALSE))","v":1114},{"$f":"IF(MAX('Individual Scores'!Q122:V122)>0,MAX('Individual Scores'!Q122:V122),\"\")","v":224},{"$f":"IF(MAX(SUM('Individual Scores'!Q122:S122),SUM('Individual Scores'!T122:V122))>0,MAX(SUM('Individual Scores'!Q122:S122),SUM('Individual Scores'!T122:V122)),\"\")","v":598},null,{"$f":"IF('Team Scores'!$Z$1<2,\"\",IF(ISERROR(MATCH('Individual Scores'!$D122,Scores!$F$253:$F$506,0)),\"\",INDIRECT(\"Scores!\"&\"R\"&(ROW(Scores!$253:$253)-1+MATCH('Individual Scores'!$D122,Scores!$F$253:$F$505,0))&\"C\"&COLUMN(Scores!J$1),FALSE)))","v":203},{"$f":"IF('Team Scores'!$Z$1<2,\"\",IF(ISERROR(MATCH('Individual Scores'!$D122,Scores!$F$253:$F$506,0)),\"\",INDIRECT(\"Scores!\"&\"R\"&(ROW(Scores!$253:$253)-1+MATCH('Individual Scores'!$D122,Scores!$F$253:$F$505,0))&\"C\"&COLUMN(Scores!K$1),FALSE)))","v":189},{"$f":"IF('Team Scores'!$Z$1<2,\"\",IF(ISERROR(MATCH('Individual Scores'!$D122,Scores!$F$253:$F$506,0)),\"\",INDIRECT(\"Scores!\"&\"R\"&(ROW(Scores!$253:$253)-1+MATCH('Individual Scores'!$D122,Scores!$F$253:$F$505,0))&\"C\"&COLUMN(Scores!L$1),FALSE)))","v":211},{"$f":"IF('Team Scores'!$Z$1<2,\"\",IF(ISERROR(MATCH('Individual Scores'!$D122,Scores!$F$253:$F$506,0)),\"\",INDIRECT(\"Scores!\"&\"R\"&(ROW(Scores!$253:$253)-1+MATCH('Individual Scores'!$D122,Scores!$F$253:$F$505,0))&\"C\"&COLUMN(Scores!N$1),FALSE)))","v":212},{"$f":"IF('Team Scores'!$Z$1<2,\"\",IF(ISERROR(MATCH('Individual Scores'!$D122,Scores!$F$253:$F$506,0)),\"\",INDIRECT(\"Scores!\"&\"R\"&(ROW(Scores!$253:$253)-1+MATCH('Individual Scores'!$D122,Scores!$F$253:$F$505,0))&\"C\"&COLUMN(Scores!O$1),FALSE)))","v":162},{"$f":"IF('Team Scores'!$Z$1<2,\"\",IF(ISERROR(MATCH('Individual Scores'!$D122,Scores!$F$253:$F$506,0)),\"\",INDIRECT(\"Scores!\"&\"R\"&(ROW(Scores!$253:$253)-1+MATCH('Individual Scores'!$D122,Scores!$F$253:$F$505,0))&\"C\"&COLUMN(Scores!P$1),FALSE)))","v":158},{"$f":"IF('Team Scores'!$Z$1<2,\"\",IF(ISERROR(MATCH('Individual Scores'!$D122,Scores!$F$253:$F$506,0)),\"\",INDIRECT(\"Scores!\"&\"R\"&(ROW(Scores!$253:$253)-1+MATCH('Individual Scores'!$D122,Scores!$F$253:$F$505,0))&\"C\"&COLUMN(Scores!S$1),FALSE)))","v":1135},212,603,null,{"$f":"IF('Team Scores'!$Z$1<3,\"\",IF(ISERROR(MATCH('Individual Scores'!$D122,Scores!$F$506:$F$759,0)),\"\",INDIRECT(\"Scores!\"&\"R\"&(ROW(Scores!$F$506:$F$759)-1+MATCH('Individual Scores'!$D122,Scores!$F$506:$F$759,0))&\"C\"&COLUMN(Scores!J$1),FALSE)))","v":""},{"$f":"IF('Team Scores'!$Z$1<3,\"\",IF(ISERROR(MATCH('Individual Scores'!$D122,Scores!$F$506:$F$759,0)),\"\",INDIRECT(\"Scores!\"&\"R\"&(ROW(Scores!$F$506:$F$759)-1+MATCH('Individual Scores'!$D122,Scores!$F$506:$F$759,0))&\"C\"&COLUMN(Scores!K$1),FALSE)))","v":""},{"$f":"IF('Team Scores'!$Z$1<3,\"\",IF(ISERROR(MATCH('Individual Scores'!$D122,Scores!$F$506:$F$759,0)),\"\",INDIRECT(\"Scores!\"&\"R\"&(ROW(Scores!$F$506:$F$759)-1+MATCH('Individual Scores'!$D122,Scores!$F$506:$F$759,0))&\"C\"&COLUMN(Scores!L$1),FALSE)))","v":""},{"$f":"IF('Team Scores'!$Z$1<3,\"\",IF(ISERROR(MATCH('Individual Scores'!$D122,Scores!$F$506:$F$759,0)),\"\",INDIRECT(\"Scores!\"&\"R\"&(ROW(Scores!$F$506:$F$759)-1+MATCH('Individual Scores'!$D122,Scores!$F$506:$F$759,0))&\"C\"&COLUMN(Scores!N$1),FALSE)))","v":""},{"$f":"IF('Team Scores'!$Z$1<3,\"\",IF(ISERROR(MATCH('Individual Scores'!$D122,Scores!$F$506:$F$759,0)),\"\",INDIRECT(\"Scores!\"&\"R\"&(ROW(Scores!$F$506:$F$759)-1+MATCH('Individual Scores'!$D122,Scores!$F$506:$F$759,0))&\"C\"&COLUMN(Scores!O$1),FALSE)))","v":""},{"$f":"IF('Team Scores'!$Z$1<3,\"\",IF(ISERROR(MATCH('Individual Scores'!$D122,Scores!$F$506:$F$759,0)),\"\",INDIRECT(\"Scores!\"&\"R\"&(ROW(Scores!$F$506:$F$759)-1+MATCH('Individual Scores'!$D122,Scores!$F$506:$F$759,0))&\"C\"&COLUMN(Scores!P$1),FALSE)))","v":""},{"$f":"IF('Team Scores'!$Z$1<3,\"\",IF(ISERROR(MATCH('Individual Scores'!$D122,Scores!$F$506:$F$759,0)),\"\",INDIRECT(\"Scores!\"&\"R\"&(ROW(Scores!$F$506:$F$759)-1+MATCH('Individual Scores'!$D122,Scores!$F$506:$F$759,0))&\"C\"&COLUMN(Scores!S$1),FALSE)))","v":""},"",""]
["SC","15 & <","M","Jonathan Lovett",1138,1179,"",2317,{"$f":"IF(COUNT(Q123:V123,AA123:AF123,AK123:AP123)>=18/3*'Team Scores'!$Z$1,IF(H123-VLOOKUP(B123&C123,'Individual Awards Computations'!$AY$54:$AZ$58,2,FALSE)=0,\"Leader \"&C123&\":\"&B123,H123-VLOOKUP(B123&C123,'Individual Awards Computations'!$AY$54:$AZ$58,2,FALSE)),\"\")","v":-312},256,626,193.08333333333334,18.763888888888889,"174-212",1,null,{"$f":"IF(ISERROR(MATCH('Individual Scores'!$D123,Scores!$F$1:$F$253,0)),\"\",INDIRECT(\"Scores!\"&\"R\"&MATCH('Individual Scores'!$D123,Scores!$F$1:$F$253,0)&\"C\"&COLUMN(Scores!J$1),FALSE))","v":256},{"$f":"IF(ISERROR(MATCH('Individual Scores'!$D123,Scores!$F$1:$F$253,0)),\"\",INDIRECT(\"Scores!\"&\"R\"&MATCH('Individual Scores'!$D123,Scores!$F$1:$F$253,0)&\"C\"&COLUMN(Scores!K$1),FALSE))","v":178},{"$f":"IF(ISERROR(MATCH('Individual Scores'!$D123,Scores!$F$1:$F$253,0)),\"\",INDIRECT(\"Scores!\"&\"R\"&MATCH('Individual Scores'!$D123,Scores!$F$1:$F$253,0)&\"C\"&COLUMN(Scores!L$1),FALSE))","v":185},{"$f":"IF(ISERROR(MATCH('Individual Scores'!$D123,Scores!$F$1:$F$253,0)),\"\",INDIRECT(\"Scores!\"&\"R\"&MATCH('Individual Scores'!$D123,Scores!$F$1:$F$253,0)&\"C\"&COLUMN(Scores!N$1),FALSE))","v":185},{"$f":"IF(ISERROR(MATCH('Individual Scores'!$D123,Scores!$F$1:$F$253,0)),\"\",INDIRECT(\"Scores!\"&\"R\"&MATCH('Individual Scores'!$D123,Scores!$F$1:$F$253,0)&\"C\"&COLUMN(Scores!O$1),FALSE))","v":160},{"$f":"IF(ISERROR(MATCH('Individual Scores'!$D123,Scores!$F$1:$F$253,0)),\"\",INDIRECT(\"Scores!\"&\"R\"&MATCH('Individual Scores'!$D123,Scores!$F$1:$F$253,0)&\"C\"&COLUMN(Scores!P$1),FALSE))","v":174},{"$f":"IF(ISERROR(MATCH('Individual Scores'!$D123,Scores!$F$1:$F$253,0)),\"\",INDIRECT(\"Scores!\"&\"R\"&MATCH('Individual Scores'!$D123,Scores!$F$1:$F$253,0)&\"C\"&COLUMN(Scores!S$1),FALSE))","v":1138},{"$f":"IF(MAX('Individual Scores'!Q123:V123)>0,MAX('Individual Scores'!Q123:V123),\"\")","v":256},{"$f":"IF(MAX(SUM('Individual Scores'!Q123:S123),SUM('Individual Scores'!T123:V123))>0,MAX(SUM('Individual Scores'!Q123:S123),SUM('Individual Scores'!T123:V123)),\"\")","v":619},null,{"$f":"IF('Team Scores'!$Z$1<2,\"\",IF(ISERROR(MATCH('Individual Scores'!$D123,Scores!$F$253:$F$506,0)),\"\",INDIRECT(\"Scores!\"&\"R\"&(ROW(Scores!$253:$253)-1+MATCH('Individual Scores'!$D123,Scores!$F$253:$F$505,0))&\"C\"&COLUMN(Scores!J$1),FALSE)))","v":165},{"$f":"IF('Team Scores'!$Z$1<2,\"\",IF(ISERROR(MATCH('Individual Scores'!$D123,Scores!$F$253:$F$506,0)),\"\",INDIRECT(\"Scores!\"&\"R\"&(ROW(Scores!$253:$253)-1+MATCH('Individual Scores'!$D123,Scores!$F$253:$F$505,0))&\"C\"&COLUMN(Scores!K$1),FALSE)))","v":196},{"$f":"IF('Team Scores'!$Z$1<2,\"\",IF(ISERROR(MATCH('Individual Scores'!$D123,Scores!$F$253:$F$506,0)),\"\",INDIRECT(\"Scores!\"&\"R\"&(ROW(Scores!$253:$253)-1+MATCH('Individual Scores'!$D123,Scores!$F$253:$F$505,0))&\"C\"&COLUMN(Scores!L$1),FALSE)))","v":192},{"$f":"IF('Team Scores'!$Z$1<2,\"\",IF(ISERROR(MATCH('Individual Scores'!$D123,Scores!$F$253:$F$506,0)),\"\",INDIRECT(\"Scores!\"&\"R\"&(ROW(Scores!$253:$253)-1+MATCH('Individual Scores'!$D123,Scores!$F$253:$F$505,0))&\"C\"&COLUMN(Scores!N$1),FALSE)))","v":214},{"$f":"IF('Team Scores'!$Z$1<2,\"\",IF(ISERROR(MATCH('Individual Scores'!$D123,Scores!$F$253:$F$506,0)),\"\",INDIRECT(\"Scores!\"&\"R\"&(ROW(Scores!$253:$253)-1+MATCH('Individual Scores'!$D123,Scores!$F$253:$F$505,0))&\"C\"&COLUMN(Scores!O$1),FALSE)))","v":204},{"$f":"IF('Team Scores'!$Z$1<2,\"\",IF(ISERROR(MATCH('Individual Scores'!$D123,Scores!$F$253:$F$506,0)),\"\",INDIRECT(\"Scores!\"&\"R\"&(ROW(Scores!$253:$253)-1+MATCH('Individual Scores'!$D123,Scores!$F$253:$F$505,0))&\"C\"&COLUMN(Scores!P$1),FALSE)))","v":208},{"$f":"IF('Team Scores'!$Z$1<2,\"\",IF(ISERROR(MATCH('Individual Scores'!$D123,Scores!$F$253:$F$506,0)),\"\",INDIRECT(\"Scores!\"&\"R\"&(ROW(Scores!$253:$253)-1+MATCH('Individual Scores'!$D123,Scores!$F$253:$F$505,0))&\"C\"&COLUMN(Scores!S$1),FALSE)))","v":1179},214,626,null,{"$f":"IF('Team Scores'!$Z$1<3,\"\",IF(ISERROR(MATCH('Individual Scores'!$D123,Scores!$F$506:$F$759,0)),\"\",INDIRECT(\"Scores!\"&\"R\"&(ROW(Scores!$F$506:$F$759)-1+MATCH('Individual Scores'!$D123,Scores!$F$506:$F$759,0))&\"C\"&COLUMN(Scores!J$1),FALSE)))","v":""},{"$f":"IF('Team Scores'!$Z$1<3,\"\",IF(ISERROR(MATCH('Individual Scores'!$D123,Scores!$F$506:$F$759,0)),\"\",INDIRECT(\"Scores!\"&\"R\"&(ROW(Scores!$F$506:$F$759)-1+MATCH('Individual Scores'!$D123,Scores!$F$506:$F$759,0))&\"C\"&COLUMN(Scores!K$1),FALSE)))","v":""},{"$f":"IF('Team Scores'!$Z$1<3,\"\",IF(ISERROR(MATCH('Individual Scores'!$D123,Scores!$F$506:$F$759,0)),\"\",INDIRECT(\"Scores!\"&\"R\"&(ROW(Scores!$F$506:$F$759)-1+MATCH('Individual Scores'!$D123,Scores!$F$506:$F$759,0))&\"C\"&COLUMN(Scores!L$1),FALSE)))","v":""},{"$f":"IF('Team Scores'!$Z$1<3,\"\",IF(ISERROR(MATCH('Individual Scores'!$D123,Scores!$F$506:$F$759,0)),\"\",INDIRECT(\"Scores!\"&\"R\"&(ROW(Scores!$F$506:$F$759)-1+MATCH('Individual Scores'!$D123,Scores!$F$506:$F$759,0))&\"C\"&COLUMN(Scores!N$1),FALSE)))","v":""},{"$f":"IF('Team Scores'!$Z$1<3,\"\",IF(ISERROR(MATCH('Individual Scores'!$D123,Scores!$F$506:$F$759,0)),\"\",INDIRECT(\"Scores!\"&\"R\"&(ROW(Scores!$F$506:$F$759)-1+MATCH('Individual Scores'!$D123,Scores!$F$506:$F$759,0))&\"C\"&COLUMN(Scores!O$1),FALSE)))","v":""},{"$f":"IF('Team Scores'!$Z$1<3,\"\",IF(ISERROR(MATCH('Individual Scores'!$D123,Scores!$F$506:$F$759,0)),\"\",INDIRECT(\"Scores!\"&\"R\"&(ROW(Scores!$F$506:$F$759)-1+MATCH('Individual Scores'!$D123,Scores!$F$506:$F$759,0))&\"C\"&COLUMN(Scores!P$1),FALSE)))","v":""},{"$f":"IF('Team Scores'!$Z$1<3,\"\",IF(ISERROR(MATCH('Individual Scores'!$D123,Scores!$F$506:$F$759,0)),\"\",INDIRECT(\"Scores!\"&\"R\"&(ROW(Scores!$F$506:$F$759)-1+MATCH('Individual Scores'!$D123,Scores!$F$506:$F$759,0))&\"C\"&COLUMN(Scores!S$1),FALSE)))","v":""},"",""]
["SC","15 & <","M","David Root",1155,1233,"",2388,{"$f":"IF(COUNT(Q124:V124,AA124:AF124,AK124:AP124)>=18/3*'Team Scores'!$Z$1,IF(H124-VLOOKUP(B124&C124,'Individual Awards Computations'!$AY$54:$AZ$58,2,FALSE)=0,\"Leader \"&C124&\":\"&B124,H124-VLOOKUP(B124&C124,'Individual Awards Computations'!$AY$54:$AZ$58,2,FALSE)),\"\")","v":-241},246,649,199,17.166666666666668,"182-216",1,null,{"$f":"IF(ISERROR(MATCH('Individual Scores'!$D124,Scores!$F$1:$F$253,0)),\"\",INDIRECT(\"Scores!\"&\"R\"&MATCH('Individual Scores'!$D124,Scores!$F$1:$F$253,0)&\"C\"&COLUMN(Scores!J$1),FALSE))","v":189},{"$f":"IF(ISERROR(MATCH('Individual Scores'!$D124,Scores!$F$1:$F$253,0)),\"\",INDIRECT(\"Scores!\"&\"R\"&MATCH('Individual Scores'!$D124,Scores!$F$1:$F$253,0)&\"C\"&COLUMN(Scores!K$1),FALSE))","v":189},{"$f":"IF(ISERROR(MATCH('Individual Scores'!$D124,Scores!$F$1:$F$253,0)),\"\",INDIRECT(\"Scores!\"&\"R\"&MATCH('Individual Scores'!$D124,Scores!$F$1:$F$253,0)&\"C\"&COLUMN(Scores!L$1),FALSE))","v":185},{"$f":"IF(ISERROR(MATCH('Individual Scores'!$D124,Scores!$F$1:$F$253,0)),\"\",INDIRECT(\"Scores!\"&\"R\"&MATCH('Individual Scores'!$D124,Scores!$F$1:$F$253,0)&\"C\"&COLUMN(Scores!N$1),FALSE))","v":210},{"$f":"IF(ISERROR(MATCH('Individual Scores'!$D124,Scores!$F$1:$F$253,0)),\"\",INDIRECT(\"Scores!\"&\"R\"&MATCH('Individual Scores'!$D124,Scores!$F$1:$F$253,0)&\"C\"&COLUMN(Scores!O$1),FALSE))","v":192},{"$f":"IF(ISERROR(MATCH('Individual Scores'!$D124,Scores!$F$1:$F$253,0)),\"\",INDIRECT(\"Scores!\"&\"R\"&MATCH('Individual Scores'!$D124,Scores!$F$1:$F$253,0)&\"C\"&COLUMN(Scores!P$1),FALSE))","v":190},{"$f":"IF(ISERROR(MATCH('Individual Scores'!$D124,Scores!$F$1:$F$253,0)),\"\",INDIRECT(\"Scores!\"&\"R\"&MATCH('Individual Scores'!$D124,Scores!$F$1:$F$253,0)&\"C\"&COLUMN(Scores!S$1),FALSE))","v":1155},{"$f":"IF(MAX('Individual Scores'!Q124:V124)>0,MAX('Individual Scores'!Q124:V124),\"\")","v":210},{"$f":"IF(MAX(SUM('Individual Scores'!Q124:S124),SUM('Individual Scores'!T124:V124))>0,MAX(SUM('Individual Scores'!Q124:S124),SUM('Individual Scores'!T124:V124)),\"\")","v":592},null,{"$f":"IF('Team Scores'!$Z$1<2,\"\",IF(ISERROR(MATCH('Individual Scores'!$D124,Scores!$F$253:$F$506,0)),\"\",INDIRECT(\"Scores!\"&\"R\"&(ROW(Scores!$253:$253)-1+MATCH('Individual Scores'!$D124,Scores!$F$253:$F$505,0))&\"C\"&COLUMN(Scores!J$1),FALSE)))","v":202},{"$f":"IF('Team Scores'!$Z$1<2,\"\",IF(ISERROR(MATCH('Individual Scores'!$D124,Scores!$F$253:$F$506,0)),\"\",INDIRECT(\"Scores!\"&\"R\"&(ROW(Scores!$253:$253)-1+MATCH('Individual Scores'!$D124,Scores!$F$253:$F$505,0))&\"C\"&COLUMN(Scores!K$1),FALSE)))","v":246},{"$f":"IF('Team Scores'!$Z$1<2,\"\",IF(ISERROR(MATCH('Individual Scores'!$D124,Scores!$F$253:$F$506,0)),\"\",INDIRECT(\"Scores!\"&\"R\"&(ROW(Scores!$253:$253)-1+MATCH('Individual Scores'!$D124,Scores!$F$253:$F$505,0))&\"C\"&COLUMN(Scores!L$1),FALSE)))","v":201},{"$f":"IF('Team Scores'!$Z$1<2,\"\",IF(ISERROR(MATCH('Individual Scores'!$D124,Scores!$F$253:$F$506,0)),\"\",INDIRECT(\"Scores!\"&\"R\"&(ROW(Scores!$253:$253)-1+MATCH('Individual Scores'!$D124,Scores!$F$253:$F$505,0))&\"C\"&COLUMN(Scores!N$1),FALSE)))","v":146},{"$f":"IF('Team Scores'!$Z$1<2,\"\",IF(ISERROR(MATCH('Individual Scores'!$D124,Scores!$F$253:$F$506,0)),\"\",INDIRECT(\"Scores!\"&\"R\"&(ROW(Scores!$253:$253)-1+MATCH('Individual Scores'!$D124,Scores!$F$253:$F$505,0))&\"C\"&COLUMN(Scores!O$1),FALSE)))","v":222},{"$f":"IF('Team Scores'!$Z$1<2,\"\",IF(ISERROR(MATCH('Individual Scores'!$D124,Scores!$F$253:$F$506,0)),\"\",INDIRECT(\"Scores!\"&\"R\"&(ROW(Scores!$253:$253)-1+MATCH('Individual Scores'!$D124,Scores!$F$253:$F$505,0))&\"C\"&COLUMN(Scores!P$1),FALSE)))","v":216},{"$f":"IF('Team Scores'!$Z$1<2,\"\",IF(ISERROR(MATCH('Individual Scores'!$D124,Scores!$F$253:$F$506,0)),\"\",INDIRECT(\"Scores!\"&\"R\"&(ROW(Scores!$253:$253)-1+MATCH('Individual Scores'!$D124,Scores!$F$253:$F$505,0))&\"C\"&COLUMN(Scores!S$1),FALSE)))","v":1233},246,649,null,{"$f":"IF('Team Scores'!$Z$1<3,\"\",IF(ISERROR(MATCH('Individual Scores'!$D124,Scores!$F$506:$F$759,0)),\"\",INDIRECT(\"Scores!\"&\"R\"&(ROW(Scores!$F$506:$F$759)-1+MATCH('Individual Scores'!$D124,Scores!$F$506:$F$759,0))&\"C\"&COLUMN(Scores!J$1),FALSE)))","v":""},{"$f":"IF('Team Scores'!$Z$1<3,\"\",IF(ISERROR(MATCH('Individual Scores'!$D124,Scores!$F$506:$F$759,0)),\"\",INDIRECT(\"Scores!\"&\"R\"&(ROW(Scores!$F$506:$F$759)-1+MATCH('Individual Scores'!$D124,Scores!$F$506:$F$759,0))&\"C\"&COLUMN(Scores!K$1),FALSE)))","v":""},{"$f":"IF('Team Scores'!$Z$1<3,\"\",IF(ISERROR(MATCH('Individual Scores'!$D124,Scores!$F$506:$F$759,0)),\"\",INDIRECT(\"Scores!\"&\"R\"&(ROW(Scores!$F$506:$F$759)-1+MATCH('Individual Scores'!$D124,Scores!$F$506:$F$759,0))&\"C\"&COLUMN(Scores!L$1),FALSE)))","v":""},{"$f":"IF('Team Scores'!$Z$1<3,\"\",IF(ISERROR(MATCH('Individual Scores'!$D124,Scores!$F$506:$F$759,0)),\"\",INDIRECT(\"Scores!\"&\"R\"&(ROW(Scores!$F$506:$F$759)-1+MATCH('Individual Scores'!$D124,Scores!$F$506:$F$759,0))&\"C\"&COLUMN(Scores!N$1),FALSE)))","v":""},{"$f":"IF('Team Scores'!$Z$1<3,\"\",IF(ISERROR(MATCH('Individual Scores'!$D124,Scores!$F$506:$F$759,0)),\"\",INDIRECT(\"Scores!\"&\"R\"&(ROW(Scores!$F$506:$F$759)-1+MATCH('Individual Scores'!$D124,Scores!$F$506:$F$759,0))&\"C\"&COLUMN(Scores!O$1),FALSE)))","v":""},{"$f":"IF('Team Scores'!$Z$1<3,\"\",IF(ISERROR(MATCH('Individual Scores'!$D124,Scores!$F$506:$F$759,0)),\"\",INDIRECT(\"Scores!\"&\"R\"&(ROW(Scores!$F$506:$F$759)-1+MATCH('Individual Scores'!$D124,Scores!$F$506:$F$759,0))&\"C\"&COLUMN(Scores!P$1),FALSE)))","v":""},{"$f":"IF('Team Scores'!$Z$1<3,\"\",IF(ISERROR(MATCH('Individual Scores'!$D124,Scores!$F$506:$F$759,0)),\"\",INDIRECT(\"Scores!\"&\"R\"&(ROW(Scores!$F$506:$F$759)-1+MATCH('Individual Scores'!$D124,Scores!$F$506:$F$759,0))&\"C\"&COLUMN(Scores!S$1),FALSE)))","v":""},"",""]
["SC","15 & <","M","Zack Wofford",938,990,"",1928,{"$f":"IF(COUNT(Q125:V125,AA125:AF125,AK125:AP125)>=18/3*'Team Scores'!$Z$1,IF(H125-VLOOKUP(B125&C125,'Individual Awards Computations'!$AY$54:$AZ$58,2,FALSE)=0,\"Leader \"&C125&\":\"&B125,H125-VLOOKUP(B125&C125,'Individual Awards Computations'!$AY$54:$AZ$58,2,FALSE)),\"\")","v":-701},181,524,160.66666666666666,10.388888888888891,"150-171",1,null,{"$f":"IF(ISERROR(MATCH('Individual Scores'!$D125,Scores!$F$1:$F$253,0)),\"\",INDIRECT(\"Scores!\"&\"R\"&MATCH('Individual Scores'!$D125,Scores!$F$1:$F$253,0)&\"C\"&COLUMN(Scores!J$1),FALSE))","v":165},{"$f":"IF(ISERROR(MATCH('Individual Scores'!$D125,Scores!$F$1:$F$253,0)),\"\",INDIRECT(\"Scores!\"&\"R\"&MATCH('Individual Scores'!$D125,Scores!$F$1:$F$253,0)&\"C\"&COLUMN(Scores!K$1),FALSE))","v":157},{"$f":"IF(ISERROR(MATCH('Individual Scores'!$D125,Scores!$F$1:$F$253,0)),\"\",INDIRECT(\"Scores!\"&\"R\"&MATCH('Individual Scores'!$D125,Scores!$F$1:$F$253,0)&\"C\"&COLUMN(Scores!L$1),FALSE))","v":167},{"$f":"IF(ISERROR(MATCH('Individual Scores'!$D125,Scores!$F$1:$F$253,0)),\"\",INDIRECT(\"Scores!\"&\"R\"&MATCH('Individual Scores'!$D125,Scores!$F$1:$F$253,0)&\"C\"&COLUMN(Scores!N$1),FALSE))","v":164},{"$f":"IF(ISERROR(MATCH('Individual Scores'!$D125,Scores!$F$1:$F$253,0)),\"\",INDIRECT(\"Scores!\"&\"R\"&MATCH('Individual Scores'!$D125,Scores!$F$1:$F$253,0)&\"C\"&COLUMN(Scores!O$1),FALSE))","v":155},{"$f":"IF(ISERROR(MATCH('Individual Scores'!$D125,Scores!$F$1:$F$253,0)),\"\",INDIRECT(\"Scores!\"&\"R\"&MATCH('Individual Scores'!$D125,Scores!$F$1:$F$253,0)&\"C\"&COLUMN(Scores!P$1),FALSE))","v":130},{"$f":"IF(ISERROR(MATCH('Individual Scores'!$D125,Scores!$F$1:$F$253,0)),\"\",INDIRECT(\"Scores!\"&\"R\"&MATCH('Individual Scores'!$D125,Scores!$F$1:$F$253,0)&\"C\"&COLUMN(Scores!S$1),FALSE))","v":938},{"$f":"IF(MAX('Individual Scores'!Q125:V125)>0,MAX('Individual Scores'!Q125:V125),\"\")","v":167},{"$f":"IF(MAX(SUM('Individual Scores'!Q125:S125),SUM('Individual Scores'!T125:V125))>0,MAX(SUM('Individual Scores'!Q125:S125),SUM('Individual Scores'!T125:V125)),\"\")","v":489},null,{"$f":"IF('Team Scores'!$Z$1<2,\"\",IF(ISERROR(MATCH('Individual Scores'!$D125,Scores!$F$253:$F$506,0)),\"\",INDIRECT(\"Scores!\"&\"R\"&(ROW(Scores!$253:$253)-1+MATCH('Individual Scores'!$D125,Scores!$F$253:$F$505,0))&\"C\"&COLUMN(Scores!J$1),FALSE)))","v":169},{"$f":"IF('Team Scores'!$Z$1<2,\"\",IF(ISERROR(MATCH('Individual Scores'!$D125,Scores!$F$253:$F$506,0)),\"\",INDIRECT(\"Scores!\"&\"R\"&(ROW(Scores!$253:$253)-1+MATCH('Individual Scores'!$D125,Scores!$F$253:$F$505,0))&\"C\"&COLUMN(Scores!K$1),FALSE)))","v":181},{"$f":"IF('Team Scores'!$Z$1<2,\"\",IF(ISERROR(MATCH('Individual Scores'!$D125,Scores!$F$253:$F$506,0)),\"\",INDIRECT(\"Scores!\"&\"R\"&(ROW(Scores!$253:$253)-1+MATCH('Individual Scores'!$D125,Scores!$F$253:$F$505,0))&\"C\"&COLUMN(Scores!L$1),FALSE)))","v":174},{"$f":"IF('Team Scores'!$Z$1<2,\"\",IF(ISERROR(MATCH('Individual Scores'!$D125,Scores!$F$253:$F$506,0)),\"\",INDIRECT(\"Scores!\"&\"R\"&(ROW(Scores!$253:$253)-1+MATCH('Individual Scores'!$D125,Scores!$F$253:$F$505,0))&\"C\"&COLUMN(Scores!N$1),FALSE)))","v":154},{"$f":"IF('Team Scores'!$Z$1<2,\"\",IF(ISERROR(MATCH('Individual Scores'!$D125,Scores!$F$253:$F$506,0)),\"\",INDIRECT(\"Scores!\"&\"R\"&(ROW(Scores!$253:$253)-1+MATCH('Individual Scores'!$D125,Scores!$F$253:$F$505,0))&\"C\"&COLUMN(Scores!O$1),FALSE)))","v":167},{"$f":"IF('Team Scores'!$Z$1<2,\"\",IF(ISERROR(MATCH('Individual Scores'!$D125,Scores!$F$253:$F$506,0)),\"\",INDIRECT(\"Scores!\"&\"R\"&(ROW(Scores!$253:$253)-1+MATCH('Individual Scores'!$D125,Scores!$F$253:$F$505,0))&\"C\"&COLUMN(Scores!P$1),FALSE)))","v":145},{"$f":"IF('Team Scores'!$Z$1<2,\"\",IF(ISERROR(MATCH('Individual Scores'!$D125,Scores!$F$253:$F$506,0)),\"\",INDIRECT(\"Scores!\"&\"R\"&(ROW(Scores!$253:$253)-1+MATCH('Individual Scores'!$D125,Scores!$F$253:$F$505,0))&\"C\"&COLUMN(Scores!S$1),FALSE)))","v":990},181,524,null,{"$f":"IF('Team Scores'!$Z$1<3,\"\",IF(ISERROR(MATCH('Individual Scores'!$D125,Scores!$F$506:$F$759,0)),\"\",INDIRECT(\"Scores!\"&\"R\"&(ROW(Scores!$F$506:$F$759)-1+MATCH('Individual Scores'!$D125,Scores!$F$506:$F$759,0))&\"C\"&COLUMN(Scores!J$1),FALSE)))","v":""},{"$f":"IF('Team Scores'!$Z$1<3,\"\",IF(ISERROR(MATCH('Individual Scores'!$D125,Scores!$F$506:$F$759,0)),\"\",INDIRECT(\"Scores!\"&\"R\"&(ROW(Scores!$F$506:$F$759)-1+MATCH('Individual Scores'!$D125,Scores!$F$506:$F$759,0))&\"C\"&COLUMN(Scores!K$1),FALSE)))","v":""},{"$f":"IF('Team Scores'!$Z$1<3,\"\",IF(ISERROR(MATCH('Individual Scores'!$D125,Scores!$F$506:$F$759,0)),\"\",INDIRECT(\"Scores!\"&\"R\"&(ROW(Scores!$F$506:$F$759)-1+MATCH('Individual Scores'!$D125,Scores!$F$506:$F$759,0))&\"C\"&COLUMN(Scores!L$1),FALSE)))","v":""},{"$f":"IF('Team Scores'!$Z$1<3,\"\",IF(ISERROR(MATCH('Individual Scores'!$D125,Scores!$F$506:$F$759,0)),\"\",INDIRECT(\"Scores!\"&\"R\"&(ROW(Scores!$F$506:$F$759)-1+MATCH('Individual Scores'!$D125,Scores!$F$506:$F$759,0))&\"C\"&COLUMN(Scores!N$1),FALSE)))","v":""},{"$f":"IF('Team Scores'!$Z$1<3,\"\",IF(ISERROR(MATCH('Individual Scores'!$D125,Scores!$F$506:$F$759,0)),\"\",INDIRECT(\"Scores!\"&\"R\"&(ROW(Scores!$F$506:$F$759)-1+MATCH('Individual Scores'!$D125,Scores!$F$506:$F$759,0))&\"C\"&COLUMN(Scores!O$1),FALSE)))","v":""},{"$f":"IF('Team Scores'!$Z$1<3,\"\",IF(ISERROR(MATCH('Individual Scores'!$D125,Scores!$F$506:$F$759,0)),\"\",INDIRECT(\"Scores!\"&\"R\"&(ROW(Scores!$F$506:$F$759)-1+MATCH('Individual Scores'!$D125,Scores!$F$506:$F$759,0))&\"C\"&COLUMN(Scores!P$1),FALSE)))","v":""},{"$f":"IF('Team Scores'!$Z$1<3,\"\",IF(ISERROR(MATCH('Individual Scores'!$D125,Scores!$F$506:$F$759,0)),\"\",INDIRECT(\"Scores!\"&\"R\"&(ROW(Scores!$F$506:$F$759)-1+MATCH('Individual Scores'!$D125,Scores!$F$506:$F$759,0))&\"C\"&COLUMN(Scores!S$1),FALSE)))","v":""},"",""]
["SC","15 & <","M","Tyler Britt",1017,1248,"",2265,{"$f":"IF(COUNT(Q126:V126,AA126:AF126,AK126:AP126)>=18/3*'Team Scores'!$Z$1,IF(H126-VLOOKUP(B126&C126,'Individual Awards Computations'!$AY$54:$AZ$58,2,FALSE)=0,\"Leader \"&C126&\":\"&B126,H126-VLOOKUP(B126&C126,'Individual Awards Computations'!$AY$54:$AZ$58,2,FALSE)),\"\")","v":-364},235,649,188.75,22.791666666666668,"166-212",1,null,{"$f":"IF(ISERROR(MATCH('Individual Scores'!$D126,Scores!$F$1:$F$253,0)),\"\",INDIRECT(\"Scores!\"&\"R\"&MATCH('Individual Scores'!$D126,Scores!$F$1:$F$253,0)&\"C\"&COLUMN(Scores!J$1),FALSE))","v":148},{"$f":"IF(ISERROR(MATCH('Individual Scores'!$D126,Scores!$F$1:$F$253,0)),\"\",INDIRECT(\"Scores!\"&\"R\"&MATCH('Individual Scores'!$D126,Scores!$F$1:$F$253,0)&\"C\"&COLUMN(Scores!K$1),FALSE))","v":147},{"$f":"IF(ISERROR(MATCH('Individual Scores'!$D126,Scores!$F$1:$F$253,0)),\"\",INDIRECT(\"Scores!\"&\"R\"&MATCH('Individual Scores'!$D126,Scores!$F$1:$F$253,0)&\"C\"&COLUMN(Scores!L$1),FALSE))","v":158},{"$f":"IF(ISERROR(MATCH('Individual Scores'!$D126,Scores!$F$1:$F$253,0)),\"\",INDIRECT(\"Scores!\"&\"R\"&MATCH('Individual Scores'!$D126,Scores!$F$1:$F$253,0)&\"C\"&COLUMN(Scores!N$1),FALSE))","v":186},{"$f":"IF(ISERROR(MATCH('Individual Scores'!$D126,Scores!$F$1:$F$253,0)),\"\",INDIRECT(\"Scores!\"&\"R\"&MATCH('Individual Scores'!$D126,Scores!$F$1:$F$253,0)&\"C\"&COLUMN(Scores!O$1),FALSE))","v":210},{"$f":"IF(ISERROR(MATCH('Individual Scores'!$D126,Scores!$F$1:$F$253,0)),\"\",INDIRECT(\"Scores!\"&\"R\"&MATCH('Individual Scores'!$D126,Scores!$F$1:$F$253,0)&\"C\"&COLUMN(Scores!P$1),FALSE))","v":168},{"$f":"IF(ISERROR(MATCH('Individual Scores'!$D126,Scores!$F$1:$F$253,0)),\"\",INDIRECT(\"Scores!\"&\"R\"&MATCH('Individual Scores'!$D126,Scores!$F$1:$F$253,0)&\"C\"&COLUMN(Scores!S$1),FALSE))","v":1017},{"$f":"IF(MAX('Individual Scores'!Q126:V126)>0,MAX('Individual Scores'!Q126:V126),\"\")","v":210},{"$f":"IF(MAX(SUM('Individual Scores'!Q126:S126),SUM('Individual Scores'!T126:V126))>0,MAX(SUM('Individual Scores'!Q126:S126),SUM('Individual Scores'!T126:V126)),\"\")","v":564},null,{"$f":"IF('Team Scores'!$Z$1<2,\"\",IF(ISERROR(MATCH('Individual Scores'!$D126,Scores!$F$253:$F$506,0)),\"\",INDIRECT(\"Scores!\"&\"R\"&(ROW(Scores!$253:$253)-1+MATCH('Individual Scores'!$D126,Scores!$F$253:$F$505,0))&\"C\"&COLUMN(Scores!J$1),FALSE)))","v":200},{"$f":"IF('Team Scores'!$Z$1<2,\"\",IF(ISERROR(MATCH('Individual Scores'!$D126,Scores!$F$253:$F$506,0)),\"\",INDIRECT(\"Scores!\"&\"R\"&(ROW(Scores!$253:$253)-1+MATCH('Individual Scores'!$D126,Scores!$F$253:$F$505,0))&\"C\"&COLUMN(Scores!K$1),FALSE)))","v":214},{"$f":"IF('Team Scores'!$Z$1<2,\"\",IF(ISERROR(MATCH('Individual Scores'!$D126,Scores!$F$253:$F$506,0)),\"\",INDIRECT(\"Scores!\"&\"R\"&(ROW(Scores!$253:$253)-1+MATCH('Individual Scores'!$D126,Scores!$F$253:$F$505,0))&\"C\"&COLUMN(Scores!L$1),FALSE)))","v":235},{"$f":"IF('Team Scores'!$Z$1<2,\"\",IF(ISERROR(MATCH('Individual Scores'!$D126,Scores!$F$253:$F$506,0)),\"\",INDIRECT(\"Scores!\"&\"R\"&(ROW(Scores!$253:$253)-1+MATCH('Individual Scores'!$D126,Scores!$F$253:$F$505,0))&\"C\"&COLUMN(Scores!N$1),FALSE)))","v":206},{"$f":"IF('Team Scores'!$Z$1<2,\"\",IF(ISERROR(MATCH('Individual Scores'!$D126,Scores!$F$253:$F$506,0)),\"\",INDIRECT(\"Scores!\"&\"R\"&(ROW(Scores!$253:$253)-1+MATCH('Individual Scores'!$D126,Scores!$F$253:$F$505,0))&\"C\"&COLUMN(Scores!O$1),FALSE)))","v":189},{"$f":"IF('Team Scores'!$Z$1<2,\"\",IF(ISERROR(MATCH('Individual Scores'!$D126,Scores!$F$253:$F$506,0)),\"\",INDIRECT(\"Scores!\"&\"R\"&(ROW(Scores!$253:$253)-1+MATCH('Individual Scores'!$D126,Scores!$F$253:$F$505,0))&\"C\"&COLUMN(Scores!P$1),FALSE)))","v":204},{"$f":"IF('Team Scores'!$Z$1<2,\"\",IF(ISERROR(MATCH('Individual Scores'!$D126,Scores!$F$253:$F$506,0)),\"\",INDIRECT(\"Scores!\"&\"R\"&(ROW(Scores!$253:$253)-1+MATCH('Individual Scores'!$D126,Scores!$F$253:$F$505,0))&\"C\"&COLUMN(Scores!S$1),FALSE)))","v":1248},235,649,null,{"$f":"IF('Team Scores'!$Z$1<3,\"\",IF(ISERROR(MATCH('Individual Scores'!$D126,Scores!$F$506:$F$759,0)),\"\",INDIRECT(\"Scores!\"&\"R\"&(ROW(Scores!$F$506:$F$759)-1+MATCH('Individual Scores'!$D126,Scores!$F$506:$F$759,0))&\"C\"&COLUMN(Scores!J$1),FALSE)))","v":""},{"$f":"IF('Team Scores'!$Z$1<3,\"\",IF(ISERROR(MATCH('Individual Scores'!$D126,Scores!$F$506:$F$759,0)),\"\",INDIRECT(\"Scores!\"&\"R\"&(ROW(Scores!$F$506:$F$759)-1+MATCH('Individual Scores'!$D126,Scores!$F$506:$F$759,0))&\"C\"&COLUMN(Scores!K$1),FALSE)))","v":""},{"$f":"IF('Team Scores'!$Z$1<3,\"\",IF(ISERROR(MATCH('Individual Scores'!$D126,Scores!$F$506:$F$759,0)),\"\",INDIRECT(\"Scores!\"&\"R\"&(ROW(Scores!$F$506:$F$759)-1+MATCH('Individual Scores'!$D126,Scores!$F$506:$F$759,0))&\"C\"&COLUMN(Scores!L$1),FALSE)))","v":""},{"$f":"IF('Team Scores'!$Z$1<3,\"\",IF(ISERROR(MATCH('Individual Scores'!$D126,Scores!$F$506:$F$759,0)),\"\",INDIRECT(\"Scores!\"&\"R\"&(ROW(Scores!$F$506:$F$759)-1+MATCH('Individual Scores'!$D126,Scores!$F$506:$F$759,0))&\"C\"&COLUMN(Scores!N$1),FALSE)))","v":""},{"$f":"IF('Team Scores'!$Z$1<3,\"\",IF(ISERROR(MATCH('Individual Scores'!$D126,Scores!$F$506:$F$759,0)),\"\",INDIRECT(\"Scores!\"&\"R\"&(ROW(Scores!$F$506:$F$759)-1+MATCH('Individual Scores'!$D126,Scores!$F$506:$F$759,0))&\"C\"&COLUMN(Scores!O$1),FALSE)))","v":""},{"$f":"IF('Team Scores'!$Z$1<3,\"\",IF(ISERROR(MATCH('Individual Scores'!$D126,Scores!$F$506:$F$759,0)),\"\",INDIRECT(\"Scores!\"&\"R\"&(ROW(Scores!$F$506:$F$759)-1+MATCH('Individual Scores'!$D126,Scores!$F$506:$F$759,0))&\"C\"&COLUMN(Scores!P$1),FALSE)))","v":""},{"$f":"IF('Team Scores'!$Z$1<3,\"\",IF(ISERROR(MATCH('Individual Scores'!$D126,Scores!$F$506:$F$759,0)),\"\",INDIRECT(\"Scores!\"&\"R\"&(ROW(Scores!$F$506:$F$759)-1+MATCH('Individual Scores'!$D126,Scores!$F$506:$F$759,0))&\"C\"&COLUMN(Scores!S$1),FALSE)))","v":""},"",""]
["SC","15 & <","M","Josh Hendricks",1129,1166,"",2295,{"$f":"IF(COUNT(Q127:V127,AA127:AF127,AK127:AP127)>=18/3*'Team Scores'!$Z$1,IF(H127-VLOOKUP(B127&C127,'Individual Awards Computations'!$AY$54:$AZ$58,2,FALSE)=0,\"Leader \"&C127&\":\"&B127,H127-VLOOKUP(B127&C127,'Individual Awards Computations'!$AY$54:$AZ$58,2,FALSE)),\"\")","v":-334},223,627,191.25,18.75,"173-210",1,null,{"$f":"IF(ISERROR(MATCH('Individual Scores'!$D127,Scores!$F$1:$F$253,0)),\"\",INDIRECT(\"Scores!\"&\"R\"&MATCH('Individual Scores'!$D127,Scores!$F$1:$F$253,0)&\"C\"&COLUMN(Scores!J$1),FALSE))","v":202},{"$f":"IF(ISERROR(MATCH('Individual Scores'!$D127,Scores!$F$1:$F$253,0)),\"\",INDIRECT(\"Scores!\"&\"R\"&MATCH('Individual Scores'!$D127,Scores!$F$1:$F$253,0)&\"C\"&COLUMN(Scores!K$1),FALSE))","v":202},{"$f":"IF(ISERROR(MATCH('Individual Scores'!$D127,Scores!$F$1:$F$253,0)),\"\",INDIRECT(\"Scores!\"&\"R\"&MATCH('Individual Scores'!$D127,Scores!$F$1:$F$253,0)&\"C\"&COLUMN(Scores!L$1),FALSE))","v":223},{"$f":"IF(ISERROR(MATCH('Individual Scores'!$D127,Scores!$F$1:$F$253,0)),\"\",INDIRECT(\"Scores!\"&\"R\"&MATCH('Individual Scores'!$D127,Scores!$F$1:$F$253,0)&\"C\"&COLUMN(Scores!N$1),FALSE))","v":172},{"$f":"IF(ISERROR(MATCH('Individual Scores'!$D127,Scores!$F$1:$F$253,0)),\"\",INDIRECT(\"Scores!\"&\"R\"&MATCH('Individual Scores'!$D127,Scores!$F$1:$F$253,0)&\"C\"&COLUMN(Scores!O$1),FALSE))","v":162},{"$f":"IF(ISERROR(MATCH('Individual Scores'!$D127,Scores!$F$1:$F$253,0)),\"\",INDIRECT(\"Scores!\"&\"R\"&MATCH('Individual Scores'!$D127,Scores!$F$1:$F$253,0)&\"C\"&COLUMN(Scores!P$1),FALSE))","v":168},{"$f":"IF(ISERROR(MATCH('Individual Scores'!$D127,Scores!$F$1:$F$253,0)),\"\",INDIRECT(\"Scores!\"&\"R\"&MATCH('Individual Scores'!$D127,Scores!$F$1:$F$253,0)&\"C\"&COLUMN(Scores!S$1),FALSE))","v":1129},{"$f":"IF(MAX('Individual Scores'!Q127:V127)>0,MAX('Individual Scores'!Q127:V127),\"\")","v":223},{"$f":"IF(MAX(SUM('Individual Scores'!Q127:S127),SUM('Individual Scores'!T127:V127))>0,MAX(SUM('Individual Scores'!Q127:S127),SUM('Individual Scores'!T127:V127)),\"\")","v":627},null,{"$f":"IF('Team Scores'!$Z$1<2,\"\",IF(ISERROR(MATCH('Individual Scores'!$D127,Scores!$F$253:$F$506,0)),\"\",INDIRECT(\"Scores!\"&\"R\"&(ROW(Scores!$253:$253)-1+MATCH('Individual Scores'!$D127,Scores!$F$253:$F$505,0))&\"C\"&COLUMN(Scores!J$1),FALSE)))","v":190},{"$f":"IF('Team Scores'!$Z$1<2,\"\",IF(ISERROR(MATCH('Individual Scores'!$D127,Scores!$F$253:$F$506,0)),\"\",INDIRECT(\"Scores!\"&\"R\"&(ROW(Scores!$253:$253)-1+MATCH('Individual Scores'!$D127,Scores!$F$253:$F$505,0))&\"C\"&COLUMN(Scores!K$1),FALSE)))","v":195},{"$f":"IF('Team Scores'!$Z$1<2,\"\",IF(ISERROR(MATCH('Individual Scores'!$D127,Scores!$F$253:$F$506,0)),\"\",INDIRECT(\"Scores!\"&\"R\"&(ROW(Scores!$253:$253)-1+MATCH('Individual Scores'!$D127,Scores!$F$253:$F$505,0))&\"C\"&COLUMN(Scores!L$1),FALSE)))","v":223},{"$f":"IF('Team Scores'!$Z$1<2,\"\",IF(ISERROR(MATCH('Individual Scores'!$D127,Scores!$F$253:$F$506,0)),\"\",INDIRECT(\"Scores!\"&\"R\"&(ROW(Scores!$253:$253)-1+MATCH('Individual Scores'!$D127,Scores!$F$253:$F$505,0))&\"C\"&COLUMN(Scores!N$1),FALSE)))","v":186},{"$f":"IF('Team Scores'!$Z$1<2,\"\",IF(ISERROR(MATCH('Individual Scores'!$D127,Scores!$F$253:$F$506,0)),\"\",INDIRECT(\"Scores!\"&\"R\"&(ROW(Scores!$253:$253)-1+MATCH('Individual Scores'!$D127,Scores!$F$253:$F$505,0))&\"C\"&COLUMN(Scores!O$1),FALSE)))","v":157},{"$f":"IF('Team Scores'!$Z$1<2,\"\",IF(ISERROR(MATCH('Individual Scores'!$D127,Scores!$F$253:$F$506,0)),\"\",INDIRECT(\"Scores!\"&\"R\"&(ROW(Scores!$253:$253)-1+MATCH('Individual Scores'!$D127,Scores!$F$253:$F$505,0))&\"C\"&COLUMN(Scores!P$1),FALSE)))","v":215},{"$f":"IF('Team Scores'!$Z$1<2,\"\",IF(ISERROR(MATCH('Individual Scores'!$D127,Scores!$F$253:$F$506,0)),\"\",INDIRECT(\"Scores!\"&\"R\"&(ROW(Scores!$253:$253)-1+MATCH('Individual Scores'!$D127,Scores!$F$253:$F$505,0))&\"C\"&COLUMN(Scores!S$1),FALSE)))","v":1166},223,608,null,{"$f":"IF('Team Scores'!$Z$1<3,\"\",IF(ISERROR(MATCH('Individual Scores'!$D127,Scores!$F$506:$F$759,0)),\"\",INDIRECT(\"Scores!\"&\"R\"&(ROW(Scores!$F$506:$F$759)-1+MATCH('Individual Scores'!$D127,Scores!$F$506:$F$759,0))&\"C\"&COLUMN(Scores!J$1),FALSE)))","v":""},{"$f":"IF('Team Scores'!$Z$1<3,\"\",IF(ISERROR(MATCH('Individual Scores'!$D127,Scores!$F$506:$F$759,0)),\"\",INDIRECT(\"Scores!\"&\"R\"&(ROW(Scores!$F$506:$F$759)-1+MATCH('Individual Scores'!$D127,Scores!$F$506:$F$759,0))&\"C\"&COLUMN(Scores!K$1),FALSE)))","v":""},{"$f":"IF('Team Scores'!$Z$1<3,\"\",IF(ISERROR(MATCH('Individual Scores'!$D127,Scores!$F$506:$F$759,0)),\"\",INDIRECT(\"Scores!\"&\"R\"&(ROW(Scores!$F$506:$F$759)-1+MATCH('Individual Scores'!$D127,Scores!$F$506:$F$759,0))&\"C\"&COLUMN(Scores!L$1),FALSE)))","v":""},{"$f":"IF('Team Scores'!$Z$1<3,\"\",IF(ISERROR(MATCH('Individual Scores'!$D127,Scores!$F$506:$F$759,0)),\"\",INDIRECT(\"Scores!\"&\"R\"&(ROW(Scores!$F$506:$F$759)-1+MATCH('Individual Scores'!$D127,Scores!$F$506:$F$759,0))&\"C\"&COLUMN(Scores!N$1),FALSE)))","v":""},{"$f":"IF('Team Scores'!$Z$1<3,\"\",IF(ISERROR(MATCH('Individual Scores'!$D127,Scores!$F$506:$F$759,0)),\"\",INDIRECT(\"Scores!\"&\"R\"&(ROW(Scores!$F$506:$F$759)-1+MATCH('Individual Scores'!$D127,Scores!$F$506:$F$759,0))&\"C\"&COLUMN(Scores!O$1),FALSE)))","v":""},{"$f":"IF('Team Scores'!$Z$1<3,\"\",IF(ISERROR(MATCH('Individual Scores'!$D127,Scores!$F$506:$F$759,0)),\"\",INDIRECT(\"Scores!\"&\"R\"&(ROW(Scores!$F$506:$F$759)-1+MATCH('Individual Scores'!$D127,Scores!$F$506:$F$759,0))&\"C\"&COLUMN(Scores!P$1),FALSE)))","v":""},{"$f":"IF('Team Scores'!$Z$1<3,\"\",IF(ISERROR(MATCH('Individual Scores'!$D127,Scores!$F$506:$F$759,0)),\"\",INDIRECT(\"Scores!\"&\"R\"&(ROW(Scores!$F$506:$F$759)-1+MATCH('Individual Scores'!$D127,Scores!$F$506:$F$759,0))&\"C\"&COLUMN(Scores!S$1),FALSE)))","v":""},"",""]
["SC","15 & <","M","Kevin King",1080,1051,"",2131,{"$f":"IF(COUNT(Q128:V128,AA128:AF128,AK128:AP128)>=18/3*'Team Scores'!$Z$1,IF(H128-VLOOKUP(B128&C128,'Individual Awards Computations'!$AY$54:$AZ$58,2,FALSE)=0,\"Leader \"&C128&\":\"&B128,H128-VLOOKUP(B128&C128,'Individual Awards Computations'!$AY$54:$AZ$58,2,FALSE)),\"\")","v":-498},221,543,177.58333333333334,21.513888888888889,"156-199",1,null,{"$f":"IF(ISERROR(MATCH('Individual Scores'!$D128,Scores!$F$1:$F$253,0)),\"\",INDIRECT(\"Scores!\"&\"R\"&MATCH('Individual Scores'!$D128,Scores!$F$1:$F$253,0)&\"C\"&COLUMN(Scores!J$1),FALSE))","v":172},{"$f":"IF(ISERROR(MATCH('Individual Scores'!$D128,Scores!$F$1:$F$253,0)),\"\",INDIRECT(\"Scores!\"&\"R\"&MATCH('Individual Scores'!$D128,Scores!$F$1:$F$253,0)&\"C\"&COLUMN(Scores!K$1),FALSE))","v":150},{"$f":"IF(ISERROR(MATCH('Individual Scores'!$D128,Scores!$F$1:$F$253,0)),\"\",INDIRECT(\"Scores!\"&\"R\"&MATCH('Individual Scores'!$D128,Scores!$F$1:$F$253,0)&\"C\"&COLUMN(Scores!L$1),FALSE))","v":221},{"$f":"IF(ISERROR(MATCH('Individual Scores'!$D128,Scores!$F$1:$F$253,0)),\"\",INDIRECT(\"Scores!\"&\"R\"&MATCH('Individual Scores'!$D128,Scores!$F$1:$F$253,0)&\"C\"&COLUMN(Scores!N$1),FALSE))","v":141},{"$f":"IF(ISERROR(MATCH('Individual Scores'!$D128,Scores!$F$1:$F$253,0)),\"\",INDIRECT(\"Scores!\"&\"R\"&MATCH('Individual Scores'!$D128,Scores!$F$1:$F$253,0)&\"C\"&COLUMN(Scores!O$1),FALSE))","v":186},{"$f":"IF(ISERROR(MATCH('Individual Scores'!$D128,Scores!$F$1:$F$253,0)),\"\",INDIRECT(\"Scores!\"&\"R\"&MATCH('Individual Scores'!$D128,Scores!$F$1:$F$253,0)&\"C\"&COLUMN(Scores!P$1),FALSE))","v":210},{"$f":"IF(ISERROR(MATCH('Individual Scores'!$D128,Scores!$F$1:$F$253,0)),\"\",INDIRECT(\"Scores!\"&\"R\"&MATCH('Individual Scores'!$D128,Scores!$F$1:$F$253,0)&\"C\"&COLUMN(Scores!S$1),FALSE))","v":1080},{"$f":"IF(MAX('Individual Scores'!Q128:V128)>0,MAX('Individual Scores'!Q128:V128),\"\")","v":221},{"$f":"IF(MAX(SUM('Individual Scores'!Q128:S128),SUM('Individual Scores'!T128:V128))>0,MAX(SUM('Individual Scores'!Q128:S128),SUM('Individual Scores'!T128:V128)),\"\")","v":543},null,{"$f":"IF('Team Scores'!$Z$1<2,\"\",IF(ISERROR(MATCH('Individual Scores'!$D128,Scores!$F$253:$F$506,0)),\"\",INDIRECT(\"Scores!\"&\"R\"&(ROW(Scores!$253:$253)-1+MATCH('Individual Scores'!$D128,Scores!$F$253:$F$505,0))&\"C\"&COLUMN(Scores!J$1),FALSE)))","v":158},{"$f":"IF('Team Scores'!$Z$1<2,\"\",IF(ISERROR(MATCH('Individual Scores'!$D128,Scores!$F$253:$F$506,0)),\"\",INDIRECT(\"Scores!\"&\"R\"&(ROW(Scores!$253:$253)-1+MATCH('Individual Scores'!$D128,Scores!$F$253:$F$505,0))&\"C\"&COLUMN(Scores!K$1),FALSE)))","v":158},{"$f":"IF('Team Scores'!$Z$1<2,\"\",IF(ISERROR(MATCH('Individual Scores'!$D128,Scores!$F$253:$F$506,0)),\"\",INDIRECT(\"Scores!\"&\"R\"&(ROW(Scores!$253:$253)-1+MATCH('Individual Scores'!$D128,Scores!$F$253:$F$505,0))&\"C\"&COLUMN(Scores!L$1),FALSE)))","v":195},{"$f":"IF('Team Scores'!$Z$1<2,\"\",IF(ISERROR(MATCH('Individual Scores'!$D128,Scores!$F$253:$F$506,0)),\"\",INDIRECT(\"Scores!\"&\"R\"&(ROW(Scores!$253:$253)-1+MATCH('Individual Scores'!$D128,Scores!$F$253:$F$505,0))&\"C\"&COLUMN(Scores!N$1),FALSE)))","v":165},{"$f":"IF('Team Scores'!$Z$1<2,\"\",IF(ISERROR(MATCH('Individual Scores'!$D128,Scores!$F$253:$F$506,0)),\"\",INDIRECT(\"Scores!\"&\"R\"&(ROW(Scores!$253:$253)-1+MATCH('Individual Scores'!$D128,Scores!$F$253:$F$505,0))&\"C\"&COLUMN(Scores!O$1),FALSE)))","v":170},{"$f":"IF('Team Scores'!$Z$1<2,\"\",IF(ISERROR(MATCH('Individual Scores'!$D128,Scores!$F$253:$F$506,0)),\"\",INDIRECT(\"Scores!\"&\"R\"&(ROW(Scores!$253:$253)-1+MATCH('Individual Scores'!$D128,Scores!$F$253:$F$505,0))&\"C\"&COLUMN(Scores!P$1),FALSE)))","v":205},{"$f":"IF('Team Scores'!$Z$1<2,\"\",IF(ISERROR(MATCH('Individual Scores'!$D128,Scores!$F$253:$F$506,0)),\"\",INDIRECT(\"Scores!\"&\"R\"&(ROW(Scores!$253:$253)-1+MATCH('Individual Scores'!$D128,Scores!$F$253:$F$505,0))&\"C\"&COLUMN(Scores!S$1),FALSE)))","v":1051},{"$f":"IF(MAX(AA128:AF128)>0,MAX(AA128:AF128),\"\")","v":205},{"$f":"IF(MAX(SUM(AA128:AC128),SUM(AD128:AF128))>0,MAX(SUM(AA128:AC128),SUM(AD128:AF128)),\"\")","v":540},null,{"$f":"IF('Team Scores'!$Z$1<3,\"\",IF(ISERROR(MATCH('Individual Scores'!$D128,Scores!$F$506:$F$759,0)),\"\",INDIRECT(\"Scores!\"&\"R\"&(ROW(Scores!$F$506:$F$759)-1+MATCH('Individual Scores'!$D128,Scores!$F$506:$F$759,0))&\"C\"&COLUMN(Scores!J$1),FALSE)))","v":""},{"$f":"IF('Team Scores'!$Z$1<3,\"\",IF(ISERROR(MATCH('Individual Scores'!$D128,Scores!$F$506:$F$759,0)),\"\",INDIRECT(\"Scores!\"&\"R\"&(ROW(Scores!$F$506:$F$759)-1+MATCH('Individual Scores'!$D128,Scores!$F$506:$F$759,0))&\"C\"&COLUMN(Scores!K$1),FALSE)))","v":""},{"$f":"IF('Team Scores'!$Z$1<3,\"\",IF(ISERROR(MATCH('Individual Scores'!$D128,Scores!$F$506:$F$759,0)),\"\",INDIRECT(\"Scores!\"&\"R\"&(ROW(Scores!$F$506:$F$759)-1+MATCH('Individual Scores'!$D128,Scores!$F$506:$F$759,0))&\"C\"&COLUMN(Scores!L$1),FALSE)))","v":""},{"$f":"IF('Team Scores'!$Z$1<3,\"\",IF(ISERROR(MATCH('Individual Scores'!$D128,Scores!$F$506:$F$759,0)),\"\",INDIRECT(\"Scores!\"&\"R\"&(ROW(Scores!$F$506:$F$759)-1+MATCH('Individual Scores'!$D128,Scores!$F$506:$F$759,0))&\"C\"&COLUMN(Scores!N$1),FALSE)))","v":""},{"$f":"IF('Team Scores'!$Z$1<3,\"\",IF(ISERROR(MATCH('Individual Scores'!$D128,Scores!$F$506:$F$759,0)),\"\",INDIRECT(\"Scores!\"&\"R\"&(ROW(Scores!$F$506:$F$759)-1+MATCH('Individual Scores'!$D128,Scores!$F$506:$F$759,0))&\"C\"&COLUMN(Scores!O$1),FALSE)))","v":""},{"$f":"IF('Team Scores'!$Z$1<3,\"\",IF(ISERROR(MATCH('Individual Scores'!$D128,Scores!$F$506:$F$759,0)),\"\",INDIRECT(\"Scores!\"&\"R\"&(ROW(Scores!$F$506:$F$759)-1+MATCH('Individual Scores'!$D128,Scores!$F$506:$F$759,0))&\"C\"&COLUMN(Scores!P$1),FALSE)))","v":""},{"$f":"IF('Team Scores'!$Z$1<3,\"\",IF(ISERROR(MATCH('Individual Scores'!$D128,Scores!$F$506:$F$759,0)),\"\",INDIRECT(\"Scores!\"&\"R\"&(ROW(Scores!$F$506:$F$759)-1+MATCH('Individual Scores'!$D128,Scores!$F$506:$F$759,0))&\"C\"&COLUMN(Scores!S$1),FALSE)))","v":""},"",""]
["SC","15 & <","M","Josh Larnish",967,1045,"",2012,{"$f":"IF(COUNT(Q129:V129,AA129:AF129,AK129:AP129)>=18/3*'Team Scores'!$Z$1,IF(H129-VLOOKUP(B129&C129,'Individual Awards Computations'!$AY$54:$AZ$58,2,FALSE)=0,\"Leader \"&C129&\":\"&B129,H129-VLOOKUP(B129&C129,'Individual Awards Computations'!$AY$54:$AZ$58,2,FALSE)),\"\")","v":""},186,540,161.16666666666666,18.833333333333332,"142-180",1,null,{"$f":"IF(ISERROR(MATCH('Individual Scores'!$D129,Scores!$F$1:$F$253,0)),\"\",INDIRECT(\"Scores!\"&\"R\"&MATCH('Individual Scores'!$D129,Scores!$F$1:$F$253,0)&\"C\"&COLUMN(Scores!J$1),FALSE))","v":130},{"$f":"IF(ISERROR(MATCH('Individual Scores'!$D129,Scores!$F$1:$F$253,0)),\"\",INDIRECT(\"Scores!\"&\"R\"&MATCH('Individual Scores'!$D129,Scores!$F$1:$F$253,0)&\"C\"&COLUMN(Scores!K$1),FALSE))","v":153},{"$f":"IF(ISERROR(MATCH('Individual Scores'!$D129,Scores!$F$1:$F$253,0)),\"\",INDIRECT(\"Scores!\"&\"R\"&MATCH('Individual Scores'!$D129,Scores!$F$1:$F$253,0)&\"C\"&COLUMN(Scores!L$1),FALSE))","v":144},{"$f":"IF(ISERROR(MATCH('Individual Scores'!$D129,Scores!$F$1:$F$253,0)),\"\",INDIRECT(\"Scores!\"&\"R\"&MATCH('Individual Scores'!$D129,Scores!$F$1:$F$253,0)&\"C\"&COLUMN(Scores!N$1),FALSE))","v":183},{"$f":"IF(ISERROR(MATCH('Individual Scores'!$D129,Scores!$F$1:$F$253,0)),\"\",INDIRECT(\"Scores!\"&\"R\"&MATCH('Individual Scores'!$D129,Scores!$F$1:$F$253,0)&\"C\"&COLUMN(Scores!O$1),FALSE))","v":186},{"$f":"IF(ISERROR(MATCH('Individual Scores'!$D129,Scores!$F$1:$F$253,0)),\"\",INDIRECT(\"Scores!\"&\"R\"&MATCH('Individual Scores'!$D129,Scores!$F$1:$F$253,0)&\"C\"&COLUMN(Scores!P$1),FALSE))","v":171},{"$f":"IF(ISERROR(MATCH('Individual Scores'!$D129,Scores!$F$1:$F$253,0)),\"\",INDIRECT(\"Scores!\"&\"R\"&MATCH('Individual Scores'!$D129,Scores!$F$1:$F$253,0)&\"C\"&COLUMN(Scores!S$1),FALSE))","v":967},null,null,null,null,null,null,null,null,null,{"$f":"IF('Team Scores'!$Z$1<2,\"\",IF(ISERROR(MATCH('Individual Scores'!$D129,Scores!$F$253:$F$506,0)),\"\",INDIRECT(\"Scores!\"&\"R\"&(ROW(Scores!$253:$253)-1+MATCH('Individual Scores'!$D129,Scores!$F$253:$F$505,0))&\"C\"&COLUMN(Scores!S$1),FALSE)))","v":1045},null,null,null,{"$f":"IF('Team Scores'!$Z$1<3,\"\",IF(ISERROR(MATCH('Individual Scores'!$D129,Scores!$F$506:$F$759,0)),\"\",INDIRECT(\"Scores!\"&\"R\"&(ROW(Scores!$F$506:$F$759)-1+MATCH('Individual Scores'!$D129,Scores!$F$506:$F$759,0))&\"C\"&COLUMN(Scores!J$1),FALSE)))","v":""},{"$f":"IF('Team Scores'!$Z$1<3,\"\",IF(ISERROR(MATCH('Individual Scores'!$D129,Scores!$F$506:$F$759,0)),\"\",INDIRECT(\"Scores!\"&\"R\"&(ROW(Scores!$F$506:$F$759)-1+MATCH('Individual Scores'!$D129,Scores!$F$506:$F$759,0))&\"C\"&COLUMN(Scores!K$1),FALSE)))","v":""},{"$f":"IF('Team Scores'!$Z$1<3,\"\",IF(ISERROR(MATCH('Individual Scores'!$D129,Scores!$F$506:$F$759,0)),\"\",INDIRECT(\"Scores!\"&\"R\"&(ROW(Scores!$F$506:$F$759)-1+MATCH('Individual Scores'!$D129,Scores!$F$506:$F$759,0))&\"C\"&COLUMN(Scores!L$1),FALSE)))","v":""},{"$f":"IF('Team Scores'!$Z$1<3,\"\",IF(ISERROR(MATCH('Individual Scores'!$D129,Scores!$F$506:$F$759,0)),\"\",INDIRECT(\"Scores!\"&\"R\"&(ROW(Scores!$F$506:$F$759)-1+MATCH('Individual Scores'!$D129,Scores!$F$506:$F$759,0))&\"C\"&COLUMN(Scores!N$1),FALSE)))","v":""},{"$f":"IF('Team Scores'!$Z$1<3,\"\",IF(ISERROR(MATCH('Individual Scores'!$D129,Scores!$F$506:$F$759,0)),\"\",INDIRECT(\"Scores!\"&\"R\"&(ROW(Scores!$F$506:$F$759)-1+MATCH('Individual Scores'!$D129,Scores!$F$506:$F$759,0))&\"C\"&COLUMN(Scores!O$1),FALSE)))","v":""},{"$f":"IF('Team Scores'!$Z$1<3,\"\",IF(ISERROR(MATCH('Individual Scores'!$D129,Scores!$F$506:$F$759,0)),\"\",INDIRECT(\"Scores!\"&\"R\"&(ROW(Scores!$F$506:$F$759)-1+MATCH('Individual Scores'!$D129,Scores!$F$506:$F$759,0))&\"C\"&COLUMN(Scores!P$1),FALSE)))","v":""},{"$f":"IF('Team Scores'!$Z$1<3,\"\",IF(ISERROR(MATCH('Individual Scores'!$D129,Scores!$F$506:$F$759,0)),\"\",INDIRECT(\"Scores!\"&\"R\"&(ROW(Scores!$F$506:$F$759)-1+MATCH('Individual Scores'!$D129,Scores!$F$506:$F$759,0))&\"C\"&COLUMN(Scores!S$1),FALSE)))","v":""},"",""]
["SC","15 & <","M","Brandon Magennis",1290,1277,"",2567,{"$f":"IF(COUNT(Q130:V130,AA130:AF130,AK130:AP130)>=18/3*'Team Scores'!$Z$1,IF(H130-VLOOKUP(B130&C130,'Individual Awards Computations'!$AY$54:$AZ$58,2,FALSE)=0,\"Leader \"&C130&\":\"&B130,H130-VLOOKUP(B130&C130,'Individual Awards Computations'!$AY$54:$AZ$58,2,FALSE)),\"\")","v":-62},265,721,213.91666666666666,25.736111111111104,"188-240",1,null,{"$f":"IF(ISERROR(MATCH('Individual Scores'!$D130,Scores!$F$1:$F$253,0)),\"\",INDIRECT(\"Scores!\"&\"R\"&MATCH('Individual Scores'!$D130,Scores!$F$1:$F$253,0)&\"C\"&COLUMN(Scores!J$1),FALSE))","v":209},{"$f":"IF(ISERROR(MATCH('Individual Scores'!$D130,Scores!$F$1:$F$253,0)),\"\",INDIRECT(\"Scores!\"&\"R\"&MATCH('Individual Scores'!$D130,Scores!$F$1:$F$253,0)&\"C\"&COLUMN(Scores!K$1),FALSE))","v":247},{"$f":"IF(ISERROR(MATCH('Individual Scores'!$D130,Scores!$F$1:$F$253,0)),\"\",INDIRECT(\"Scores!\"&\"R\"&MATCH('Individual Scores'!$D130,Scores!$F$1:$F$253,0)&\"C\"&COLUMN(Scores!L$1),FALSE))","v":265},{"$f":"IF(ISERROR(MATCH('Individual Scores'!$D130,Scores!$F$1:$F$253,0)),\"\",INDIRECT(\"Scores!\"&\"R\"&MATCH('Individual Scores'!$D130,Scores!$F$1:$F$253,0)&\"C\"&COLUMN(Scores!N$1),FALSE))","v":204},{"$f":"IF(ISERROR(MATCH('Individual Scores'!$D130,Scores!$F$1:$F$253,0)),\"\",INDIRECT(\"Scores!\"&\"R\"&MATCH('Individual Scores'!$D130,Scores!$F$1:$F$253,0)&\"C\"&COLUMN(Scores!O$1),FALSE))","v":167},{"$f":"IF(ISERROR(MATCH('Individual Scores'!$D130,Scores!$F$1:$F$253,0)),\"\",INDIRECT(\"Scores!\"&\"R\"&MATCH('Individual Scores'!$D130,Scores!$F$1:$F$253,0)&\"C\"&COLUMN(Scores!P$1),FALSE))","v":198},{"$f":"IF(ISERROR(MATCH('Individual Scores'!$D130,Scores!$F$1:$F$253,0)),\"\",INDIRECT(\"Scores!\"&\"R\"&MATCH('Individual Scores'!$D130,Scores!$F$1:$F$253,0)&\"C\"&COLUMN(Scores!S$1),FALSE))","v":1290},{"$f":"IF(MAX('Individual Scores'!Q130:V130)>0,MAX('Individual Scores'!Q130:V130),\"\")","v":265},{"$f":"IF(MAX(SUM('Individual Scores'!Q130:S130),SUM('Individual Scores'!T130:V130))>0,MAX(SUM('Individual Scores'!Q130:S130),SUM('Individual Scores'!T130:V130)),\"\")","v":721},null,{"$f":"IF('Team Scores'!$Z$1<2,\"\",IF(ISERROR(MATCH('Individual Scores'!$D130,Scores!$F$253:$F$506,0)),\"\",INDIRECT(\"Scores!\"&\"R\"&(ROW(Scores!$253:$253)-1+MATCH('Individual Scores'!$D130,Scores!$F$253:$F$505,0))&\"C\"&COLUMN(Scores!J$1),FALSE)))","v":248},{"$f":"IF('Team Scores'!$Z$1<2,\"\",IF(ISERROR(MATCH('Individual Scores'!$D130,Scores!$F$253:$F$506,0)),\"\",INDIRECT(\"Scores!\"&\"R\"&(ROW(Scores!$253:$253)-1+MATCH('Individual Scores'!$D130,Scores!$F$253:$F$505,0))&\"C\"&COLUMN(Scores!K$1),FALSE)))","v":156},{"$f":"IF('Team Scores'!$Z$1<2,\"\",IF(ISERROR(MATCH('Individual Scores'!$D130,Scores!$F$253:$F$506,0)),\"\",INDIRECT(\"Scores!\"&\"R\"&(ROW(Scores!$253:$253)-1+MATCH('Individual Scores'!$D130,Scores!$F$253:$F$505,0))&\"C\"&COLUMN(Scores!L$1),FALSE)))","v":242},{"$f":"IF('Team Scores'!$Z$1<2,\"\",IF(ISERROR(MATCH('Individual Scores'!$D130,Scores!$F$253:$F$506,0)),\"\",INDIRECT(\"Scores!\"&\"R\"&(ROW(Scores!$253:$253)-1+MATCH('Individual Scores'!$D130,Scores!$F$253:$F$505,0))&\"C\"&COLUMN(Scores!N$1),FALSE)))","v":208},{"$f":"IF('Team Scores'!$Z$1<2,\"\",IF(ISERROR(MATCH('Individual Scores'!$D130,Scores!$F$253:$F$506,0)),\"\",INDIRECT(\"Scores!\"&\"R\"&(ROW(Scores!$253:$253)-1+MATCH('Individual Scores'!$D130,Scores!$F$253:$F$505,0))&\"C\"&COLUMN(Scores!O$1),FALSE)))","v":201},{"$f":"IF('Team Scores'!$Z$1<2,\"\",IF(ISERROR(MATCH('Individual Scores'!$D130,Scores!$F$253:$F$506,0)),\"\",INDIRECT(\"Scores!\"&\"R\"&(ROW(Scores!$253:$253)-1+MATCH('Individual Scores'!$D130,Scores!$F$253:$F$505,0))&\"C\"&COLUMN(Scores!P$1),FALSE)))","v":222},{"$f":"IF('Team Scores'!$Z$1<2,\"\",IF(ISERROR(MATCH('Individual Scores'!$D130,Scores!$F$253:$F$506,0)),\"\",INDIRECT(\"Scores!\"&\"R\"&(ROW(Scores!$253:$253)-1+MATCH('Individual Scores'!$D130,Scores!$F$253:$F$505,0))&\"C\"&COLUMN(Scores!S$1),FALSE)))","v":1277},248,646,null,{"$f":"IF('Team Scores'!$Z$1<3,\"\",IF(ISERROR(MATCH('Individual Scores'!$D130,Scores!$F$506:$F$759,0)),\"\",INDIRECT(\"Scores!\"&\"R\"&(ROW(Scores!$F$506:$F$759)-1+MATCH('Individual Scores'!$D130,Scores!$F$506:$F$759,0))&\"C\"&COLUMN(Scores!J$1),FALSE)))","v":""},{"$f":"IF('Team Scores'!$Z$1<3,\"\",IF(ISERROR(MATCH('Individual Scores'!$D130,Scores!$F$506:$F$759,0)),\"\",INDIRECT(\"Scores!\"&\"R\"&(ROW(Scores!$F$506:$F$759)-1+MATCH('Individual Scores'!$D130,Scores!$F$506:$F$759,0))&\"C\"&COLUMN(Scores!K$1),FALSE)))","v":""},{"$f":"IF('Team Scores'!$Z$1<3,\"\",IF(ISERROR(MATCH('Individual Scores'!$D130,Scores!$F$506:$F$759,0)),\"\",INDIRECT(\"Scores!\"&\"R\"&(ROW(Scores!$F$506:$F$759)-1+MATCH('Individual Scores'!$D130,Scores!$F$506:$F$759,0))&\"C\"&COLUMN(Scores!L$1),FALSE)))","v":""},{"$f":"IF('Team Scores'!$Z$1<3,\"\",IF(ISERROR(MATCH('Individual Scores'!$D130,Scores!$F$506:$F$759,0)),\"\",INDIRECT(\"Scores!\"&\"R\"&(ROW(Scores!$F$506:$F$759)-1+MATCH('Individual Scores'!$D130,Scores!$F$506:$F$759,0))&\"C\"&COLUMN(Scores!N$1),FALSE)))","v":""},{"$f":"IF('Team Scores'!$Z$1<3,\"\",IF(ISERROR(MATCH('Individual Scores'!$D130,Scores!$F$506:$F$759,0)),\"\",INDIRECT(\"Scores!\"&\"R\"&(ROW(Scores!$F$506:$F$759)-1+MATCH('Individual Scores'!$D130,Scores!$F$506:$F$759,0))&\"C\"&COLUMN(Scores!O$1),FALSE)))","v":""},{"$f":"IF('Team Scores'!$Z$1<3,\"\",IF(ISERROR(MATCH('Individual Scores'!$D130,Scores!$F$506:$F$759,0)),\"\",INDIRECT(\"Scores!\"&\"R\"&(ROW(Scores!$F$506:$F$759)-1+MATCH('Individual Scores'!$D130,Scores!$F$506:$F$759,0))&\"C\"&COLUMN(Scores!P$1),FALSE)))","v":""},{"$f":"IF('Team Scores'!$Z$1<3,\"\",IF(ISERROR(MATCH('Individual Scores'!$D130,Scores!$F$506:$F$759,0)),\"\",INDIRECT(\"Scores!\"&\"R\"&(ROW(Scores!$F$506:$F$759)-1+MATCH('Individual Scores'!$D130,Scores!$F$506:$F$759,0))&\"C\"&COLUMN(Scores!S$1),FALSE)))","v":""},"",""]
["SC","15 & <","M","Chris Hartzell",698,978,"",1676,{"$f":"IF(COUNT(Q131:V131,AA131:AF131,AK131:AP131)>=18/3*'Team Scores'!$Z$1,IF(H131-VLOOKUP(B131&C131,'Individual Awards Computations'!$AY$54:$AZ$58,2,FALSE)=0,\"Leader \"&C131&\":\"&B131,H131-VLOOKUP(B131&C131,'Individual Awards Computations'!$AY$54:$AZ$58,2,FALSE)),\"\")","v":-953},220,578,139.66666666666666,31.388888888888886,"108-171",{"$f":"COUNTIF($D$3:$D$169,D131)","v":1},null,{"$f":"IF(ISERROR(MATCH('Individual Scores'!$D131,Scores!$F$1:$F$253,0)),\"\",INDIRECT(\"Scores!\"&\"R\"&MATCH('Individual Scores'!$D131,Scores!$F$1:$F$253,0)&\"C\"&COLUMN(Scores!J$1),FALSE))","v":122},{"$f":"IF(ISERROR(MATCH('Individual Scores'!$D131,Scores!$F$1:$F$253,0)),\"\",INDIRECT(\"Scores!\"&\"R\"&MATCH('Individual Scores'!$D131,Scores!$F$1:$F$253,0)&\"C\"&COLUMN(Scores!K$1),FALSE))","v":114},{"$f":"IF(ISERROR(MATCH('Individual Scores'!$D131,Scores!$F$1:$F$253,0)),\"\",INDIRECT(\"Scores!\"&\"R\"&MATCH('Individual Scores'!$D131,Scores!$F$1:$F$253,0)&\"C\"&COLUMN(Scores!L$1),FALSE))","v":113},{"$f":"IF(ISERROR(MATCH('Individual Scores'!$D131,Scores!$F$1:$F$253,0)),\"\",INDIRECT(\"Scores!\"&\"R\"&MATCH('Individual Scores'!$D131,Scores!$F$1:$F$253,0)&\"C\"&COLUMN(Scores!N$1),FALSE))","v":121},{"$f":"IF(ISERROR(MATCH('Individual Scores'!$D131,Scores!$F$1:$F$253,0)),\"\",INDIRECT(\"Scores!\"&\"R\"&MATCH('Individual Scores'!$D131,Scores!$F$1:$F$253,0)&\"C\"&COLUMN(Scores!O$1),FALSE))","v":103},{"$f":"IF(ISERROR(MATCH('Individual Scores'!$D131,Scores!$F$1:$F$253,0)),\"\",INDIRECT(\"Scores!\"&\"R\"&MATCH('Individual Scores'!$D131,Scores!$F$1:$F$253,0)&\"C\"&COLUMN(Scores!P$1),FALSE))","v":125},{"$f":"IF(ISERROR(MATCH('Individual Scores'!$D131,Scores!$F$1:$F$253,0)),\"\",INDIRECT(\"Scores!\"&\"R\"&MATCH('Individual Scores'!$D131,Scores!$F$1:$F$253,0)&\"C\"&COLUMN(Scores!S$1),FALSE))","v":698},{"$f":"IF(MAX('Individual Scores'!Q131:V131)>0,MAX('Individual Scores'!Q131:V131),\"\")","v":125},{"$f":"IF(MAX(SUM('Individual Scores'!Q131:S131),SUM('Individual Scores'!T131:V131))>0,MAX(SUM('Individual Scores'!Q131:S131),SUM('Individual Scores'!T131:V131)),\"\")","v":349},null,{"$f":"IF('Team Scores'!$Z$1<2,\"\",IF(ISERROR(MATCH('Individual Scores'!$D131,Scores!$F$253:$F$506,0)),\"\",INDIRECT(\"Scores!\"&\"R\"&(ROW(Scores!$253:$253)-1+MATCH('Individual Scores'!$D131,Scores!$F$253:$F$505,0))&\"C\"&COLUMN(Scores!J$1),FALSE)))","v":110},{"$f":"IF('Team Scores'!$Z$1<2,\"\",IF(ISERROR(MATCH('Individual Scores'!$D131,Scores!$F$253:$F$506,0)),\"\",INDIRECT(\"Scores!\"&\"R\"&(ROW(Scores!$253:$253)-1+MATCH('Individual Scores'!$D131,Scores!$F$253:$F$505,0))&\"C\"&COLUMN(Scores!K$1),FALSE)))","v":169},{"$f":"IF('Team Scores'!$Z$1<2,\"\",IF(ISERROR(MATCH('Individual Scores'!$D131,Scores!$F$253:$F$506,0)),\"\",INDIRECT(\"Scores!\"&\"R\"&(ROW(Scores!$253:$253)-1+MATCH('Individual Scores'!$D131,Scores!$F$253:$F$505,0))&\"C\"&COLUMN(Scores!L$1),FALSE)))","v":121},{"$f":"IF('Team Scores'!$Z$1<2,\"\",IF(ISERROR(MATCH('Individual Scores'!$D131,Scores!$F$253:$F$506,0)),\"\",INDIRECT(\"Scores!\"&\"R\"&(ROW(Scores!$253:$253)-1+MATCH('Individual Scores'!$D131,Scores!$F$253:$F$505,0))&\"C\"&COLUMN(Scores!N$1),FALSE)))","v":172},{"$f":"IF('Team Scores'!$Z$1<2,\"\",IF(ISERROR(MATCH('Individual Scores'!$D131,Scores!$F$253:$F$506,0)),\"\",INDIRECT(\"Scores!\"&\"R\"&(ROW(Scores!$253:$253)-1+MATCH('Individual Scores'!$D131,Scores!$F$253:$F$505,0))&\"C\"&COLUMN(Scores!O$1),FALSE)))","v":186},{"$f":"IF('Team Scores'!$Z$1<2,\"\",IF(ISERROR(MATCH('Individual Scores'!$D131,Scores!$F$253:$F$506,0)),\"\",INDIRECT(\"Scores!\"&\"R\"&(ROW(Scores!$253:$253)-1+MATCH('Individual Scores'!$D131,Scores!$F$253:$F$505,0))&\"C\"&COLUMN(Scores!P$1),FALSE)))","v":220},{"$f":"IF('Team Scores'!$Z$1<2,\"\",IF(ISERROR(MATCH('Individual Scores'!$D131,Scores!$F$253:$F$506,0)),\"\",INDIRECT(\"Scores!\"&\"R\"&(ROW(Scores!$253:$253)-1+MATCH('Individual Scores'!$D131,Scores!$F$253:$F$505,0))&\"C\"&COLUMN(Scores!S$1),FALSE)))","v":978},220,578,null,{"$f":"IF('Team Scores'!$Z$1<3,\"\",IF(ISERROR(MATCH('Individual Scores'!$D131,Scores!$F$506:$F$759,0)),\"\",INDIRECT(\"Scores!\"&\"R\"&(ROW(Scores!$F$506:$F$759)-1+MATCH('Individual Scores'!$D131,Scores!$F$506:$F$759,0))&\"C\"&COLUMN(Scores!J$1),FALSE)))","v":""},{"$f":"IF('Team Scores'!$Z$1<3,\"\",IF(ISERROR(MATCH('Individual Scores'!$D131,Scores!$F$506:$F$759,0)),\"\",INDIRECT(\"Scores!\"&\"R\"&(ROW(Scores!$F$506:$F$759)-1+MATCH('Individual Scores'!$D131,Scores!$F$506:$F$759,0))&\"C\"&COLUMN(Scores!K$1),FALSE)))","v":""},{"$f":"IF('Team Scores'!$Z$1<3,\"\",IF(ISERROR(MATCH('Individual Scores'!$D131,Scores!$F$506:$F$759,0)),\"\",INDIRECT(\"Scores!\"&\"R\"&(ROW(Scores!$F$506:$F$759)-1+MATCH('Individual Scores'!$D131,Scores!$F$506:$F$759,0))&\"C\"&COLUMN(Scores!L$1),FALSE)))","v":""},{"$f":"IF('Team Scores'!$Z$1<3,\"\",IF(ISERROR(MATCH('Individual Scores'!$D131,Scores!$F$506:$F$759,0)),\"\",INDIRECT(\"Scores!\"&\"R\"&(ROW(Scores!$F$506:$F$759)-1+MATCH('Individual Scores'!$D131,Scores!$F$506:$F$759,0))&\"C\"&COLUMN(Scores!N$1),FALSE)))","v":""},{"$f":"IF('Team Scores'!$Z$1<3,\"\",IF(ISERROR(MATCH('Individual Scores'!$D131,Scores!$F$506:$F$759,0)),\"\",INDIRECT(\"Scores!\"&\"R\"&(ROW(Scores!$F$506:$F$759)-1+MATCH('Individual Scores'!$D131,Scores!$F$506:$F$759,0))&\"C\"&COLUMN(Scores!O$1),FALSE)))","v":""},{"$f":"IF('Team Scores'!$Z$1<3,\"\",IF(ISERROR(MATCH('Individual Scores'!$D131,Scores!$F$506:$F$759,0)),\"\",INDIRECT(\"Scores!\"&\"R\"&(ROW(Scores!$F$506:$F$759)-1+MATCH('Individual Scores'!$D131,Scores!$F$506:$F$759,0))&\"C\"&COLUMN(Scores!P$1),FALSE)))","v":""},{"$f":"IF('Team Scores'!$Z$1<3,\"\",IF(ISERROR(MATCH('Individual Scores'!$D131,Scores!$F$506:$F$759,0)),\"\",INDIRECT(\"Scores!\"&\"R\"&(ROW(Scores!$F$506:$F$759)-1+MATCH('Individual Scores'!$D131,Scores!$F$506:$F$759,0))&\"C\"&COLUMN(Scores!S$1),FALSE)))","v":""},"",""]
["SC","15 & <","M","Vacant-SC_B_U15",0,"","",0,{"$f":"IF(COUNT(Q132:V132,AA132:AF132,AK132:AP132)>=18/3*'Team Scores'!$Z$1,IF(H132-VLOOKUP(B132&C132,'Individual Awards Computations'!$AY$54:$AZ$58,2,FALSE)=0,\"Leader \"&C132&\":\"&B132,H132-VLOOKUP(B132&C132,'Individual Awards Computations'!$AY$54:$AZ$58,2,FALSE)),\"\")","v":""},"","","","","",1,null,{"$f":"IF(ISERROR(MATCH('Individual Scores'!$D132,Scores!$F$1:$F$253,0)),\"\",INDIRECT(\"Scores!\"&\"R\"&MATCH('Individual Scores'!$D132,Scores!$F$1:$F$253,0)&\"C\"&COLUMN(Scores!J$1),FALSE))","v":0},{"$f":"IF(ISERROR(MATCH('Individual Scores'!$D132,Scores!$F$1:$F$253,0)),\"\",INDIRECT(\"Scores!\"&\"R\"&MATCH('Individual Scores'!$D132,Scores!$F$1:$F$253,0)&\"C\"&COLUMN(Scores!K$1),FALSE))","v":0},{"$f":"IF(ISERROR(MATCH('Individual Scores'!$D132,Scores!$F$1:$F$253,0)),\"\",INDIRECT(\"Scores!\"&\"R\"&MATCH('Individual Scores'!$D132,Scores!$F$1:$F$253,0)&\"C\"&COLUMN(Scores!L$1),FALSE))","v":0},{"$f":"IF(ISERROR(MATCH('Individual Scores'!$D132,Scores!$F$1:$F$253,0)),\"\",INDIRECT(\"Scores!\"&\"R\"&MATCH('Individual Scores'!$D132,Scores!$F$1:$F$253,0)&\"C\"&COLUMN(Scores!N$1),FALSE))","v":0},{"$f":"IF(ISERROR(MATCH('Individual Scores'!$D132,Scores!$F$1:$F$253,0)),\"\",INDIRECT(\"Scores!\"&\"R\"&MATCH('Individual Scores'!$D132,Scores!$F$1:$F$253,0)&\"C\"&COLUMN(Scores!O$1),FALSE))","v":0},{"$f":"IF(ISERROR(MATCH('Individual Scores'!$D132,Scores!$F$1:$F$253,0)),\"\",INDIRECT(\"Scores!\"&\"R\"&MATCH('Individual Scores'!$D132,Scores!$F$1:$F$253,0)&\"C\"&COLUMN(Scores!P$1),FALSE))","v":0},{"$f":"IF(ISERROR(MATCH('Individual Scores'!$D132,Scores!$F$1:$F$253,0)),\"\",INDIRECT(\"Scores!\"&\"R\"&MATCH('Individual Scores'!$D132,Scores!$F$1:$F$253,0)&\"C\"&COLUMN(Scores!S$1),FALSE))","v":0},{"$f":"IF(MAX('Individual Scores'!Q132:V132)>0,MAX('Individual Scores'!Q132:V132),\"\")","v":""},{"$f":"IF(MAX(SUM('Individual Scores'!Q132:S132),SUM('Individual Scores'!T132:V132))>0,MAX(SUM('Individual Scores'!Q132:S132),SUM('Individual Scores'!T132:V132)),\"\")","v":""},null,{"$f":"IF('Team Scores'!$Z$1<2,\"\",IF(ISERROR(MATCH('Individual Scores'!$D132,Scores!$F$253:$F$506,0)),\"\",INDIRECT(\"Scores!\"&\"R\"&(ROW(Scores!$253:$253)-1+MATCH('Individual Scores'!$D132,Scores!$F$253:$F$505,0))&\"C\"&COLUMN(Scores!J$1),FALSE)))","v":""},{"$f":"IF('Team Scores'!$Z$1<2,\"\",IF(ISERROR(MATCH('Individual Scores'!$D132,Scores!$F$253:$F$506,0)),\"\",INDIRECT(\"Scores!\"&\"R\"&(ROW(Scores!$253:$253)-1+MATCH('Individual Scores'!$D132,Scores!$F$253:$F$505,0))&\"C\"&COLUMN(Scores!K$1),FALSE)))","v":""},{"$f":"IF('Team Scores'!$Z$1<2,\"\",IF(ISERROR(MATCH('Individual Scores'!$D132,Scores!$F$253:$F$506,0)),\"\",INDIRECT(\"Scores!\"&\"R\"&(ROW(Scores!$253:$253)-1+MATCH('Individual Scores'!$D132,Scores!$F$253:$F$505,0))&\"C\"&COLUMN(Scores!L$1),FALSE)))","v":""},{"$f":"IF('Team Scores'!$Z$1<2,\"\",IF(ISERROR(MATCH('Individual Scores'!$D132,Scores!$F$253:$F$506,0)),\"\",INDIRECT(\"Scores!\"&\"R\"&(ROW(Scores!$253:$253)-1+MATCH('Individual Scores'!$D132,Scores!$F$253:$F$505,0))&\"C\"&COLUMN(Scores!N$1),FALSE)))","v":""},{"$f":"IF('Team Scores'!$Z$1<2,\"\",IF(ISERROR(MATCH('Individual Scores'!$D132,Scores!$F$253:$F$506,0)),\"\",INDIRECT(\"Scores!\"&\"R\"&(ROW(Scores!$253:$253)-1+MATCH('Individual Scores'!$D132,Scores!$F$253:$F$505,0))&\"C\"&COLUMN(Scores!O$1),FALSE)))","v":""},{"$f":"IF('Team Scores'!$Z$1<2,\"\",IF(ISERROR(MATCH('Individual Scores'!$D132,Scores!$F$253:$F$506,0)),\"\",INDIRECT(\"Scores!\"&\"R\"&(ROW(Scores!$253:$253)-1+MATCH('Individual Scores'!$D132,Scores!$F$253:$F$505,0))&\"C\"&COLUMN(Scores!P$1),FALSE)))","v":""},{"$f":"IF('Team Scores'!$Z$1<2,\"\",IF(ISERROR(MATCH('Individual Scores'!$D132,Scores!$F$253:$F$506,0)),\"\",INDIRECT(\"Scores!\"&\"R\"&(ROW(Scores!$253:$253)-1+MATCH('Individual Scores'!$D132,Scores!$F$253:$F$505,0))&\"C\"&COLUMN(Scores!S$1),FALSE)))","v":""},"","",null,{"$f":"IF('Team Scores'!$Z$1<3,\"\",IF(ISERROR(MATCH('Individual Scores'!$D132,Scores!$F$506:$F$759,0)),\"\",INDIRECT(\"Scores!\"&\"R\"&(ROW(Scores!$F$506:$F$759)-1+MATCH('Individual Scores'!$D132,Scores!$F$506:$F$759,0))&\"C\"&COLUMN(Scores!J$1),FALSE)))","v":""},{"$f":"IF('Team Scores'!$Z$1<3,\"\",IF(ISERROR(MATCH('Individual Scores'!$D132,Scores!$F$506:$F$759,0)),\"\",INDIRECT(\"Scores!\"&\"R\"&(ROW(Scores!$F$506:$F$759)-1+MATCH('Individual Scores'!$D132,Scores!$F$506:$F$759,0))&\"C\"&COLUMN(Scores!K$1),FALSE)))","v":""},{"$f":"IF('Team Scores'!$Z$1<3,\"\",IF(ISERROR(MATCH('Individual Scores'!$D132,Scores!$F$506:$F$759,0)),\"\",INDIRECT(\"Scores!\"&\"R\"&(ROW(Scores!$F$506:$F$759)-1+MATCH('Individual Scores'!$D132,Scores!$F$506:$F$759,0))&\"C\"&COLUMN(Scores!L$1),FALSE)))","v":""},{"$f":"IF('Team Scores'!$Z$1<3,\"\",IF(ISERROR(MATCH('Individual Scores'!$D132,Scores!$F$506:$F$759,0)),\"\",INDIRECT(\"Scores!\"&\"R\"&(ROW(Scores!$F$506:$F$759)-1+MATCH('Individual Scores'!$D132,Scores!$F$506:$F$759,0))&\"C\"&COLUMN(Scores!N$1),FALSE)))","v":""},{"$f":"IF('Team Scores'!$Z$1<3,\"\",IF(ISERROR(MATCH('Individual Scores'!$D132,Scores!$F$506:$F$759,0)),\"\",INDIRECT(\"Scores!\"&\"R\"&(ROW(Scores!$F$506:$F$759)-1+MATCH('Individual Scores'!$D132,Scores!$F$506:$F$759,0))&\"C\"&COLUMN(Scores!O$1),FALSE)))","v":""},{"$f":"IF('Team Scores'!$Z$1<3,\"\",IF(ISERROR(MATCH('Individual Scores'!$D132,Scores!$F$506:$F$759,0)),\"\",INDIRECT(\"Scores!\"&\"R\"&(ROW(Scores!$F$506:$F$759)-1+MATCH('Individual Scores'!$D132,Scores!$F$506:$F$759,0))&\"C\"&COLUMN(Scores!P$1),FALSE)))","v":""},{"$f":"IF('Team Scores'!$Z$1<3,\"\",IF(ISERROR(MATCH('Individual Scores'!$D132,Scores!$F$506:$F$759,0)),\"\",INDIRECT(\"Scores!\"&\"R\"&(ROW(Scores!$F$506:$F$759)-1+MATCH('Individual Scores'!$D132,Scores!$F$506:$F$759,0))&\"C\"&COLUMN(Scores!S$1),FALSE)))","v":""},"",""]
["SC","15 & <","M",null,"","","",0,{"$f":"IF(COUNT(Q133:V133,AA133:AF133,AK133:AP133)>=18/3*'Team Scores'!$Z$1,IF(H133-VLOOKUP(B133&C133,'Individual Awards Computations'!$AY$54:$AZ$58,2,FALSE)=0,\"Leader \"&C133&\":\"&B133,H133-VLOOKUP(B133&C133,'Individual Awards Computations'!$AY$54:$AZ$58,2,FALSE)),\"\")","v":""},{"$f":"IF(H133=0,\"\",MAX(Q133:V133,AA133:AF133,AK133:AP133))","v":""},{"$f":"IF(H133=0,\"\",MAX(SUM(Q133:S133),SUM(T133:V133),SUM(AA133:AC133),SUM(AD133:AF133),SUM(AK133:AM133),SUM(AN133:AP133)))","v":""},{"$f":"IF(H133=0,\"\",AVERAGE(Q133:V133,AA133:AF133,AK133:AP133))","v":""},{"$f":"IF(H133=0,\"\",AVEDEV(Q133:V133,AA133:AF133,AK133:AP133))","v":""},{"$f":"IF(H133=0,\"\",ROUND(L133-M133,0)&\"-\"&ROUND(L133+M133,0))","v":""},0,null,{"$f":"IF(ISERROR(MATCH('Individual Scores'!$D133,Scores!$F$1:$F$253,0)),\"\",INDIRECT(\"Scores!\"&\"R\"&MATCH('Individual Scores'!$D133,Scores!$F$1:$F$253,0)&\"C\"&COLUMN(Scores!J$1),FALSE))","v":""},{"$f":"IF(ISERROR(MATCH('Individual Scores'!$D133,Scores!$F$1:$F$253,0)),\"\",INDIRECT(\"Scores!\"&\"R\"&MATCH('Individual Scores'!$D133,Scores!$F$1:$F$253,0)&\"C\"&COLUMN(Scores!K$1),FALSE))","v":""},{"$f":"IF(ISERROR(MATCH('Individual Scores'!$D133,Scores!$F$1:$F$253,0)),\"\",INDIRECT(\"Scores!\"&\"R\"&MATCH('Individual Scores'!$D133,Scores!$F$1:$F$253,0)&\"C\"&COLUMN(Scores!L$1),FALSE))","v":""},{"$f":"IF(ISERROR(MATCH('Individual Scores'!$D133,Scores!$F$1:$F$253,0)),\"\",INDIRECT(\"Scores!\"&\"R\"&MATCH('Individual Scores'!$D133,Scores!$F$1:$F$253,0)&\"C\"&COLUMN(Scores!N$1),FALSE))","v":""},{"$f":"IF(ISERROR(MATCH('Individual Scores'!$D133,Scores!$F$1:$F$253,0)),\"\",INDIRECT(\"Scores!\"&\"R\"&MATCH('Individual Scores'!$D133,Scores!$F$1:$F$253,0)&\"C\"&COLUMN(Scores!O$1),FALSE))","v":""},{"$f":"IF(ISERROR(MATCH('Individual Scores'!$D133,Scores!$F$1:$F$253,0)),\"\",INDIRECT(\"Scores!\"&\"R\"&MATCH('Individual Scores'!$D133,Scores!$F$1:$F$253,0)&\"C\"&COLUMN(Scores!P$1),FALSE))","v":""},{"$f":"IF(ISERROR(MATCH('Individual Scores'!$D133,Scores!$F$1:$F$253,0)),\"\",INDIRECT(\"Scores!\"&\"R\"&MATCH('Individual Scores'!$D133,Scores!$F$1:$F$253,0)&\"C\"&COLUMN(Scores!S$1),FALSE))","v":""},{"$f":"IF(MAX('Individual Scores'!Q133:V133)>0,MAX('Individual Scores'!Q133:V133),\"\")","v":""},{"$f":"IF(MAX(SUM('Individual Scores'!Q133:S133),SUM('Individual Scores'!T133:V133))>0,MAX(SUM('Individual Scores'!Q133:S133),SUM('Individual Scores'!T133:V133)),\"\")","v":""},null,{"$f":"IF('Team Scores'!$Z$1<2,\"\",IF(ISERROR(MATCH('Individual Scores'!$D133,Scores!$F$253:$F$506,0)),\"\",INDIRECT(\"Scores!\"&\"R\"&(ROW(Scores!$253:$253)-1+MATCH('Individual Scores'!$D133,Scores!$F$253:$F$505,0))&\"C\"&COLUMN(Scores!J$1),FALSE)))","v":""},{"$f":"IF('Team Scores'!$Z$1<2,\"\",IF(ISERROR(MATCH('Individual Scores'!$D133,Scores!$F$253:$F$506,0)),\"\",INDIRECT(\"Scores!\"&\"R\"&(ROW(Scores!$253:$253)-1+MATCH('Individual Scores'!$D133,Scores!$F$253:$F$505,0))&\"C\"&COLUMN(Scores!K$1),FALSE)))","v":""},{"$f":"IF('Team Scores'!$Z$1<2,\"\",IF(ISERROR(MATCH('Individual Scores'!$D133,Scores!$F$253:$F$506,0)),\"\",INDIRECT(\"Scores!\"&\"R\"&(ROW(Scores!$253:$253)-1+MATCH('Individual Scores'!$D133,Scores!$F$253:$F$505,0))&\"C\"&COLUMN(Scores!L$1),FALSE)))","v":""},{"$f":"IF('Team Scores'!$Z$1<2,\"\",IF(ISERROR(MATCH('Individual Scores'!$D133,Scores!$F$253:$F$506,0)),\"\",INDIRECT(\"Scores!\"&\"R\"&(ROW(Scores!$253:$253)-1+MATCH('Individual Scores'!$D133,Scores!$F$253:$F$505,0))&\"C\"&COLUMN(Scores!N$1),FALSE)))","v":""},{"$f":"IF('Team Scores'!$Z$1<2,\"\",IF(ISERROR(MATCH('Individual Scores'!$D133,Scores!$F$253:$F$506,0)),\"\",INDIRECT(\"Scores!\"&\"R\"&(ROW(Scores!$253:$253)-1+MATCH('Individual Scores'!$D133,Scores!$F$253:$F$505,0))&\"C\"&COLUMN(Scores!O$1),FALSE)))","v":""},{"$f":"IF('Team Scores'!$Z$1<2,\"\",IF(ISERROR(MATCH('Individual Scores'!$D133,Scores!$F$253:$F$506,0)),\"\",INDIRECT(\"Scores!\"&\"R\"&(ROW(Scores!$253:$253)-1+MATCH('Individual Scores'!$D133,Scores!$F$253:$F$505,0))&\"C\"&COLUMN(Scores!P$1),FALSE)))","v":""},{"$f":"IF('Team Scores'!$Z$1<2,\"\",IF(ISERROR(MATCH('Individual Scores'!$D133,Scores!$F$253:$F$506,0)),\"\",INDIRECT(\"Scores!\"&\"R\"&(ROW(Scores!$253:$253)-1+MATCH('Individual Scores'!$D133,Scores!$F$253:$F$505,0))&\"C\"&COLUMN(Scores!S$1),FALSE)))","v":""},"","",null,{"$f":"IF('Team Scores'!$Z$1<3,\"\",IF(ISERROR(MATCH('Individual Scores'!$D133,Scores!$F$506:$F$759,0)),\"\",INDIRECT(\"Scores!\"&\"R\"&(ROW(Scores!$F$506:$F$759)-1+MATCH('Individual Scores'!$D133,Scores!$F$506:$F$759,0))&\"C\"&COLUMN(Scores!J$1),FALSE)))","v":""},{"$f":"IF('Team Scores'!$Z$1<3,\"\",IF(ISERROR(MATCH('Individual Scores'!$D133,Scores!$F$506:$F$759,0)),\"\",INDIRECT(\"Scores!\"&\"R\"&(ROW(Scores!$F$506:$F$759)-1+MATCH('Individual Scores'!$D133,Scores!$F$506:$F$759,0))&\"C\"&COLUMN(Scores!K$1),FALSE)))","v":""},{"$f":"IF('Team Scores'!$Z$1<3,\"\",IF(ISERROR(MATCH('Individual Scores'!$D133,Scores!$F$506:$F$759,0)),\"\",INDIRECT(\"Scores!\"&\"R\"&(ROW(Scores!$F$506:$F$759)-1+MATCH('Individual Scores'!$D133,Scores!$F$506:$F$759,0))&\"C\"&COLUMN(Scores!L$1),FALSE)))","v":""},{"$f":"IF('Team Scores'!$Z$1<3,\"\",IF(ISERROR(MATCH('Individual Scores'!$D133,Scores!$F$506:$F$759,0)),\"\",INDIRECT(\"Scores!\"&\"R\"&(ROW(Scores!$F$506:$F$759)-1+MATCH('Individual Scores'!$D133,Scores!$F$506:$F$759,0))&\"C\"&COLUMN(Scores!N$1),FALSE)))","v":""},{"$f":"IF('Team Scores'!$Z$1<3,\"\",IF(ISERROR(MATCH('Individual Scores'!$D133,Scores!$F$506:$F$759,0)),\"\",INDIRECT(\"Scores!\"&\"R\"&(ROW(Scores!$F$506:$F$759)-1+MATCH('Individual Scores'!$D133,Scores!$F$506:$F$759,0))&\"C\"&COLUMN(Scores!O$1),FALSE)))","v":""},{"$f":"IF('Team Scores'!$Z$1<3,\"\",IF(ISERROR(MATCH('Individual Scores'!$D133,Scores!$F$506:$F$759,0)),\"\",INDIRECT(\"Scores!\"&\"R\"&(ROW(Scores!$F$506:$F$759)-1+MATCH('Individual Scores'!$D133,Scores!$F$506:$F$759,0))&\"C\"&COLUMN(Scores!P$1),FALSE)))","v":""},{"$f":"IF('Team Scores'!$Z$1<3,\"\",IF(ISERROR(MATCH('Individual Scores'!$D133,Scores!$F$506:$F$759,0)),\"\",INDIRECT(\"Scores!\"&\"R\"&(ROW(Scores!$F$506:$F$759)-1+MATCH('Individual Scores'!$D133,Scores!$F$506:$F$759,0))&\"C\"&COLUMN(Scores!S$1),FALSE)))","v":""},"",""]
["SC","16-20","F","Danielle Brock",{"$f":"W134","v":1099},{"$f":"AG134","v":1117},{"$f":"AQ134","v":""},{"$f":"SUM(AQ134,AG134,W134)","v":2216},{"$f":"IF(COUNT(Q134:V134,AA134:AF134,AK134:AP134)>=18/3*'Team Scores'!$Z$1,IF(H134-VLOOKUP(B134&C134,'Individual Awards Computations'!$AY$54:$AZ$58,2,FALSE)=0,\"Leader \"&C134&\":\"&B134,H134-VLOOKUP(B134&C134,'Individual Awards Computations'!$AY$54:$AZ$58,2,FALSE)),\"\")","v":-230},232,590,184.66666666666666,18.444444444444443,"166-203",1,null,{"$f":"IF(ISERROR(MATCH('Individual Scores'!$D134,Scores!$F$1:$F$253,0)),\"\",INDIRECT(\"Scores!\"&\"R\"&MATCH('Individual Scores'!$D134,Scores!$F$1:$F$253,0)&\"C\"&COLUMN(Scores!J$1),FALSE))","v":173},{"$f":"IF(ISERROR(MATCH('Individual Scores'!$D134,Scores!$F$1:$F$253,0)),\"\",INDIRECT(\"Scores!\"&\"R\"&MATCH('Individual Scores'!$D134,Scores!$F$1:$F$253,0)&\"C\"&COLUMN(Scores!K$1),FALSE))","v":180},{"$f":"IF(ISERROR(MATCH('Individual Scores'!$D134,Scores!$F$1:$F$253,0)),\"\",INDIRECT(\"Scores!\"&\"R\"&MATCH('Individual Scores'!$D134,Scores!$F$1:$F$253,0)&\"C\"&COLUMN(Scores!L$1),FALSE))","v":210},{"$f":"IF(ISERROR(MATCH('Individual Scores'!$D134,Scores!$F$1:$F$253,0)),\"\",INDIRECT(\"Scores!\"&\"R\"&MATCH('Individual Scores'!$D134,Scores!$F$1:$F$253,0)&\"C\"&COLUMN(Scores!N$1),FALSE))","v":166},{"$f":"IF(ISERROR(MATCH('Individual Scores'!$D134,Scores!$F$1:$F$253,0)),\"\",INDIRECT(\"Scores!\"&\"R\"&MATCH('Individual Scores'!$D134,Scores!$F$1:$F$253,0)&\"C\"&COLUMN(Scores!O$1),FALSE))","v":190},{"$f":"IF(ISERROR(MATCH('Individual Scores'!$D134,Scores!$F$1:$F$253,0)),\"\",INDIRECT(\"Scores!\"&\"R\"&MATCH('Individual Scores'!$D134,Scores!$F$1:$F$253,0)&\"C\"&COLUMN(Scores!P$1),FALSE))","v":180},{"$f":"IF(ISERROR(MATCH('Individual Scores'!$D134,Scores!$F$1:$F$253,0)),\"\",INDIRECT(\"Scores!\"&\"R\"&MATCH('Individual Scores'!$D134,Scores!$F$1:$F$253,0)&\"C\"&COLUMN(Scores!S$1),FALSE))","v":1099},{"$f":"IF(MAX('Individual Scores'!Q134:V134)>0,MAX('Individual Scores'!Q134:V134),\"\")","v":210},{"$f":"IF(MAX(SUM('Individual Scores'!Q134:S134),SUM('Individual Scores'!T134:V134))>0,MAX(SUM('Individual Scores'!Q134:S134),SUM('Individual Scores'!T134:V134)),\"\")","v":563},null,{"$f":"IF('Team Scores'!$Z$1<2,\"\",IF(ISERROR(MATCH('Individual Scores'!$D134,Scores!$F$253:$F$506,0)),\"\",INDIRECT(\"Scores!\"&\"R\"&(ROW(Scores!$253:$253)-1+MATCH('Individual Scores'!$D134,Scores!$F$253:$F$505,0))&\"C\"&COLUMN(Scores!J$1),FALSE)))","v":232},{"$f":"IF('Team Scores'!$Z$1<2,\"\",IF(ISERROR(MATCH('Individual Scores'!$D134,Scores!$F$253:$F$506,0)),\"\",INDIRECT(\"Scores!\"&\"R\"&(ROW(Scores!$253:$253)-1+MATCH('Individual Scores'!$D134,Scores!$F$253:$F$505,0))&\"C\"&COLUMN(Scores!K$1),FALSE)))","v":165},{"$f":"IF('Team Scores'!$Z$1<2,\"\",IF(ISERROR(MATCH('Individual Scores'!$D134,Scores!$F$253:$F$506,0)),\"\",INDIRECT(\"Scores!\"&\"R\"&(ROW(Scores!$253:$253)-1+MATCH('Individual Scores'!$D134,Scores!$F$253:$F$505,0))&\"C\"&COLUMN(Scores!L$1),FALSE)))","v":193},{"$f":"IF('Team Scores'!$Z$1<2,\"\",IF(ISERROR(MATCH('Individual Scores'!$D134,Scores!$F$253:$F$506,0)),\"\",INDIRECT(\"Scores!\"&\"R\"&(ROW(Scores!$253:$253)-1+MATCH('Individual Scores'!$D134,Scores!$F$253:$F$505,0))&\"C\"&COLUMN(Scores!N$1),FALSE)))","v":209},{"$f":"IF('Team Scores'!$Z$1<2,\"\",IF(ISERROR(MATCH('Individual Scores'!$D134,Scores!$F$253:$F$506,0)),\"\",INDIRECT(\"Scores!\"&\"R\"&(ROW(Scores!$253:$253)-1+MATCH('Individual Scores'!$D134,Scores!$F$253:$F$505,0))&\"C\"&COLUMN(Scores!O$1),FALSE)))","v":138},{"$f":"IF('Team Scores'!$Z$1<2,\"\",IF(ISERROR(MATCH('Individual Scores'!$D134,Scores!$F$253:$F$506,0)),\"\",INDIRECT(\"Scores!\"&\"R\"&(ROW(Scores!$253:$253)-1+MATCH('Individual Scores'!$D134,Scores!$F$253:$F$505,0))&\"C\"&COLUMN(Scores!P$1),FALSE)))","v":180},{"$f":"IF('Team Scores'!$Z$1<2,\"\",IF(ISERROR(MATCH('Individual Scores'!$D134,Scores!$F$253:$F$506,0)),\"\",INDIRECT(\"Scores!\"&\"R\"&(ROW(Scores!$253:$253)-1+MATCH('Individual Scores'!$D134,Scores!$F$253:$F$505,0))&\"C\"&COLUMN(Scores!S$1),FALSE)))","v":1117},232,590,null,{"$f":"IF('Team Scores'!$Z$1<3,\"\",IF(ISERROR(MATCH('Individual Scores'!$D134,Scores!$F$506:$F$759,0)),\"\",INDIRECT(\"Scores!\"&\"R\"&(ROW(Scores!$F$506:$F$759)-1+MATCH('Individual Scores'!$D134,Scores!$F$506:$F$759,0))&\"C\"&COLUMN(Scores!J$1),FALSE)))","v":""},{"$f":"IF('Team Scores'!$Z$1<3,\"\",IF(ISERROR(MATCH('Individual Scores'!$D134,Scores!$F$506:$F$759,0)),\"\",INDIRECT(\"Scores!\"&\"R\"&(ROW(Scores!$F$506:$F$759)-1+MATCH('Individual Scores'!$D134,Scores!$F$506:$F$759,0))&\"C\"&COLUMN(Scores!K$1),FALSE)))","v":""},{"$f":"IF('Team Scores'!$Z$1<3,\"\",IF(ISERROR(MATCH('Individual Scores'!$D134,Scores!$F$506:$F$759,0)),\"\",INDIRECT(\"Scores!\"&\"R\"&(ROW(Scores!$F$506:$F$759)-1+MATCH('Individual Scores'!$D134,Scores!$F$506:$F$759,0))&\"C\"&COLUMN(Scores!L$1),FALSE)))","v":""},{"$f":"IF('Team Scores'!$Z$1<3,\"\",IF(ISERROR(MATCH('Individual Scores'!$D134,Scores!$F$506:$F$759,0)),\"\",INDIRECT(\"Scores!\"&\"R\"&(ROW(Scores!$F$506:$F$759)-1+MATCH('Individual Scores'!$D134,Scores!$F$506:$F$759,0))&\"C\"&COLUMN(Scores!N$1),FALSE)))","v":""},{"$f":"IF('Team Scores'!$Z$1<3,\"\",IF(ISERROR(MATCH('Individual Scores'!$D134,Scores!$F$506:$F$759,0)),\"\",INDIRECT(\"Scores!\"&\"R\"&(ROW(Scores!$F$506:$F$759)-1+MATCH('Individual Scores'!$D134,Scores!$F$506:$F$759,0))&\"C\"&COLUMN(Scores!O$1),FALSE)))","v":""},{"$f":"IF('Team Scores'!$Z$1<3,\"\",IF(ISERROR(MATCH('Individual Scores'!$D134,Scores!$F$506:$F$759,0)),\"\",INDIRECT(\"Scores!\"&\"R\"&(ROW(Scores!$F$506:$F$759)-1+MATCH('Individual Scores'!$D134,Scores!$F$506:$F$759,0))&\"C\"&COLUMN(Scores!P$1),FALSE)))","v":""},{"$f":"IF('Team Scores'!$Z$1<3,\"\",IF(ISERROR(MATCH('Individual Scores'!$D134,Scores!$F$506:$F$759,0)),\"\",INDIRECT(\"Scores!\"&\"R\"&(ROW(Scores!$F$506:$F$759)-1+MATCH('Individual Scores'!$D134,Scores!$F$506:$F$759,0))&\"C\"&COLUMN(Scores!S$1),FALSE)))","v":""},{"$f":"IF(MAX(AK134:AP134)>0,MAX(AK134:AP134),\"\")","v":""},{"$f":"IF(MAX(SUM(AK134:AM134),SUM(AN134:AP134))>0,MAX(SUM(AK134:AM134),SUM(AN134:AP134)),\"\")","v":""}]
["SC","16-20","F","Jordan Matter",881,1046,"",1927,{"$f":"IF(COUNT(Q135:V135,AA135:AF135,AK135:AP135)>=18/3*'Team Scores'!$Z$1,IF(H135-VLOOKUP(B135&C135,'Individual Awards Computations'!$AY$54:$AZ$58,2,FALSE)=0,\"Leader \"&C135&\":\"&B135,H135-VLOOKUP(B135&C135,'Individual Awards Computations'!$AY$54:$AZ$58,2,FALSE)),\"\")","v":-519},209,532,160.58333333333334,25.75,"135-186",1,null,{"$f":"IF(ISERROR(MATCH('Individual Scores'!$D135,Scores!$F$1:$F$253,0)),\"\",INDIRECT(\"Scores!\"&\"R\"&MATCH('Individual Scores'!$D135,Scores!$F$1:$F$253,0)&\"C\"&COLUMN(Scores!J$1),FALSE))","v":124},{"$f":"IF(ISERROR(MATCH('Individual Scores'!$D135,Scores!$F$1:$F$253,0)),\"\",INDIRECT(\"Scores!\"&\"R\"&MATCH('Individual Scores'!$D135,Scores!$F$1:$F$253,0)&\"C\"&COLUMN(Scores!K$1),FALSE))","v":127},{"$f":"IF(ISERROR(MATCH('Individual Scores'!$D135,Scores!$F$1:$F$253,0)),\"\",INDIRECT(\"Scores!\"&\"R\"&MATCH('Individual Scores'!$D135,Scores!$F$1:$F$253,0)&\"C\"&COLUMN(Scores!L$1),FALSE))","v":115},{"$f":"IF(ISERROR(MATCH('Individual Scores'!$D135,Scores!$F$1:$F$253,0)),\"\",INDIRECT(\"Scores!\"&\"R\"&MATCH('Individual Scores'!$D135,Scores!$F$1:$F$253,0)&\"C\"&COLUMN(Scores!N$1),FALSE))","v":158},{"$f":"IF(ISERROR(MATCH('Individual Scores'!$D135,Scores!$F$1:$F$253,0)),\"\",INDIRECT(\"Scores!\"&\"R\"&MATCH('Individual Scores'!$D135,Scores!$F$1:$F$253,0)&\"C\"&COLUMN(Scores!O$1),FALSE))","v":148},{"$f":"IF(ISERROR(MATCH('Individual Scores'!$D135,Scores!$F$1:$F$253,0)),\"\",INDIRECT(\"Scores!\"&\"R\"&MATCH('Individual Scores'!$D135,Scores!$F$1:$F$253,0)&\"C\"&COLUMN(Scores!P$1),FALSE))","v":209},{"$f":"IF(ISERROR(MATCH('Individual Scores'!$D135,Scores!$F$1:$F$253,0)),\"\",INDIRECT(\"Scores!\"&\"R\"&MATCH('Individual Scores'!$D135,Scores!$F$1:$F$253,0)&\"C\"&COLUMN(Scores!S$1),FALSE))","v":881},{"$f":"IF(MAX('Individual Scores'!Q135:V135)>0,MAX('Individual Scores'!Q135:V135),\"\")","v":209},{"$f":"IF(MAX(SUM('Individual Scores'!Q135:S135),SUM('Individual Scores'!T135:V135))>0,MAX(SUM('Individual Scores'!Q135:S135),SUM('Individual Scores'!T135:V135)),\"\")","v":515},null,{"$f":"IF('Team Scores'!$Z$1<2,\"\",IF(ISERROR(MATCH('Individual Scores'!$D135,Scores!$F$253:$F$506,0)),\"\",INDIRECT(\"Scores!\"&\"R\"&(ROW(Scores!$253:$253)-1+MATCH('Individual Scores'!$D135,Scores!$F$253:$F$505,0))&\"C\"&COLUMN(Scores!J$1),FALSE)))","v":196},{"$f":"IF('Team Scores'!$Z$1<2,\"\",IF(ISERROR(MATCH('Individual Scores'!$D135,Scores!$F$253:$F$506,0)),\"\",INDIRECT(\"Scores!\"&\"R\"&(ROW(Scores!$253:$253)-1+MATCH('Individual Scores'!$D135,Scores!$F$253:$F$505,0))&\"C\"&COLUMN(Scores!K$1),FALSE)))","v":165},{"$f":"IF('Team Scores'!$Z$1<2,\"\",IF(ISERROR(MATCH('Individual Scores'!$D135,Scores!$F$253:$F$506,0)),\"\",INDIRECT(\"Scores!\"&\"R\"&(ROW(Scores!$253:$253)-1+MATCH('Individual Scores'!$D135,Scores!$F$253:$F$505,0))&\"C\"&COLUMN(Scores!L$1),FALSE)))","v":171},{"$f":"IF('Team Scores'!$Z$1<2,\"\",IF(ISERROR(MATCH('Individual Scores'!$D135,Scores!$F$253:$F$506,0)),\"\",INDIRECT(\"Scores!\"&\"R\"&(ROW(Scores!$253:$253)-1+MATCH('Individual Scores'!$D135,Scores!$F$253:$F$505,0))&\"C\"&COLUMN(Scores!N$1),FALSE)))","v":204},{"$f":"IF('Team Scores'!$Z$1<2,\"\",IF(ISERROR(MATCH('Individual Scores'!$D135,Scores!$F$253:$F$506,0)),\"\",INDIRECT(\"Scores!\"&\"R\"&(ROW(Scores!$253:$253)-1+MATCH('Individual Scores'!$D135,Scores!$F$253:$F$505,0))&\"C\"&COLUMN(Scores!O$1),FALSE)))","v":173},{"$f":"IF('Team Scores'!$Z$1<2,\"\",IF(ISERROR(MATCH('Individual Scores'!$D135,Scores!$F$253:$F$506,0)),\"\",INDIRECT(\"Scores!\"&\"R\"&(ROW(Scores!$253:$253)-1+MATCH('Individual Scores'!$D135,Scores!$F$253:$F$505,0))&\"C\"&COLUMN(Scores!P$1),FALSE)))","v":137},{"$f":"IF('Team Scores'!$Z$1<2,\"\",IF(ISERROR(MATCH('Individual Scores'!$D135,Scores!$F$253:$F$506,0)),\"\",INDIRECT(\"Scores!\"&\"R\"&(ROW(Scores!$253:$253)-1+MATCH('Individual Scores'!$D135,Scores!$F$253:$F$505,0))&\"C\"&COLUMN(Scores!S$1),FALSE)))","v":1046},204,532,null,{"$f":"IF('Team Scores'!$Z$1<3,\"\",IF(ISERROR(MATCH('Individual Scores'!$D135,Scores!$F$506:$F$759,0)),\"\",INDIRECT(\"Scores!\"&\"R\"&(ROW(Scores!$F$506:$F$759)-1+MATCH('Individual Scores'!$D135,Scores!$F$506:$F$759,0))&\"C\"&COLUMN(Scores!J$1),FALSE)))","v":""},{"$f":"IF('Team Scores'!$Z$1<3,\"\",IF(ISERROR(MATCH('Individual Scores'!$D135,Scores!$F$506:$F$759,0)),\"\",INDIRECT(\"Scores!\"&\"R\"&(ROW(Scores!$F$506:$F$759)-1+MATCH('Individual Scores'!$D135,Scores!$F$506:$F$759,0))&\"C\"&COLUMN(Scores!K$1),FALSE)))","v":""},{"$f":"IF('Team Scores'!$Z$1<3,\"\",IF(ISERROR(MATCH('Individual Scores'!$D135,Scores!$F$506:$F$759,0)),\"\",INDIRECT(\"Scores!\"&\"R\"&(ROW(Scores!$F$506:$F$759)-1+MATCH('Individual Scores'!$D135,Scores!$F$506:$F$759,0))&\"C\"&COLUMN(Scores!L$1),FALSE)))","v":""},{"$f":"IF('Team Scores'!$Z$1<3,\"\",IF(ISERROR(MATCH('Individual Scores'!$D135,Scores!$F$506:$F$759,0)),\"\",INDIRECT(\"Scores!\"&\"R\"&(ROW(Scores!$F$506:$F$759)-1+MATCH('Individual Scores'!$D135,Scores!$F$506:$F$759,0))&\"C\"&COLUMN(Scores!N$1),FALSE)))","v":""},{"$f":"IF('Team Scores'!$Z$1<3,\"\",IF(ISERROR(MATCH('Individual Scores'!$D135,Scores!$F$506:$F$759,0)),\"\",INDIRECT(\"Scores!\"&\"R\"&(ROW(Scores!$F$506:$F$759)-1+MATCH('Individual Scores'!$D135,Scores!$F$506:$F$759,0))&\"C\"&COLUMN(Scores!O$1),FALSE)))","v":""},{"$f":"IF('Team Scores'!$Z$1<3,\"\",IF(ISERROR(MATCH('Individual Scores'!$D135,Scores!$F$506:$F$759,0)),\"\",INDIRECT(\"Scores!\"&\"R\"&(ROW(Scores!$F$506:$F$759)-1+MATCH('Individual Scores'!$D135,Scores!$F$506:$F$759,0))&\"C\"&COLUMN(Scores!P$1),FALSE)))","v":""},{"$f":"IF('Team Scores'!$Z$1<3,\"\",IF(ISERROR(MATCH('Individual Scores'!$D135,Scores!$F$506:$F$759,0)),\"\",INDIRECT(\"Scores!\"&\"R\"&(ROW(Scores!$F$506:$F$759)-1+MATCH('Individual Scores'!$D135,Scores!$F$506:$F$759,0))&\"C\"&COLUMN(Scores!S$1),FALSE)))","v":""},"",""]
["SC","16-20","F","Sarah O'Conner",945,1037,"",1982,{"$f":"IF(COUNT(Q136:V136,AA136:AF136,AK136:AP136)>=18/3*'Team Scores'!$Z$1,IF(H136-VLOOKUP(B136&C136,'Individual Awards Computations'!$AY$54:$AZ$58,2,FALSE)=0,\"Leader \"&C136&\":\"&B136,H136-VLOOKUP(B136&C136,'Individual Awards Computations'!$AY$54:$AZ$58,2,FALSE)),\"\")","v":-464},186,525,165.16666666666666,15.666666666666666,"150-181",1,null,{"$f":"IF(ISERROR(MATCH('Individual Scores'!$D136,Scores!$F$1:$F$253,0)),\"\",INDIRECT(\"Scores!\"&\"R\"&MATCH('Individual Scores'!$D136,Scores!$F$1:$F$253,0)&\"C\"&COLUMN(Scores!J$1),FALSE))","v":156},{"$f":"IF(ISERROR(MATCH('Individual Scores'!$D136,Scores!$F$1:$F$253,0)),\"\",INDIRECT(\"Scores!\"&\"R\"&MATCH('Individual Scores'!$D136,Scores!$F$1:$F$253,0)&\"C\"&COLUMN(Scores!K$1),FALSE))","v":121},{"$f":"IF(ISERROR(MATCH('Individual Scores'!$D136,Scores!$F$1:$F$253,0)),\"\",INDIRECT(\"Scores!\"&\"R\"&MATCH('Individual Scores'!$D136,Scores!$F$1:$F$253,0)&\"C\"&COLUMN(Scores!L$1),FALSE))","v":155},{"$f":"IF(ISERROR(MATCH('Individual Scores'!$D136,Scores!$F$1:$F$253,0)),\"\",INDIRECT(\"Scores!\"&\"R\"&MATCH('Individual Scores'!$D136,Scores!$F$1:$F$253,0)&\"C\"&COLUMN(Scores!N$1),FALSE))","v":185},{"$f":"IF(ISERROR(MATCH('Individual Scores'!$D136,Scores!$F$1:$F$253,0)),\"\",INDIRECT(\"Scores!\"&\"R\"&MATCH('Individual Scores'!$D136,Scores!$F$1:$F$253,0)&\"C\"&COLUMN(Scores!O$1),FALSE))","v":171},{"$f":"IF(ISERROR(MATCH('Individual Scores'!$D136,Scores!$F$1:$F$253,0)),\"\",INDIRECT(\"Scores!\"&\"R\"&MATCH('Individual Scores'!$D136,Scores!$F$1:$F$253,0)&\"C\"&COLUMN(Scores!P$1),FALSE))","v":157},{"$f":"IF(ISERROR(MATCH('Individual Scores'!$D136,Scores!$F$1:$F$253,0)),\"\",INDIRECT(\"Scores!\"&\"R\"&MATCH('Individual Scores'!$D136,Scores!$F$1:$F$253,0)&\"C\"&COLUMN(Scores!S$1),FALSE))","v":945},{"$f":"IF(MAX('Individual Scores'!Q136:V136)>0,MAX('Individual Scores'!Q136:V136),\"\")","v":185},{"$f":"IF(MAX(SUM('Individual Scores'!Q136:S136),SUM('Individual Scores'!T136:V136))>0,MAX(SUM('Individual Scores'!Q136:S136),SUM('Individual Scores'!T136:V136)),\"\")","v":513},null,{"$f":"IF('Team Scores'!$Z$1<2,\"\",IF(ISERROR(MATCH('Individual Scores'!$D136,Scores!$F$253:$F$506,0)),\"\",INDIRECT(\"Scores!\"&\"R\"&(ROW(Scores!$253:$253)-1+MATCH('Individual Scores'!$D136,Scores!$F$253:$F$505,0))&\"C\"&COLUMN(Scores!J$1),FALSE)))","v":181},{"$f":"IF('Team Scores'!$Z$1<2,\"\",IF(ISERROR(MATCH('Individual Scores'!$D136,Scores!$F$253:$F$506,0)),\"\",INDIRECT(\"Scores!\"&\"R\"&(ROW(Scores!$253:$253)-1+MATCH('Individual Scores'!$D136,Scores!$F$253:$F$505,0))&\"C\"&COLUMN(Scores!K$1),FALSE)))","v":185},{"$f":"IF('Team Scores'!$Z$1<2,\"\",IF(ISERROR(MATCH('Individual Scores'!$D136,Scores!$F$253:$F$506,0)),\"\",INDIRECT(\"Scores!\"&\"R\"&(ROW(Scores!$253:$253)-1+MATCH('Individual Scores'!$D136,Scores!$F$253:$F$505,0))&\"C\"&COLUMN(Scores!L$1),FALSE)))","v":146},{"$f":"IF('Team Scores'!$Z$1<2,\"\",IF(ISERROR(MATCH('Individual Scores'!$D136,Scores!$F$253:$F$506,0)),\"\",INDIRECT(\"Scores!\"&\"R\"&(ROW(Scores!$253:$253)-1+MATCH('Individual Scores'!$D136,Scores!$F$253:$F$505,0))&\"C\"&COLUMN(Scores!N$1),FALSE)))","v":186},{"$f":"IF('Team Scores'!$Z$1<2,\"\",IF(ISERROR(MATCH('Individual Scores'!$D136,Scores!$F$253:$F$506,0)),\"\",INDIRECT(\"Scores!\"&\"R\"&(ROW(Scores!$253:$253)-1+MATCH('Individual Scores'!$D136,Scores!$F$253:$F$505,0))&\"C\"&COLUMN(Scores!O$1),FALSE)))","v":177},{"$f":"IF('Team Scores'!$Z$1<2,\"\",IF(ISERROR(MATCH('Individual Scores'!$D136,Scores!$F$253:$F$506,0)),\"\",INDIRECT(\"Scores!\"&\"R\"&(ROW(Scores!$253:$253)-1+MATCH('Individual Scores'!$D136,Scores!$F$253:$F$505,0))&\"C\"&COLUMN(Scores!P$1),FALSE)))","v":162},{"$f":"IF('Team Scores'!$Z$1<2,\"\",IF(ISERROR(MATCH('Individual Scores'!$D136,Scores!$F$253:$F$506,0)),\"\",INDIRECT(\"Scores!\"&\"R\"&(ROW(Scores!$253:$253)-1+MATCH('Individual Scores'!$D136,Scores!$F$253:$F$505,0))&\"C\"&COLUMN(Scores!S$1),FALSE)))","v":1037},186,525,null,{"$f":"IF('Team Scores'!$Z$1<3,\"\",IF(ISERROR(MATCH('Individual Scores'!$D136,Scores!$F$506:$F$759,0)),\"\",INDIRECT(\"Scores!\"&\"R\"&(ROW(Scores!$F$506:$F$759)-1+MATCH('Individual Scores'!$D136,Scores!$F$506:$F$759,0))&\"C\"&COLUMN(Scores!J$1),FALSE)))","v":""},{"$f":"IF('Team Scores'!$Z$1<3,\"\",IF(ISERROR(MATCH('Individual Scores'!$D136,Scores!$F$506:$F$759,0)),\"\",INDIRECT(\"Scores!\"&\"R\"&(ROW(Scores!$F$506:$F$759)-1+MATCH('Individual Scores'!$D136,Scores!$F$506:$F$759,0))&\"C\"&COLUMN(Scores!K$1),FALSE)))","v":""},{"$f":"IF('Team Scores'!$Z$1<3,\"\",IF(ISERROR(MATCH('Individual Scores'!$D136,Scores!$F$506:$F$759,0)),\"\",INDIRECT(\"Scores!\"&\"R\"&(ROW(Scores!$F$506:$F$759)-1+MATCH('Individual Scores'!$D136,Scores!$F$506:$F$759,0))&\"C\"&COLUMN(Scores!L$1),FALSE)))","v":""},{"$f":"IF('Team Scores'!$Z$1<3,\"\",IF(ISERROR(MATCH('Individual Scores'!$D136,Scores!$F$506:$F$759,0)),\"\",INDIRECT(\"Scores!\"&\"R\"&(ROW(Scores!$F$506:$F$759)-1+MATCH('Individual Scores'!$D136,Scores!$F$506:$F$759,0))&\"C\"&COLUMN(Scores!N$1),FALSE)))","v":""},{"$f":"IF('Team Scores'!$Z$1<3,\"\",IF(ISERROR(MATCH('Individual Scores'!$D136,Scores!$F$506:$F$759,0)),\"\",INDIRECT(\"Scores!\"&\"R\"&(ROW(Scores!$F$506:$F$759)-1+MATCH('Individual Scores'!$D136,Scores!$F$506:$F$759,0))&\"C\"&COLUMN(Scores!O$1),FALSE)))","v":""},{"$f":"IF('Team Scores'!$Z$1<3,\"\",IF(ISERROR(MATCH('Individual Scores'!$D136,Scores!$F$506:$F$759,0)),\"\",INDIRECT(\"Scores!\"&\"R\"&(ROW(Scores!$F$506:$F$759)-1+MATCH('Individual Scores'!$D136,Scores!$F$506:$F$759,0))&\"C\"&COLUMN(Scores!P$1),FALSE)))","v":""},{"$f":"IF('Team Scores'!$Z$1<3,\"\",IF(ISERROR(MATCH('Individual Scores'!$D136,Scores!$F$506:$F$759,0)),\"\",INDIRECT(\"Scores!\"&\"R\"&(ROW(Scores!$F$506:$F$759)-1+MATCH('Individual Scores'!$D136,Scores!$F$506:$F$759,0))&\"C\"&COLUMN(Scores!S$1),FALSE)))","v":""},"",""]
["SC","16-20","F","Lizzi O'Brien",923,979,"",1902,{"$f":"IF(COUNT(Q137:V137,AA137:AF137,AK137:AP137)>=18/3*'Team Scores'!$Z$1,IF(H137-VLOOKUP(B137&C137,'Individual Awards Computations'!$AY$54:$AZ$58,2,FALSE)=0,\"Leader \"&C137&\":\"&B137,H137-VLOOKUP(B137&C137,'Individual Awards Computations'!$AY$54:$AZ$58,2,FALSE)),\"\")","v":-544},199,526,158.5,16.166666666666668,"142-175",1,null,{"$f":"IF(ISERROR(MATCH('Individual Scores'!$D137,Scores!$F$1:$F$253,0)),\"\",INDIRECT(\"Scores!\"&\"R\"&MATCH('Individual Scores'!$D137,Scores!$F$1:$F$253,0)&\"C\"&COLUMN(Scores!J$1),FALSE))","v":142},{"$f":"IF(ISERROR(MATCH('Individual Scores'!$D137,Scores!$F$1:$F$253,0)),\"\",INDIRECT(\"Scores!\"&\"R\"&MATCH('Individual Scores'!$D137,Scores!$F$1:$F$253,0)&\"C\"&COLUMN(Scores!K$1),FALSE))","v":162},{"$f":"IF(ISERROR(MATCH('Individual Scores'!$D137,Scores!$F$1:$F$253,0)),\"\",INDIRECT(\"Scores!\"&\"R\"&MATCH('Individual Scores'!$D137,Scores!$F$1:$F$253,0)&\"C\"&COLUMN(Scores!L$1),FALSE))","v":165},{"$f":"IF(ISERROR(MATCH('Individual Scores'!$D137,Scores!$F$1:$F$253,0)),\"\",INDIRECT(\"Scores!\"&\"R\"&MATCH('Individual Scores'!$D137,Scores!$F$1:$F$253,0)&\"C\"&COLUMN(Scores!N$1),FALSE))","v":154},{"$f":"IF(ISERROR(MATCH('Individual Scores'!$D137,Scores!$F$1:$F$253,0)),\"\",INDIRECT(\"Scores!\"&\"R\"&MATCH('Individual Scores'!$D137,Scores!$F$1:$F$253,0)&\"C\"&COLUMN(Scores!O$1),FALSE))","v":159},{"$f":"IF(ISERROR(MATCH('Individual Scores'!$D137,Scores!$F$1:$F$253,0)),\"\",INDIRECT(\"Scores!\"&\"R\"&MATCH('Individual Scores'!$D137,Scores!$F$1:$F$253,0)&\"C\"&COLUMN(Scores!P$1),FALSE))","v":141},{"$f":"IF(ISERROR(MATCH('Individual Scores'!$D137,Scores!$F$1:$F$253,0)),\"\",INDIRECT(\"Scores!\"&\"R\"&MATCH('Individual Scores'!$D137,Scores!$F$1:$F$253,0)&\"C\"&COLUMN(Scores!S$1),FALSE))","v":923},{"$f":"IF(MAX('Individual Scores'!Q137:V137)>0,MAX('Individual Scores'!Q137:V137),\"\")","v":165},{"$f":"IF(MAX(SUM('Individual Scores'!Q137:S137),SUM('Individual Scores'!T137:V137))>0,MAX(SUM('Individual Scores'!Q137:S137),SUM('Individual Scores'!T137:V137)),\"\")","v":469},null,{"$f":"IF('Team Scores'!$Z$1<2,\"\",IF(ISERROR(MATCH('Individual Scores'!$D137,Scores!$F$253:$F$506,0)),\"\",INDIRECT(\"Scores!\"&\"R\"&(ROW(Scores!$253:$253)-1+MATCH('Individual Scores'!$D137,Scores!$F$253:$F$505,0))&\"C\"&COLUMN(Scores!J$1),FALSE)))","v":188},{"$f":"IF('Team Scores'!$Z$1<2,\"\",IF(ISERROR(MATCH('Individual Scores'!$D137,Scores!$F$253:$F$506,0)),\"\",INDIRECT(\"Scores!\"&\"R\"&(ROW(Scores!$253:$253)-1+MATCH('Individual Scores'!$D137,Scores!$F$253:$F$505,0))&\"C\"&COLUMN(Scores!K$1),FALSE)))","v":199},{"$f":"IF('Team Scores'!$Z$1<2,\"\",IF(ISERROR(MATCH('Individual Scores'!$D137,Scores!$F$253:$F$506,0)),\"\",INDIRECT(\"Scores!\"&\"R\"&(ROW(Scores!$253:$253)-1+MATCH('Individual Scores'!$D137,Scores!$F$253:$F$505,0))&\"C\"&COLUMN(Scores!L$1),FALSE)))","v":139},{"$f":"IF('Team Scores'!$Z$1<2,\"\",IF(ISERROR(MATCH('Individual Scores'!$D137,Scores!$F$253:$F$506,0)),\"\",INDIRECT(\"Scores!\"&\"R\"&(ROW(Scores!$253:$253)-1+MATCH('Individual Scores'!$D137,Scores!$F$253:$F$505,0))&\"C\"&COLUMN(Scores!N$1),FALSE)))","v":149},{"$f":"IF('Team Scores'!$Z$1<2,\"\",IF(ISERROR(MATCH('Individual Scores'!$D137,Scores!$F$253:$F$506,0)),\"\",INDIRECT(\"Scores!\"&\"R\"&(ROW(Scores!$253:$253)-1+MATCH('Individual Scores'!$D137,Scores!$F$253:$F$505,0))&\"C\"&COLUMN(Scores!O$1),FALSE)))","v":175},{"$f":"IF('Team Scores'!$Z$1<2,\"\",IF(ISERROR(MATCH('Individual Scores'!$D137,Scores!$F$253:$F$506,0)),\"\",INDIRECT(\"Scores!\"&\"R\"&(ROW(Scores!$253:$253)-1+MATCH('Individual Scores'!$D137,Scores!$F$253:$F$505,0))&\"C\"&COLUMN(Scores!P$1),FALSE)))","v":129},{"$f":"IF('Team Scores'!$Z$1<2,\"\",IF(ISERROR(MATCH('Individual Scores'!$D137,Scores!$F$253:$F$506,0)),\"\",INDIRECT(\"Scores!\"&\"R\"&(ROW(Scores!$253:$253)-1+MATCH('Individual Scores'!$D137,Scores!$F$253:$F$505,0))&\"C\"&COLUMN(Scores!S$1),FALSE)))","v":979},199,526,null,{"$f":"IF('Team Scores'!$Z$1<3,\"\",IF(ISERROR(MATCH('Individual Scores'!$D137,Scores!$F$506:$F$759,0)),\"\",INDIRECT(\"Scores!\"&\"R\"&(ROW(Scores!$F$506:$F$759)-1+MATCH('Individual Scores'!$D137,Scores!$F$506:$F$759,0))&\"C\"&COLUMN(Scores!J$1),FALSE)))","v":""},{"$f":"IF('Team Scores'!$Z$1<3,\"\",IF(ISERROR(MATCH('Individual Scores'!$D137,Scores!$F$506:$F$759,0)),\"\",INDIRECT(\"Scores!\"&\"R\"&(ROW(Scores!$F$506:$F$759)-1+MATCH('Individual Scores'!$D137,Scores!$F$506:$F$759,0))&\"C\"&COLUMN(Scores!K$1),FALSE)))","v":""},{"$f":"IF('Team Scores'!$Z$1<3,\"\",IF(ISERROR(MATCH('Individual Scores'!$D137,Scores!$F$506:$F$759,0)),\"\",INDIRECT(\"Scores!\"&\"R\"&(ROW(Scores!$F$506:$F$759)-1+MATCH('Individual Scores'!$D137,Scores!$F$506:$F$759,0))&\"C\"&COLUMN(Scores!L$1),FALSE)))","v":""},{"$f":"IF('Team Scores'!$Z$1<3,\"\",IF(ISERROR(MATCH('Individual Scores'!$D137,Scores!$F$506:$F$759,0)),\"\",INDIRECT(\"Scores!\"&\"R\"&(ROW(Scores!$F$506:$F$759)-1+MATCH('Individual Scores'!$D137,Scores!$F$506:$F$759,0))&\"C\"&COLUMN(Scores!N$1),FALSE)))","v":""},{"$f":"IF('Team Scores'!$Z$1<3,\"\",IF(ISERROR(MATCH('Individual Scores'!$D137,Scores!$F$506:$F$759,0)),\"\",INDIRECT(\"Scores!\"&\"R\"&(ROW(Scores!$F$506:$F$759)-1+MATCH('Individual Scores'!$D137,Scores!$F$506:$F$759,0))&\"C\"&COLUMN(Scores!O$1),FALSE)))","v":""},{"$f":"IF('Team Scores'!$Z$1<3,\"\",IF(ISERROR(MATCH('Individual Scores'!$D137,Scores!$F$506:$F$759,0)),\"\",INDIRECT(\"Scores!\"&\"R\"&(ROW(Scores!$F$506:$F$759)-1+MATCH('Individual Scores'!$D137,Scores!$F$506:$F$759,0))&\"C\"&COLUMN(Scores!P$1),FALSE)))","v":""},{"$f":"IF('Team Scores'!$Z$1<3,\"\",IF(ISERROR(MATCH('Individual Scores'!$D137,Scores!$F$506:$F$759,0)),\"\",INDIRECT(\"Scores!\"&\"R\"&(ROW(Scores!$F$506:$F$759)-1+MATCH('Individual Scores'!$D137,Scores!$F$506:$F$759,0))&\"C\"&COLUMN(Scores!S$1),FALSE)))","v":""},"",""]
["SC","16-20","F","Emily Bolton",1116,1022,"",2138,{"$f":"IF(COUNT(Q138:V138,AA138:AF138,AK138:AP138)>=18/3*'Team Scores'!$Z$1,IF(H138-VLOOKUP(B138&C138,'Individual Awards Computations'!$AY$54:$AZ$58,2,FALSE)=0,\"Leader \"&C138&\":\"&B138,H138-VLOOKUP(B138&C138,'Individual Awards Computations'!$AY$54:$AZ$58,2,FALSE)),\"\")","v":-308},223,576,178.16666666666666,20.166666666666668,"158-198",1,null,{"$f":"IF(ISERROR(MATCH('Individual Scores'!$D138,Scores!$F$1:$F$253,0)),\"\",INDIRECT(\"Scores!\"&\"R\"&MATCH('Individual Scores'!$D138,Scores!$F$1:$F$253,0)&\"C\"&COLUMN(Scores!J$1),FALSE))","v":223},{"$f":"IF(ISERROR(MATCH('Individual Scores'!$D138,Scores!$F$1:$F$253,0)),\"\",INDIRECT(\"Scores!\"&\"R\"&MATCH('Individual Scores'!$D138,Scores!$F$1:$F$253,0)&\"C\"&COLUMN(Scores!K$1),FALSE))","v":182},{"$f":"IF(ISERROR(MATCH('Individual Scores'!$D138,Scores!$F$1:$F$253,0)),\"\",INDIRECT(\"Scores!\"&\"R\"&MATCH('Individual Scores'!$D138,Scores!$F$1:$F$253,0)&\"C\"&COLUMN(Scores!L$1),FALSE))","v":135},{"$f":"IF(ISERROR(MATCH('Individual Scores'!$D138,Scores!$F$1:$F$253,0)),\"\",INDIRECT(\"Scores!\"&\"R\"&MATCH('Individual Scores'!$D138,Scores!$F$1:$F$253,0)&\"C\"&COLUMN(Scores!N$1),FALSE))","v":174},{"$f":"IF(ISERROR(MATCH('Individual Scores'!$D138,Scores!$F$1:$F$253,0)),\"\",INDIRECT(\"Scores!\"&\"R\"&MATCH('Individual Scores'!$D138,Scores!$F$1:$F$253,0)&\"C\"&COLUMN(Scores!O$1),FALSE))","v":191},{"$f":"IF(ISERROR(MATCH('Individual Scores'!$D138,Scores!$F$1:$F$253,0)),\"\",INDIRECT(\"Scores!\"&\"R\"&MATCH('Individual Scores'!$D138,Scores!$F$1:$F$253,0)&\"C\"&COLUMN(Scores!P$1),FALSE))","v":211},{"$f":"IF(ISERROR(MATCH('Individual Scores'!$D138,Scores!$F$1:$F$253,0)),\"\",INDIRECT(\"Scores!\"&\"R\"&MATCH('Individual Scores'!$D138,Scores!$F$1:$F$253,0)&\"C\"&COLUMN(Scores!S$1),FALSE))","v":1116},{"$f":"IF(MAX('Individual Scores'!Q138:V138)>0,MAX('Individual Scores'!Q138:V138),\"\")","v":223},{"$f":"IF(MAX(SUM('Individual Scores'!Q138:S138),SUM('Individual Scores'!T138:V138))>0,MAX(SUM('Individual Scores'!Q138:S138),SUM('Individual Scores'!T138:V138)),\"\")","v":576},null,{"$f":"IF('Team Scores'!$Z$1<2,\"\",IF(ISERROR(MATCH('Individual Scores'!$D138,Scores!$F$253:$F$506,0)),\"\",INDIRECT(\"Scores!\"&\"R\"&(ROW(Scores!$253:$253)-1+MATCH('Individual Scores'!$D138,Scores!$F$253:$F$505,0))&\"C\"&COLUMN(Scores!J$1),FALSE)))","v":162},{"$f":"IF('Team Scores'!$Z$1<2,\"\",IF(ISERROR(MATCH('Individual Scores'!$D138,Scores!$F$253:$F$506,0)),\"\",INDIRECT(\"Scores!\"&\"R\"&(ROW(Scores!$253:$253)-1+MATCH('Individual Scores'!$D138,Scores!$F$253:$F$505,0))&\"C\"&COLUMN(Scores!K$1),FALSE)))","v":193},{"$f":"IF('Team Scores'!$Z$1<2,\"\",IF(ISERROR(MATCH('Individual Scores'!$D138,Scores!$F$253:$F$506,0)),\"\",INDIRECT(\"Scores!\"&\"R\"&(ROW(Scores!$253:$253)-1+MATCH('Individual Scores'!$D138,Scores!$F$253:$F$505,0))&\"C\"&COLUMN(Scores!L$1),FALSE)))","v":148},{"$f":"IF('Team Scores'!$Z$1<2,\"\",IF(ISERROR(MATCH('Individual Scores'!$D138,Scores!$F$253:$F$506,0)),\"\",INDIRECT(\"Scores!\"&\"R\"&(ROW(Scores!$253:$253)-1+MATCH('Individual Scores'!$D138,Scores!$F$253:$F$505,0))&\"C\"&COLUMN(Scores!N$1),FALSE)))","v":190},{"$f":"IF('Team Scores'!$Z$1<2,\"\",IF(ISERROR(MATCH('Individual Scores'!$D138,Scores!$F$253:$F$506,0)),\"\",INDIRECT(\"Scores!\"&\"R\"&(ROW(Scores!$253:$253)-1+MATCH('Individual Scores'!$D138,Scores!$F$253:$F$505,0))&\"C\"&COLUMN(Scores!O$1),FALSE)))","v":176},{"$f":"IF('Team Scores'!$Z$1<2,\"\",IF(ISERROR(MATCH('Individual Scores'!$D138,Scores!$F$253:$F$506,0)),\"\",INDIRECT(\"Scores!\"&\"R\"&(ROW(Scores!$253:$253)-1+MATCH('Individual Scores'!$D138,Scores!$F$253:$F$505,0))&\"C\"&COLUMN(Scores!P$1),FALSE)))","v":153},{"$f":"IF('Team Scores'!$Z$1<2,\"\",IF(ISERROR(MATCH('Individual Scores'!$D138,Scores!$F$253:$F$506,0)),\"\",INDIRECT(\"Scores!\"&\"R\"&(ROW(Scores!$253:$253)-1+MATCH('Individual Scores'!$D138,Scores!$F$253:$F$505,0))&\"C\"&COLUMN(Scores!S$1),FALSE)))","v":1022},193,519,null,{"$f":"IF('Team Scores'!$Z$1<3,\"\",IF(ISERROR(MATCH('Individual Scores'!$D138,Scores!$F$506:$F$759,0)),\"\",INDIRECT(\"Scores!\"&\"R\"&(ROW(Scores!$F$506:$F$759)-1+MATCH('Individual Scores'!$D138,Scores!$F$506:$F$759,0))&\"C\"&COLUMN(Scores!J$1),FALSE)))","v":""},{"$f":"IF('Team Scores'!$Z$1<3,\"\",IF(ISERROR(MATCH('Individual Scores'!$D138,Scores!$F$506:$F$759,0)),\"\",INDIRECT(\"Scores!\"&\"R\"&(ROW(Scores!$F$506:$F$759)-1+MATCH('Individual Scores'!$D138,Scores!$F$506:$F$759,0))&\"C\"&COLUMN(Scores!K$1),FALSE)))","v":""},{"$f":"IF('Team Scores'!$Z$1<3,\"\",IF(ISERROR(MATCH('Individual Scores'!$D138,Scores!$F$506:$F$759,0)),\"\",INDIRECT(\"Scores!\"&\"R\"&(ROW(Scores!$F$506:$F$759)-1+MATCH('Individual Scores'!$D138,Scores!$F$506:$F$759,0))&\"C\"&COLUMN(Scores!L$1),FALSE)))","v":""},{"$f":"IF('Team Scores'!$Z$1<3,\"\",IF(ISERROR(MATCH('Individual Scores'!$D138,Scores!$F$506:$F$759,0)),\"\",INDIRECT(\"Scores!\"&\"R\"&(ROW(Scores!$F$506:$F$759)-1+MATCH('Individual Scores'!$D138,Scores!$F$506:$F$759,0))&\"C\"&COLUMN(Scores!N$1),FALSE)))","v":""},{"$f":"IF('Team Scores'!$Z$1<3,\"\",IF(ISERROR(MATCH('Individual Scores'!$D138,Scores!$F$506:$F$759,0)),\"\",INDIRECT(\"Scores!\"&\"R\"&(ROW(Scores!$F$506:$F$759)-1+MATCH('Individual Scores'!$D138,Scores!$F$506:$F$759,0))&\"C\"&COLUMN(Scores!O$1),FALSE)))","v":""},{"$f":"IF('Team Scores'!$Z$1<3,\"\",IF(ISERROR(MATCH('Individual Scores'!$D138,Scores!$F$506:$F$759,0)),\"\",INDIRECT(\"Scores!\"&\"R\"&(ROW(Scores!$F$506:$F$759)-1+MATCH('Individual Scores'!$D138,Scores!$F$506:$F$759,0))&\"C\"&COLUMN(Scores!P$1),FALSE)))","v":""},{"$f":"IF('Team Scores'!$Z$1<3,\"\",IF(ISERROR(MATCH('Individual Scores'!$D138,Scores!$F$506:$F$759,0)),\"\",INDIRECT(\"Scores!\"&\"R\"&(ROW(Scores!$F$506:$F$759)-1+MATCH('Individual Scores'!$D138,Scores!$F$506:$F$759,0))&\"C\"&COLUMN(Scores!S$1),FALSE)))","v":""},"",""]
["SC","16-20","F","Kimberlee Lambert",975,942,"",1917,{"$f":"IF(COUNT(Q139:V139,AA139:AF139,AK139:AP139)>=18/3*'Team Scores'!$Z$1,IF(H139-VLOOKUP(B139&C139,'Individual Awards Computations'!$AY$54:$AZ$58,2,FALSE)=0,\"Leader \"&C139&\":\"&B139,H139-VLOOKUP(B139&C139,'Individual Awards Computations'!$AY$54:$AZ$58,2,FALSE)),\"\")","v":-529},184,493,159.75,13.583333333333334,"146-173",1,null,{"$f":"IF(ISERROR(MATCH('Individual Scores'!$D139,Scores!$F$1:$F$253,0)),\"\",INDIRECT(\"Scores!\"&\"R\"&MATCH('Individual Scores'!$D139,Scores!$F$1:$F$253,0)&\"C\"&COLUMN(Scores!J$1),FALSE))","v":145},{"$f":"IF(ISERROR(MATCH('Individual Scores'!$D139,Scores!$F$1:$F$253,0)),\"\",INDIRECT(\"Scores!\"&\"R\"&MATCH('Individual Scores'!$D139,Scores!$F$1:$F$253,0)&\"C\"&COLUMN(Scores!K$1),FALSE))","v":153},{"$f":"IF(ISERROR(MATCH('Individual Scores'!$D139,Scores!$F$1:$F$253,0)),\"\",INDIRECT(\"Scores!\"&\"R\"&MATCH('Individual Scores'!$D139,Scores!$F$1:$F$253,0)&\"C\"&COLUMN(Scores!L$1),FALSE))","v":184},{"$f":"IF(ISERROR(MATCH('Individual Scores'!$D139,Scores!$F$1:$F$253,0)),\"\",INDIRECT(\"Scores!\"&\"R\"&MATCH('Individual Scores'!$D139,Scores!$F$1:$F$253,0)&\"C\"&COLUMN(Scores!N$1),FALSE))","v":148},{"$f":"IF(ISERROR(MATCH('Individual Scores'!$D139,Scores!$F$1:$F$253,0)),\"\",INDIRECT(\"Scores!\"&\"R\"&MATCH('Individual Scores'!$D139,Scores!$F$1:$F$253,0)&\"C\"&COLUMN(Scores!O$1),FALSE))","v":168},{"$f":"IF(ISERROR(MATCH('Individual Scores'!$D139,Scores!$F$1:$F$253,0)),\"\",INDIRECT(\"Scores!\"&\"R\"&MATCH('Individual Scores'!$D139,Scores!$F$1:$F$253,0)&\"C\"&COLUMN(Scores!P$1),FALSE))","v":177},{"$f":"IF(ISERROR(MATCH('Individual Scores'!$D139,Scores!$F$1:$F$253,0)),\"\",INDIRECT(\"Scores!\"&\"R\"&MATCH('Individual Scores'!$D139,Scores!$F$1:$F$253,0)&\"C\"&COLUMN(Scores!S$1),FALSE))","v":975},{"$f":"IF(MAX('Individual Scores'!Q139:V139)>0,MAX('Individual Scores'!Q139:V139),\"\")","v":184},{"$f":"IF(MAX(SUM('Individual Scores'!Q139:S139),SUM('Individual Scores'!T139:V139))>0,MAX(SUM('Individual Scores'!Q139:S139),SUM('Individual Scores'!T139:V139)),\"\")","v":493},null,{"$f":"IF('Team Scores'!$Z$1<2,\"\",IF(ISERROR(MATCH('Individual Scores'!$D139,Scores!$F$253:$F$506,0)),\"\",INDIRECT(\"Scores!\"&\"R\"&(ROW(Scores!$253:$253)-1+MATCH('Individual Scores'!$D139,Scores!$F$253:$F$505,0))&\"C\"&COLUMN(Scores!J$1),FALSE)))","v":161},{"$f":"IF('Team Scores'!$Z$1<2,\"\",IF(ISERROR(MATCH('Individual Scores'!$D139,Scores!$F$253:$F$506,0)),\"\",INDIRECT(\"Scores!\"&\"R\"&(ROW(Scores!$253:$253)-1+MATCH('Individual Scores'!$D139,Scores!$F$253:$F$505,0))&\"C\"&COLUMN(Scores!K$1),FALSE)))","v":176},{"$f":"IF('Team Scores'!$Z$1<2,\"\",IF(ISERROR(MATCH('Individual Scores'!$D139,Scores!$F$253:$F$506,0)),\"\",INDIRECT(\"Scores!\"&\"R\"&(ROW(Scores!$253:$253)-1+MATCH('Individual Scores'!$D139,Scores!$F$253:$F$505,0))&\"C\"&COLUMN(Scores!L$1),FALSE)))","v":125},{"$f":"IF('Team Scores'!$Z$1<2,\"\",IF(ISERROR(MATCH('Individual Scores'!$D139,Scores!$F$253:$F$506,0)),\"\",INDIRECT(\"Scores!\"&\"R\"&(ROW(Scores!$253:$253)-1+MATCH('Individual Scores'!$D139,Scores!$F$253:$F$505,0))&\"C\"&COLUMN(Scores!N$1),FALSE)))","v":174},{"$f":"IF('Team Scores'!$Z$1<2,\"\",IF(ISERROR(MATCH('Individual Scores'!$D139,Scores!$F$253:$F$506,0)),\"\",INDIRECT(\"Scores!\"&\"R\"&(ROW(Scores!$253:$253)-1+MATCH('Individual Scores'!$D139,Scores!$F$253:$F$505,0))&\"C\"&COLUMN(Scores!O$1),FALSE)))","v":156},{"$f":"IF('Team Scores'!$Z$1<2,\"\",IF(ISERROR(MATCH('Individual Scores'!$D139,Scores!$F$253:$F$506,0)),\"\",INDIRECT(\"Scores!\"&\"R\"&(ROW(Scores!$253:$253)-1+MATCH('Individual Scores'!$D139,Scores!$F$253:$F$505,0))&\"C\"&COLUMN(Scores!P$1),FALSE)))","v":150},{"$f":"IF('Team Scores'!$Z$1<2,\"\",IF(ISERROR(MATCH('Individual Scores'!$D139,Scores!$F$253:$F$506,0)),\"\",INDIRECT(\"Scores!\"&\"R\"&(ROW(Scores!$253:$253)-1+MATCH('Individual Scores'!$D139,Scores!$F$253:$F$505,0))&\"C\"&COLUMN(Scores!S$1),FALSE)))","v":942},176,480,null,{"$f":"IF('Team Scores'!$Z$1<3,\"\",IF(ISERROR(MATCH('Individual Scores'!$D139,Scores!$F$506:$F$759,0)),\"\",INDIRECT(\"Scores!\"&\"R\"&(ROW(Scores!$F$506:$F$759)-1+MATCH('Individual Scores'!$D139,Scores!$F$506:$F$759,0))&\"C\"&COLUMN(Scores!J$1),FALSE)))","v":""},{"$f":"IF('Team Scores'!$Z$1<3,\"\",IF(ISERROR(MATCH('Individual Scores'!$D139,Scores!$F$506:$F$759,0)),\"\",INDIRECT(\"Scores!\"&\"R\"&(ROW(Scores!$F$506:$F$759)-1+MATCH('Individual Scores'!$D139,Scores!$F$506:$F$759,0))&\"C\"&COLUMN(Scores!K$1),FALSE)))","v":""},{"$f":"IF('Team Scores'!$Z$1<3,\"\",IF(ISERROR(MATCH('Individual Scores'!$D139,Scores!$F$506:$F$759,0)),\"\",INDIRECT(\"Scores!\"&\"R\"&(ROW(Scores!$F$506:$F$759)-1+MATCH('Individual Scores'!$D139,Scores!$F$506:$F$759,0))&\"C\"&COLUMN(Scores!L$1),FALSE)))","v":""},{"$f":"IF('Team Scores'!$Z$1<3,\"\",IF(ISERROR(MATCH('Individual Scores'!$D139,Scores!$F$506:$F$759,0)),\"\",INDIRECT(\"Scores!\"&\"R\"&(ROW(Scores!$F$506:$F$759)-1+MATCH('Individual Scores'!$D139,Scores!$F$506:$F$759,0))&\"C\"&COLUMN(Scores!N$1),FALSE)))","v":""},{"$f":"IF('Team Scores'!$Z$1<3,\"\",IF(ISERROR(MATCH('Individual Scores'!$D139,Scores!$F$506:$F$759,0)),\"\",INDIRECT(\"Scores!\"&\"R\"&(ROW(Scores!$F$506:$F$759)-1+MATCH('Individual Scores'!$D139,Scores!$F$506:$F$759,0))&\"C\"&COLUMN(Scores!O$1),FALSE)))","v":""},{"$f":"IF('Team Scores'!$Z$1<3,\"\",IF(ISERROR(MATCH('Individual Scores'!$D139,Scores!$F$506:$F$759,0)),\"\",INDIRECT(\"Scores!\"&\"R\"&(ROW(Scores!$F$506:$F$759)-1+MATCH('Individual Scores'!$D139,Scores!$F$506:$F$759,0))&\"C\"&COLUMN(Scores!P$1),FALSE)))","v":""},{"$f":"IF('Team Scores'!$Z$1<3,\"\",IF(ISERROR(MATCH('Individual Scores'!$D139,Scores!$F$506:$F$759,0)),\"\",INDIRECT(\"Scores!\"&\"R\"&(ROW(Scores!$F$506:$F$759)-1+MATCH('Individual Scores'!$D139,Scores!$F$506:$F$759,0))&\"C\"&COLUMN(Scores!S$1),FALSE)))","v":""},"",""]
["SC","16-20","F","Jalynn Jenkins","","","",0,{"$f":"IF(COUNT(Q140:V140,AA140:AF140,AK140:AP140)>=18/3*'Team Scores'!$Z$1,IF(H140-VLOOKUP(B140&C140,'Individual Awards Computations'!$AY$54:$AZ$58,2,FALSE)=0,\"Leader \"&C140&\":\"&B140,H140-VLOOKUP(B140&C140,'Individual Awards Computations'!$AY$54:$AZ$58,2,FALSE)),\"\")","v":""},"","","","","",1,null,{"$f":"IF(ISERROR(MATCH('Individual Scores'!$D140,Scores!$F$1:$F$253,0)),\"\",INDIRECT(\"Scores!\"&\"R\"&MATCH('Individual Scores'!$D140,Scores!$F$1:$F$253,0)&\"C\"&COLUMN(Scores!J$1),FALSE))","v":""},{"$f":"IF(ISERROR(MATCH('Individual Scores'!$D140,Scores!$F$1:$F$253,0)),\"\",INDIRECT(\"Scores!\"&\"R\"&MATCH('Individual Scores'!$D140,Scores!$F$1:$F$253,0)&\"C\"&COLUMN(Scores!K$1),FALSE))","v":""},{"$f":"IF(ISERROR(MATCH('Individual Scores'!$D140,Scores!$F$1:$F$253,0)),\"\",INDIRECT(\"Scores!\"&\"R\"&MATCH('Individual Scores'!$D140,Scores!$F$1:$F$253,0)&\"C\"&COLUMN(Scores!L$1),FALSE))","v":""},{"$f":"IF(ISERROR(MATCH('Individual Scores'!$D140,Scores!$F$1:$F$253,0)),\"\",INDIRECT(\"Scores!\"&\"R\"&MATCH('Individual Scores'!$D140,Scores!$F$1:$F$253,0)&\"C\"&COLUMN(Scores!N$1),FALSE))","v":""},{"$f":"IF(ISERROR(MATCH('Individual Scores'!$D140,Scores!$F$1:$F$253,0)),\"\",INDIRECT(\"Scores!\"&\"R\"&MATCH('Individual Scores'!$D140,Scores!$F$1:$F$253,0)&\"C\"&COLUMN(Scores!O$1),FALSE))","v":""},{"$f":"IF(ISERROR(MATCH('Individual Scores'!$D140,Scores!$F$1:$F$253,0)),\"\",INDIRECT(\"Scores!\"&\"R\"&MATCH('Individual Scores'!$D140,Scores!$F$1:$F$253,0)&\"C\"&COLUMN(Scores!P$1),FALSE))","v":""},{"$f":"IF(ISERROR(MATCH('Individual Scores'!$D140,Scores!$F$1:$F$253,0)),\"\",INDIRECT(\"Scores!\"&\"R\"&MATCH('Individual Scores'!$D140,Scores!$F$1:$F$253,0)&\"C\"&COLUMN(Scores!S$1),FALSE))","v":""},{"$f":"IF(MAX('Individual Scores'!Q140:V140)>0,MAX('Individual Scores'!Q140:V140),\"\")","v":""},{"$f":"IF(MAX(SUM('Individual Scores'!Q140:S140),SUM('Individual Scores'!T140:V140))>0,MAX(SUM('Individual Scores'!Q140:S140),SUM('Individual Scores'!T140:V140)),\"\")","v":""},null,{"$f":"IF('Team Scores'!$Z$1<2,\"\",IF(ISERROR(MATCH('Individual Scores'!$D140,Scores!$F$253:$F$506,0)),\"\",INDIRECT(\"Scores!\"&\"R\"&(ROW(Scores!$253:$253)-1+MATCH('Individual Scores'!$D140,Scores!$F$253:$F$505,0))&\"C\"&COLUMN(Scores!J$1),FALSE)))","v":""},{"$f":"IF('Team Scores'!$Z$1<2,\"\",IF(ISERROR(MATCH('Individual Scores'!$D140,Scores!$F$253:$F$506,0)),\"\",INDIRECT(\"Scores!\"&\"R\"&(ROW(Scores!$253:$253)-1+MATCH('Individual Scores'!$D140,Scores!$F$253:$F$505,0))&\"C\"&COLUMN(Scores!K$1),FALSE)))","v":""},{"$f":"IF('Team Scores'!$Z$1<2,\"\",IF(ISERROR(MATCH('Individual Scores'!$D140,Scores!$F$253:$F$506,0)),\"\",INDIRECT(\"Scores!\"&\"R\"&(ROW(Scores!$253:$253)-1+MATCH('Individual Scores'!$D140,Scores!$F$253:$F$505,0))&\"C\"&COLUMN(Scores!L$1),FALSE)))","v":""},{"$f":"IF('Team Scores'!$Z$1<2,\"\",IF(ISERROR(MATCH('Individual Scores'!$D140,Scores!$F$253:$F$506,0)),\"\",INDIRECT(\"Scores!\"&\"R\"&(ROW(Scores!$253:$253)-1+MATCH('Individual Scores'!$D140,Scores!$F$253:$F$505,0))&\"C\"&COLUMN(Scores!N$1),FALSE)))","v":""},{"$f":"IF('Team Scores'!$Z$1<2,\"\",IF(ISERROR(MATCH('Individual Scores'!$D140,Scores!$F$253:$F$506,0)),\"\",INDIRECT(\"Scores!\"&\"R\"&(ROW(Scores!$253:$253)-1+MATCH('Individual Scores'!$D140,Scores!$F$253:$F$505,0))&\"C\"&COLUMN(Scores!O$1),FALSE)))","v":""},{"$f":"IF('Team Scores'!$Z$1<2,\"\",IF(ISERROR(MATCH('Individual Scores'!$D140,Scores!$F$253:$F$506,0)),\"\",INDIRECT(\"Scores!\"&\"R\"&(ROW(Scores!$253:$253)-1+MATCH('Individual Scores'!$D140,Scores!$F$253:$F$505,0))&\"C\"&COLUMN(Scores!P$1),FALSE)))","v":""},{"$f":"IF('Team Scores'!$Z$1<2,\"\",IF(ISERROR(MATCH('Individual Scores'!$D140,Scores!$F$253:$F$506,0)),\"\",INDIRECT(\"Scores!\"&\"R\"&(ROW(Scores!$253:$253)-1+MATCH('Individual Scores'!$D140,Scores!$F$253:$F$505,0))&\"C\"&COLUMN(Scores!S$1),FALSE)))","v":""},"","",null,{"$f":"IF('Team Scores'!$Z$1<3,\"\",IF(ISERROR(MATCH('Individual Scores'!$D140,Scores!$F$506:$F$759,0)),\"\",INDIRECT(\"Scores!\"&\"R\"&(ROW(Scores!$F$506:$F$759)-1+MATCH('Individual Scores'!$D140,Scores!$F$506:$F$759,0))&\"C\"&COLUMN(Scores!J$1),FALSE)))","v":""},{"$f":"IF('Team Scores'!$Z$1<3,\"\",IF(ISERROR(MATCH('Individual Scores'!$D140,Scores!$F$506:$F$759,0)),\"\",INDIRECT(\"Scores!\"&\"R\"&(ROW(Scores!$F$506:$F$759)-1+MATCH('Individual Scores'!$D140,Scores!$F$506:$F$759,0))&\"C\"&COLUMN(Scores!K$1),FALSE)))","v":""},{"$f":"IF('Team Scores'!$Z$1<3,\"\",IF(ISERROR(MATCH('Individual Scores'!$D140,Scores!$F$506:$F$759,0)),\"\",INDIRECT(\"Scores!\"&\"R\"&(ROW(Scores!$F$506:$F$759)-1+MATCH('Individual Scores'!$D140,Scores!$F$506:$F$759,0))&\"C\"&COLUMN(Scores!L$1),FALSE)))","v":""},{"$f":"IF('Team Scores'!$Z$1<3,\"\",IF(ISERROR(MATCH('Individual Scores'!$D140,Scores!$F$506:$F$759,0)),\"\",INDIRECT(\"Scores!\"&\"R\"&(ROW(Scores!$F$506:$F$759)-1+MATCH('Individual Scores'!$D140,Scores!$F$506:$F$759,0))&\"C\"&COLUMN(Scores!N$1),FALSE)))","v":""},{"$f":"IF('Team Scores'!$Z$1<3,\"\",IF(ISERROR(MATCH('Individual Scores'!$D140,Scores!$F$506:$F$759,0)),\"\",INDIRECT(\"Scores!\"&\"R\"&(ROW(Scores!$F$506:$F$759)-1+MATCH('Individual Scores'!$D140,Scores!$F$506:$F$759,0))&\"C\"&COLUMN(Scores!O$1),FALSE)))","v":""},{"$f":"IF('Team Scores'!$Z$1<3,\"\",IF(ISERROR(MATCH('Individual Scores'!$D140,Scores!$F$506:$F$759,0)),\"\",INDIRECT(\"Scores!\"&\"R\"&(ROW(Scores!$F$506:$F$759)-1+MATCH('Individual Scores'!$D140,Scores!$F$506:$F$759,0))&\"C\"&COLUMN(Scores!P$1),FALSE)))","v":""},{"$f":"IF('Team Scores'!$Z$1<3,\"\",IF(ISERROR(MATCH('Individual Scores'!$D140,Scores!$F$506:$F$759,0)),\"\",INDIRECT(\"Scores!\"&\"R\"&(ROW(Scores!$F$506:$F$759)-1+MATCH('Individual Scores'!$D140,Scores!$F$506:$F$759,0))&\"C\"&COLUMN(Scores!S$1),FALSE)))","v":""},"",""]
["SC","16-20","F","Kasey Smith",1203,1231,"",2434,{"$f":"IF(COUNT(Q141:V141,AA141:AF141,AK141:AP141)>=18/3*'Team Scores'!$Z$1,IF(H141-VLOOKUP(B141&C141,'Individual Awards Computations'!$AY$54:$AZ$58,2,FALSE)=0,\"Leader \"&C141&\":\"&B141,H141-VLOOKUP(B141&C141,'Individual Awards Computations'!$AY$54:$AZ$58,2,FALSE)),\"\")","v":-12},279,656,202.83333333333334,21,"182-224",1,null,{"$f":"IF(ISERROR(MATCH('Individual Scores'!$D141,Scores!$F$1:$F$253,0)),\"\",INDIRECT(\"Scores!\"&\"R\"&MATCH('Individual Scores'!$D141,Scores!$F$1:$F$253,0)&\"C\"&COLUMN(Scores!J$1),FALSE))","v":190},{"$f":"IF(ISERROR(MATCH('Individual Scores'!$D141,Scores!$F$1:$F$253,0)),\"\",INDIRECT(\"Scores!\"&\"R\"&MATCH('Individual Scores'!$D141,Scores!$F$1:$F$253,0)&\"C\"&COLUMN(Scores!K$1),FALSE))","v":279},{"$f":"IF(ISERROR(MATCH('Individual Scores'!$D141,Scores!$F$1:$F$253,0)),\"\",INDIRECT(\"Scores!\"&\"R\"&MATCH('Individual Scores'!$D141,Scores!$F$1:$F$253,0)&\"C\"&COLUMN(Scores!L$1),FALSE))","v":187},{"$f":"IF(ISERROR(MATCH('Individual Scores'!$D141,Scores!$F$1:$F$253,0)),\"\",INDIRECT(\"Scores!\"&\"R\"&MATCH('Individual Scores'!$D141,Scores!$F$1:$F$253,0)&\"C\"&COLUMN(Scores!N$1),FALSE))","v":175},{"$f":"IF(ISERROR(MATCH('Individual Scores'!$D141,Scores!$F$1:$F$253,0)),\"\",INDIRECT(\"Scores!\"&\"R\"&MATCH('Individual Scores'!$D141,Scores!$F$1:$F$253,0)&\"C\"&COLUMN(Scores!O$1),FALSE))","v":198},{"$f":"IF(ISERROR(MATCH('Individual Scores'!$D141,Scores!$F$1:$F$253,0)),\"\",INDIRECT(\"Scores!\"&\"R\"&MATCH('Individual Scores'!$D141,Scores!$F$1:$F$253,0)&\"C\"&COLUMN(Scores!P$1),FALSE))","v":174},{"$f":"IF(ISERROR(MATCH('Individual Scores'!$D141,Scores!$F$1:$F$253,0)),\"\",INDIRECT(\"Scores!\"&\"R\"&MATCH('Individual Scores'!$D141,Scores!$F$1:$F$253,0)&\"C\"&COLUMN(Scores!S$1),FALSE))","v":1203},{"$f":"IF(MAX('Individual Scores'!Q141:V141)>0,MAX('Individual Scores'!Q141:V141),\"\")","v":279},{"$f":"IF(MAX(SUM('Individual Scores'!Q141:S141),SUM('Individual Scores'!T141:V141))>0,MAX(SUM('Individual Scores'!Q141:S141),SUM('Individual Scores'!T141:V141)),\"\")","v":656},null,{"$f":"IF('Team Scores'!$Z$1<2,\"\",IF(ISERROR(MATCH('Individual Scores'!$D141,Scores!$F$253:$F$506,0)),\"\",INDIRECT(\"Scores!\"&\"R\"&(ROW(Scores!$253:$253)-1+MATCH('Individual Scores'!$D141,Scores!$F$253:$F$505,0))&\"C\"&COLUMN(Scores!J$1),FALSE)))","v":206},{"$f":"IF('Team Scores'!$Z$1<2,\"\",IF(ISERROR(MATCH('Individual Scores'!$D141,Scores!$F$253:$F$506,0)),\"\",INDIRECT(\"Scores!\"&\"R\"&(ROW(Scores!$253:$253)-1+MATCH('Individual Scores'!$D141,Scores!$F$253:$F$505,0))&\"C\"&COLUMN(Scores!K$1),FALSE)))","v":205},{"$f":"IF('Team Scores'!$Z$1<2,\"\",IF(ISERROR(MATCH('Individual Scores'!$D141,Scores!$F$253:$F$506,0)),\"\",INDIRECT(\"Scores!\"&\"R\"&(ROW(Scores!$253:$253)-1+MATCH('Individual Scores'!$D141,Scores!$F$253:$F$505,0))&\"C\"&COLUMN(Scores!L$1),FALSE)))","v":167},{"$f":"IF('Team Scores'!$Z$1<2,\"\",IF(ISERROR(MATCH('Individual Scores'!$D141,Scores!$F$253:$F$506,0)),\"\",INDIRECT(\"Scores!\"&\"R\"&(ROW(Scores!$253:$253)-1+MATCH('Individual Scores'!$D141,Scores!$F$253:$F$505,0))&\"C\"&COLUMN(Scores!N$1),FALSE)))","v":208},{"$f":"IF('Team Scores'!$Z$1<2,\"\",IF(ISERROR(MATCH('Individual Scores'!$D141,Scores!$F$253:$F$506,0)),\"\",INDIRECT(\"Scores!\"&\"R\"&(ROW(Scores!$253:$253)-1+MATCH('Individual Scores'!$D141,Scores!$F$253:$F$505,0))&\"C\"&COLUMN(Scores!O$1),FALSE)))","v":234},{"$f":"IF('Team Scores'!$Z$1<2,\"\",IF(ISERROR(MATCH('Individual Scores'!$D141,Scores!$F$253:$F$506,0)),\"\",INDIRECT(\"Scores!\"&\"R\"&(ROW(Scores!$253:$253)-1+MATCH('Individual Scores'!$D141,Scores!$F$253:$F$505,0))&\"C\"&COLUMN(Scores!P$1),FALSE)))","v":211},{"$f":"IF('Team Scores'!$Z$1<2,\"\",IF(ISERROR(MATCH('Individual Scores'!$D141,Scores!$F$253:$F$506,0)),\"\",INDIRECT(\"Scores!\"&\"R\"&(ROW(Scores!$253:$253)-1+MATCH('Individual Scores'!$D141,Scores!$F$253:$F$505,0))&\"C\"&COLUMN(Scores!S$1),FALSE)))","v":1231},234,653,null,{"$f":"IF('Team Scores'!$Z$1<3,\"\",IF(ISERROR(MATCH('Individual Scores'!$D141,Scores!$F$506:$F$759,0)),\"\",INDIRECT(\"Scores!\"&\"R\"&(ROW(Scores!$F$506:$F$759)-1+MATCH('Individual Scores'!$D141,Scores!$F$506:$F$759,0))&\"C\"&COLUMN(Scores!J$1),FALSE)))","v":""},{"$f":"IF('Team Scores'!$Z$1<3,\"\",IF(ISERROR(MATCH('Individual Scores'!$D141,Scores!$F$506:$F$759,0)),\"\",INDIRECT(\"Scores!\"&\"R\"&(ROW(Scores!$F$506:$F$759)-1+MATCH('Individual Scores'!$D141,Scores!$F$506:$F$759,0))&\"C\"&COLUMN(Scores!K$1),FALSE)))","v":""},{"$f":"IF('Team Scores'!$Z$1<3,\"\",IF(ISERROR(MATCH('Individual Scores'!$D141,Scores!$F$506:$F$759,0)),\"\",INDIRECT(\"Scores!\"&\"R\"&(ROW(Scores!$F$506:$F$759)-1+MATCH('Individual Scores'!$D141,Scores!$F$506:$F$759,0))&\"C\"&COLUMN(Scores!L$1),FALSE)))","v":""},{"$f":"IF('Team Scores'!$Z$1<3,\"\",IF(ISERROR(MATCH('Individual Scores'!$D141,Scores!$F$506:$F$759,0)),\"\",INDIRECT(\"Scores!\"&\"R\"&(ROW(Scores!$F$506:$F$759)-1+MATCH('Individual Scores'!$D141,Scores!$F$506:$F$759,0))&\"C\"&COLUMN(Scores!N$1),FALSE)))","v":""},{"$f":"IF('Team Scores'!$Z$1<3,\"\",IF(ISERROR(MATCH('Individual Scores'!$D141,Scores!$F$506:$F$759,0)),\"\",INDIRECT(\"Scores!\"&\"R\"&(ROW(Scores!$F$506:$F$759)-1+MATCH('Individual Scores'!$D141,Scores!$F$506:$F$759,0))&\"C\"&COLUMN(Scores!O$1),FALSE)))","v":""},{"$f":"IF('Team Scores'!$Z$1<3,\"\",IF(ISERROR(MATCH('Individual Scores'!$D141,Scores!$F$506:$F$759,0)),\"\",INDIRECT(\"Scores!\"&\"R\"&(ROW(Scores!$F$506:$F$759)-1+MATCH('Individual Scores'!$D141,Scores!$F$506:$F$759,0))&\"C\"&COLUMN(Scores!P$1),FALSE)))","v":""},{"$f":"IF('Team Scores'!$Z$1<3,\"\",IF(ISERROR(MATCH('Individual Scores'!$D141,Scores!$F$506:$F$759,0)),\"\",INDIRECT(\"Scores!\"&\"R\"&(ROW(Scores!$F$506:$F$759)-1+MATCH('Individual Scores'!$D141,Scores!$F$506:$F$759,0))&\"C\"&COLUMN(Scores!S$1),FALSE)))","v":""},"",""]
["SC","16-20","F","Kelly Hutchinson",922,1041,"",1963,{"$f":"IF(COUNT(Q142:V142,AA142:AF142,AK142:AP142)>=18/3*'Team Scores'!$Z$1,IF(H142-VLOOKUP(B142&C142,'Individual Awards Computations'!$AY$54:$AZ$58,2,FALSE)=0,\"Leader \"&C142&\":\"&B142,H142-VLOOKUP(B142&C142,'Individual Awards Computations'!$AY$54:$AZ$58,2,FALSE)),\"\")","v":""},194,518,153.66666666666666,20.111111111111114,"134-174",1,null,{"$f":"IF(ISERROR(MATCH('Individual Scores'!$D142,Scores!$F$1:$F$253,0)),\"\",INDIRECT(\"Scores!\"&\"R\"&MATCH('Individual Scores'!$D142,Scores!$F$1:$F$253,0)&\"C\"&COLUMN(Scores!J$1),FALSE))","v":194},{"$f":"IF(ISERROR(MATCH('Individual Scores'!$D142,Scores!$F$1:$F$253,0)),\"\",INDIRECT(\"Scores!\"&\"R\"&MATCH('Individual Scores'!$D142,Scores!$F$1:$F$253,0)&\"C\"&COLUMN(Scores!K$1),FALSE))","v":158},{"$f":"IF(ISERROR(MATCH('Individual Scores'!$D142,Scores!$F$1:$F$253,0)),\"\",INDIRECT(\"Scores!\"&\"R\"&MATCH('Individual Scores'!$D142,Scores!$F$1:$F$253,0)&\"C\"&COLUMN(Scores!L$1),FALSE))","v":166},{"$f":"IF(ISERROR(MATCH('Individual Scores'!$D142,Scores!$F$1:$F$253,0)),\"\",INDIRECT(\"Scores!\"&\"R\"&MATCH('Individual Scores'!$D142,Scores!$F$1:$F$253,0)&\"C\"&COLUMN(Scores!N$1),FALSE))","v":157},{"$f":"IF(ISERROR(MATCH('Individual Scores'!$D142,Scores!$F$1:$F$253,0)),\"\",INDIRECT(\"Scores!\"&\"R\"&MATCH('Individual Scores'!$D142,Scores!$F$1:$F$253,0)&\"C\"&COLUMN(Scores!O$1),FALSE))","v":131},{"$f":"IF(ISERROR(MATCH('Individual Scores'!$D142,Scores!$F$1:$F$253,0)),\"\",INDIRECT(\"Scores!\"&\"R\"&MATCH('Individual Scores'!$D142,Scores!$F$1:$F$253,0)&\"C\"&COLUMN(Scores!P$1),FALSE))","v":116},{"$f":"IF(ISERROR(MATCH('Individual Scores'!$D142,Scores!$F$1:$F$253,0)),\"\",INDIRECT(\"Scores!\"&\"R\"&MATCH('Individual Scores'!$D142,Scores!$F$1:$F$253,0)&\"C\"&COLUMN(Scores!S$1),FALSE))","v":922},null,null,null,null,null,null,null,null,null,{"$f":"IF('Team Scores'!$Z$1<2,\"\",IF(ISERROR(MATCH('Individual Scores'!$D142,Scores!$F$253:$F$506,0)),\"\",INDIRECT(\"Scores!\"&\"R\"&(ROW(Scores!$253:$253)-1+MATCH('Individual Scores'!$D142,Scores!$F$253:$F$505,0))&\"C\"&COLUMN(Scores!S$1),FALSE)))","v":1041},null,null,null,{"$f":"IF('Team Scores'!$Z$1<3,\"\",IF(ISERROR(MATCH('Individual Scores'!$D142,Scores!$F$506:$F$759,0)),\"\",INDIRECT(\"Scores!\"&\"R\"&(ROW(Scores!$F$506:$F$759)-1+MATCH('Individual Scores'!$D142,Scores!$F$506:$F$759,0))&\"C\"&COLUMN(Scores!J$1),FALSE)))","v":""},{"$f":"IF('Team Scores'!$Z$1<3,\"\",IF(ISERROR(MATCH('Individual Scores'!$D142,Scores!$F$506:$F$759,0)),\"\",INDIRECT(\"Scores!\"&\"R\"&(ROW(Scores!$F$506:$F$759)-1+MATCH('Individual Scores'!$D142,Scores!$F$506:$F$759,0))&\"C\"&COLUMN(Scores!K$1),FALSE)))","v":""},{"$f":"IF('Team Scores'!$Z$1<3,\"\",IF(ISERROR(MATCH('Individual Scores'!$D142,Scores!$F$506:$F$759,0)),\"\",INDIRECT(\"Scores!\"&\"R\"&(ROW(Scores!$F$506:$F$759)-1+MATCH('Individual Scores'!$D142,Scores!$F$506:$F$759,0))&\"C\"&COLUMN(Scores!L$1),FALSE)))","v":""},{"$f":"IF('Team Scores'!$Z$1<3,\"\",IF(ISERROR(MATCH('Individual Scores'!$D142,Scores!$F$506:$F$759,0)),\"\",INDIRECT(\"Scores!\"&\"R\"&(ROW(Scores!$F$506:$F$759)-1+MATCH('Individual Scores'!$D142,Scores!$F$506:$F$759,0))&\"C\"&COLUMN(Scores!N$1),FALSE)))","v":""},{"$f":"IF('Team Scores'!$Z$1<3,\"\",IF(ISERROR(MATCH('Individual Scores'!$D142,Scores!$F$506:$F$759,0)),\"\",INDIRECT(\"Scores!\"&\"R\"&(ROW(Scores!$F$506:$F$759)-1+MATCH('Individual Scores'!$D142,Scores!$F$506:$F$759,0))&\"C\"&COLUMN(Scores!O$1),FALSE)))","v":""},{"$f":"IF('Team Scores'!$Z$1<3,\"\",IF(ISERROR(MATCH('Individual Scores'!$D142,Scores!$F$506:$F$759,0)),\"\",INDIRECT(\"Scores!\"&\"R\"&(ROW(Scores!$F$506:$F$759)-1+MATCH('Individual Scores'!$D142,Scores!$F$506:$F$759,0))&\"C\"&COLUMN(Scores!P$1),FALSE)))","v":""},{"$f":"IF('Team Scores'!$Z$1<3,\"\",IF(ISERROR(MATCH('Individual Scores'!$D142,Scores!$F$506:$F$759,0)),\"\",INDIRECT(\"Scores!\"&\"R\"&(ROW(Scores!$F$506:$F$759)-1+MATCH('Individual Scores'!$D142,Scores!$F$506:$F$759,0))&\"C\"&COLUMN(Scores!S$1),FALSE)))","v":""},"",""]
["SC","16-20","F","Hannah Krietemeyer",1002,1013,"",2015,{"$f":"IF(COUNT(Q143:V143,AA143:AF143,AK143:AP143)>=18/3*'Team Scores'!$Z$1,IF(H143-VLOOKUP(B143&C143,'Individual Awards Computations'!$AY$54:$AZ$58,2,FALSE)=0,\"Leader \"&C143&\":\"&B143,H143-VLOOKUP(B143&C143,'Individual Awards Computations'!$AY$54:$AZ$58,2,FALSE)),\"\")","v":-431},241,588,167.91666666666666,24.75,"143-193",1,null,{"$f":"IF(ISERROR(MATCH('Individual Scores'!$D143,Scores!$F$1:$F$253,0)),\"\",INDIRECT(\"Scores!\"&\"R\"&MATCH('Individual Scores'!$D143,Scores!$F$1:$F$253,0)&\"C\"&COLUMN(Scores!J$1),FALSE))","v":128},{"$f":"IF(ISERROR(MATCH('Individual Scores'!$D143,Scores!$F$1:$F$253,0)),\"\",INDIRECT(\"Scores!\"&\"R\"&MATCH('Individual Scores'!$D143,Scores!$F$1:$F$253,0)&\"C\"&COLUMN(Scores!K$1),FALSE))","v":196},{"$f":"IF(ISERROR(MATCH('Individual Scores'!$D143,Scores!$F$1:$F$253,0)),\"\",INDIRECT(\"Scores!\"&\"R\"&MATCH('Individual Scores'!$D143,Scores!$F$1:$F$253,0)&\"C\"&COLUMN(Scores!L$1),FALSE))","v":160},{"$f":"IF(ISERROR(MATCH('Individual Scores'!$D143,Scores!$F$1:$F$253,0)),\"\",INDIRECT(\"Scores!\"&\"R\"&MATCH('Individual Scores'!$D143,Scores!$F$1:$F$253,0)&\"C\"&COLUMN(Scores!N$1),FALSE))","v":146},{"$f":"IF(ISERROR(MATCH('Individual Scores'!$D143,Scores!$F$1:$F$253,0)),\"\",INDIRECT(\"Scores!\"&\"R\"&MATCH('Individual Scores'!$D143,Scores!$F$1:$F$253,0)&\"C\"&COLUMN(Scores!O$1),FALSE))","v":191},{"$f":"IF(ISERROR(MATCH('Individual Scores'!$D143,Scores!$F$1:$F$253,0)),\"\",INDIRECT(\"Scores!\"&\"R\"&MATCH('Individual Scores'!$D143,Scores!$F$1:$F$253,0)&\"C\"&COLUMN(Scores!P$1),FALSE))","v":181},{"$f":"IF(ISERROR(MATCH('Individual Scores'!$D143,Scores!$F$1:$F$253,0)),\"\",INDIRECT(\"Scores!\"&\"R\"&MATCH('Individual Scores'!$D143,Scores!$F$1:$F$253,0)&\"C\"&COLUMN(Scores!S$1),FALSE))","v":1002},{"$f":"IF(MAX('Individual Scores'!Q143:V143)>0,MAX('Individual Scores'!Q143:V143),\"\")","v":196},{"$f":"IF(MAX(SUM('Individual Scores'!Q143:S143),SUM('Individual Scores'!T143:V143))>0,MAX(SUM('Individual Scores'!Q143:S143),SUM('Individual Scores'!T143:V143)),\"\")","v":518},null,{"$f":"IF('Team Scores'!$Z$1<2,\"\",IF(ISERROR(MATCH('Individual Scores'!$D143,Scores!$F$253:$F$506,0)),\"\",INDIRECT(\"Scores!\"&\"R\"&(ROW(Scores!$253:$253)-1+MATCH('Individual Scores'!$D143,Scores!$F$253:$F$505,0))&\"C\"&COLUMN(Scores!J$1),FALSE)))","v":170},{"$f":"IF('Team Scores'!$Z$1<2,\"\",IF(ISERROR(MATCH('Individual Scores'!$D143,Scores!$F$253:$F$506,0)),\"\",INDIRECT(\"Scores!\"&\"R\"&(ROW(Scores!$253:$253)-1+MATCH('Individual Scores'!$D143,Scores!$F$253:$F$505,0))&\"C\"&COLUMN(Scores!K$1),FALSE)))","v":241},{"$f":"IF('Team Scores'!$Z$1<2,\"\",IF(ISERROR(MATCH('Individual Scores'!$D143,Scores!$F$253:$F$506,0)),\"\",INDIRECT(\"Scores!\"&\"R\"&(ROW(Scores!$253:$253)-1+MATCH('Individual Scores'!$D143,Scores!$F$253:$F$505,0))&\"C\"&COLUMN(Scores!L$1),FALSE)))","v":177},{"$f":"IF('Team Scores'!$Z$1<2,\"\",IF(ISERROR(MATCH('Individual Scores'!$D143,Scores!$F$253:$F$506,0)),\"\",INDIRECT(\"Scores!\"&\"R\"&(ROW(Scores!$253:$253)-1+MATCH('Individual Scores'!$D143,Scores!$F$253:$F$505,0))&\"C\"&COLUMN(Scores!N$1),FALSE)))","v":125},{"$f":"IF('Team Scores'!$Z$1<2,\"\",IF(ISERROR(MATCH('Individual Scores'!$D143,Scores!$F$253:$F$506,0)),\"\",INDIRECT(\"Scores!\"&\"R\"&(ROW(Scores!$253:$253)-1+MATCH('Individual Scores'!$D143,Scores!$F$253:$F$505,0))&\"C\"&COLUMN(Scores!O$1),FALSE)))","v":153},{"$f":"IF('Team Scores'!$Z$1<2,\"\",IF(ISERROR(MATCH('Individual Scores'!$D143,Scores!$F$253:$F$506,0)),\"\",INDIRECT(\"Scores!\"&\"R\"&(ROW(Scores!$253:$253)-1+MATCH('Individual Scores'!$D143,Scores!$F$253:$F$505,0))&\"C\"&COLUMN(Scores!P$1),FALSE)))","v":147},{"$f":"IF('Team Scores'!$Z$1<2,\"\",IF(ISERROR(MATCH('Individual Scores'!$D143,Scores!$F$253:$F$506,0)),\"\",INDIRECT(\"Scores!\"&\"R\"&(ROW(Scores!$253:$253)-1+MATCH('Individual Scores'!$D143,Scores!$F$253:$F$505,0))&\"C\"&COLUMN(Scores!S$1),FALSE)))","v":1013},241,588,null,{"$f":"IF('Team Scores'!$Z$1<3,\"\",IF(ISERROR(MATCH('Individual Scores'!$D143,Scores!$F$506:$F$759,0)),\"\",INDIRECT(\"Scores!\"&\"R\"&(ROW(Scores!$F$506:$F$759)-1+MATCH('Individual Scores'!$D143,Scores!$F$506:$F$759,0))&\"C\"&COLUMN(Scores!J$1),FALSE)))","v":""},{"$f":"IF('Team Scores'!$Z$1<3,\"\",IF(ISERROR(MATCH('Individual Scores'!$D143,Scores!$F$506:$F$759,0)),\"\",INDIRECT(\"Scores!\"&\"R\"&(ROW(Scores!$F$506:$F$759)-1+MATCH('Individual Scores'!$D143,Scores!$F$506:$F$759,0))&\"C\"&COLUMN(Scores!K$1),FALSE)))","v":""},{"$f":"IF('Team Scores'!$Z$1<3,\"\",IF(ISERROR(MATCH('Individual Scores'!$D143,Scores!$F$506:$F$759,0)),\"\",INDIRECT(\"Scores!\"&\"R\"&(ROW(Scores!$F$506:$F$759)-1+MATCH('Individual Scores'!$D143,Scores!$F$506:$F$759,0))&\"C\"&COLUMN(Scores!L$1),FALSE)))","v":""},{"$f":"IF('Team Scores'!$Z$1<3,\"\",IF(ISERROR(MATCH('Individual Scores'!$D143,Scores!$F$506:$F$759,0)),\"\",INDIRECT(\"Scores!\"&\"R\"&(ROW(Scores!$F$506:$F$759)-1+MATCH('Individual Scores'!$D143,Scores!$F$506:$F$759,0))&\"C\"&COLUMN(Scores!N$1),FALSE)))","v":""},{"$f":"IF('Team Scores'!$Z$1<3,\"\",IF(ISERROR(MATCH('Individual Scores'!$D143,Scores!$F$506:$F$759,0)),\"\",INDIRECT(\"Scores!\"&\"R\"&(ROW(Scores!$F$506:$F$759)-1+MATCH('Individual Scores'!$D143,Scores!$F$506:$F$759,0))&\"C\"&COLUMN(Scores!O$1),FALSE)))","v":""},{"$f":"IF('Team Scores'!$Z$1<3,\"\",IF(ISERROR(MATCH('Individual Scores'!$D143,Scores!$F$506:$F$759,0)),\"\",INDIRECT(\"Scores!\"&\"R\"&(ROW(Scores!$F$506:$F$759)-1+MATCH('Individual Scores'!$D143,Scores!$F$506:$F$759,0))&\"C\"&COLUMN(Scores!P$1),FALSE)))","v":""},{"$f":"IF('Team Scores'!$Z$1<3,\"\",IF(ISERROR(MATCH('Individual Scores'!$D143,Scores!$F$506:$F$759,0)),\"\",INDIRECT(\"Scores!\"&\"R\"&(ROW(Scores!$F$506:$F$759)-1+MATCH('Individual Scores'!$D143,Scores!$F$506:$F$759,0))&\"C\"&COLUMN(Scores!S$1),FALSE)))","v":""},"",""]
["SC","16-20","F","Ashley Griffin",897,974,"",1871,{"$f":"IF(COUNT(Q144:V144,AA144:AF144,AK144:AP144)>=18/3*'Team Scores'!$Z$1,IF(H144-VLOOKUP(B144&C144,'Individual Awards Computations'!$AY$54:$AZ$58,2,FALSE)=0,\"Leader \"&C144&\":\"&B144,H144-VLOOKUP(B144&C144,'Individual Awards Computations'!$AY$54:$AZ$58,2,FALSE)),\"\")","v":-575},189,489,155.91666666666666,15.916666666666666,"140-172",1,null,{"$f":"IF(ISERROR(MATCH('Individual Scores'!$D144,Scores!$F$1:$F$253,0)),\"\",INDIRECT(\"Scores!\"&\"R\"&MATCH('Individual Scores'!$D144,Scores!$F$1:$F$253,0)&\"C\"&COLUMN(Scores!J$1),FALSE))","v":151},{"$f":"IF(ISERROR(MATCH('Individual Scores'!$D144,Scores!$F$1:$F$253,0)),\"\",INDIRECT(\"Scores!\"&\"R\"&MATCH('Individual Scores'!$D144,Scores!$F$1:$F$253,0)&\"C\"&COLUMN(Scores!K$1),FALSE))","v":168},{"$f":"IF(ISERROR(MATCH('Individual Scores'!$D144,Scores!$F$1:$F$253,0)),\"\",INDIRECT(\"Scores!\"&\"R\"&MATCH('Individual Scores'!$D144,Scores!$F$1:$F$253,0)&\"C\"&COLUMN(Scores!L$1),FALSE))","v":130},{"$f":"IF(ISERROR(MATCH('Individual Scores'!$D144,Scores!$F$1:$F$253,0)),\"\",INDIRECT(\"Scores!\"&\"R\"&MATCH('Individual Scores'!$D144,Scores!$F$1:$F$253,0)&\"C\"&COLUMN(Scores!N$1),FALSE))","v":129},{"$f":"IF(ISERROR(MATCH('Individual Scores'!$D144,Scores!$F$1:$F$253,0)),\"\",INDIRECT(\"Scores!\"&\"R\"&MATCH('Individual Scores'!$D144,Scores!$F$1:$F$253,0)&\"C\"&COLUMN(Scores!O$1),FALSE))","v":167},{"$f":"IF(ISERROR(MATCH('Individual Scores'!$D144,Scores!$F$1:$F$253,0)),\"\",INDIRECT(\"Scores!\"&\"R\"&MATCH('Individual Scores'!$D144,Scores!$F$1:$F$253,0)&\"C\"&COLUMN(Scores!P$1),FALSE))","v":152},{"$f":"IF(ISERROR(MATCH('Individual Scores'!$D144,Scores!$F$1:$F$253,0)),\"\",INDIRECT(\"Scores!\"&\"R\"&MATCH('Individual Scores'!$D144,Scores!$F$1:$F$253,0)&\"C\"&COLUMN(Scores!S$1),FALSE))","v":897},{"$f":"IF(MAX('Individual Scores'!Q144:V144)>0,MAX('Individual Scores'!Q144:V144),\"\")","v":168},{"$f":"IF(MAX(SUM('Individual Scores'!Q144:S144),SUM('Individual Scores'!T144:V144))>0,MAX(SUM('Individual Scores'!Q144:S144),SUM('Individual Scores'!T144:V144)),\"\")","v":449},null,{"$f":"IF('Team Scores'!$Z$1<2,\"\",IF(ISERROR(MATCH('Individual Scores'!$D144,Scores!$F$253:$F$506,0)),\"\",INDIRECT(\"Scores!\"&\"R\"&(ROW(Scores!$253:$253)-1+MATCH('Individual Scores'!$D144,Scores!$F$253:$F$505,0))&\"C\"&COLUMN(Scores!J$1),FALSE)))","v":134},{"$f":"IF('Team Scores'!$Z$1<2,\"\",IF(ISERROR(MATCH('Individual Scores'!$D144,Scores!$F$253:$F$506,0)),\"\",INDIRECT(\"Scores!\"&\"R\"&(ROW(Scores!$253:$253)-1+MATCH('Individual Scores'!$D144,Scores!$F$253:$F$505,0))&\"C\"&COLUMN(Scores!K$1),FALSE)))","v":169},{"$f":"IF('Team Scores'!$Z$1<2,\"\",IF(ISERROR(MATCH('Individual Scores'!$D144,Scores!$F$253:$F$506,0)),\"\",INDIRECT(\"Scores!\"&\"R\"&(ROW(Scores!$253:$253)-1+MATCH('Individual Scores'!$D144,Scores!$F$253:$F$505,0))&\"C\"&COLUMN(Scores!L$1),FALSE)))","v":182},{"$f":"IF('Team Scores'!$Z$1<2,\"\",IF(ISERROR(MATCH('Individual Scores'!$D144,Scores!$F$253:$F$506,0)),\"\",INDIRECT(\"Scores!\"&\"R\"&(ROW(Scores!$253:$253)-1+MATCH('Individual Scores'!$D144,Scores!$F$253:$F$505,0))&\"C\"&COLUMN(Scores!N$1),FALSE)))","v":156},{"$f":"IF('Team Scores'!$Z$1<2,\"\",IF(ISERROR(MATCH('Individual Scores'!$D144,Scores!$F$253:$F$506,0)),\"\",INDIRECT(\"Scores!\"&\"R\"&(ROW(Scores!$253:$253)-1+MATCH('Individual Scores'!$D144,Scores!$F$253:$F$505,0))&\"C\"&COLUMN(Scores!O$1),FALSE)))","v":189},{"$f":"IF('Team Scores'!$Z$1<2,\"\",IF(ISERROR(MATCH('Individual Scores'!$D144,Scores!$F$253:$F$506,0)),\"\",INDIRECT(\"Scores!\"&\"R\"&(ROW(Scores!$253:$253)-1+MATCH('Individual Scores'!$D144,Scores!$F$253:$F$505,0))&\"C\"&COLUMN(Scores!P$1),FALSE)))","v":144},{"$f":"IF('Team Scores'!$Z$1<2,\"\",IF(ISERROR(MATCH('Individual Scores'!$D144,Scores!$F$253:$F$506,0)),\"\",INDIRECT(\"Scores!\"&\"R\"&(ROW(Scores!$253:$253)-1+MATCH('Individual Scores'!$D144,Scores!$F$253:$F$505,0))&\"C\"&COLUMN(Scores!S$1),FALSE)))","v":974},189,489,null,{"$f":"IF('Team Scores'!$Z$1<3,\"\",IF(ISERROR(MATCH('Individual Scores'!$D144,Scores!$F$506:$F$759,0)),\"\",INDIRECT(\"Scores!\"&\"R\"&(ROW(Scores!$F$506:$F$759)-1+MATCH('Individual Scores'!$D144,Scores!$F$506:$F$759,0))&\"C\"&COLUMN(Scores!J$1),FALSE)))","v":""},{"$f":"IF('Team Scores'!$Z$1<3,\"\",IF(ISERROR(MATCH('Individual Scores'!$D144,Scores!$F$506:$F$759,0)),\"\",INDIRECT(\"Scores!\"&\"R\"&(ROW(Scores!$F$506:$F$759)-1+MATCH('Individual Scores'!$D144,Scores!$F$506:$F$759,0))&\"C\"&COLUMN(Scores!K$1),FALSE)))","v":""},{"$f":"IF('Team Scores'!$Z$1<3,\"\",IF(ISERROR(MATCH('Individual Scores'!$D144,Scores!$F$506:$F$759,0)),\"\",INDIRECT(\"Scores!\"&\"R\"&(ROW(Scores!$F$506:$F$759)-1+MATCH('Individual Scores'!$D144,Scores!$F$506:$F$759,0))&\"C\"&COLUMN(Scores!L$1),FALSE)))","v":""},{"$f":"IF('Team Scores'!$Z$1<3,\"\",IF(ISERROR(MATCH('Individual Scores'!$D144,Scores!$F$506:$F$759,0)),\"\",INDIRECT(\"Scores!\"&\"R\"&(ROW(Scores!$F$506:$F$759)-1+MATCH('Individual Scores'!$D144,Scores!$F$506:$F$759,0))&\"C\"&COLUMN(Scores!N$1),FALSE)))","v":""},{"$f":"IF('Team Scores'!$Z$1<3,\"\",IF(ISERROR(MATCH('Individual Scores'!$D144,Scores!$F$506:$F$759,0)),\"\",INDIRECT(\"Scores!\"&\"R\"&(ROW(Scores!$F$506:$F$759)-1+MATCH('Individual Scores'!$D144,Scores!$F$506:$F$759,0))&\"C\"&COLUMN(Scores!O$1),FALSE)))","v":""},{"$f":"IF('Team Scores'!$Z$1<3,\"\",IF(ISERROR(MATCH('Individual Scores'!$D144,Scores!$F$506:$F$759,0)),\"\",INDIRECT(\"Scores!\"&\"R\"&(ROW(Scores!$F$506:$F$759)-1+MATCH('Individual Scores'!$D144,Scores!$F$506:$F$759,0))&\"C\"&COLUMN(Scores!P$1),FALSE)))","v":""},{"$f":"IF('Team Scores'!$Z$1<3,\"\",IF(ISERROR(MATCH('Individual Scores'!$D144,Scores!$F$506:$F$759,0)),\"\",INDIRECT(\"Scores!\"&\"R\"&(ROW(Scores!$F$506:$F$759)-1+MATCH('Individual Scores'!$D144,Scores!$F$506:$F$759,0))&\"C\"&COLUMN(Scores!S$1),FALSE)))","v":""},"",""]
["SC","16-20","F","Vacant-SC_G_U20",0,"","",0,{"$f":"IF(COUNT(Q145:V145,AA145:AF145,AK145:AP145)>=18/3*'Team Scores'!$Z$1,IF(H145-VLOOKUP(B145&C145,'Individual Awards Computations'!$AY$54:$AZ$58,2,FALSE)=0,\"Leader \"&C145&\":\"&B145,H145-VLOOKUP(B145&C145,'Individual Awards Computations'!$AY$54:$AZ$58,2,FALSE)),\"\")","v":""},"","","","","",1,null,{"$f":"IF(ISERROR(MATCH('Individual Scores'!$D145,Scores!$F$1:$F$253,0)),\"\",INDIRECT(\"Scores!\"&\"R\"&MATCH('Individual Scores'!$D145,Scores!$F$1:$F$253,0)&\"C\"&COLUMN(Scores!J$1),FALSE))","v":0},{"$f":"IF(ISERROR(MATCH('Individual Scores'!$D145,Scores!$F$1:$F$253,0)),\"\",INDIRECT(\"Scores!\"&\"R\"&MATCH('Individual Scores'!$D145,Scores!$F$1:$F$253,0)&\"C\"&COLUMN(Scores!K$1),FALSE))","v":0},{"$f":"IF(ISERROR(MATCH('Individual Scores'!$D145,Scores!$F$1:$F$253,0)),\"\",INDIRECT(\"Scores!\"&\"R\"&MATCH('Individual Scores'!$D145,Scores!$F$1:$F$253,0)&\"C\"&COLUMN(Scores!L$1),FALSE))","v":0},{"$f":"IF(ISERROR(MATCH('Individual Scores'!$D145,Scores!$F$1:$F$253,0)),\"\",INDIRECT(\"Scores!\"&\"R\"&MATCH('Individual Scores'!$D145,Scores!$F$1:$F$253,0)&\"C\"&COLUMN(Scores!N$1),FALSE))","v":0},{"$f":"IF(ISERROR(MATCH('Individual Scores'!$D145,Scores!$F$1:$F$253,0)),\"\",INDIRECT(\"Scores!\"&\"R\"&MATCH('Individual Scores'!$D145,Scores!$F$1:$F$253,0)&\"C\"&COLUMN(Scores!O$1),FALSE))","v":0},{"$f":"IF(ISERROR(MATCH('Individual Scores'!$D145,Scores!$F$1:$F$253,0)),\"\",INDIRECT(\"Scores!\"&\"R\"&MATCH('Individual Scores'!$D145,Scores!$F$1:$F$253,0)&\"C\"&COLUMN(Scores!P$1),FALSE))","v":0},{"$f":"IF(ISERROR(MATCH('Individual Scores'!$D145,Scores!$F$1:$F$253,0)),\"\",INDIRECT(\"Scores!\"&\"R\"&MATCH('Individual Scores'!$D145,Scores!$F$1:$F$253,0)&\"C\"&COLUMN(Scores!S$1),FALSE))","v":0},{"$f":"IF(MAX('Individual Scores'!Q145:V145)>0,MAX('Individual Scores'!Q145:V145),\"\")","v":""},{"$f":"IF(MAX(SUM('Individual Scores'!Q145:S145),SUM('Individual Scores'!T145:V145))>0,MAX(SUM('Individual Scores'!Q145:S145),SUM('Individual Scores'!T145:V145)),\"\")","v":""},null,{"$f":"IF('Team Scores'!$Z$1<2,\"\",IF(ISERROR(MATCH('Individual Scores'!$D145,Scores!$F$253:$F$506,0)),\"\",INDIRECT(\"Scores!\"&\"R\"&(ROW(Scores!$253:$253)-1+MATCH('Individual Scores'!$D145,Scores!$F$253:$F$505,0))&\"C\"&COLUMN(Scores!J$1),FALSE)))","v":""},{"$f":"IF('Team Scores'!$Z$1<2,\"\",IF(ISERROR(MATCH('Individual Scores'!$D145,Scores!$F$253:$F$506,0)),\"\",INDIRECT(\"Scores!\"&\"R\"&(ROW(Scores!$253:$253)-1+MATCH('Individual Scores'!$D145,Scores!$F$253:$F$505,0))&\"C\"&COLUMN(Scores!K$1),FALSE)))","v":""},{"$f":"IF('Team Scores'!$Z$1<2,\"\",IF(ISERROR(MATCH('Individual Scores'!$D145,Scores!$F$253:$F$506,0)),\"\",INDIRECT(\"Scores!\"&\"R\"&(ROW(Scores!$253:$253)-1+MATCH('Individual Scores'!$D145,Scores!$F$253:$F$505,0))&\"C\"&COLUMN(Scores!L$1),FALSE)))","v":""},{"$f":"IF('Team Scores'!$Z$1<2,\"\",IF(ISERROR(MATCH('Individual Scores'!$D145,Scores!$F$253:$F$506,0)),\"\",INDIRECT(\"Scores!\"&\"R\"&(ROW(Scores!$253:$253)-1+MATCH('Individual Scores'!$D145,Scores!$F$253:$F$505,0))&\"C\"&COLUMN(Scores!N$1),FALSE)))","v":""},{"$f":"IF('Team Scores'!$Z$1<2,\"\",IF(ISERROR(MATCH('Individual Scores'!$D145,Scores!$F$253:$F$506,0)),\"\",INDIRECT(\"Scores!\"&\"R\"&(ROW(Scores!$253:$253)-1+MATCH('Individual Scores'!$D145,Scores!$F$253:$F$505,0))&\"C\"&COLUMN(Scores!O$1),FALSE)))","v":""},{"$f":"IF('Team Scores'!$Z$1<2,\"\",IF(ISERROR(MATCH('Individual Scores'!$D145,Scores!$F$253:$F$506,0)),\"\",INDIRECT(\"Scores!\"&\"R\"&(ROW(Scores!$253:$253)-1+MATCH('Individual Scores'!$D145,Scores!$F$253:$F$505,0))&\"C\"&COLUMN(Scores!P$1),FALSE)))","v":""},{"$f":"IF('Team Scores'!$Z$1<2,\"\",IF(ISERROR(MATCH('Individual Scores'!$D145,Scores!$F$253:$F$506,0)),\"\",INDIRECT(\"Scores!\"&\"R\"&(ROW(Scores!$253:$253)-1+MATCH('Individual Scores'!$D145,Scores!$F$253:$F$505,0))&\"C\"&COLUMN(Scores!S$1),FALSE)))","v":""},"","",null,{"$f":"IF('Team Scores'!$Z$1<3,\"\",IF(ISERROR(MATCH('Individual Scores'!$D145,Scores!$F$506:$F$759,0)),\"\",INDIRECT(\"Scores!\"&\"R\"&(ROW(Scores!$F$506:$F$759)-1+MATCH('Individual Scores'!$D145,Scores!$F$506:$F$759,0))&\"C\"&COLUMN(Scores!J$1),FALSE)))","v":""},{"$f":"IF('Team Scores'!$Z$1<3,\"\",IF(ISERROR(MATCH('Individual Scores'!$D145,Scores!$F$506:$F$759,0)),\"\",INDIRECT(\"Scores!\"&\"R\"&(ROW(Scores!$F$506:$F$759)-1+MATCH('Individual Scores'!$D145,Scores!$F$506:$F$759,0))&\"C\"&COLUMN(Scores!K$1),FALSE)))","v":""},{"$f":"IF('Team Scores'!$Z$1<3,\"\",IF(ISERROR(MATCH('Individual Scores'!$D145,Scores!$F$506:$F$759,0)),\"\",INDIRECT(\"Scores!\"&\"R\"&(ROW(Scores!$F$506:$F$759)-1+MATCH('Individual Scores'!$D145,Scores!$F$506:$F$759,0))&\"C\"&COLUMN(Scores!L$1),FALSE)))","v":""},{"$f":"IF('Team Scores'!$Z$1<3,\"\",IF(ISERROR(MATCH('Individual Scores'!$D145,Scores!$F$506:$F$759,0)),\"\",INDIRECT(\"Scores!\"&\"R\"&(ROW(Scores!$F$506:$F$759)-1+MATCH('Individual Scores'!$D145,Scores!$F$506:$F$759,0))&\"C\"&COLUMN(Scores!N$1),FALSE)))","v":""},{"$f":"IF('Team Scores'!$Z$1<3,\"\",IF(ISERROR(MATCH('Individual Scores'!$D145,Scores!$F$506:$F$759,0)),\"\",INDIRECT(\"Scores!\"&\"R\"&(ROW(Scores!$F$506:$F$759)-1+MATCH('Individual Scores'!$D145,Scores!$F$506:$F$759,0))&\"C\"&COLUMN(Scores!O$1),FALSE)))","v":""},{"$f":"IF('Team Scores'!$Z$1<3,\"\",IF(ISERROR(MATCH('Individual Scores'!$D145,Scores!$F$506:$F$759,0)),\"\",INDIRECT(\"Scores!\"&\"R\"&(ROW(Scores!$F$506:$F$759)-1+MATCH('Individual Scores'!$D145,Scores!$F$506:$F$759,0))&\"C\"&COLUMN(Scores!P$1),FALSE)))","v":""},{"$f":"IF('Team Scores'!$Z$1<3,\"\",IF(ISERROR(MATCH('Individual Scores'!$D145,Scores!$F$506:$F$759,0)),\"\",INDIRECT(\"Scores!\"&\"R\"&(ROW(Scores!$F$506:$F$759)-1+MATCH('Individual Scores'!$D145,Scores!$F$506:$F$759,0))&\"C\"&COLUMN(Scores!S$1),FALSE)))","v":""},"",""]
["SC","16-20","F","Andrea Hawkins","",1132,"",1132,{"$f":"IF(COUNT(Q146:V146,AA146:AF146,AK146:AP146)>=18/3*'Team Scores'!$Z$1,IF(H146-VLOOKUP(B146&C146,'Individual Awards Computations'!$AY$54:$AZ$58,2,FALSE)=0,\"Leader \"&C146&\":\"&B146,H146-VLOOKUP(B146&C146,'Individual Awards Computations'!$AY$54:$AZ$58,2,FALSE)),\"\")","v":""},215,571,188.66666666666666,21.444444444444446,"167-210",1,null,{"$f":"IF(ISERROR(MATCH('Individual Scores'!$D146,Scores!$F$1:$F$253,0)),\"\",INDIRECT(\"Scores!\"&\"R\"&MATCH('Individual Scores'!$D146,Scores!$F$1:$F$253,0)&\"C\"&COLUMN(Scores!J$1),FALSE))","v":""},{"$f":"IF(ISERROR(MATCH('Individual Scores'!$D146,Scores!$F$1:$F$253,0)),\"\",INDIRECT(\"Scores!\"&\"R\"&MATCH('Individual Scores'!$D146,Scores!$F$1:$F$253,0)&\"C\"&COLUMN(Scores!K$1),FALSE))","v":""},{"$f":"IF(ISERROR(MATCH('Individual Scores'!$D146,Scores!$F$1:$F$253,0)),\"\",INDIRECT(\"Scores!\"&\"R\"&MATCH('Individual Scores'!$D146,Scores!$F$1:$F$253,0)&\"C\"&COLUMN(Scores!L$1),FALSE))","v":""},{"$f":"IF(ISERROR(MATCH('Individual Scores'!$D146,Scores!$F$1:$F$253,0)),\"\",INDIRECT(\"Scores!\"&\"R\"&MATCH('Individual Scores'!$D146,Scores!$F$1:$F$253,0)&\"C\"&COLUMN(Scores!N$1),FALSE))","v":""},{"$f":"IF(ISERROR(MATCH('Individual Scores'!$D146,Scores!$F$1:$F$253,0)),\"\",INDIRECT(\"Scores!\"&\"R\"&MATCH('Individual Scores'!$D146,Scores!$F$1:$F$253,0)&\"C\"&COLUMN(Scores!O$1),FALSE))","v":""},{"$f":"IF(ISERROR(MATCH('Individual Scores'!$D146,Scores!$F$1:$F$253,0)),\"\",INDIRECT(\"Scores!\"&\"R\"&MATCH('Individual Scores'!$D146,Scores!$F$1:$F$253,0)&\"C\"&COLUMN(Scores!P$1),FALSE))","v":""},{"$f":"IF(ISERROR(MATCH('Individual Scores'!$D146,Scores!$F$1:$F$253,0)),\"\",INDIRECT(\"Scores!\"&\"R\"&MATCH('Individual Scores'!$D146,Scores!$F$1:$F$253,0)&\"C\"&COLUMN(Scores!S$1),FALSE))","v":""},{"$f":"IF(MAX('Individual Scores'!Q146:V146)>0,MAX('Individual Scores'!Q146:V146),\"\")","v":""},{"$f":"IF(MAX(SUM('Individual Scores'!Q146:S146),SUM('Individual Scores'!T146:V146))>0,MAX(SUM('Individual Scores'!Q146:S146),SUM('Individual Scores'!T146:V146)),\"\")","v":""},null,{"$f":"IF('Team Scores'!$Z$1<2,\"\",IF(ISERROR(MATCH('Individual Scores'!$D146,Scores!$F$253:$F$506,0)),\"\",INDIRECT(\"Scores!\"&\"R\"&(ROW(Scores!$253:$253)-1+MATCH('Individual Scores'!$D146,Scores!$F$253:$F$505,0))&\"C\"&COLUMN(Scores!J$1),FALSE)))","v":198},{"$f":"IF('Team Scores'!$Z$1<2,\"\",IF(ISERROR(MATCH('Individual Scores'!$D146,Scores!$F$253:$F$506,0)),\"\",INDIRECT(\"Scores!\"&\"R\"&(ROW(Scores!$253:$253)-1+MATCH('Individual Scores'!$D146,Scores!$F$253:$F$505,0))&\"C\"&COLUMN(Scores!K$1),FALSE)))","v":170},{"$f":"IF('Team Scores'!$Z$1<2,\"\",IF(ISERROR(MATCH('Individual Scores'!$D146,Scores!$F$253:$F$506,0)),\"\",INDIRECT(\"Scores!\"&\"R\"&(ROW(Scores!$253:$253)-1+MATCH('Individual Scores'!$D146,Scores!$F$253:$F$505,0))&\"C\"&COLUMN(Scores!L$1),FALSE)))","v":203},{"$f":"IF('Team Scores'!$Z$1<2,\"\",IF(ISERROR(MATCH('Individual Scores'!$D146,Scores!$F$253:$F$506,0)),\"\",INDIRECT(\"Scores!\"&\"R\"&(ROW(Scores!$253:$253)-1+MATCH('Individual Scores'!$D146,Scores!$F$253:$F$505,0))&\"C\"&COLUMN(Scores!N$1),FALSE)))","v":143},{"$f":"IF('Team Scores'!$Z$1<2,\"\",IF(ISERROR(MATCH('Individual Scores'!$D146,Scores!$F$253:$F$506,0)),\"\",INDIRECT(\"Scores!\"&\"R\"&(ROW(Scores!$253:$253)-1+MATCH('Individual Scores'!$D146,Scores!$F$253:$F$505,0))&\"C\"&COLUMN(Scores!O$1),FALSE)))","v":215},{"$f":"IF('Team Scores'!$Z$1<2,\"\",IF(ISERROR(MATCH('Individual Scores'!$D146,Scores!$F$253:$F$506,0)),\"\",INDIRECT(\"Scores!\"&\"R\"&(ROW(Scores!$253:$253)-1+MATCH('Individual Scores'!$D146,Scores!$F$253:$F$505,0))&\"C\"&COLUMN(Scores!P$1),FALSE)))","v":203},{"$f":"IF('Team Scores'!$Z$1<2,\"\",IF(ISERROR(MATCH('Individual Scores'!$D146,Scores!$F$253:$F$506,0)),\"\",INDIRECT(\"Scores!\"&\"R\"&(ROW(Scores!$253:$253)-1+MATCH('Individual Scores'!$D146,Scores!$F$253:$F$505,0))&\"C\"&COLUMN(Scores!S$1),FALSE)))","v":1132},215,571,null,{"$f":"IF('Team Scores'!$Z$1<3,\"\",IF(ISERROR(MATCH('Individual Scores'!$D146,Scores!$F$506:$F$759,0)),\"\",INDIRECT(\"Scores!\"&\"R\"&(ROW(Scores!$F$506:$F$759)-1+MATCH('Individual Scores'!$D146,Scores!$F$506:$F$759,0))&\"C\"&COLUMN(Scores!J$1),FALSE)))","v":""},{"$f":"IF('Team Scores'!$Z$1<3,\"\",IF(ISERROR(MATCH('Individual Scores'!$D146,Scores!$F$506:$F$759,0)),\"\",INDIRECT(\"Scores!\"&\"R\"&(ROW(Scores!$F$506:$F$759)-1+MATCH('Individual Scores'!$D146,Scores!$F$506:$F$759,0))&\"C\"&COLUMN(Scores!K$1),FALSE)))","v":""},{"$f":"IF('Team Scores'!$Z$1<3,\"\",IF(ISERROR(MATCH('Individual Scores'!$D146,Scores!$F$506:$F$759,0)),\"\",INDIRECT(\"Scores!\"&\"R\"&(ROW(Scores!$F$506:$F$759)-1+MATCH('Individual Scores'!$D146,Scores!$F$506:$F$759,0))&\"C\"&COLUMN(Scores!L$1),FALSE)))","v":""},{"$f":"IF('Team Scores'!$Z$1<3,\"\",IF(ISERROR(MATCH('Individual Scores'!$D146,Scores!$F$506:$F$759,0)),\"\",INDIRECT(\"Scores!\"&\"R\"&(ROW(Scores!$F$506:$F$759)-1+MATCH('Individual Scores'!$D146,Scores!$F$506:$F$759,0))&\"C\"&COLUMN(Scores!N$1),FALSE)))","v":""},{"$f":"IF('Team Scores'!$Z$1<3,\"\",IF(ISERROR(MATCH('Individual Scores'!$D146,Scores!$F$506:$F$759,0)),\"\",INDIRECT(\"Scores!\"&\"R\"&(ROW(Scores!$F$506:$F$759)-1+MATCH('Individual Scores'!$D146,Scores!$F$506:$F$759,0))&\"C\"&COLUMN(Scores!O$1),FALSE)))","v":""},{"$f":"IF('Team Scores'!$Z$1<3,\"\",IF(ISERROR(MATCH('Individual Scores'!$D146,Scores!$F$506:$F$759,0)),\"\",INDIRECT(\"Scores!\"&\"R\"&(ROW(Scores!$F$506:$F$759)-1+MATCH('Individual Scores'!$D146,Scores!$F$506:$F$759,0))&\"C\"&COLUMN(Scores!P$1),FALSE)))","v":""},{"$f":"IF('Team Scores'!$Z$1<3,\"\",IF(ISERROR(MATCH('Individual Scores'!$D146,Scores!$F$506:$F$759,0)),\"\",INDIRECT(\"Scores!\"&\"R\"&(ROW(Scores!$F$506:$F$759)-1+MATCH('Individual Scores'!$D146,Scores!$F$506:$F$759,0))&\"C\"&COLUMN(Scores!S$1),FALSE)))","v":""},"",""]
["SC","16-20","M","Eric Smith",1086,1043,"",2129,{"$f":"IF(COUNT(Q147:V147,AA147:AF147,AK147:AP147)>=18/3*'Team Scores'!$Z$1,IF(H147-VLOOKUP(B147&C147,'Individual Awards Computations'!$AY$54:$AZ$58,2,FALSE)=0,\"Leader \"&C147&\":\"&B147,H147-VLOOKUP(B147&C147,'Individual Awards Computations'!$AY$54:$AZ$58,2,FALSE)),\"\")","v":-541},223,556,177.41666666666666,17.083333333333332,"160-195",1,null,{"$f":"IF(ISERROR(MATCH('Individual Scores'!$D147,Scores!$F$1:$F$253,0)),\"\",INDIRECT(\"Scores!\"&\"R\"&MATCH('Individual Scores'!$D147,Scores!$F$1:$F$253,0)&\"C\"&COLUMN(Scores!J$1),FALSE))","v":223},{"$f":"IF(ISERROR(MATCH('Individual Scores'!$D147,Scores!$F$1:$F$253,0)),\"\",INDIRECT(\"Scores!\"&\"R\"&MATCH('Individual Scores'!$D147,Scores!$F$1:$F$253,0)&\"C\"&COLUMN(Scores!K$1),FALSE))","v":179},{"$f":"IF(ISERROR(MATCH('Individual Scores'!$D147,Scores!$F$1:$F$253,0)),\"\",INDIRECT(\"Scores!\"&\"R\"&MATCH('Individual Scores'!$D147,Scores!$F$1:$F$253,0)&\"C\"&COLUMN(Scores!L$1),FALSE))","v":130},{"$f":"IF(ISERROR(MATCH('Individual Scores'!$D147,Scores!$F$1:$F$253,0)),\"\",INDIRECT(\"Scores!\"&\"R\"&MATCH('Individual Scores'!$D147,Scores!$F$1:$F$253,0)&\"C\"&COLUMN(Scores!N$1),FALSE))","v":194},{"$f":"IF(ISERROR(MATCH('Individual Scores'!$D147,Scores!$F$1:$F$253,0)),\"\",INDIRECT(\"Scores!\"&\"R\"&MATCH('Individual Scores'!$D147,Scores!$F$1:$F$253,0)&\"C\"&COLUMN(Scores!O$1),FALSE))","v":191},{"$f":"IF(ISERROR(MATCH('Individual Scores'!$D147,Scores!$F$1:$F$253,0)),\"\",INDIRECT(\"Scores!\"&\"R\"&MATCH('Individual Scores'!$D147,Scores!$F$1:$F$253,0)&\"C\"&COLUMN(Scores!P$1),FALSE))","v":169},{"$f":"IF(ISERROR(MATCH('Individual Scores'!$D147,Scores!$F$1:$F$253,0)),\"\",INDIRECT(\"Scores!\"&\"R\"&MATCH('Individual Scores'!$D147,Scores!$F$1:$F$253,0)&\"C\"&COLUMN(Scores!S$1),FALSE))","v":1086},{"$f":"IF(MAX('Individual Scores'!Q147:V147)>0,MAX('Individual Scores'!Q147:V147),\"\")","v":223},{"$f":"IF(MAX(SUM('Individual Scores'!Q147:S147),SUM('Individual Scores'!T147:V147))>0,MAX(SUM('Individual Scores'!Q147:S147),SUM('Individual Scores'!T147:V147)),\"\")","v":554},null,{"$f":"IF('Team Scores'!$Z$1<2,\"\",IF(ISERROR(MATCH('Individual Scores'!$D147,Scores!$F$253:$F$506,0)),\"\",INDIRECT(\"Scores!\"&\"R\"&(ROW(Scores!$253:$253)-1+MATCH('Individual Scores'!$D147,Scores!$F$253:$F$505,0))&\"C\"&COLUMN(Scores!J$1),FALSE)))","v":178},{"$f":"IF('Team Scores'!$Z$1<2,\"\",IF(ISERROR(MATCH('Individual Scores'!$D147,Scores!$F$253:$F$506,0)),\"\",INDIRECT(\"Scores!\"&\"R\"&(ROW(Scores!$253:$253)-1+MATCH('Individual Scores'!$D147,Scores!$F$253:$F$505,0))&\"C\"&COLUMN(Scores!K$1),FALSE)))","v":202},{"$f":"IF('Team Scores'!$Z$1<2,\"\",IF(ISERROR(MATCH('Individual Scores'!$D147,Scores!$F$253:$F$506,0)),\"\",INDIRECT(\"Scores!\"&\"R\"&(ROW(Scores!$253:$253)-1+MATCH('Individual Scores'!$D147,Scores!$F$253:$F$505,0))&\"C\"&COLUMN(Scores!L$1),FALSE)))","v":176},{"$f":"IF('Team Scores'!$Z$1<2,\"\",IF(ISERROR(MATCH('Individual Scores'!$D147,Scores!$F$253:$F$506,0)),\"\",INDIRECT(\"Scores!\"&\"R\"&(ROW(Scores!$253:$253)-1+MATCH('Individual Scores'!$D147,Scores!$F$253:$F$505,0))&\"C\"&COLUMN(Scores!N$1),FALSE)))","v":147},{"$f":"IF('Team Scores'!$Z$1<2,\"\",IF(ISERROR(MATCH('Individual Scores'!$D147,Scores!$F$253:$F$506,0)),\"\",INDIRECT(\"Scores!\"&\"R\"&(ROW(Scores!$253:$253)-1+MATCH('Individual Scores'!$D147,Scores!$F$253:$F$505,0))&\"C\"&COLUMN(Scores!O$1),FALSE)))","v":163},{"$f":"IF('Team Scores'!$Z$1<2,\"\",IF(ISERROR(MATCH('Individual Scores'!$D147,Scores!$F$253:$F$506,0)),\"\",INDIRECT(\"Scores!\"&\"R\"&(ROW(Scores!$253:$253)-1+MATCH('Individual Scores'!$D147,Scores!$F$253:$F$505,0))&\"C\"&COLUMN(Scores!P$1),FALSE)))","v":177},{"$f":"IF('Team Scores'!$Z$1<2,\"\",IF(ISERROR(MATCH('Individual Scores'!$D147,Scores!$F$253:$F$506,0)),\"\",INDIRECT(\"Scores!\"&\"R\"&(ROW(Scores!$253:$253)-1+MATCH('Individual Scores'!$D147,Scores!$F$253:$F$505,0))&\"C\"&COLUMN(Scores!S$1),FALSE)))","v":1043},202,556,null,{"$f":"IF('Team Scores'!$Z$1<3,\"\",IF(ISERROR(MATCH('Individual Scores'!$D147,Scores!$F$506:$F$759,0)),\"\",INDIRECT(\"Scores!\"&\"R\"&(ROW(Scores!$F$506:$F$759)-1+MATCH('Individual Scores'!$D147,Scores!$F$506:$F$759,0))&\"C\"&COLUMN(Scores!J$1),FALSE)))","v":""},{"$f":"IF('Team Scores'!$Z$1<3,\"\",IF(ISERROR(MATCH('Individual Scores'!$D147,Scores!$F$506:$F$759,0)),\"\",INDIRECT(\"Scores!\"&\"R\"&(ROW(Scores!$F$506:$F$759)-1+MATCH('Individual Scores'!$D147,Scores!$F$506:$F$759,0))&\"C\"&COLUMN(Scores!K$1),FALSE)))","v":""},{"$f":"IF('Team Scores'!$Z$1<3,\"\",IF(ISERROR(MATCH('Individual Scores'!$D147,Scores!$F$506:$F$759,0)),\"\",INDIRECT(\"Scores!\"&\"R\"&(ROW(Scores!$F$506:$F$759)-1+MATCH('Individual Scores'!$D147,Scores!$F$506:$F$759,0))&\"C\"&COLUMN(Scores!L$1),FALSE)))","v":""},{"$f":"IF('Team Scores'!$Z$1<3,\"\",IF(ISERROR(MATCH('Individual Scores'!$D147,Scores!$F$506:$F$759,0)),\"\",INDIRECT(\"Scores!\"&\"R\"&(ROW(Scores!$F$506:$F$759)-1+MATCH('Individual Scores'!$D147,Scores!$F$506:$F$759,0))&\"C\"&COLUMN(Scores!N$1),FALSE)))","v":""},{"$f":"IF('Team Scores'!$Z$1<3,\"\",IF(ISERROR(MATCH('Individual Scores'!$D147,Scores!$F$506:$F$759,0)),\"\",INDIRECT(\"Scores!\"&\"R\"&(ROW(Scores!$F$506:$F$759)-1+MATCH('Individual Scores'!$D147,Scores!$F$506:$F$759,0))&\"C\"&COLUMN(Scores!O$1),FALSE)))","v":""},{"$f":"IF('Team Scores'!$Z$1<3,\"\",IF(ISERROR(MATCH('Individual Scores'!$D147,Scores!$F$506:$F$759,0)),\"\",INDIRECT(\"Scores!\"&\"R\"&(ROW(Scores!$F$506:$F$759)-1+MATCH('Individual Scores'!$D147,Scores!$F$506:$F$759,0))&\"C\"&COLUMN(Scores!P$1),FALSE)))","v":""},{"$f":"IF('Team Scores'!$Z$1<3,\"\",IF(ISERROR(MATCH('Individual Scores'!$D147,Scores!$F$506:$F$759,0)),\"\",INDIRECT(\"Scores!\"&\"R\"&(ROW(Scores!$F$506:$F$759)-1+MATCH('Individual Scores'!$D147,Scores!$F$506:$F$759,0))&\"C\"&COLUMN(Scores!S$1),FALSE)))","v":""},"",""]
["SC","16-20","M","Joshua Manz","",1009,"",1009,{"$f":"IF(COUNT(Q148:V148,AA148:AF148,AK148:AP148)>=18/3*'Team Scores'!$Z$1,IF(H148-VLOOKUP(B148&C148,'Individual Awards Computations'!$AY$54:$AZ$58,2,FALSE)=0,\"Leader \"&C148&\":\"&B148,H148-VLOOKUP(B148&C148,'Individual Awards Computations'!$AY$54:$AZ$58,2,FALSE)),\"\")","v":""},191,506,168.16666666666666,11.888888888888886,"156-180",1,null,{"$f":"IF(ISERROR(MATCH('Individual Scores'!$D148,Scores!$F$1:$F$253,0)),\"\",INDIRECT(\"Scores!\"&\"R\"&MATCH('Individual Scores'!$D148,Scores!$F$1:$F$253,0)&\"C\"&COLUMN(Scores!J$1),FALSE))","v":""},{"$f":"IF(ISERROR(MATCH('Individual Scores'!$D148,Scores!$F$1:$F$253,0)),\"\",INDIRECT(\"Scores!\"&\"R\"&MATCH('Individual Scores'!$D148,Scores!$F$1:$F$253,0)&\"C\"&COLUMN(Scores!K$1),FALSE))","v":""},{"$f":"IF(ISERROR(MATCH('Individual Scores'!$D148,Scores!$F$1:$F$253,0)),\"\",INDIRECT(\"Scores!\"&\"R\"&MATCH('Individual Scores'!$D148,Scores!$F$1:$F$253,0)&\"C\"&COLUMN(Scores!L$1),FALSE))","v":""},{"$f":"IF(ISERROR(MATCH('Individual Scores'!$D148,Scores!$F$1:$F$253,0)),\"\",INDIRECT(\"Scores!\"&\"R\"&MATCH('Individual Scores'!$D148,Scores!$F$1:$F$253,0)&\"C\"&COLUMN(Scores!N$1),FALSE))","v":""},{"$f":"IF(ISERROR(MATCH('Individual Scores'!$D148,Scores!$F$1:$F$253,0)),\"\",INDIRECT(\"Scores!\"&\"R\"&MATCH('Individual Scores'!$D148,Scores!$F$1:$F$253,0)&\"C\"&COLUMN(Scores!O$1),FALSE))","v":""},{"$f":"IF(ISERROR(MATCH('Individual Scores'!$D148,Scores!$F$1:$F$253,0)),\"\",INDIRECT(\"Scores!\"&\"R\"&MATCH('Individual Scores'!$D148,Scores!$F$1:$F$253,0)&\"C\"&COLUMN(Scores!P$1),FALSE))","v":""},{"$f":"IF(ISERROR(MATCH('Individual Scores'!$D148,Scores!$F$1:$F$253,0)),\"\",INDIRECT(\"Scores!\"&\"R\"&MATCH('Individual Scores'!$D148,Scores!$F$1:$F$253,0)&\"C\"&COLUMN(Scores!S$1),FALSE))","v":""},{"$f":"IF(MAX('Individual Scores'!Q148:V148)>0,MAX('Individual Scores'!Q148:V148),\"\")","v":""},{"$f":"IF(MAX(SUM('Individual Scores'!Q148:S148),SUM('Individual Scores'!T148:V148))>0,MAX(SUM('Individual Scores'!Q148:S148),SUM('Individual Scores'!T148:V148)),\"\")","v":""},null,{"$f":"IF('Team Scores'!$Z$1<2,\"\",IF(ISERROR(MATCH('Individual Scores'!$D148,Scores!$F$253:$F$506,0)),\"\",INDIRECT(\"Scores!\"&\"R\"&(ROW(Scores!$253:$253)-1+MATCH('Individual Scores'!$D148,Scores!$F$253:$F$505,0))&\"C\"&COLUMN(Scores!J$1),FALSE)))","v":191},{"$f":"IF('Team Scores'!$Z$1<2,\"\",IF(ISERROR(MATCH('Individual Scores'!$D148,Scores!$F$253:$F$506,0)),\"\",INDIRECT(\"Scores!\"&\"R\"&(ROW(Scores!$253:$253)-1+MATCH('Individual Scores'!$D148,Scores!$F$253:$F$505,0))&\"C\"&COLUMN(Scores!K$1),FALSE)))","v":150},{"$f":"IF('Team Scores'!$Z$1<2,\"\",IF(ISERROR(MATCH('Individual Scores'!$D148,Scores!$F$253:$F$506,0)),\"\",INDIRECT(\"Scores!\"&\"R\"&(ROW(Scores!$253:$253)-1+MATCH('Individual Scores'!$D148,Scores!$F$253:$F$505,0))&\"C\"&COLUMN(Scores!L$1),FALSE)))","v":165},{"$f":"IF('Team Scores'!$Z$1<2,\"\",IF(ISERROR(MATCH('Individual Scores'!$D148,Scores!$F$253:$F$506,0)),\"\",INDIRECT(\"Scores!\"&\"R\"&(ROW(Scores!$253:$253)-1+MATCH('Individual Scores'!$D148,Scores!$F$253:$F$505,0))&\"C\"&COLUMN(Scores!N$1),FALSE)))","v":166},{"$f":"IF('Team Scores'!$Z$1<2,\"\",IF(ISERROR(MATCH('Individual Scores'!$D148,Scores!$F$253:$F$506,0)),\"\",INDIRECT(\"Scores!\"&\"R\"&(ROW(Scores!$253:$253)-1+MATCH('Individual Scores'!$D148,Scores!$F$253:$F$505,0))&\"C\"&COLUMN(Scores!O$1),FALSE)))","v":156},{"$f":"IF('Team Scores'!$Z$1<2,\"\",IF(ISERROR(MATCH('Individual Scores'!$D148,Scores!$F$253:$F$506,0)),\"\",INDIRECT(\"Scores!\"&\"R\"&(ROW(Scores!$253:$253)-1+MATCH('Individual Scores'!$D148,Scores!$F$253:$F$505,0))&\"C\"&COLUMN(Scores!P$1),FALSE)))","v":181},{"$f":"IF('Team Scores'!$Z$1<2,\"\",IF(ISERROR(MATCH('Individual Scores'!$D148,Scores!$F$253:$F$506,0)),\"\",INDIRECT(\"Scores!\"&\"R\"&(ROW(Scores!$253:$253)-1+MATCH('Individual Scores'!$D148,Scores!$F$253:$F$505,0))&\"C\"&COLUMN(Scores!S$1),FALSE)))","v":1009},191,506,null,{"$f":"IF('Team Scores'!$Z$1<3,\"\",IF(ISERROR(MATCH('Individual Scores'!$D148,Scores!$F$506:$F$759,0)),\"\",INDIRECT(\"Scores!\"&\"R\"&(ROW(Scores!$F$506:$F$759)-1+MATCH('Individual Scores'!$D148,Scores!$F$506:$F$759,0))&\"C\"&COLUMN(Scores!J$1),FALSE)))","v":""},{"$f":"IF('Team Scores'!$Z$1<3,\"\",IF(ISERROR(MATCH('Individual Scores'!$D148,Scores!$F$506:$F$759,0)),\"\",INDIRECT(\"Scores!\"&\"R\"&(ROW(Scores!$F$506:$F$759)-1+MATCH('Individual Scores'!$D148,Scores!$F$506:$F$759,0))&\"C\"&COLUMN(Scores!K$1),FALSE)))","v":""},{"$f":"IF('Team Scores'!$Z$1<3,\"\",IF(ISERROR(MATCH('Individual Scores'!$D148,Scores!$F$506:$F$759,0)),\"\",INDIRECT(\"Scores!\"&\"R\"&(ROW(Scores!$F$506:$F$759)-1+MATCH('Individual Scores'!$D148,Scores!$F$506:$F$759,0))&\"C\"&COLUMN(Scores!L$1),FALSE)))","v":""},{"$f":"IF('Team Scores'!$Z$1<3,\"\",IF(ISERROR(MATCH('Individual Scores'!$D148,Scores!$F$506:$F$759,0)),\"\",INDIRECT(\"Scores!\"&\"R\"&(ROW(Scores!$F$506:$F$759)-1+MATCH('Individual Scores'!$D148,Scores!$F$506:$F$759,0))&\"C\"&COLUMN(Scores!N$1),FALSE)))","v":""},{"$f":"IF('Team Scores'!$Z$1<3,\"\",IF(ISERROR(MATCH('Individual Scores'!$D148,Scores!$F$506:$F$759,0)),\"\",INDIRECT(\"Scores!\"&\"R\"&(ROW(Scores!$F$506:$F$759)-1+MATCH('Individual Scores'!$D148,Scores!$F$506:$F$759,0))&\"C\"&COLUMN(Scores!O$1),FALSE)))","v":""},{"$f":"IF('Team Scores'!$Z$1<3,\"\",IF(ISERROR(MATCH('Individual Scores'!$D148,Scores!$F$506:$F$759,0)),\"\",INDIRECT(\"Scores!\"&\"R\"&(ROW(Scores!$F$506:$F$759)-1+MATCH('Individual Scores'!$D148,Scores!$F$506:$F$759,0))&\"C\"&COLUMN(Scores!P$1),FALSE)))","v":""},{"$f":"IF('Team Scores'!$Z$1<3,\"\",IF(ISERROR(MATCH('Individual Scores'!$D148,Scores!$F$506:$F$759,0)),\"\",INDIRECT(\"Scores!\"&\"R\"&(ROW(Scores!$F$506:$F$759)-1+MATCH('Individual Scores'!$D148,Scores!$F$506:$F$759,0))&\"C\"&COLUMN(Scores!S$1),FALSE)))","v":""},"",""]
["SC","16-20","M","Travis Smith",960,988,"",1948,{"$f":"IF(COUNT(Q149:V149,AA149:AF149,AK149:AP149)>=18/3*'Team Scores'!$Z$1,IF(H149-VLOOKUP(B149&C149,'Individual Awards Computations'!$AY$54:$AZ$58,2,FALSE)=0,\"Leader \"&C149&\":\"&B149,H149-VLOOKUP(B149&C149,'Individual Awards Computations'!$AY$54:$AZ$58,2,FALSE)),\"\")","v":-722},188,520,162.33333333333334,17.944444444444443,"144-180",1,null,{"$f":"IF(ISERROR(MATCH('Individual Scores'!$D149,Scores!$F$1:$F$253,0)),\"\",INDIRECT(\"Scores!\"&\"R\"&MATCH('Individual Scores'!$D149,Scores!$F$1:$F$253,0)&\"C\"&COLUMN(Scores!J$1),FALSE))","v":143},{"$f":"IF(ISERROR(MATCH('Individual Scores'!$D149,Scores!$F$1:$F$253,0)),\"\",INDIRECT(\"Scores!\"&\"R\"&MATCH('Individual Scores'!$D149,Scores!$F$1:$F$253,0)&\"C\"&COLUMN(Scores!K$1),FALSE))","v":183},{"$f":"IF(ISERROR(MATCH('Individual Scores'!$D149,Scores!$F$1:$F$253,0)),\"\",INDIRECT(\"Scores!\"&\"R\"&MATCH('Individual Scores'!$D149,Scores!$F$1:$F$253,0)&\"C\"&COLUMN(Scores!L$1),FALSE))","v":131},{"$f":"IF(ISERROR(MATCH('Individual Scores'!$D149,Scores!$F$1:$F$253,0)),\"\",INDIRECT(\"Scores!\"&\"R\"&MATCH('Individual Scores'!$D149,Scores!$F$1:$F$253,0)&\"C\"&COLUMN(Scores!N$1),FALSE))","v":170},{"$f":"IF(ISERROR(MATCH('Individual Scores'!$D149,Scores!$F$1:$F$253,0)),\"\",INDIRECT(\"Scores!\"&\"R\"&MATCH('Individual Scores'!$D149,Scores!$F$1:$F$253,0)&\"C\"&COLUMN(Scores!O$1),FALSE))","v":183},{"$f":"IF(ISERROR(MATCH('Individual Scores'!$D149,Scores!$F$1:$F$253,0)),\"\",INDIRECT(\"Scores!\"&\"R\"&MATCH('Individual Scores'!$D149,Scores!$F$1:$F$253,0)&\"C\"&COLUMN(Scores!P$1),FALSE))","v":150},{"$f":"IF(ISERROR(MATCH('Individual Scores'!$D149,Scores!$F$1:$F$253,0)),\"\",INDIRECT(\"Scores!\"&\"R\"&MATCH('Individual Scores'!$D149,Scores!$F$1:$F$253,0)&\"C\"&COLUMN(Scores!S$1),FALSE))","v":960},{"$f":"IF(MAX('Individual Scores'!Q149:V149)>0,MAX('Individual Scores'!Q149:V149),\"\")","v":183},{"$f":"IF(MAX(SUM('Individual Scores'!Q149:S149),SUM('Individual Scores'!T149:V149))>0,MAX(SUM('Individual Scores'!Q149:S149),SUM('Individual Scores'!T149:V149)),\"\")","v":503},null,{"$f":"IF('Team Scores'!$Z$1<2,\"\",IF(ISERROR(MATCH('Individual Scores'!$D149,Scores!$F$253:$F$506,0)),\"\",INDIRECT(\"Scores!\"&\"R\"&(ROW(Scores!$253:$253)-1+MATCH('Individual Scores'!$D149,Scores!$F$253:$F$505,0))&\"C\"&COLUMN(Scores!J$1),FALSE)))","v":133},{"$f":"IF('Team Scores'!$Z$1<2,\"\",IF(ISERROR(MATCH('Individual Scores'!$D149,Scores!$F$253:$F$506,0)),\"\",INDIRECT(\"Scores!\"&\"R\"&(ROW(Scores!$253:$253)-1+MATCH('Individual Scores'!$D149,Scores!$F$253:$F$505,0))&\"C\"&COLUMN(Scores!K$1),FALSE)))","v":147},{"$f":"IF('Team Scores'!$Z$1<2,\"\",IF(ISERROR(MATCH('Individual Scores'!$D149,Scores!$F$253:$F$506,0)),\"\",INDIRECT(\"Scores!\"&\"R\"&(ROW(Scores!$253:$253)-1+MATCH('Individual Scores'!$D149,Scores!$F$253:$F$505,0))&\"C\"&COLUMN(Scores!L$1),FALSE)))","v":188},{"$f":"IF('Team Scores'!$Z$1<2,\"\",IF(ISERROR(MATCH('Individual Scores'!$D149,Scores!$F$253:$F$506,0)),\"\",INDIRECT(\"Scores!\"&\"R\"&(ROW(Scores!$253:$253)-1+MATCH('Individual Scores'!$D149,Scores!$F$253:$F$505,0))&\"C\"&COLUMN(Scores!N$1),FALSE)))","v":175},{"$f":"IF('Team Scores'!$Z$1<2,\"\",IF(ISERROR(MATCH('Individual Scores'!$D149,Scores!$F$253:$F$506,0)),\"\",INDIRECT(\"Scores!\"&\"R\"&(ROW(Scores!$253:$253)-1+MATCH('Individual Scores'!$D149,Scores!$F$253:$F$505,0))&\"C\"&COLUMN(Scores!O$1),FALSE)))","v":165},{"$f":"IF('Team Scores'!$Z$1<2,\"\",IF(ISERROR(MATCH('Individual Scores'!$D149,Scores!$F$253:$F$506,0)),\"\",INDIRECT(\"Scores!\"&\"R\"&(ROW(Scores!$253:$253)-1+MATCH('Individual Scores'!$D149,Scores!$F$253:$F$505,0))&\"C\"&COLUMN(Scores!P$1),FALSE)))","v":180},{"$f":"IF('Team Scores'!$Z$1<2,\"\",IF(ISERROR(MATCH('Individual Scores'!$D149,Scores!$F$253:$F$506,0)),\"\",INDIRECT(\"Scores!\"&\"R\"&(ROW(Scores!$253:$253)-1+MATCH('Individual Scores'!$D149,Scores!$F$253:$F$505,0))&\"C\"&COLUMN(Scores!S$1),FALSE)))","v":988},188,520,null,{"$f":"IF('Team Scores'!$Z$1<3,\"\",IF(ISERROR(MATCH('Individual Scores'!$D149,Scores!$F$506:$F$759,0)),\"\",INDIRECT(\"Scores!\"&\"R\"&(ROW(Scores!$F$506:$F$759)-1+MATCH('Individual Scores'!$D149,Scores!$F$506:$F$759,0))&\"C\"&COLUMN(Scores!J$1),FALSE)))","v":""},{"$f":"IF('Team Scores'!$Z$1<3,\"\",IF(ISERROR(MATCH('Individual Scores'!$D149,Scores!$F$506:$F$759,0)),\"\",INDIRECT(\"Scores!\"&\"R\"&(ROW(Scores!$F$506:$F$759)-1+MATCH('Individual Scores'!$D149,Scores!$F$506:$F$759,0))&\"C\"&COLUMN(Scores!K$1),FALSE)))","v":""},{"$f":"IF('Team Scores'!$Z$1<3,\"\",IF(ISERROR(MATCH('Individual Scores'!$D149,Scores!$F$506:$F$759,0)),\"\",INDIRECT(\"Scores!\"&\"R\"&(ROW(Scores!$F$506:$F$759)-1+MATCH('Individual Scores'!$D149,Scores!$F$506:$F$759,0))&\"C\"&COLUMN(Scores!L$1),FALSE)))","v":""},{"$f":"IF('Team Scores'!$Z$1<3,\"\",IF(ISERROR(MATCH('Individual Scores'!$D149,Scores!$F$506:$F$759,0)),\"\",INDIRECT(\"Scores!\"&\"R\"&(ROW(Scores!$F$506:$F$759)-1+MATCH('Individual Scores'!$D149,Scores!$F$506:$F$759,0))&\"C\"&COLUMN(Scores!N$1),FALSE)))","v":""},{"$f":"IF('Team Scores'!$Z$1<3,\"\",IF(ISERROR(MATCH('Individual Scores'!$D149,Scores!$F$506:$F$759,0)),\"\",INDIRECT(\"Scores!\"&\"R\"&(ROW(Scores!$F$506:$F$759)-1+MATCH('Individual Scores'!$D149,Scores!$F$506:$F$759,0))&\"C\"&COLUMN(Scores!O$1),FALSE)))","v":""},{"$f":"IF('Team Scores'!$Z$1<3,\"\",IF(ISERROR(MATCH('Individual Scores'!$D149,Scores!$F$506:$F$759,0)),\"\",INDIRECT(\"Scores!\"&\"R\"&(ROW(Scores!$F$506:$F$759)-1+MATCH('Individual Scores'!$D149,Scores!$F$506:$F$759,0))&\"C\"&COLUMN(Scores!P$1),FALSE)))","v":""},{"$f":"IF('Team Scores'!$Z$1<3,\"\",IF(ISERROR(MATCH('Individual Scores'!$D149,Scores!$F$506:$F$759,0)),\"\",INDIRECT(\"Scores!\"&\"R\"&(ROW(Scores!$F$506:$F$759)-1+MATCH('Individual Scores'!$D149,Scores!$F$506:$F$759,0))&\"C\"&COLUMN(Scores!S$1),FALSE)))","v":""},"",""]
["SC","16-20","M","Luke Willis",1213,1195,"",2408,{"$f":"IF(COUNT(Q150:V150,AA150:AF150,AK150:AP150)>=18/3*'Team Scores'!$Z$1,IF(H150-VLOOKUP(B150&C150,'Individual Awards Computations'!$AY$54:$AZ$58,2,FALSE)=0,\"Leader \"&C150&\":\"&B150,H150-VLOOKUP(B150&C150,'Individual Awards Computations'!$AY$54:$AZ$58,2,FALSE)),\"\")","v":-262},257,676,200.66666666666666,21.611111111111111,"179-222",1,null,{"$f":"IF(ISERROR(MATCH('Individual Scores'!$D150,Scores!$F$1:$F$253,0)),\"\",INDIRECT(\"Scores!\"&\"R\"&MATCH('Individual Scores'!$D150,Scores!$F$1:$F$253,0)&\"C\"&COLUMN(Scores!J$1),FALSE))","v":194},{"$f":"IF(ISERROR(MATCH('Individual Scores'!$D150,Scores!$F$1:$F$253,0)),\"\",INDIRECT(\"Scores!\"&\"R\"&MATCH('Individual Scores'!$D150,Scores!$F$1:$F$253,0)&\"C\"&COLUMN(Scores!K$1),FALSE))","v":178},{"$f":"IF(ISERROR(MATCH('Individual Scores'!$D150,Scores!$F$1:$F$253,0)),\"\",INDIRECT(\"Scores!\"&\"R\"&MATCH('Individual Scores'!$D150,Scores!$F$1:$F$253,0)&\"C\"&COLUMN(Scores!L$1),FALSE))","v":165},{"$f":"IF(ISERROR(MATCH('Individual Scores'!$D150,Scores!$F$1:$F$253,0)),\"\",INDIRECT(\"Scores!\"&\"R\"&MATCH('Individual Scores'!$D150,Scores!$F$1:$F$253,0)&\"C\"&COLUMN(Scores!N$1),FALSE))","v":257},{"$f":"IF(ISERROR(MATCH('Individual Scores'!$D150,Scores!$F$1:$F$253,0)),\"\",INDIRECT(\"Scores!\"&\"R\"&MATCH('Individual Scores'!$D150,Scores!$F$1:$F$253,0)&\"C\"&COLUMN(Scores!O$1),FALSE))","v":205},{"$f":"IF(ISERROR(MATCH('Individual Scores'!$D150,Scores!$F$1:$F$253,0)),\"\",INDIRECT(\"Scores!\"&\"R\"&MATCH('Individual Scores'!$D150,Scores!$F$1:$F$253,0)&\"C\"&COLUMN(Scores!P$1),FALSE))","v":214},{"$f":"IF(ISERROR(MATCH('Individual Scores'!$D150,Scores!$F$1:$F$253,0)),\"\",INDIRECT(\"Scores!\"&\"R\"&MATCH('Individual Scores'!$D150,Scores!$F$1:$F$253,0)&\"C\"&COLUMN(Scores!S$1),FALSE))","v":1213},{"$f":"IF(MAX('Individual Scores'!Q150:V150)>0,MAX('Individual Scores'!Q150:V150),\"\")","v":257},{"$f":"IF(MAX(SUM('Individual Scores'!Q150:S150),SUM('Individual Scores'!T150:V150))>0,MAX(SUM('Individual Scores'!Q150:S150),SUM('Individual Scores'!T150:V150)),\"\")","v":676},null,{"$f":"IF('Team Scores'!$Z$1<2,\"\",IF(ISERROR(MATCH('Individual Scores'!$D150,Scores!$F$253:$F$506,0)),\"\",INDIRECT(\"Scores!\"&\"R\"&(ROW(Scores!$253:$253)-1+MATCH('Individual Scores'!$D150,Scores!$F$253:$F$505,0))&\"C\"&COLUMN(Scores!J$1),FALSE)))","v":235},{"$f":"IF('Team Scores'!$Z$1<2,\"\",IF(ISERROR(MATCH('Individual Scores'!$D150,Scores!$F$253:$F$506,0)),\"\",INDIRECT(\"Scores!\"&\"R\"&(ROW(Scores!$253:$253)-1+MATCH('Individual Scores'!$D150,Scores!$F$253:$F$505,0))&\"C\"&COLUMN(Scores!K$1),FALSE)))","v":168},{"$f":"IF('Team Scores'!$Z$1<2,\"\",IF(ISERROR(MATCH('Individual Scores'!$D150,Scores!$F$253:$F$506,0)),\"\",INDIRECT(\"Scores!\"&\"R\"&(ROW(Scores!$253:$253)-1+MATCH('Individual Scores'!$D150,Scores!$F$253:$F$505,0))&\"C\"&COLUMN(Scores!L$1),FALSE)))","v":183},{"$f":"IF('Team Scores'!$Z$1<2,\"\",IF(ISERROR(MATCH('Individual Scores'!$D150,Scores!$F$253:$F$506,0)),\"\",INDIRECT(\"Scores!\"&\"R\"&(ROW(Scores!$253:$253)-1+MATCH('Individual Scores'!$D150,Scores!$F$253:$F$505,0))&\"C\"&COLUMN(Scores!N$1),FALSE)))","v":195},{"$f":"IF('Team Scores'!$Z$1<2,\"\",IF(ISERROR(MATCH('Individual Scores'!$D150,Scores!$F$253:$F$506,0)),\"\",INDIRECT(\"Scores!\"&\"R\"&(ROW(Scores!$253:$253)-1+MATCH('Individual Scores'!$D150,Scores!$F$253:$F$505,0))&\"C\"&COLUMN(Scores!O$1),FALSE)))","v":222},{"$f":"IF('Team Scores'!$Z$1<2,\"\",IF(ISERROR(MATCH('Individual Scores'!$D150,Scores!$F$253:$F$506,0)),\"\",INDIRECT(\"Scores!\"&\"R\"&(ROW(Scores!$253:$253)-1+MATCH('Individual Scores'!$D150,Scores!$F$253:$F$505,0))&\"C\"&COLUMN(Scores!P$1),FALSE)))","v":192},{"$f":"IF('Team Scores'!$Z$1<2,\"\",IF(ISERROR(MATCH('Individual Scores'!$D150,Scores!$F$253:$F$506,0)),\"\",INDIRECT(\"Scores!\"&\"R\"&(ROW(Scores!$253:$253)-1+MATCH('Individual Scores'!$D150,Scores!$F$253:$F$505,0))&\"C\"&COLUMN(Scores!S$1),FALSE)))","v":1195},235,609,null,{"$f":"IF('Team Scores'!$Z$1<3,\"\",IF(ISERROR(MATCH('Individual Scores'!$D150,Scores!$F$506:$F$759,0)),\"\",INDIRECT(\"Scores!\"&\"R\"&(ROW(Scores!$F$506:$F$759)-1+MATCH('Individual Scores'!$D150,Scores!$F$506:$F$759,0))&\"C\"&COLUMN(Scores!J$1),FALSE)))","v":""},{"$f":"IF('Team Scores'!$Z$1<3,\"\",IF(ISERROR(MATCH('Individual Scores'!$D150,Scores!$F$506:$F$759,0)),\"\",INDIRECT(\"Scores!\"&\"R\"&(ROW(Scores!$F$506:$F$759)-1+MATCH('Individual Scores'!$D150,Scores!$F$506:$F$759,0))&\"C\"&COLUMN(Scores!K$1),FALSE)))","v":""},{"$f":"IF('Team Scores'!$Z$1<3,\"\",IF(ISERROR(MATCH('Individual Scores'!$D150,Scores!$F$506:$F$759,0)),\"\",INDIRECT(\"Scores!\"&\"R\"&(ROW(Scores!$F$506:$F$759)-1+MATCH('Individual Scores'!$D150,Scores!$F$506:$F$759,0))&\"C\"&COLUMN(Scores!L$1),FALSE)))","v":""},{"$f":"IF('Team Scores'!$Z$1<3,\"\",IF(ISERROR(MATCH('Individual Scores'!$D150,Scores!$F$506:$F$759,0)),\"\",INDIRECT(\"Scores!\"&\"R\"&(ROW(Scores!$F$506:$F$759)-1+MATCH('Individual Scores'!$D150,Scores!$F$506:$F$759,0))&\"C\"&COLUMN(Scores!N$1),FALSE)))","v":""},{"$f":"IF('Team Scores'!$Z$1<3,\"\",IF(ISERROR(MATCH('Individual Scores'!$D150,Scores!$F$506:$F$759,0)),\"\",INDIRECT(\"Scores!\"&\"R\"&(ROW(Scores!$F$506:$F$759)-1+MATCH('Individual Scores'!$D150,Scores!$F$506:$F$759,0))&\"C\"&COLUMN(Scores!O$1),FALSE)))","v":""},{"$f":"IF('Team Scores'!$Z$1<3,\"\",IF(ISERROR(MATCH('Individual Scores'!$D150,Scores!$F$506:$F$759,0)),\"\",INDIRECT(\"Scores!\"&\"R\"&(ROW(Scores!$F$506:$F$759)-1+MATCH('Individual Scores'!$D150,Scores!$F$506:$F$759,0))&\"C\"&COLUMN(Scores!P$1),FALSE)))","v":""},{"$f":"IF('Team Scores'!$Z$1<3,\"\",IF(ISERROR(MATCH('Individual Scores'!$D150,Scores!$F$506:$F$759,0)),\"\",INDIRECT(\"Scores!\"&\"R\"&(ROW(Scores!$F$506:$F$759)-1+MATCH('Individual Scores'!$D150,Scores!$F$506:$F$759,0))&\"C\"&COLUMN(Scores!S$1),FALSE)))","v":""},"",""]
["SC","16-20","M","Christian Gurney",1266,1259,"",2525,{"$f":"IF(COUNT(Q151:V151,AA151:AF151,AK151:AP151)>=18/3*'Team Scores'!$Z$1,IF(H151-VLOOKUP(B151&C151,'Individual Awards Computations'!$AY$54:$AZ$58,2,FALSE)=0,\"Leader \"&C151&\":\"&B151,H151-VLOOKUP(B151&C151,'Individual Awards Computations'!$AY$54:$AZ$58,2,FALSE)),\"\")","v":-145},299,692,210.41666666666666,24.986111111111104,"185-235",1,null,{"$f":"IF(ISERROR(MATCH('Individual Scores'!$D151,Scores!$F$1:$F$253,0)),\"\",INDIRECT(\"Scores!\"&\"R\"&MATCH('Individual Scores'!$D151,Scores!$F$1:$F$253,0)&\"C\"&COLUMN(Scores!J$1),FALSE))","v":207},{"$f":"IF(ISERROR(MATCH('Individual Scores'!$D151,Scores!$F$1:$F$253,0)),\"\",INDIRECT(\"Scores!\"&\"R\"&MATCH('Individual Scores'!$D151,Scores!$F$1:$F$253,0)&\"C\"&COLUMN(Scores!K$1),FALSE))","v":299},{"$f":"IF(ISERROR(MATCH('Individual Scores'!$D151,Scores!$F$1:$F$253,0)),\"\",INDIRECT(\"Scores!\"&\"R\"&MATCH('Individual Scores'!$D151,Scores!$F$1:$F$253,0)&\"C\"&COLUMN(Scores!L$1),FALSE))","v":180},{"$f":"IF(ISERROR(MATCH('Individual Scores'!$D151,Scores!$F$1:$F$253,0)),\"\",INDIRECT(\"Scores!\"&\"R\"&MATCH('Individual Scores'!$D151,Scores!$F$1:$F$253,0)&\"C\"&COLUMN(Scores!N$1),FALSE))","v":181},{"$f":"IF(ISERROR(MATCH('Individual Scores'!$D151,Scores!$F$1:$F$253,0)),\"\",INDIRECT(\"Scores!\"&\"R\"&MATCH('Individual Scores'!$D151,Scores!$F$1:$F$253,0)&\"C\"&COLUMN(Scores!O$1),FALSE))","v":210},{"$f":"IF(ISERROR(MATCH('Individual Scores'!$D151,Scores!$F$1:$F$253,0)),\"\",INDIRECT(\"Scores!\"&\"R\"&MATCH('Individual Scores'!$D151,Scores!$F$1:$F$253,0)&\"C\"&COLUMN(Scores!P$1),FALSE))","v":189},{"$f":"IF(ISERROR(MATCH('Individual Scores'!$D151,Scores!$F$1:$F$253,0)),\"\",INDIRECT(\"Scores!\"&\"R\"&MATCH('Individual Scores'!$D151,Scores!$F$1:$F$253,0)&\"C\"&COLUMN(Scores!S$1),FALSE))","v":1266},{"$f":"IF(MAX('Individual Scores'!Q151:V151)>0,MAX('Individual Scores'!Q151:V151),\"\")","v":299},{"$f":"IF(MAX(SUM('Individual Scores'!Q151:S151),SUM('Individual Scores'!T151:V151))>0,MAX(SUM('Individual Scores'!Q151:S151),SUM('Individual Scores'!T151:V151)),\"\")","v":686},null,{"$f":"IF('Team Scores'!$Z$1<2,\"\",IF(ISERROR(MATCH('Individual Scores'!$D151,Scores!$F$253:$F$506,0)),\"\",INDIRECT(\"Scores!\"&\"R\"&(ROW(Scores!$253:$253)-1+MATCH('Individual Scores'!$D151,Scores!$F$253:$F$505,0))&\"C\"&COLUMN(Scores!J$1),FALSE)))","v":246},{"$f":"IF('Team Scores'!$Z$1<2,\"\",IF(ISERROR(MATCH('Individual Scores'!$D151,Scores!$F$253:$F$506,0)),\"\",INDIRECT(\"Scores!\"&\"R\"&(ROW(Scores!$253:$253)-1+MATCH('Individual Scores'!$D151,Scores!$F$253:$F$505,0))&\"C\"&COLUMN(Scores!K$1),FALSE)))","v":224},{"$f":"IF('Team Scores'!$Z$1<2,\"\",IF(ISERROR(MATCH('Individual Scores'!$D151,Scores!$F$253:$F$506,0)),\"\",INDIRECT(\"Scores!\"&\"R\"&(ROW(Scores!$253:$253)-1+MATCH('Individual Scores'!$D151,Scores!$F$253:$F$505,0))&\"C\"&COLUMN(Scores!L$1),FALSE)))","v":222},{"$f":"IF('Team Scores'!$Z$1<2,\"\",IF(ISERROR(MATCH('Individual Scores'!$D151,Scores!$F$253:$F$506,0)),\"\",INDIRECT(\"Scores!\"&\"R\"&(ROW(Scores!$253:$253)-1+MATCH('Individual Scores'!$D151,Scores!$F$253:$F$505,0))&\"C\"&COLUMN(Scores!N$1),FALSE)))","v":211},{"$f":"IF('Team Scores'!$Z$1<2,\"\",IF(ISERROR(MATCH('Individual Scores'!$D151,Scores!$F$253:$F$506,0)),\"\",INDIRECT(\"Scores!\"&\"R\"&(ROW(Scores!$253:$253)-1+MATCH('Individual Scores'!$D151,Scores!$F$253:$F$505,0))&\"C\"&COLUMN(Scores!O$1),FALSE)))","v":165},{"$f":"IF('Team Scores'!$Z$1<2,\"\",IF(ISERROR(MATCH('Individual Scores'!$D151,Scores!$F$253:$F$506,0)),\"\",INDIRECT(\"Scores!\"&\"R\"&(ROW(Scores!$253:$253)-1+MATCH('Individual Scores'!$D151,Scores!$F$253:$F$505,0))&\"C\"&COLUMN(Scores!P$1),FALSE)))","v":191},{"$f":"IF('Team Scores'!$Z$1<2,\"\",IF(ISERROR(MATCH('Individual Scores'!$D151,Scores!$F$253:$F$506,0)),\"\",INDIRECT(\"Scores!\"&\"R\"&(ROW(Scores!$253:$253)-1+MATCH('Individual Scores'!$D151,Scores!$F$253:$F$505,0))&\"C\"&COLUMN(Scores!S$1),FALSE)))","v":1259},{"$f":"IF(MAX(AA151:AF151)>0,MAX(AA151:AF151),\"\")","v":246},{"$f":"IF(MAX(SUM(AA151:AC151),SUM(AD151:AF151))>0,MAX(SUM(AA151:AC151),SUM(AD151:AF151)),\"\")","v":692},null,{"$f":"IF('Team Scores'!$Z$1<3,\"\",IF(ISERROR(MATCH('Individual Scores'!$D151,Scores!$F$506:$F$759,0)),\"\",INDIRECT(\"Scores!\"&\"R\"&(ROW(Scores!$F$506:$F$759)-1+MATCH('Individual Scores'!$D151,Scores!$F$506:$F$759,0))&\"C\"&COLUMN(Scores!J$1),FALSE)))","v":""},{"$f":"IF('Team Scores'!$Z$1<3,\"\",IF(ISERROR(MATCH('Individual Scores'!$D151,Scores!$F$506:$F$759,0)),\"\",INDIRECT(\"Scores!\"&\"R\"&(ROW(Scores!$F$506:$F$759)-1+MATCH('Individual Scores'!$D151,Scores!$F$506:$F$759,0))&\"C\"&COLUMN(Scores!K$1),FALSE)))","v":""},{"$f":"IF('Team Scores'!$Z$1<3,\"\",IF(ISERROR(MATCH('Individual Scores'!$D151,Scores!$F$506:$F$759,0)),\"\",INDIRECT(\"Scores!\"&\"R\"&(ROW(Scores!$F$506:$F$759)-1+MATCH('Individual Scores'!$D151,Scores!$F$506:$F$759,0))&\"C\"&COLUMN(Scores!L$1),FALSE)))","v":""},{"$f":"IF('Team Scores'!$Z$1<3,\"\",IF(ISERROR(MATCH('Individual Scores'!$D151,Scores!$F$506:$F$759,0)),\"\",INDIRECT(\"Scores!\"&\"R\"&(ROW(Scores!$F$506:$F$759)-1+MATCH('Individual Scores'!$D151,Scores!$F$506:$F$759,0))&\"C\"&COLUMN(Scores!N$1),FALSE)))","v":""},{"$f":"IF('Team Scores'!$Z$1<3,\"\",IF(ISERROR(MATCH('Individual Scores'!$D151,Scores!$F$506:$F$759,0)),\"\",INDIRECT(\"Scores!\"&\"R\"&(ROW(Scores!$F$506:$F$759)-1+MATCH('Individual Scores'!$D151,Scores!$F$506:$F$759,0))&\"C\"&COLUMN(Scores!O$1),FALSE)))","v":""},{"$f":"IF('Team Scores'!$Z$1<3,\"\",IF(ISERROR(MATCH('Individual Scores'!$D151,Scores!$F$506:$F$759,0)),\"\",INDIRECT(\"Scores!\"&\"R\"&(ROW(Scores!$F$506:$F$759)-1+MATCH('Individual Scores'!$D151,Scores!$F$506:$F$759,0))&\"C\"&COLUMN(Scores!P$1),FALSE)))","v":""},{"$f":"IF('Team Scores'!$Z$1<3,\"\",IF(ISERROR(MATCH('Individual Scores'!$D151,Scores!$F$506:$F$759,0)),\"\",INDIRECT(\"Scores!\"&\"R\"&(ROW(Scores!$F$506:$F$759)-1+MATCH('Individual Scores'!$D151,Scores!$F$506:$F$759,0))&\"C\"&COLUMN(Scores!S$1),FALSE)))","v":""},"",""]
["SC","16-20","M","Junnell Calatrava",1134,1113,"",2247,{"$f":"IF(COUNT(Q152:V152,AA152:AF152,AK152:AP152)>=18/3*'Team Scores'!$Z$1,IF(H152-VLOOKUP(B152&C152,'Individual Awards Computations'!$AY$54:$AZ$58,2,FALSE)=0,\"Leader \"&C152&\":\"&B152,H152-VLOOKUP(B152&C152,'Individual Awards Computations'!$AY$54:$AZ$58,2,FALSE)),\"\")","v":-423},231,585,187.25,17.25,"170-205",1,null,{"$f":"IF(ISERROR(MATCH('Individual Scores'!$D152,Scores!$F$1:$F$253,0)),\"\",INDIRECT(\"Scores!\"&\"R\"&MATCH('Individual Scores'!$D152,Scores!$F$1:$F$253,0)&\"C\"&COLUMN(Scores!J$1),FALSE))","v":203},{"$f":"IF(ISERROR(MATCH('Individual Scores'!$D152,Scores!$F$1:$F$253,0)),\"\",INDIRECT(\"Scores!\"&\"R\"&MATCH('Individual Scores'!$D152,Scores!$F$1:$F$253,0)&\"C\"&COLUMN(Scores!K$1),FALSE))","v":209},{"$f":"IF(ISERROR(MATCH('Individual Scores'!$D152,Scores!$F$1:$F$253,0)),\"\",INDIRECT(\"Scores!\"&\"R\"&MATCH('Individual Scores'!$D152,Scores!$F$1:$F$253,0)&\"C\"&COLUMN(Scores!L$1),FALSE))","v":137},{"$f":"IF(ISERROR(MATCH('Individual Scores'!$D152,Scores!$F$1:$F$253,0)),\"\",INDIRECT(\"Scores!\"&\"R\"&MATCH('Individual Scores'!$D152,Scores!$F$1:$F$253,0)&\"C\"&COLUMN(Scores!N$1),FALSE))","v":231},{"$f":"IF(ISERROR(MATCH('Individual Scores'!$D152,Scores!$F$1:$F$253,0)),\"\",INDIRECT(\"Scores!\"&\"R\"&MATCH('Individual Scores'!$D152,Scores!$F$1:$F$253,0)&\"C\"&COLUMN(Scores!O$1),FALSE))","v":189},{"$f":"IF(ISERROR(MATCH('Individual Scores'!$D152,Scores!$F$1:$F$253,0)),\"\",INDIRECT(\"Scores!\"&\"R\"&MATCH('Individual Scores'!$D152,Scores!$F$1:$F$253,0)&\"C\"&COLUMN(Scores!P$1),FALSE))","v":165},{"$f":"IF(ISERROR(MATCH('Individual Scores'!$D152,Scores!$F$1:$F$253,0)),\"\",INDIRECT(\"Scores!\"&\"R\"&MATCH('Individual Scores'!$D152,Scores!$F$1:$F$253,0)&\"C\"&COLUMN(Scores!S$1),FALSE))","v":1134},{"$f":"IF(MAX('Individual Scores'!Q152:V152)>0,MAX('Individual Scores'!Q152:V152),\"\")","v":231},{"$f":"IF(MAX(SUM('Individual Scores'!Q152:S152),SUM('Individual Scores'!T152:V152))>0,MAX(SUM('Individual Scores'!Q152:S152),SUM('Individual Scores'!T152:V152)),\"\")","v":585},null,{"$f":"IF('Team Scores'!$Z$1<2,\"\",IF(ISERROR(MATCH('Individual Scores'!$D152,Scores!$F$253:$F$506,0)),\"\",INDIRECT(\"Scores!\"&\"R\"&(ROW(Scores!$253:$253)-1+MATCH('Individual Scores'!$D152,Scores!$F$253:$F$505,0))&\"C\"&COLUMN(Scores!J$1),FALSE)))","v":181},{"$f":"IF('Team Scores'!$Z$1<2,\"\",IF(ISERROR(MATCH('Individual Scores'!$D152,Scores!$F$253:$F$506,0)),\"\",INDIRECT(\"Scores!\"&\"R\"&(ROW(Scores!$253:$253)-1+MATCH('Individual Scores'!$D152,Scores!$F$253:$F$505,0))&\"C\"&COLUMN(Scores!K$1),FALSE)))","v":195},{"$f":"IF('Team Scores'!$Z$1<2,\"\",IF(ISERROR(MATCH('Individual Scores'!$D152,Scores!$F$253:$F$506,0)),\"\",INDIRECT(\"Scores!\"&\"R\"&(ROW(Scores!$253:$253)-1+MATCH('Individual Scores'!$D152,Scores!$F$253:$F$505,0))&\"C\"&COLUMN(Scores!L$1),FALSE)))","v":200},{"$f":"IF('Team Scores'!$Z$1<2,\"\",IF(ISERROR(MATCH('Individual Scores'!$D152,Scores!$F$253:$F$506,0)),\"\",INDIRECT(\"Scores!\"&\"R\"&(ROW(Scores!$253:$253)-1+MATCH('Individual Scores'!$D152,Scores!$F$253:$F$505,0))&\"C\"&COLUMN(Scores!N$1),FALSE)))","v":169},{"$f":"IF('Team Scores'!$Z$1<2,\"\",IF(ISERROR(MATCH('Individual Scores'!$D152,Scores!$F$253:$F$506,0)),\"\",INDIRECT(\"Scores!\"&\"R\"&(ROW(Scores!$253:$253)-1+MATCH('Individual Scores'!$D152,Scores!$F$253:$F$505,0))&\"C\"&COLUMN(Scores!O$1),FALSE)))","v":183},{"$f":"IF('Team Scores'!$Z$1<2,\"\",IF(ISERROR(MATCH('Individual Scores'!$D152,Scores!$F$253:$F$506,0)),\"\",INDIRECT(\"Scores!\"&\"R\"&(ROW(Scores!$253:$253)-1+MATCH('Individual Scores'!$D152,Scores!$F$253:$F$505,0))&\"C\"&COLUMN(Scores!P$1),FALSE)))","v":185},{"$f":"IF('Team Scores'!$Z$1<2,\"\",IF(ISERROR(MATCH('Individual Scores'!$D152,Scores!$F$253:$F$506,0)),\"\",INDIRECT(\"Scores!\"&\"R\"&(ROW(Scores!$253:$253)-1+MATCH('Individual Scores'!$D152,Scores!$F$253:$F$505,0))&\"C\"&COLUMN(Scores!S$1),FALSE)))","v":1113},200,576,null,{"$f":"IF('Team Scores'!$Z$1<3,\"\",IF(ISERROR(MATCH('Individual Scores'!$D152,Scores!$F$506:$F$759,0)),\"\",INDIRECT(\"Scores!\"&\"R\"&(ROW(Scores!$F$506:$F$759)-1+MATCH('Individual Scores'!$D152,Scores!$F$506:$F$759,0))&\"C\"&COLUMN(Scores!J$1),FALSE)))","v":""},{"$f":"IF('Team Scores'!$Z$1<3,\"\",IF(ISERROR(MATCH('Individual Scores'!$D152,Scores!$F$506:$F$759,0)),\"\",INDIRECT(\"Scores!\"&\"R\"&(ROW(Scores!$F$506:$F$759)-1+MATCH('Individual Scores'!$D152,Scores!$F$506:$F$759,0))&\"C\"&COLUMN(Scores!K$1),FALSE)))","v":""},{"$f":"IF('Team Scores'!$Z$1<3,\"\",IF(ISERROR(MATCH('Individual Scores'!$D152,Scores!$F$506:$F$759,0)),\"\",INDIRECT(\"Scores!\"&\"R\"&(ROW(Scores!$F$506:$F$759)-1+MATCH('Individual Scores'!$D152,Scores!$F$506:$F$759,0))&\"C\"&COLUMN(Scores!L$1),FALSE)))","v":""},{"$f":"IF('Team Scores'!$Z$1<3,\"\",IF(ISERROR(MATCH('Individual Scores'!$D152,Scores!$F$506:$F$759,0)),\"\",INDIRECT(\"Scores!\"&\"R\"&(ROW(Scores!$F$506:$F$759)-1+MATCH('Individual Scores'!$D152,Scores!$F$506:$F$759,0))&\"C\"&COLUMN(Scores!N$1),FALSE)))","v":""},{"$f":"IF('Team Scores'!$Z$1<3,\"\",IF(ISERROR(MATCH('Individual Scores'!$D152,Scores!$F$506:$F$759,0)),\"\",INDIRECT(\"Scores!\"&\"R\"&(ROW(Scores!$F$506:$F$759)-1+MATCH('Individual Scores'!$D152,Scores!$F$506:$F$759,0))&\"C\"&COLUMN(Scores!O$1),FALSE)))","v":""},{"$f":"IF('Team Scores'!$Z$1<3,\"\",IF(ISERROR(MATCH('Individual Scores'!$D152,Scores!$F$506:$F$759,0)),\"\",INDIRECT(\"Scores!\"&\"R\"&(ROW(Scores!$F$506:$F$759)-1+MATCH('Individual Scores'!$D152,Scores!$F$506:$F$759,0))&\"C\"&COLUMN(Scores!P$1),FALSE)))","v":""},{"$f":"IF('Team Scores'!$Z$1<3,\"\",IF(ISERROR(MATCH('Individual Scores'!$D152,Scores!$F$506:$F$759,0)),\"\",INDIRECT(\"Scores!\"&\"R\"&(ROW(Scores!$F$506:$F$759)-1+MATCH('Individual Scores'!$D152,Scores!$F$506:$F$759,0))&\"C\"&COLUMN(Scores!S$1),FALSE)))","v":""},"",""]
["SC","16-20","M","Zachary Beckham",1012,1076,"",2088,{"$f":"IF(COUNT(Q153:V153,AA153:AF153,AK153:AP153)>=18/3*'Team Scores'!$Z$1,IF(H153-VLOOKUP(B153&C153,'Individual Awards Computations'!$AY$54:$AZ$58,2,FALSE)=0,\"Leader \"&C153&\":\"&B153,H153-VLOOKUP(B153&C153,'Individual Awards Computations'!$AY$54:$AZ$58,2,FALSE)),\"\")","v":-582},214,593,174,20.833333333333332,"153-195",1,null,{"$f":"IF(ISERROR(MATCH('Individual Scores'!$D153,Scores!$F$1:$F$253,0)),\"\",INDIRECT(\"Scores!\"&\"R\"&MATCH('Individual Scores'!$D153,Scores!$F$1:$F$253,0)&\"C\"&COLUMN(Scores!J$1),FALSE))","v":167},{"$f":"IF(ISERROR(MATCH('Individual Scores'!$D153,Scores!$F$1:$F$253,0)),\"\",INDIRECT(\"Scores!\"&\"R\"&MATCH('Individual Scores'!$D153,Scores!$F$1:$F$253,0)&\"C\"&COLUMN(Scores!K$1),FALSE))","v":212},{"$f":"IF(ISERROR(MATCH('Individual Scores'!$D153,Scores!$F$1:$F$253,0)),\"\",INDIRECT(\"Scores!\"&\"R\"&MATCH('Individual Scores'!$D153,Scores!$F$1:$F$253,0)&\"C\"&COLUMN(Scores!L$1),FALSE))","v":214},{"$f":"IF(ISERROR(MATCH('Individual Scores'!$D153,Scores!$F$1:$F$253,0)),\"\",INDIRECT(\"Scores!\"&\"R\"&MATCH('Individual Scores'!$D153,Scores!$F$1:$F$253,0)&\"C\"&COLUMN(Scores!N$1),FALSE))","v":149},{"$f":"IF(ISERROR(MATCH('Individual Scores'!$D153,Scores!$F$1:$F$253,0)),\"\",INDIRECT(\"Scores!\"&\"R\"&MATCH('Individual Scores'!$D153,Scores!$F$1:$F$253,0)&\"C\"&COLUMN(Scores!O$1),FALSE))","v":111},{"$f":"IF(ISERROR(MATCH('Individual Scores'!$D153,Scores!$F$1:$F$253,0)),\"\",INDIRECT(\"Scores!\"&\"R\"&MATCH('Individual Scores'!$D153,Scores!$F$1:$F$253,0)&\"C\"&COLUMN(Scores!P$1),FALSE))","v":159},{"$f":"IF(ISERROR(MATCH('Individual Scores'!$D153,Scores!$F$1:$F$253,0)),\"\",INDIRECT(\"Scores!\"&\"R\"&MATCH('Individual Scores'!$D153,Scores!$F$1:$F$253,0)&\"C\"&COLUMN(Scores!S$1),FALSE))","v":1012},{"$f":"IF(MAX('Individual Scores'!Q153:V153)>0,MAX('Individual Scores'!Q153:V153),\"\")","v":214},{"$f":"IF(MAX(SUM('Individual Scores'!Q153:S153),SUM('Individual Scores'!T153:V153))>0,MAX(SUM('Individual Scores'!Q153:S153),SUM('Individual Scores'!T153:V153)),\"\")","v":593},null,{"$f":"IF('Team Scores'!$Z$1<2,\"\",IF(ISERROR(MATCH('Individual Scores'!$D153,Scores!$F$253:$F$506,0)),\"\",INDIRECT(\"Scores!\"&\"R\"&(ROW(Scores!$253:$253)-1+MATCH('Individual Scores'!$D153,Scores!$F$253:$F$505,0))&\"C\"&COLUMN(Scores!J$1),FALSE)))","v":182},{"$f":"IF('Team Scores'!$Z$1<2,\"\",IF(ISERROR(MATCH('Individual Scores'!$D153,Scores!$F$253:$F$506,0)),\"\",INDIRECT(\"Scores!\"&\"R\"&(ROW(Scores!$253:$253)-1+MATCH('Individual Scores'!$D153,Scores!$F$253:$F$505,0))&\"C\"&COLUMN(Scores!K$1),FALSE)))","v":184},{"$f":"IF('Team Scores'!$Z$1<2,\"\",IF(ISERROR(MATCH('Individual Scores'!$D153,Scores!$F$253:$F$506,0)),\"\",INDIRECT(\"Scores!\"&\"R\"&(ROW(Scores!$253:$253)-1+MATCH('Individual Scores'!$D153,Scores!$F$253:$F$505,0))&\"C\"&COLUMN(Scores!L$1),FALSE)))","v":171},{"$f":"IF('Team Scores'!$Z$1<2,\"\",IF(ISERROR(MATCH('Individual Scores'!$D153,Scores!$F$253:$F$506,0)),\"\",INDIRECT(\"Scores!\"&\"R\"&(ROW(Scores!$253:$253)-1+MATCH('Individual Scores'!$D153,Scores!$F$253:$F$505,0))&\"C\"&COLUMN(Scores!N$1),FALSE)))","v":177},{"$f":"IF('Team Scores'!$Z$1<2,\"\",IF(ISERROR(MATCH('Individual Scores'!$D153,Scores!$F$253:$F$506,0)),\"\",INDIRECT(\"Scores!\"&\"R\"&(ROW(Scores!$253:$253)-1+MATCH('Individual Scores'!$D153,Scores!$F$253:$F$505,0))&\"C\"&COLUMN(Scores!O$1),FALSE)))","v":200},{"$f":"IF('Team Scores'!$Z$1<2,\"\",IF(ISERROR(MATCH('Individual Scores'!$D153,Scores!$F$253:$F$506,0)),\"\",INDIRECT(\"Scores!\"&\"R\"&(ROW(Scores!$253:$253)-1+MATCH('Individual Scores'!$D153,Scores!$F$253:$F$505,0))&\"C\"&COLUMN(Scores!P$1),FALSE)))","v":162},{"$f":"IF('Team Scores'!$Z$1<2,\"\",IF(ISERROR(MATCH('Individual Scores'!$D153,Scores!$F$253:$F$506,0)),\"\",INDIRECT(\"Scores!\"&\"R\"&(ROW(Scores!$253:$253)-1+MATCH('Individual Scores'!$D153,Scores!$F$253:$F$505,0))&\"C\"&COLUMN(Scores!S$1),FALSE)))","v":1076},200,539,null,{"$f":"IF('Team Scores'!$Z$1<3,\"\",IF(ISERROR(MATCH('Individual Scores'!$D153,Scores!$F$506:$F$759,0)),\"\",INDIRECT(\"Scores!\"&\"R\"&(ROW(Scores!$F$506:$F$759)-1+MATCH('Individual Scores'!$D153,Scores!$F$506:$F$759,0))&\"C\"&COLUMN(Scores!J$1),FALSE)))","v":""},{"$f":"IF('Team Scores'!$Z$1<3,\"\",IF(ISERROR(MATCH('Individual Scores'!$D153,Scores!$F$506:$F$759,0)),\"\",INDIRECT(\"Scores!\"&\"R\"&(ROW(Scores!$F$506:$F$759)-1+MATCH('Individual Scores'!$D153,Scores!$F$506:$F$759,0))&\"C\"&COLUMN(Scores!K$1),FALSE)))","v":""},{"$f":"IF('Team Scores'!$Z$1<3,\"\",IF(ISERROR(MATCH('Individual Scores'!$D153,Scores!$F$506:$F$759,0)),\"\",INDIRECT(\"Scores!\"&\"R\"&(ROW(Scores!$F$506:$F$759)-1+MATCH('Individual Scores'!$D153,Scores!$F$506:$F$759,0))&\"C\"&COLUMN(Scores!L$1),FALSE)))","v":""},{"$f":"IF('Team Scores'!$Z$1<3,\"\",IF(ISERROR(MATCH('Individual Scores'!$D153,Scores!$F$506:$F$759,0)),\"\",INDIRECT(\"Scores!\"&\"R\"&(ROW(Scores!$F$506:$F$759)-1+MATCH('Individual Scores'!$D153,Scores!$F$506:$F$759,0))&\"C\"&COLUMN(Scores!N$1),FALSE)))","v":""},{"$f":"IF('Team Scores'!$Z$1<3,\"\",IF(ISERROR(MATCH('Individual Scores'!$D153,Scores!$F$506:$F$759,0)),\"\",INDIRECT(\"Scores!\"&\"R\"&(ROW(Scores!$F$506:$F$759)-1+MATCH('Individual Scores'!$D153,Scores!$F$506:$F$759,0))&\"C\"&COLUMN(Scores!O$1),FALSE)))","v":""},{"$f":"IF('Team Scores'!$Z$1<3,\"\",IF(ISERROR(MATCH('Individual Scores'!$D153,Scores!$F$506:$F$759,0)),\"\",INDIRECT(\"Scores!\"&\"R\"&(ROW(Scores!$F$506:$F$759)-1+MATCH('Individual Scores'!$D153,Scores!$F$506:$F$759,0))&\"C\"&COLUMN(Scores!P$1),FALSE)))","v":""},{"$f":"IF('Team Scores'!$Z$1<3,\"\",IF(ISERROR(MATCH('Individual Scores'!$D153,Scores!$F$506:$F$759,0)),\"\",INDIRECT(\"Scores!\"&\"R\"&(ROW(Scores!$F$506:$F$759)-1+MATCH('Individual Scores'!$D153,Scores!$F$506:$F$759,0))&\"C\"&COLUMN(Scores!S$1),FALSE)))","v":""},"",""]
["SC","16-20","M","Drew Weather","",0,"",0,{"$f":"IF(COUNT(Q154:V154,AA154:AF154,AK154:AP154)>=18/3*'Team Scores'!$Z$1,IF(H154-VLOOKUP(B154&C154,'Individual Awards Computations'!$AY$54:$AZ$58,2,FALSE)=0,\"Leader \"&C154&\":\"&B154,H154-VLOOKUP(B154&C154,'Individual Awards Computations'!$AY$54:$AZ$58,2,FALSE)),\"\")","v":""},"","","","","",1,null,{"$f":"IF(ISERROR(MATCH('Individual Scores'!$D154,Scores!$F$1:$F$253,0)),\"\",INDIRECT(\"Scores!\"&\"R\"&MATCH('Individual Scores'!$D154,Scores!$F$1:$F$253,0)&\"C\"&COLUMN(Scores!J$1),FALSE))","v":""},{"$f":"IF(ISERROR(MATCH('Individual Scores'!$D154,Scores!$F$1:$F$253,0)),\"\",INDIRECT(\"Scores!\"&\"R\"&MATCH('Individual Scores'!$D154,Scores!$F$1:$F$253,0)&\"C\"&COLUMN(Scores!K$1),FALSE))","v":""},{"$f":"IF(ISERROR(MATCH('Individual Scores'!$D154,Scores!$F$1:$F$253,0)),\"\",INDIRECT(\"Scores!\"&\"R\"&MATCH('Individual Scores'!$D154,Scores!$F$1:$F$253,0)&\"C\"&COLUMN(Scores!L$1),FALSE))","v":""},{"$f":"IF(ISERROR(MATCH('Individual Scores'!$D154,Scores!$F$1:$F$253,0)),\"\",INDIRECT(\"Scores!\"&\"R\"&MATCH('Individual Scores'!$D154,Scores!$F$1:$F$253,0)&\"C\"&COLUMN(Scores!N$1),FALSE))","v":""},{"$f":"IF(ISERROR(MATCH('Individual Scores'!$D154,Scores!$F$1:$F$253,0)),\"\",INDIRECT(\"Scores!\"&\"R\"&MATCH('Individual Scores'!$D154,Scores!$F$1:$F$253,0)&\"C\"&COLUMN(Scores!O$1),FALSE))","v":""},{"$f":"IF(ISERROR(MATCH('Individual Scores'!$D154,Scores!$F$1:$F$253,0)),\"\",INDIRECT(\"Scores!\"&\"R\"&MATCH('Individual Scores'!$D154,Scores!$F$1:$F$253,0)&\"C\"&COLUMN(Scores!P$1),FALSE))","v":""},{"$f":"IF(ISERROR(MATCH('Individual Scores'!$D154,Scores!$F$1:$F$253,0)),\"\",INDIRECT(\"Scores!\"&\"R\"&MATCH('Individual Scores'!$D154,Scores!$F$1:$F$253,0)&\"C\"&COLUMN(Scores!S$1),FALSE))","v":""},{"$f":"IF(MAX('Individual Scores'!Q154:V154)>0,MAX('Individual Scores'!Q154:V154),\"\")","v":""},{"$f":"IF(MAX(SUM('Individual Scores'!Q154:S154),SUM('Individual Scores'!T154:V154))>0,MAX(SUM('Individual Scores'!Q154:S154),SUM('Individual Scores'!T154:V154)),\"\")","v":""},null,{"$f":"IF('Team Scores'!$Z$1<2,\"\",IF(ISERROR(MATCH('Individual Scores'!$D154,Scores!$F$253:$F$506,0)),\"\",INDIRECT(\"Scores!\"&\"R\"&(ROW(Scores!$253:$253)-1+MATCH('Individual Scores'!$D154,Scores!$F$253:$F$505,0))&\"C\"&COLUMN(Scores!J$1),FALSE)))","v":0},{"$f":"IF('Team Scores'!$Z$1<2,\"\",IF(ISERROR(MATCH('Individual Scores'!$D154,Scores!$F$253:$F$506,0)),\"\",INDIRECT(\"Scores!\"&\"R\"&(ROW(Scores!$253:$253)-1+MATCH('Individual Scores'!$D154,Scores!$F$253:$F$505,0))&\"C\"&COLUMN(Scores!K$1),FALSE)))","v":0},{"$f":"IF('Team Scores'!$Z$1<2,\"\",IF(ISERROR(MATCH('Individual Scores'!$D154,Scores!$F$253:$F$506,0)),\"\",INDIRECT(\"Scores!\"&\"R\"&(ROW(Scores!$253:$253)-1+MATCH('Individual Scores'!$D154,Scores!$F$253:$F$505,0))&\"C\"&COLUMN(Scores!L$1),FALSE)))","v":0},{"$f":"IF('Team Scores'!$Z$1<2,\"\",IF(ISERROR(MATCH('Individual Scores'!$D154,Scores!$F$253:$F$506,0)),\"\",INDIRECT(\"Scores!\"&\"R\"&(ROW(Scores!$253:$253)-1+MATCH('Individual Scores'!$D154,Scores!$F$253:$F$505,0))&\"C\"&COLUMN(Scores!N$1),FALSE)))","v":0},{"$f":"IF('Team Scores'!$Z$1<2,\"\",IF(ISERROR(MATCH('Individual Scores'!$D154,Scores!$F$253:$F$506,0)),\"\",INDIRECT(\"Scores!\"&\"R\"&(ROW(Scores!$253:$253)-1+MATCH('Individual Scores'!$D154,Scores!$F$253:$F$505,0))&\"C\"&COLUMN(Scores!O$1),FALSE)))","v":0},{"$f":"IF('Team Scores'!$Z$1<2,\"\",IF(ISERROR(MATCH('Individual Scores'!$D154,Scores!$F$253:$F$506,0)),\"\",INDIRECT(\"Scores!\"&\"R\"&(ROW(Scores!$253:$253)-1+MATCH('Individual Scores'!$D154,Scores!$F$253:$F$505,0))&\"C\"&COLUMN(Scores!P$1),FALSE)))","v":0},{"$f":"IF('Team Scores'!$Z$1<2,\"\",IF(ISERROR(MATCH('Individual Scores'!$D154,Scores!$F$253:$F$506,0)),\"\",INDIRECT(\"Scores!\"&\"R\"&(ROW(Scores!$253:$253)-1+MATCH('Individual Scores'!$D154,Scores!$F$253:$F$505,0))&\"C\"&COLUMN(Scores!S$1),FALSE)))","v":0},"","",null,{"$f":"IF('Team Scores'!$Z$1<3,\"\",IF(ISERROR(MATCH('Individual Scores'!$D154,Scores!$F$506:$F$759,0)),\"\",INDIRECT(\"Scores!\"&\"R\"&(ROW(Scores!$F$506:$F$759)-1+MATCH('Individual Scores'!$D154,Scores!$F$506:$F$759,0))&\"C\"&COLUMN(Scores!J$1),FALSE)))","v":""},{"$f":"IF('Team Scores'!$Z$1<3,\"\",IF(ISERROR(MATCH('Individual Scores'!$D154,Scores!$F$506:$F$759,0)),\"\",INDIRECT(\"Scores!\"&\"R\"&(ROW(Scores!$F$506:$F$759)-1+MATCH('Individual Scores'!$D154,Scores!$F$506:$F$759,0))&\"C\"&COLUMN(Scores!K$1),FALSE)))","v":""},{"$f":"IF('Team Scores'!$Z$1<3,\"\",IF(ISERROR(MATCH('Individual Scores'!$D154,Scores!$F$506:$F$759,0)),\"\",INDIRECT(\"Scores!\"&\"R\"&(ROW(Scores!$F$506:$F$759)-1+MATCH('Individual Scores'!$D154,Scores!$F$506:$F$759,0))&\"C\"&COLUMN(Scores!L$1),FALSE)))","v":""},{"$f":"IF('Team Scores'!$Z$1<3,\"\",IF(ISERROR(MATCH('Individual Scores'!$D154,Scores!$F$506:$F$759,0)),\"\",INDIRECT(\"Scores!\"&\"R\"&(ROW(Scores!$F$506:$F$759)-1+MATCH('Individual Scores'!$D154,Scores!$F$506:$F$759,0))&\"C\"&COLUMN(Scores!N$1),FALSE)))","v":""},{"$f":"IF('Team Scores'!$Z$1<3,\"\",IF(ISERROR(MATCH('Individual Scores'!$D154,Scores!$F$506:$F$759,0)),\"\",INDIRECT(\"Scores!\"&\"R\"&(ROW(Scores!$F$506:$F$759)-1+MATCH('Individual Scores'!$D154,Scores!$F$506:$F$759,0))&\"C\"&COLUMN(Scores!O$1),FALSE)))","v":""},{"$f":"IF('Team Scores'!$Z$1<3,\"\",IF(ISERROR(MATCH('Individual Scores'!$D154,Scores!$F$506:$F$759,0)),\"\",INDIRECT(\"Scores!\"&\"R\"&(ROW(Scores!$F$506:$F$759)-1+MATCH('Individual Scores'!$D154,Scores!$F$506:$F$759,0))&\"C\"&COLUMN(Scores!P$1),FALSE)))","v":""},{"$f":"IF('Team Scores'!$Z$1<3,\"\",IF(ISERROR(MATCH('Individual Scores'!$D154,Scores!$F$506:$F$759,0)),\"\",INDIRECT(\"Scores!\"&\"R\"&(ROW(Scores!$F$506:$F$759)-1+MATCH('Individual Scores'!$D154,Scores!$F$506:$F$759,0))&\"C\"&COLUMN(Scores!S$1),FALSE)))","v":""},"",""]
["SC","16-20","M","Dennis Lane Jr",1139,1149,"",2288,{"$f":"IF(COUNT(Q155:V155,AA155:AF155,AK155:AP155)>=18/3*'Team Scores'!$Z$1,IF(H155-VLOOKUP(B155&C155,'Individual Awards Computations'!$AY$54:$AZ$58,2,FALSE)=0,\"Leader \"&C155&\":\"&B155,H155-VLOOKUP(B155&C155,'Individual Awards Computations'!$AY$54:$AZ$58,2,FALSE)),\"\")","v":""},231,598,189.83333333333334,27.833333333333332,"162-218",1,null,{"$f":"IF(ISERROR(MATCH('Individual Scores'!$D155,Scores!$F$1:$F$253,0)),\"\",INDIRECT(\"Scores!\"&\"R\"&MATCH('Individual Scores'!$D155,Scores!$F$1:$F$253,0)&\"C\"&COLUMN(Scores!J$1),FALSE))","v":152},{"$f":"IF(ISERROR(MATCH('Individual Scores'!$D155,Scores!$F$1:$F$253,0)),\"\",INDIRECT(\"Scores!\"&\"R\"&MATCH('Individual Scores'!$D155,Scores!$F$1:$F$253,0)&\"C\"&COLUMN(Scores!K$1),FALSE))","v":231},{"$f":"IF(ISERROR(MATCH('Individual Scores'!$D155,Scores!$F$1:$F$253,0)),\"\",INDIRECT(\"Scores!\"&\"R\"&MATCH('Individual Scores'!$D155,Scores!$F$1:$F$253,0)&\"C\"&COLUMN(Scores!L$1),FALSE))","v":215},{"$f":"IF(ISERROR(MATCH('Individual Scores'!$D155,Scores!$F$1:$F$253,0)),\"\",INDIRECT(\"Scores!\"&\"R\"&MATCH('Individual Scores'!$D155,Scores!$F$1:$F$253,0)&\"C\"&COLUMN(Scores!N$1),FALSE))","v":207},{"$f":"IF(ISERROR(MATCH('Individual Scores'!$D155,Scores!$F$1:$F$253,0)),\"\",INDIRECT(\"Scores!\"&\"R\"&MATCH('Individual Scores'!$D155,Scores!$F$1:$F$253,0)&\"C\"&COLUMN(Scores!O$1),FALSE))","v":175},{"$f":"IF(ISERROR(MATCH('Individual Scores'!$D155,Scores!$F$1:$F$253,0)),\"\",INDIRECT(\"Scores!\"&\"R\"&MATCH('Individual Scores'!$D155,Scores!$F$1:$F$253,0)&\"C\"&COLUMN(Scores!P$1),FALSE))","v":159},{"$f":"IF(ISERROR(MATCH('Individual Scores'!$D155,Scores!$F$1:$F$253,0)),\"\",INDIRECT(\"Scores!\"&\"R\"&MATCH('Individual Scores'!$D155,Scores!$F$1:$F$253,0)&\"C\"&COLUMN(Scores!S$1),FALSE))","v":1139},null,null,null,null,null,null,null,null,null,{"$f":"IF('Team Scores'!$Z$1<2,\"\",IF(ISERROR(MATCH('Individual Scores'!$D155,Scores!$F$253:$F$506,0)),\"\",INDIRECT(\"Scores!\"&\"R\"&(ROW(Scores!$253:$253)-1+MATCH('Individual Scores'!$D155,Scores!$F$253:$F$505,0))&\"C\"&COLUMN(Scores!S$1),FALSE)))","v":1149},null,null,null,{"$f":"IF('Team Scores'!$Z$1<3,\"\",IF(ISERROR(MATCH('Individual Scores'!$D155,Scores!$F$506:$F$759,0)),\"\",INDIRECT(\"Scores!\"&\"R\"&(ROW(Scores!$F$506:$F$759)-1+MATCH('Individual Scores'!$D155,Scores!$F$506:$F$759,0))&\"C\"&COLUMN(Scores!J$1),FALSE)))","v":""},{"$f":"IF('Team Scores'!$Z$1<3,\"\",IF(ISERROR(MATCH('Individual Scores'!$D155,Scores!$F$506:$F$759,0)),\"\",INDIRECT(\"Scores!\"&\"R\"&(ROW(Scores!$F$506:$F$759)-1+MATCH('Individual Scores'!$D155,Scores!$F$506:$F$759,0))&\"C\"&COLUMN(Scores!K$1),FALSE)))","v":""},{"$f":"IF('Team Scores'!$Z$1<3,\"\",IF(ISERROR(MATCH('Individual Scores'!$D155,Scores!$F$506:$F$759,0)),\"\",INDIRECT(\"Scores!\"&\"R\"&(ROW(Scores!$F$506:$F$759)-1+MATCH('Individual Scores'!$D155,Scores!$F$506:$F$759,0))&\"C\"&COLUMN(Scores!L$1),FALSE)))","v":""},{"$f":"IF('Team Scores'!$Z$1<3,\"\",IF(ISERROR(MATCH('Individual Scores'!$D155,Scores!$F$506:$F$759,0)),\"\",INDIRECT(\"Scores!\"&\"R\"&(ROW(Scores!$F$506:$F$759)-1+MATCH('Individual Scores'!$D155,Scores!$F$506:$F$759,0))&\"C\"&COLUMN(Scores!N$1),FALSE)))","v":""},{"$f":"IF('Team Scores'!$Z$1<3,\"\",IF(ISERROR(MATCH('Individual Scores'!$D155,Scores!$F$506:$F$759,0)),\"\",INDIRECT(\"Scores!\"&\"R\"&(ROW(Scores!$F$506:$F$759)-1+MATCH('Individual Scores'!$D155,Scores!$F$506:$F$759,0))&\"C\"&COLUMN(Scores!O$1),FALSE)))","v":""},{"$f":"IF('Team Scores'!$Z$1<3,\"\",IF(ISERROR(MATCH('Individual Scores'!$D155,Scores!$F$506:$F$759,0)),\"\",INDIRECT(\"Scores!\"&\"R\"&(ROW(Scores!$F$506:$F$759)-1+MATCH('Individual Scores'!$D155,Scores!$F$506:$F$759,0))&\"C\"&COLUMN(Scores!P$1),FALSE)))","v":""},{"$f":"IF('Team Scores'!$Z$1<3,\"\",IF(ISERROR(MATCH('Individual Scores'!$D155,Scores!$F$506:$F$759,0)),\"\",INDIRECT(\"Scores!\"&\"R\"&(ROW(Scores!$F$506:$F$759)-1+MATCH('Individual Scores'!$D155,Scores!$F$506:$F$759,0))&\"C\"&COLUMN(Scores!S$1),FALSE)))","v":""},"",""]
["SC","16-20","M","Bryan Hahlen",1199,1111,"",2310,{"$f":"IF(COUNT(Q156:V156,AA156:AF156,AK156:AP156)>=18/3*'Team Scores'!$Z$1,IF(H156-VLOOKUP(B156&C156,'Individual Awards Computations'!$AY$54:$AZ$58,2,FALSE)=0,\"Leader \"&C156&\":\"&B156,H156-VLOOKUP(B156&C156,'Individual Awards Computations'!$AY$54:$AZ$58,2,FALSE)),\"\")","v":-360},237,670,192.5,18.416666666666668,"174-211",1,null,{"$f":"IF(ISERROR(MATCH('Individual Scores'!$D156,Scores!$F$1:$F$253,0)),\"\",INDIRECT(\"Scores!\"&\"R\"&MATCH('Individual Scores'!$D156,Scores!$F$1:$F$253,0)&\"C\"&COLUMN(Scores!J$1),FALSE))","v":153},{"$f":"IF(ISERROR(MATCH('Individual Scores'!$D156,Scores!$F$1:$F$253,0)),\"\",INDIRECT(\"Scores!\"&\"R\"&MATCH('Individual Scores'!$D156,Scores!$F$1:$F$253,0)&\"C\"&COLUMN(Scores!K$1),FALSE))","v":190},{"$f":"IF(ISERROR(MATCH('Individual Scores'!$D156,Scores!$F$1:$F$253,0)),\"\",INDIRECT(\"Scores!\"&\"R\"&MATCH('Individual Scores'!$D156,Scores!$F$1:$F$253,0)&\"C\"&COLUMN(Scores!L$1),FALSE))","v":186},{"$f":"IF(ISERROR(MATCH('Individual Scores'!$D156,Scores!$F$1:$F$253,0)),\"\",INDIRECT(\"Scores!\"&\"R\"&MATCH('Individual Scores'!$D156,Scores!$F$1:$F$253,0)&\"C\"&COLUMN(Scores!N$1),FALSE))","v":237},{"$f":"IF(ISERROR(MATCH('Individual Scores'!$D156,Scores!$F$1:$F$253,0)),\"\",INDIRECT(\"Scores!\"&\"R\"&MATCH('Individual Scores'!$D156,Scores!$F$1:$F$253,0)&\"C\"&COLUMN(Scores!O$1),FALSE))","v":199},{"$f":"IF(ISERROR(MATCH('Individual Scores'!$D156,Scores!$F$1:$F$253,0)),\"\",INDIRECT(\"Scores!\"&\"R\"&MATCH('Individual Scores'!$D156,Scores!$F$1:$F$253,0)&\"C\"&COLUMN(Scores!P$1),FALSE))","v":234},{"$f":"IF(ISERROR(MATCH('Individual Scores'!$D156,Scores!$F$1:$F$253,0)),\"\",INDIRECT(\"Scores!\"&\"R\"&MATCH('Individual Scores'!$D156,Scores!$F$1:$F$253,0)&\"C\"&COLUMN(Scores!S$1),FALSE))","v":1199},{"$f":"IF(MAX('Individual Scores'!Q156:V156)>0,MAX('Individual Scores'!Q156:V156),\"\")","v":237},{"$f":"IF(MAX(SUM('Individual Scores'!Q156:S156),SUM('Individual Scores'!T156:V156))>0,MAX(SUM('Individual Scores'!Q156:S156),SUM('Individual Scores'!T156:V156)),\"\")","v":670},null,{"$f":"IF('Team Scores'!$Z$1<2,\"\",IF(ISERROR(MATCH('Individual Scores'!$D156,Scores!$F$253:$F$506,0)),\"\",INDIRECT(\"Scores!\"&\"R\"&(ROW(Scores!$253:$253)-1+MATCH('Individual Scores'!$D156,Scores!$F$253:$F$505,0))&\"C\"&COLUMN(Scores!J$1),FALSE)))","v":159},{"$f":"IF('Team Scores'!$Z$1<2,\"\",IF(ISERROR(MATCH('Individual Scores'!$D156,Scores!$F$253:$F$506,0)),\"\",INDIRECT(\"Scores!\"&\"R\"&(ROW(Scores!$253:$253)-1+MATCH('Individual Scores'!$D156,Scores!$F$253:$F$505,0))&\"C\"&COLUMN(Scores!K$1),FALSE)))","v":196},{"$f":"IF('Team Scores'!$Z$1<2,\"\",IF(ISERROR(MATCH('Individual Scores'!$D156,Scores!$F$253:$F$506,0)),\"\",INDIRECT(\"Scores!\"&\"R\"&(ROW(Scores!$253:$253)-1+MATCH('Individual Scores'!$D156,Scores!$F$253:$F$505,0))&\"C\"&COLUMN(Scores!L$1),FALSE)))","v":192},{"$f":"IF('Team Scores'!$Z$1<2,\"\",IF(ISERROR(MATCH('Individual Scores'!$D156,Scores!$F$253:$F$506,0)),\"\",INDIRECT(\"Scores!\"&\"R\"&(ROW(Scores!$253:$253)-1+MATCH('Individual Scores'!$D156,Scores!$F$253:$F$505,0))&\"C\"&COLUMN(Scores!N$1),FALSE)))","v":207},{"$f":"IF('Team Scores'!$Z$1<2,\"\",IF(ISERROR(MATCH('Individual Scores'!$D156,Scores!$F$253:$F$506,0)),\"\",INDIRECT(\"Scores!\"&\"R\"&(ROW(Scores!$253:$253)-1+MATCH('Individual Scores'!$D156,Scores!$F$253:$F$505,0))&\"C\"&COLUMN(Scores!O$1),FALSE)))","v":186},{"$f":"IF('Team Scores'!$Z$1<2,\"\",IF(ISERROR(MATCH('Individual Scores'!$D156,Scores!$F$253:$F$506,0)),\"\",INDIRECT(\"Scores!\"&\"R\"&(ROW(Scores!$253:$253)-1+MATCH('Individual Scores'!$D156,Scores!$F$253:$F$505,0))&\"C\"&COLUMN(Scores!P$1),FALSE)))","v":171},{"$f":"IF('Team Scores'!$Z$1<2,\"\",IF(ISERROR(MATCH('Individual Scores'!$D156,Scores!$F$253:$F$506,0)),\"\",INDIRECT(\"Scores!\"&\"R\"&(ROW(Scores!$253:$253)-1+MATCH('Individual Scores'!$D156,Scores!$F$253:$F$505,0))&\"C\"&COLUMN(Scores!S$1),FALSE)))","v":1111},207,564,null,{"$f":"IF('Team Scores'!$Z$1<3,\"\",IF(ISERROR(MATCH('Individual Scores'!$D156,Scores!$F$506:$F$759,0)),\"\",INDIRECT(\"Scores!\"&\"R\"&(ROW(Scores!$F$506:$F$759)-1+MATCH('Individual Scores'!$D156,Scores!$F$506:$F$759,0))&\"C\"&COLUMN(Scores!J$1),FALSE)))","v":""},{"$f":"IF('Team Scores'!$Z$1<3,\"\",IF(ISERROR(MATCH('Individual Scores'!$D156,Scores!$F$506:$F$759,0)),\"\",INDIRECT(\"Scores!\"&\"R\"&(ROW(Scores!$F$506:$F$759)-1+MATCH('Individual Scores'!$D156,Scores!$F$506:$F$759,0))&\"C\"&COLUMN(Scores!K$1),FALSE)))","v":""},{"$f":"IF('Team Scores'!$Z$1<3,\"\",IF(ISERROR(MATCH('Individual Scores'!$D156,Scores!$F$506:$F$759,0)),\"\",INDIRECT(\"Scores!\"&\"R\"&(ROW(Scores!$F$506:$F$759)-1+MATCH('Individual Scores'!$D156,Scores!$F$506:$F$759,0))&\"C\"&COLUMN(Scores!L$1),FALSE)))","v":""},{"$f":"IF('Team Scores'!$Z$1<3,\"\",IF(ISERROR(MATCH('Individual Scores'!$D156,Scores!$F$506:$F$759,0)),\"\",INDIRECT(\"Scores!\"&\"R\"&(ROW(Scores!$F$506:$F$759)-1+MATCH('Individual Scores'!$D156,Scores!$F$506:$F$759,0))&\"C\"&COLUMN(Scores!N$1),FALSE)))","v":""},{"$f":"IF('Team Scores'!$Z$1<3,\"\",IF(ISERROR(MATCH('Individual Scores'!$D156,Scores!$F$506:$F$759,0)),\"\",INDIRECT(\"Scores!\"&\"R\"&(ROW(Scores!$F$506:$F$759)-1+MATCH('Individual Scores'!$D156,Scores!$F$506:$F$759,0))&\"C\"&COLUMN(Scores!O$1),FALSE)))","v":""},{"$f":"IF('Team Scores'!$Z$1<3,\"\",IF(ISERROR(MATCH('Individual Scores'!$D156,Scores!$F$506:$F$759,0)),\"\",INDIRECT(\"Scores!\"&\"R\"&(ROW(Scores!$F$506:$F$759)-1+MATCH('Individual Scores'!$D156,Scores!$F$506:$F$759,0))&\"C\"&COLUMN(Scores!P$1),FALSE)))","v":""},{"$f":"IF('Team Scores'!$Z$1<3,\"\",IF(ISERROR(MATCH('Individual Scores'!$D156,Scores!$F$506:$F$759,0)),\"\",INDIRECT(\"Scores!\"&\"R\"&(ROW(Scores!$F$506:$F$759)-1+MATCH('Individual Scores'!$D156,Scores!$F$506:$F$759,0))&\"C\"&COLUMN(Scores!S$1),FALSE)))","v":""},"",""]
["SC","16-20","M","Bradley Bright",1033,1153,"",2186,{"$f":"IF(COUNT(Q157:V157,AA157:AF157,AK157:AP157)>=18/3*'Team Scores'!$Z$1,IF(H157-VLOOKUP(B157&C157,'Individual Awards Computations'!$AY$54:$AZ$58,2,FALSE)=0,\"Leader \"&C157&\":\"&B157,H157-VLOOKUP(B157&C157,'Individual Awards Computations'!$AY$54:$AZ$58,2,FALSE)),\"\")","v":-484},233,597,182.16666666666666,19.333333333333332,"163-202",1,null,{"$f":"IF(ISERROR(MATCH('Individual Scores'!$D157,Scores!$F$1:$F$253,0)),\"\",INDIRECT(\"Scores!\"&\"R\"&MATCH('Individual Scores'!$D157,Scores!$F$1:$F$253,0)&\"C\"&COLUMN(Scores!J$1),FALSE))","v":158},{"$f":"IF(ISERROR(MATCH('Individual Scores'!$D157,Scores!$F$1:$F$253,0)),\"\",INDIRECT(\"Scores!\"&\"R\"&MATCH('Individual Scores'!$D157,Scores!$F$1:$F$253,0)&\"C\"&COLUMN(Scores!K$1),FALSE))","v":188},{"$f":"IF(ISERROR(MATCH('Individual Scores'!$D157,Scores!$F$1:$F$253,0)),\"\",INDIRECT(\"Scores!\"&\"R\"&MATCH('Individual Scores'!$D157,Scores!$F$1:$F$253,0)&\"C\"&COLUMN(Scores!L$1),FALSE))","v":170},{"$f":"IF(ISERROR(MATCH('Individual Scores'!$D157,Scores!$F$1:$F$253,0)),\"\",INDIRECT(\"Scores!\"&\"R\"&MATCH('Individual Scores'!$D157,Scores!$F$1:$F$253,0)&\"C\"&COLUMN(Scores!N$1),FALSE))","v":207},{"$f":"IF(ISERROR(MATCH('Individual Scores'!$D157,Scores!$F$1:$F$253,0)),\"\",INDIRECT(\"Scores!\"&\"R\"&MATCH('Individual Scores'!$D157,Scores!$F$1:$F$253,0)&\"C\"&COLUMN(Scores!O$1),FALSE))","v":128},{"$f":"IF(ISERROR(MATCH('Individual Scores'!$D157,Scores!$F$1:$F$253,0)),\"\",INDIRECT(\"Scores!\"&\"R\"&MATCH('Individual Scores'!$D157,Scores!$F$1:$F$253,0)&\"C\"&COLUMN(Scores!P$1),FALSE))","v":182},{"$f":"IF(ISERROR(MATCH('Individual Scores'!$D157,Scores!$F$1:$F$253,0)),\"\",INDIRECT(\"Scores!\"&\"R\"&MATCH('Individual Scores'!$D157,Scores!$F$1:$F$253,0)&\"C\"&COLUMN(Scores!S$1),FALSE))","v":1033},{"$f":"IF(MAX('Individual Scores'!Q157:V157)>0,MAX('Individual Scores'!Q157:V157),\"\")","v":207},{"$f":"IF(MAX(SUM('Individual Scores'!Q157:S157),SUM('Individual Scores'!T157:V157))>0,MAX(SUM('Individual Scores'!Q157:S157),SUM('Individual Scores'!T157:V157)),\"\")","v":517},null,{"$f":"IF('Team Scores'!$Z$1<2,\"\",IF(ISERROR(MATCH('Individual Scores'!$D157,Scores!$F$253:$F$506,0)),\"\",INDIRECT(\"Scores!\"&\"R\"&(ROW(Scores!$253:$253)-1+MATCH('Individual Scores'!$D157,Scores!$F$253:$F$505,0))&\"C\"&COLUMN(Scores!J$1),FALSE)))","v":195},{"$f":"IF('Team Scores'!$Z$1<2,\"\",IF(ISERROR(MATCH('Individual Scores'!$D157,Scores!$F$253:$F$506,0)),\"\",INDIRECT(\"Scores!\"&\"R\"&(ROW(Scores!$253:$253)-1+MATCH('Individual Scores'!$D157,Scores!$F$253:$F$505,0))&\"C\"&COLUMN(Scores!K$1),FALSE)))","v":169},{"$f":"IF('Team Scores'!$Z$1<2,\"\",IF(ISERROR(MATCH('Individual Scores'!$D157,Scores!$F$253:$F$506,0)),\"\",INDIRECT(\"Scores!\"&\"R\"&(ROW(Scores!$253:$253)-1+MATCH('Individual Scores'!$D157,Scores!$F$253:$F$505,0))&\"C\"&COLUMN(Scores!L$1),FALSE)))","v":233},{"$f":"IF('Team Scores'!$Z$1<2,\"\",IF(ISERROR(MATCH('Individual Scores'!$D157,Scores!$F$253:$F$506,0)),\"\",INDIRECT(\"Scores!\"&\"R\"&(ROW(Scores!$253:$253)-1+MATCH('Individual Scores'!$D157,Scores!$F$253:$F$505,0))&\"C\"&COLUMN(Scores!N$1),FALSE)))","v":194},{"$f":"IF('Team Scores'!$Z$1<2,\"\",IF(ISERROR(MATCH('Individual Scores'!$D157,Scores!$F$253:$F$506,0)),\"\",INDIRECT(\"Scores!\"&\"R\"&(ROW(Scores!$253:$253)-1+MATCH('Individual Scores'!$D157,Scores!$F$253:$F$505,0))&\"C\"&COLUMN(Scores!O$1),FALSE)))","v":192},{"$f":"IF('Team Scores'!$Z$1<2,\"\",IF(ISERROR(MATCH('Individual Scores'!$D157,Scores!$F$253:$F$506,0)),\"\",INDIRECT(\"Scores!\"&\"R\"&(ROW(Scores!$253:$253)-1+MATCH('Individual Scores'!$D157,Scores!$F$253:$F$505,0))&\"C\"&COLUMN(Scores!P$1),FALSE)))","v":170},{"$f":"IF('Team Scores'!$Z$1<2,\"\",IF(ISERROR(MATCH('Individual Scores'!$D157,Scores!$F$253:$F$506,0)),\"\",INDIRECT(\"Scores!\"&\"R\"&(ROW(Scores!$253:$253)-1+MATCH('Individual Scores'!$D157,Scores!$F$253:$F$505,0))&\"C\"&COLUMN(Scores!S$1),FALSE)))","v":1153},233,597,null,{"$f":"IF('Team Scores'!$Z$1<3,\"\",IF(ISERROR(MATCH('Individual Scores'!$D157,Scores!$F$506:$F$759,0)),\"\",INDIRECT(\"Scores!\"&\"R\"&(ROW(Scores!$F$506:$F$759)-1+MATCH('Individual Scores'!$D157,Scores!$F$506:$F$759,0))&\"C\"&COLUMN(Scores!J$1),FALSE)))","v":""},{"$f":"IF('Team Scores'!$Z$1<3,\"\",IF(ISERROR(MATCH('Individual Scores'!$D157,Scores!$F$506:$F$759,0)),\"\",INDIRECT(\"Scores!\"&\"R\"&(ROW(Scores!$F$506:$F$759)-1+MATCH('Individual Scores'!$D157,Scores!$F$506:$F$759,0))&\"C\"&COLUMN(Scores!K$1),FALSE)))","v":""},{"$f":"IF('Team Scores'!$Z$1<3,\"\",IF(ISERROR(MATCH('Individual Scores'!$D157,Scores!$F$506:$F$759,0)),\"\",INDIRECT(\"Scores!\"&\"R\"&(ROW(Scores!$F$506:$F$759)-1+MATCH('Individual Scores'!$D157,Scores!$F$506:$F$759,0))&\"C\"&COLUMN(Scores!L$1),FALSE)))","v":""},{"$f":"IF('Team Scores'!$Z$1<3,\"\",IF(ISERROR(MATCH('Individual Scores'!$D157,Scores!$F$506:$F$759,0)),\"\",INDIRECT(\"Scores!\"&\"R\"&(ROW(Scores!$F$506:$F$759)-1+MATCH('Individual Scores'!$D157,Scores!$F$506:$F$759,0))&\"C\"&COLUMN(Scores!N$1),FALSE)))","v":""},{"$f":"IF('Team Scores'!$Z$1<3,\"\",IF(ISERROR(MATCH('Individual Scores'!$D157,Scores!$F$506:$F$759,0)),\"\",INDIRECT(\"Scores!\"&\"R\"&(ROW(Scores!$F$506:$F$759)-1+MATCH('Individual Scores'!$D157,Scores!$F$506:$F$759,0))&\"C\"&COLUMN(Scores!O$1),FALSE)))","v":""},{"$f":"IF('Team Scores'!$Z$1<3,\"\",IF(ISERROR(MATCH('Individual Scores'!$D157,Scores!$F$506:$F$759,0)),\"\",INDIRECT(\"Scores!\"&\"R\"&(ROW(Scores!$F$506:$F$759)-1+MATCH('Individual Scores'!$D157,Scores!$F$506:$F$759,0))&\"C\"&COLUMN(Scores!P$1),FALSE)))","v":""},{"$f":"IF('Team Scores'!$Z$1<3,\"\",IF(ISERROR(MATCH('Individual Scores'!$D157,Scores!$F$506:$F$759,0)),\"\",INDIRECT(\"Scores!\"&\"R\"&(ROW(Scores!$F$506:$F$759)-1+MATCH('Individual Scores'!$D157,Scores!$F$506:$F$759,0))&\"C\"&COLUMN(Scores!S$1),FALSE)))","v":""},"",""]
["SC","16-20","M","Vacant-SC_B_U20",0,"","",0,{"$f":"IF(COUNT(Q158:V158,AA158:AF158,AK158:AP158)>=18/3*'Team Scores'!$Z$1,IF(H158-VLOOKUP(B158&C158,'Individual Awards Computations'!$AY$54:$AZ$58,2,FALSE)=0,\"Leader \"&C158&\":\"&B158,H158-VLOOKUP(B158&C158,'Individual Awards Computations'!$AY$54:$AZ$58,2,FALSE)),\"\")","v":""},"","","","","",1,null,{"$f":"IF(ISERROR(MATCH('Individual Scores'!$D158,Scores!$F$1:$F$253,0)),\"\",INDIRECT(\"Scores!\"&\"R\"&MATCH('Individual Scores'!$D158,Scores!$F$1:$F$253,0)&\"C\"&COLUMN(Scores!J$1),FALSE))","v":0},{"$f":"IF(ISERROR(MATCH('Individual Scores'!$D158,Scores!$F$1:$F$253,0)),\"\",INDIRECT(\"Scores!\"&\"R\"&MATCH('Individual Scores'!$D158,Scores!$F$1:$F$253,0)&\"C\"&COLUMN(Scores!K$1),FALSE))","v":0},{"$f":"IF(ISERROR(MATCH('Individual Scores'!$D158,Scores!$F$1:$F$253,0)),\"\",INDIRECT(\"Scores!\"&\"R\"&MATCH('Individual Scores'!$D158,Scores!$F$1:$F$253,0)&\"C\"&COLUMN(Scores!L$1),FALSE))","v":0},{"$f":"IF(ISERROR(MATCH('Individual Scores'!$D158,Scores!$F$1:$F$253,0)),\"\",INDIRECT(\"Scores!\"&\"R\"&MATCH('Individual Scores'!$D158,Scores!$F$1:$F$253,0)&\"C\"&COLUMN(Scores!N$1),FALSE))","v":0},{"$f":"IF(ISERROR(MATCH('Individual Scores'!$D158,Scores!$F$1:$F$253,0)),\"\",INDIRECT(\"Scores!\"&\"R\"&MATCH('Individual Scores'!$D158,Scores!$F$1:$F$253,0)&\"C\"&COLUMN(Scores!O$1),FALSE))","v":0},{"$f":"IF(ISERROR(MATCH('Individual Scores'!$D158,Scores!$F$1:$F$253,0)),\"\",INDIRECT(\"Scores!\"&\"R\"&MATCH('Individual Scores'!$D158,Scores!$F$1:$F$253,0)&\"C\"&COLUMN(Scores!P$1),FALSE))","v":0},{"$f":"IF(ISERROR(MATCH('Individual Scores'!$D158,Scores!$F$1:$F$253,0)),\"\",INDIRECT(\"Scores!\"&\"R\"&MATCH('Individual Scores'!$D158,Scores!$F$1:$F$253,0)&\"C\"&COLUMN(Scores!S$1),FALSE))","v":0},{"$f":"IF(MAX('Individual Scores'!Q158:V158)>0,MAX('Individual Scores'!Q158:V158),\"\")","v":""},{"$f":"IF(MAX(SUM('Individual Scores'!Q158:S158),SUM('Individual Scores'!T158:V158))>0,MAX(SUM('Individual Scores'!Q158:S158),SUM('Individual Scores'!T158:V158)),\"\")","v":""},null,{"$f":"IF('Team Scores'!$Z$1<2,\"\",IF(ISERROR(MATCH('Individual Scores'!$D158,Scores!$F$253:$F$506,0)),\"\",INDIRECT(\"Scores!\"&\"R\"&(ROW(Scores!$253:$253)-1+MATCH('Individual Scores'!$D158,Scores!$F$253:$F$505,0))&\"C\"&COLUMN(Scores!J$1),FALSE)))","v":""},{"$f":"IF('Team Scores'!$Z$1<2,\"\",IF(ISERROR(MATCH('Individual Scores'!$D158,Scores!$F$253:$F$506,0)),\"\",INDIRECT(\"Scores!\"&\"R\"&(ROW(Scores!$253:$253)-1+MATCH('Individual Scores'!$D158,Scores!$F$253:$F$505,0))&\"C\"&COLUMN(Scores!K$1),FALSE)))","v":""},{"$f":"IF('Team Scores'!$Z$1<2,\"\",IF(ISERROR(MATCH('Individual Scores'!$D158,Scores!$F$253:$F$506,0)),\"\",INDIRECT(\"Scores!\"&\"R\"&(ROW(Scores!$253:$253)-1+MATCH('Individual Scores'!$D158,Scores!$F$253:$F$505,0))&\"C\"&COLUMN(Scores!L$1),FALSE)))","v":""},{"$f":"IF('Team Scores'!$Z$1<2,\"\",IF(ISERROR(MATCH('Individual Scores'!$D158,Scores!$F$253:$F$506,0)),\"\",INDIRECT(\"Scores!\"&\"R\"&(ROW(Scores!$253:$253)-1+MATCH('Individual Scores'!$D158,Scores!$F$253:$F$505,0))&\"C\"&COLUMN(Scores!N$1),FALSE)))","v":""},{"$f":"IF('Team Scores'!$Z$1<2,\"\",IF(ISERROR(MATCH('Individual Scores'!$D158,Scores!$F$253:$F$506,0)),\"\",INDIRECT(\"Scores!\"&\"R\"&(ROW(Scores!$253:$253)-1+MATCH('Individual Scores'!$D158,Scores!$F$253:$F$505,0))&\"C\"&COLUMN(Scores!O$1),FALSE)))","v":""},{"$f":"IF('Team Scores'!$Z$1<2,\"\",IF(ISERROR(MATCH('Individual Scores'!$D158,Scores!$F$253:$F$506,0)),\"\",INDIRECT(\"Scores!\"&\"R\"&(ROW(Scores!$253:$253)-1+MATCH('Individual Scores'!$D158,Scores!$F$253:$F$505,0))&\"C\"&COLUMN(Scores!P$1),FALSE)))","v":""},{"$f":"IF('Team Scores'!$Z$1<2,\"\",IF(ISERROR(MATCH('Individual Scores'!$D158,Scores!$F$253:$F$506,0)),\"\",INDIRECT(\"Scores!\"&\"R\"&(ROW(Scores!$253:$253)-1+MATCH('Individual Scores'!$D158,Scores!$F$253:$F$505,0))&\"C\"&COLUMN(Scores!S$1),FALSE)))","v":""},{"$f":"IF(MAX(AA158:AF158)>0,MAX(AA158:AF158),\"\")","v":""},{"$f":"IF(MAX(SUM(AA158:AC158),SUM(AD158:AF158))>0,MAX(SUM(AA158:AC158),SUM(AD158:AF158)),\"\")","v":""},null,{"$f":"IF('Team Scores'!$Z$1<3,\"\",IF(ISERROR(MATCH('Individual Scores'!$D158,Scores!$F$506:$F$759,0)),\"\",INDIRECT(\"Scores!\"&\"R\"&(ROW(Scores!$F$506:$F$759)-1+MATCH('Individual Scores'!$D158,Scores!$F$506:$F$759,0))&\"C\"&COLUMN(Scores!J$1),FALSE)))","v":""},{"$f":"IF('Team Scores'!$Z$1<3,\"\",IF(ISERROR(MATCH('Individual Scores'!$D158,Scores!$F$506:$F$759,0)),\"\",INDIRECT(\"Scores!\"&\"R\"&(ROW(Scores!$F$506:$F$759)-1+MATCH('Individual Scores'!$D158,Scores!$F$506:$F$759,0))&\"C\"&COLUMN(Scores!K$1),FALSE)))","v":""},{"$f":"IF('Team Scores'!$Z$1<3,\"\",IF(ISERROR(MATCH('Individual Scores'!$D158,Scores!$F$506:$F$759,0)),\"\",INDIRECT(\"Scores!\"&\"R\"&(ROW(Scores!$F$506:$F$759)-1+MATCH('Individual Scores'!$D158,Scores!$F$506:$F$759,0))&\"C\"&COLUMN(Scores!L$1),FALSE)))","v":""},{"$f":"IF('Team Scores'!$Z$1<3,\"\",IF(ISERROR(MATCH('Individual Scores'!$D158,Scores!$F$506:$F$759,0)),\"\",INDIRECT(\"Scores!\"&\"R\"&(ROW(Scores!$F$506:$F$759)-1+MATCH('Individual Scores'!$D158,Scores!$F$506:$F$759,0))&\"C\"&COLUMN(Scores!N$1),FALSE)))","v":""},{"$f":"IF('Team Scores'!$Z$1<3,\"\",IF(ISERROR(MATCH('Individual Scores'!$D158,Scores!$F$506:$F$759,0)),\"\",INDIRECT(\"Scores!\"&\"R\"&(ROW(Scores!$F$506:$F$759)-1+MATCH('Individual Scores'!$D158,Scores!$F$506:$F$759,0))&\"C\"&COLUMN(Scores!O$1),FALSE)))","v":""},{"$f":"IF('Team Scores'!$Z$1<3,\"\",IF(ISERROR(MATCH('Individual Scores'!$D158,Scores!$F$506:$F$759,0)),\"\",INDIRECT(\"Scores!\"&\"R\"&(ROW(Scores!$F$506:$F$759)-1+MATCH('Individual Scores'!$D158,Scores!$F$506:$F$759,0))&\"C\"&COLUMN(Scores!P$1),FALSE)))","v":""},{"$f":"IF('Team Scores'!$Z$1<3,\"\",IF(ISERROR(MATCH('Individual Scores'!$D158,Scores!$F$506:$F$759,0)),\"\",INDIRECT(\"Scores!\"&\"R\"&(ROW(Scores!$F$506:$F$759)-1+MATCH('Individual Scores'!$D158,Scores!$F$506:$F$759,0))&\"C\"&COLUMN(Scores!S$1),FALSE)))","v":""},"",""]
["SC","16-20","M",null,"","","",0,{"$f":"IF(COUNT(Q159:V159,AA159:AF159,AK159:AP159)>=18/3*'Team Scores'!$Z$1,IF(H159-VLOOKUP(B159&C159,'Individual Awards Computations'!$AY$54:$AZ$58,2,FALSE)=0,\"Leader \"&C159&\":\"&B159,H159-VLOOKUP(B159&C159,'Individual Awards Computations'!$AY$54:$AZ$58,2,FALSE)),\"\")","v":""},"","","","","",0,null,{"$f":"IF(ISERROR(MATCH('Individual Scores'!$D159,Scores!$F$1:$F$253,0)),\"\",INDIRECT(\"Scores!\"&\"R\"&MATCH('Individual Scores'!$D159,Scores!$F$1:$F$253,0)&\"C\"&COLUMN(Scores!J$1),FALSE))","v":""},{"$f":"IF(ISERROR(MATCH('Individual Scores'!$D159,Scores!$F$1:$F$253,0)),\"\",INDIRECT(\"Scores!\"&\"R\"&MATCH('Individual Scores'!$D159,Scores!$F$1:$F$253,0)&\"C\"&COLUMN(Scores!K$1),FALSE))","v":""},{"$f":"IF(ISERROR(MATCH('Individual Scores'!$D159,Scores!$F$1:$F$253,0)),\"\",INDIRECT(\"Scores!\"&\"R\"&MATCH('Individual Scores'!$D159,Scores!$F$1:$F$253,0)&\"C\"&COLUMN(Scores!L$1),FALSE))","v":""},{"$f":"IF(ISERROR(MATCH('Individual Scores'!$D159,Scores!$F$1:$F$253,0)),\"\",INDIRECT(\"Scores!\"&\"R\"&MATCH('Individual Scores'!$D159,Scores!$F$1:$F$253,0)&\"C\"&COLUMN(Scores!N$1),FALSE))","v":""},{"$f":"IF(ISERROR(MATCH('Individual Scores'!$D159,Scores!$F$1:$F$253,0)),\"\",INDIRECT(\"Scores!\"&\"R\"&MATCH('Individual Scores'!$D159,Scores!$F$1:$F$253,0)&\"C\"&COLUMN(Scores!O$1),FALSE))","v":""},{"$f":"IF(ISERROR(MATCH('Individual Scores'!$D159,Scores!$F$1:$F$253,0)),\"\",INDIRECT(\"Scores!\"&\"R\"&MATCH('Individual Scores'!$D159,Scores!$F$1:$F$253,0)&\"C\"&COLUMN(Scores!P$1),FALSE))","v":""},{"$f":"IF(ISERROR(MATCH('Individual Scores'!$D159,Scores!$F$1:$F$253,0)),\"\",INDIRECT(\"Scores!\"&\"R\"&MATCH('Individual Scores'!$D159,Scores!$F$1:$F$253,0)&\"C\"&COLUMN(Scores!S$1),FALSE))","v":""},{"$f":"IF(MAX('Individual Scores'!Q159:V159)>0,MAX('Individual Scores'!Q159:V159),\"\")","v":""},{"$f":"IF(MAX(SUM('Individual Scores'!Q159:S159),SUM('Individual Scores'!T159:V159))>0,MAX(SUM('Individual Scores'!Q159:S159),SUM('Individual Scores'!T159:V159)),\"\")","v":""},null,{"$f":"IF('Team Scores'!$Z$1<2,\"\",IF(ISERROR(MATCH('Individual Scores'!$D159,Scores!$F$253:$F$506,0)),\"\",INDIRECT(\"Scores!\"&\"R\"&(ROW(Scores!$253:$253)-1+MATCH('Individual Scores'!$D159,Scores!$F$253:$F$505,0))&\"C\"&COLUMN(Scores!J$1),FALSE)))","v":""},{"$f":"IF('Team Scores'!$Z$1<2,\"\",IF(ISERROR(MATCH('Individual Scores'!$D159,Scores!$F$253:$F$506,0)),\"\",INDIRECT(\"Scores!\"&\"R\"&(ROW(Scores!$253:$253)-1+MATCH('Individual Scores'!$D159,Scores!$F$253:$F$505,0))&\"C\"&COLUMN(Scores!K$1),FALSE)))","v":""},{"$f":"IF('Team Scores'!$Z$1<2,\"\",IF(ISERROR(MATCH('Individual Scores'!$D159,Scores!$F$253:$F$506,0)),\"\",INDIRECT(\"Scores!\"&\"R\"&(ROW(Scores!$253:$253)-1+MATCH('Individual Scores'!$D159,Scores!$F$253:$F$505,0))&\"C\"&COLUMN(Scores!L$1),FALSE)))","v":""},{"$f":"IF('Team Scores'!$Z$1<2,\"\",IF(ISERROR(MATCH('Individual Scores'!$D159,Scores!$F$253:$F$506,0)),\"\",INDIRECT(\"Scores!\"&\"R\"&(ROW(Scores!$253:$253)-1+MATCH('Individual Scores'!$D159,Scores!$F$253:$F$505,0))&\"C\"&COLUMN(Scores!N$1),FALSE)))","v":""},{"$f":"IF('Team Scores'!$Z$1<2,\"\",IF(ISERROR(MATCH('Individual Scores'!$D159,Scores!$F$253:$F$506,0)),\"\",INDIRECT(\"Scores!\"&\"R\"&(ROW(Scores!$253:$253)-1+MATCH('Individual Scores'!$D159,Scores!$F$253:$F$505,0))&\"C\"&COLUMN(Scores!O$1),FALSE)))","v":""},{"$f":"IF('Team Scores'!$Z$1<2,\"\",IF(ISERROR(MATCH('Individual Scores'!$D159,Scores!$F$253:$F$506,0)),\"\",INDIRECT(\"Scores!\"&\"R\"&(ROW(Scores!$253:$253)-1+MATCH('Individual Scores'!$D159,Scores!$F$253:$F$505,0))&\"C\"&COLUMN(Scores!P$1),FALSE)))","v":""},{"$f":"IF('Team Scores'!$Z$1<2,\"\",IF(ISERROR(MATCH('Individual Scores'!$D159,Scores!$F$253:$F$506,0)),\"\",INDIRECT(\"Scores!\"&\"R\"&(ROW(Scores!$253:$253)-1+MATCH('Individual Scores'!$D159,Scores!$F$253:$F$505,0))&\"C\"&COLUMN(Scores!S$1),FALSE)))","v":""},"","",null,{"$f":"IF('Team Scores'!$Z$1<3,\"\",IF(ISERROR(MATCH('Individual Scores'!$D159,Scores!$F$506:$F$759,0)),\"\",INDIRECT(\"Scores!\"&\"R\"&(ROW(Scores!$F$506:$F$759)-1+MATCH('Individual Scores'!$D159,Scores!$F$506:$F$759,0))&\"C\"&COLUMN(Scores!J$1),FALSE)))","v":""},{"$f":"IF('Team Scores'!$Z$1<3,\"\",IF(ISERROR(MATCH('Individual Scores'!$D159,Scores!$F$506:$F$759,0)),\"\",INDIRECT(\"Scores!\"&\"R\"&(ROW(Scores!$F$506:$F$759)-1+MATCH('Individual Scores'!$D159,Scores!$F$506:$F$759,0))&\"C\"&COLUMN(Scores!K$1),FALSE)))","v":""},{"$f":"IF('Team Scores'!$Z$1<3,\"\",IF(ISERROR(MATCH('Individual Scores'!$D159,Scores!$F$506:$F$759,0)),\"\",INDIRECT(\"Scores!\"&\"R\"&(ROW(Scores!$F$506:$F$759)-1+MATCH('Individual Scores'!$D159,Scores!$F$506:$F$759,0))&\"C\"&COLUMN(Scores!L$1),FALSE)))","v":""},{"$f":"IF('Team Scores'!$Z$1<3,\"\",IF(ISERROR(MATCH('Individual Scores'!$D159,Scores!$F$506:$F$759,0)),\"\",INDIRECT(\"Scores!\"&\"R\"&(ROW(Scores!$F$506:$F$759)-1+MATCH('Individual Scores'!$D159,Scores!$F$506:$F$759,0))&\"C\"&COLUMN(Scores!N$1),FALSE)))","v":""},{"$f":"IF('Team Scores'!$Z$1<3,\"\",IF(ISERROR(MATCH('Individual Scores'!$D159,Scores!$F$506:$F$759,0)),\"\",INDIRECT(\"Scores!\"&\"R\"&(ROW(Scores!$F$506:$F$759)-1+MATCH('Individual Scores'!$D159,Scores!$F$506:$F$759,0))&\"C\"&COLUMN(Scores!O$1),FALSE)))","v":""},{"$f":"IF('Team Scores'!$Z$1<3,\"\",IF(ISERROR(MATCH('Individual Scores'!$D159,Scores!$F$506:$F$759,0)),\"\",INDIRECT(\"Scores!\"&\"R\"&(ROW(Scores!$F$506:$F$759)-1+MATCH('Individual Scores'!$D159,Scores!$F$506:$F$759,0))&\"C\"&COLUMN(Scores!P$1),FALSE)))","v":""},{"$f":"IF('Team Scores'!$Z$1<3,\"\",IF(ISERROR(MATCH('Individual Scores'!$D159,Scores!$F$506:$F$759,0)),\"\",INDIRECT(\"Scores!\"&\"R\"&(ROW(Scores!$F$506:$F$759)-1+MATCH('Individual Scores'!$D159,Scores!$F$506:$F$759,0))&\"C\"&COLUMN(Scores!S$1),FALSE)))","v":""},"",""]
["GA","15 & <","M",null,"","","",0,{"$f":"IF(COUNT(Q160:V160,AA160:AF160,AK160:AP160)>=18/3*'Team Scores'!$Z$1,IF(H160-VLOOKUP(B160&C160,'Individual Awards Computations'!$AY$54:$AZ$58,2,FALSE)=0,\"Leader \"&C160&\":\"&B160,H160-VLOOKUP(B160&C160,'Individual Awards Computations'!$AY$54:$AZ$58,2,FALSE)),\"\")","v":""},"","","","","",0,null,{"$f":"IF(ISERROR(MATCH('Individual Scores'!$D160,Scores!$F$1:$F$253,0)),\"\",INDIRECT(\"Scores!\"&\"R\"&MATCH('Individual Scores'!$D160,Scores!$F$1:$F$253,0)&\"C\"&COLUMN(Scores!J$1),FALSE))","v":""},{"$f":"IF(ISERROR(MATCH('Individual Scores'!$D160,Scores!$F$1:$F$253,0)),\"\",INDIRECT(\"Scores!\"&\"R\"&MATCH('Individual Scores'!$D160,Scores!$F$1:$F$253,0)&\"C\"&COLUMN(Scores!K$1),FALSE))","v":""},{"$f":"IF(ISERROR(MATCH('Individual Scores'!$D160,Scores!$F$1:$F$253,0)),\"\",INDIRECT(\"Scores!\"&\"R\"&MATCH('Individual Scores'!$D160,Scores!$F$1:$F$253,0)&\"C\"&COLUMN(Scores!L$1),FALSE))","v":""},{"$f":"IF(ISERROR(MATCH('Individual Scores'!$D160,Scores!$F$1:$F$253,0)),\"\",INDIRECT(\"Scores!\"&\"R\"&MATCH('Individual Scores'!$D160,Scores!$F$1:$F$253,0)&\"C\"&COLUMN(Scores!N$1),FALSE))","v":""},{"$f":"IF(ISERROR(MATCH('Individual Scores'!$D160,Scores!$F$1:$F$253,0)),\"\",INDIRECT(\"Scores!\"&\"R\"&MATCH('Individual Scores'!$D160,Scores!$F$1:$F$253,0)&\"C\"&COLUMN(Scores!O$1),FALSE))","v":""},{"$f":"IF(ISERROR(MATCH('Individual Scores'!$D160,Scores!$F$1:$F$253,0)),\"\",INDIRECT(\"Scores!\"&\"R\"&MATCH('Individual Scores'!$D160,Scores!$F$1:$F$253,0)&\"C\"&COLUMN(Scores!P$1),FALSE))","v":""},{"$f":"IF(ISERROR(MATCH('Individual Scores'!$D160,Scores!$F$1:$F$253,0)),\"\",INDIRECT(\"Scores!\"&\"R\"&MATCH('Individual Scores'!$D160,Scores!$F$1:$F$253,0)&\"C\"&COLUMN(Scores!S$1),FALSE))","v":""},{"$f":"IF(MAX('Individual Scores'!Q160:V160)>0,MAX('Individual Scores'!Q160:V160),\"\")","v":""},{"$f":"IF(MAX(SUM('Individual Scores'!Q160:S160),SUM('Individual Scores'!T160:V160))>0,MAX(SUM('Individual Scores'!Q160:S160),SUM('Individual Scores'!T160:V160)),\"\")","v":""},null,{"$f":"IF('Team Scores'!$Z$1<2,\"\",IF(ISERROR(MATCH('Individual Scores'!$D160,Scores!$F$253:$F$506,0)),\"\",INDIRECT(\"Scores!\"&\"R\"&(ROW(Scores!$253:$253)-1+MATCH('Individual Scores'!$D160,Scores!$F$253:$F$505,0))&\"C\"&COLUMN(Scores!J$1),FALSE)))","v":""},{"$f":"IF('Team Scores'!$Z$1<2,\"\",IF(ISERROR(MATCH('Individual Scores'!$D160,Scores!$F$253:$F$506,0)),\"\",INDIRECT(\"Scores!\"&\"R\"&(ROW(Scores!$253:$253)-1+MATCH('Individual Scores'!$D160,Scores!$F$253:$F$505,0))&\"C\"&COLUMN(Scores!K$1),FALSE)))","v":""},{"$f":"IF('Team Scores'!$Z$1<2,\"\",IF(ISERROR(MATCH('Individual Scores'!$D160,Scores!$F$253:$F$506,0)),\"\",INDIRECT(\"Scores!\"&\"R\"&(ROW(Scores!$253:$253)-1+MATCH('Individual Scores'!$D160,Scores!$F$253:$F$505,0))&\"C\"&COLUMN(Scores!L$1),FALSE)))","v":""},{"$f":"IF('Team Scores'!$Z$1<2,\"\",IF(ISERROR(MATCH('Individual Scores'!$D160,Scores!$F$253:$F$506,0)),\"\",INDIRECT(\"Scores!\"&\"R\"&(ROW(Scores!$253:$253)-1+MATCH('Individual Scores'!$D160,Scores!$F$253:$F$505,0))&\"C\"&COLUMN(Scores!N$1),FALSE)))","v":""},{"$f":"IF('Team Scores'!$Z$1<2,\"\",IF(ISERROR(MATCH('Individual Scores'!$D160,Scores!$F$253:$F$506,0)),\"\",INDIRECT(\"Scores!\"&\"R\"&(ROW(Scores!$253:$253)-1+MATCH('Individual Scores'!$D160,Scores!$F$253:$F$505,0))&\"C\"&COLUMN(Scores!O$1),FALSE)))","v":""},{"$f":"IF('Team Scores'!$Z$1<2,\"\",IF(ISERROR(MATCH('Individual Scores'!$D160,Scores!$F$253:$F$506,0)),\"\",INDIRECT(\"Scores!\"&\"R\"&(ROW(Scores!$253:$253)-1+MATCH('Individual Scores'!$D160,Scores!$F$253:$F$505,0))&\"C\"&COLUMN(Scores!P$1),FALSE)))","v":""},{"$f":"IF('Team Scores'!$Z$1<2,\"\",IF(ISERROR(MATCH('Individual Scores'!$D160,Scores!$F$253:$F$506,0)),\"\",INDIRECT(\"Scores!\"&\"R\"&(ROW(Scores!$253:$253)-1+MATCH('Individual Scores'!$D160,Scores!$F$253:$F$505,0))&\"C\"&COLUMN(Scores!S$1),FALSE)))","v":""},"","",null,{"$f":"IF('Team Scores'!$Z$1<3,\"\",IF(ISERROR(MATCH('Individual Scores'!$D160,Scores!$F$506:$F$759,0)),\"\",INDIRECT(\"Scores!\"&\"R\"&(ROW(Scores!$F$506:$F$759)-1+MATCH('Individual Scores'!$D160,Scores!$F$506:$F$759,0))&\"C\"&COLUMN(Scores!J$1),FALSE)))","v":""},{"$f":"IF('Team Scores'!$Z$1<3,\"\",IF(ISERROR(MATCH('Individual Scores'!$D160,Scores!$F$506:$F$759,0)),\"\",INDIRECT(\"Scores!\"&\"R\"&(ROW(Scores!$F$506:$F$759)-1+MATCH('Individual Scores'!$D160,Scores!$F$506:$F$759,0))&\"C\"&COLUMN(Scores!K$1),FALSE)))","v":""},{"$f":"IF('Team Scores'!$Z$1<3,\"\",IF(ISERROR(MATCH('Individual Scores'!$D160,Scores!$F$506:$F$759,0)),\"\",INDIRECT(\"Scores!\"&\"R\"&(ROW(Scores!$F$506:$F$759)-1+MATCH('Individual Scores'!$D160,Scores!$F$506:$F$759,0))&\"C\"&COLUMN(Scores!L$1),FALSE)))","v":""},{"$f":"IF('Team Scores'!$Z$1<3,\"\",IF(ISERROR(MATCH('Individual Scores'!$D160,Scores!$F$506:$F$759,0)),\"\",INDIRECT(\"Scores!\"&\"R\"&(ROW(Scores!$F$506:$F$759)-1+MATCH('Individual Scores'!$D160,Scores!$F$506:$F$759,0))&\"C\"&COLUMN(Scores!N$1),FALSE)))","v":""},{"$f":"IF('Team Scores'!$Z$1<3,\"\",IF(ISERROR(MATCH('Individual Scores'!$D160,Scores!$F$506:$F$759,0)),\"\",INDIRECT(\"Scores!\"&\"R\"&(ROW(Scores!$F$506:$F$759)-1+MATCH('Individual Scores'!$D160,Scores!$F$506:$F$759,0))&\"C\"&COLUMN(Scores!O$1),FALSE)))","v":""},{"$f":"IF('Team Scores'!$Z$1<3,\"\",IF(ISERROR(MATCH('Individual Scores'!$D160,Scores!$F$506:$F$759,0)),\"\",INDIRECT(\"Scores!\"&\"R\"&(ROW(Scores!$F$506:$F$759)-1+MATCH('Individual Scores'!$D160,Scores!$F$506:$F$759,0))&\"C\"&COLUMN(Scores!P$1),FALSE)))","v":""},{"$f":"IF('Team Scores'!$Z$1<3,\"\",IF(ISERROR(MATCH('Individual Scores'!$D160,Scores!$F$506:$F$759,0)),\"\",INDIRECT(\"Scores!\"&\"R\"&(ROW(Scores!$F$506:$F$759)-1+MATCH('Individual Scores'!$D160,Scores!$F$506:$F$759,0))&\"C\"&COLUMN(Scores!S$1),FALSE)))","v":""},"",""]
["GA","16-20","M",null,"","","",0,{"$f":"IF(COUNT(Q161:V161,AA161:AF161,AK161:AP161)>=18/3*'Team Scores'!$Z$1,IF(H161-VLOOKUP(B161&C161,'Individual Awards Computations'!$AY$54:$AZ$58,2,FALSE)=0,\"Leader \"&C161&\":\"&B161,H161-VLOOKUP(B161&C161,'Individual Awards Computations'!$AY$54:$AZ$58,2,FALSE)),\"\")","v":""},"","","","","",0,null,{"$f":"IF(ISERROR(MATCH('Individual Scores'!$D161,Scores!$F$1:$F$253,0)),\"\",INDIRECT(\"Scores!\"&\"R\"&MATCH('Individual Scores'!$D161,Scores!$F$1:$F$253,0)&\"C\"&COLUMN(Scores!J$1),FALSE))","v":""},{"$f":"IF(ISERROR(MATCH('Individual Scores'!$D161,Scores!$F$1:$F$253,0)),\"\",INDIRECT(\"Scores!\"&\"R\"&MATCH('Individual Scores'!$D161,Scores!$F$1:$F$253,0)&\"C\"&COLUMN(Scores!K$1),FALSE))","v":""},{"$f":"IF(ISERROR(MATCH('Individual Scores'!$D161,Scores!$F$1:$F$253,0)),\"\",INDIRECT(\"Scores!\"&\"R\"&MATCH('Individual Scores'!$D161,Scores!$F$1:$F$253,0)&\"C\"&COLUMN(Scores!L$1),FALSE))","v":""},{"$f":"IF(ISERROR(MATCH('Individual Scores'!$D161,Scores!$F$1:$F$253,0)),\"\",INDIRECT(\"Scores!\"&\"R\"&MATCH('Individual Scores'!$D161,Scores!$F$1:$F$253,0)&\"C\"&COLUMN(Scores!N$1),FALSE))","v":""},{"$f":"IF(ISERROR(MATCH('Individual Scores'!$D161,Scores!$F$1:$F$253,0)),\"\",INDIRECT(\"Scores!\"&\"R\"&MATCH('Individual Scores'!$D161,Scores!$F$1:$F$253,0)&\"C\"&COLUMN(Scores!O$1),FALSE))","v":""},{"$f":"IF(ISERROR(MATCH('Individual Scores'!$D161,Scores!$F$1:$F$253,0)),\"\",INDIRECT(\"Scores!\"&\"R\"&MATCH('Individual Scores'!$D161,Scores!$F$1:$F$253,0)&\"C\"&COLUMN(Scores!P$1),FALSE))","v":""},{"$f":"IF(ISERROR(MATCH('Individual Scores'!$D161,Scores!$F$1:$F$253,0)),\"\",INDIRECT(\"Scores!\"&\"R\"&MATCH('Individual Scores'!$D161,Scores!$F$1:$F$253,0)&\"C\"&COLUMN(Scores!S$1),FALSE))","v":""},{"$f":"IF(MAX('Individual Scores'!Q161:V161)>0,MAX('Individual Scores'!Q161:V161),\"\")","v":""},{"$f":"IF(MAX(SUM('Individual Scores'!Q161:S161),SUM('Individual Scores'!T161:V161))>0,MAX(SUM('Individual Scores'!Q161:S161),SUM('Individual Scores'!T161:V161)),\"\")","v":""},null,{"$f":"IF('Team Scores'!$Z$1<2,\"\",IF(ISERROR(MATCH('Individual Scores'!$D161,Scores!$F$253:$F$506,0)),\"\",INDIRECT(\"Scores!\"&\"R\"&(ROW(Scores!$253:$253)-1+MATCH('Individual Scores'!$D161,Scores!$F$253:$F$505,0))&\"C\"&COLUMN(Scores!J$1),FALSE)))","v":""},{"$f":"IF('Team Scores'!$Z$1<2,\"\",IF(ISERROR(MATCH('Individual Scores'!$D161,Scores!$F$253:$F$506,0)),\"\",INDIRECT(\"Scores!\"&\"R\"&(ROW(Scores!$253:$253)-1+MATCH('Individual Scores'!$D161,Scores!$F$253:$F$505,0))&\"C\"&COLUMN(Scores!K$1),FALSE)))","v":""},{"$f":"IF('Team Scores'!$Z$1<2,\"\",IF(ISERROR(MATCH('Individual Scores'!$D161,Scores!$F$253:$F$506,0)),\"\",INDIRECT(\"Scores!\"&\"R\"&(ROW(Scores!$253:$253)-1+MATCH('Individual Scores'!$D161,Scores!$F$253:$F$505,0))&\"C\"&COLUMN(Scores!L$1),FALSE)))","v":""},{"$f":"IF('Team Scores'!$Z$1<2,\"\",IF(ISERROR(MATCH('Individual Scores'!$D161,Scores!$F$253:$F$506,0)),\"\",INDIRECT(\"Scores!\"&\"R\"&(ROW(Scores!$253:$253)-1+MATCH('Individual Scores'!$D161,Scores!$F$253:$F$505,0))&\"C\"&COLUMN(Scores!N$1),FALSE)))","v":""},{"$f":"IF('Team Scores'!$Z$1<2,\"\",IF(ISERROR(MATCH('Individual Scores'!$D161,Scores!$F$253:$F$506,0)),\"\",INDIRECT(\"Scores!\"&\"R\"&(ROW(Scores!$253:$253)-1+MATCH('Individual Scores'!$D161,Scores!$F$253:$F$505,0))&\"C\"&COLUMN(Scores!O$1),FALSE)))","v":""},{"$f":"IF('Team Scores'!$Z$1<2,\"\",IF(ISERROR(MATCH('Individual Scores'!$D161,Scores!$F$253:$F$506,0)),\"\",INDIRECT(\"Scores!\"&\"R\"&(ROW(Scores!$253:$253)-1+MATCH('Individual Scores'!$D161,Scores!$F$253:$F$505,0))&\"C\"&COLUMN(Scores!P$1),FALSE)))","v":""},{"$f":"IF('Team Scores'!$Z$1<2,\"\",IF(ISERROR(MATCH('Individual Scores'!$D161,Scores!$F$253:$F$506,0)),\"\",INDIRECT(\"Scores!\"&\"R\"&(ROW(Scores!$253:$253)-1+MATCH('Individual Scores'!$D161,Scores!$F$253:$F$505,0))&\"C\"&COLUMN(Scores!S$1),FALSE)))","v":""},"","",null,{"$f":"IF('Team Scores'!$Z$1<3,\"\",IF(ISERROR(MATCH('Individual Scores'!$D161,Scores!$F$506:$F$759,0)),\"\",INDIRECT(\"Scores!\"&\"R\"&(ROW(Scores!$F$506:$F$759)-1+MATCH('Individual Scores'!$D161,Scores!$F$506:$F$759,0))&\"C\"&COLUMN(Scores!J$1),FALSE)))","v":""},{"$f":"IF('Team Scores'!$Z$1<3,\"\",IF(ISERROR(MATCH('Individual Scores'!$D161,Scores!$F$506:$F$759,0)),\"\",INDIRECT(\"Scores!\"&\"R\"&(ROW(Scores!$F$506:$F$759)-1+MATCH('Individual Scores'!$D161,Scores!$F$506:$F$759,0))&\"C\"&COLUMN(Scores!K$1),FALSE)))","v":""},{"$f":"IF('Team Scores'!$Z$1<3,\"\",IF(ISERROR(MATCH('Individual Scores'!$D161,Scores!$F$506:$F$759,0)),\"\",INDIRECT(\"Scores!\"&\"R\"&(ROW(Scores!$F$506:$F$759)-1+MATCH('Individual Scores'!$D161,Scores!$F$506:$F$759,0))&\"C\"&COLUMN(Scores!L$1),FALSE)))","v":""},{"$f":"IF('Team Scores'!$Z$1<3,\"\",IF(ISERROR(MATCH('Individual Scores'!$D161,Scores!$F$506:$F$759,0)),\"\",INDIRECT(\"Scores!\"&\"R\"&(ROW(Scores!$F$506:$F$759)-1+MATCH('Individual Scores'!$D161,Scores!$F$506:$F$759,0))&\"C\"&COLUMN(Scores!N$1),FALSE)))","v":""},{"$f":"IF('Team Scores'!$Z$1<3,\"\",IF(ISERROR(MATCH('Individual Scores'!$D161,Scores!$F$506:$F$759,0)),\"\",INDIRECT(\"Scores!\"&\"R\"&(ROW(Scores!$F$506:$F$759)-1+MATCH('Individual Scores'!$D161,Scores!$F$506:$F$759,0))&\"C\"&COLUMN(Scores!O$1),FALSE)))","v":""},{"$f":"IF('Team Scores'!$Z$1<3,\"\",IF(ISERROR(MATCH('Individual Scores'!$D161,Scores!$F$506:$F$759,0)),\"\",INDIRECT(\"Scores!\"&\"R\"&(ROW(Scores!$F$506:$F$759)-1+MATCH('Individual Scores'!$D161,Scores!$F$506:$F$759,0))&\"C\"&COLUMN(Scores!P$1),FALSE)))","v":""},{"$f":"IF('Team Scores'!$Z$1<3,\"\",IF(ISERROR(MATCH('Individual Scores'!$D161,Scores!$F$506:$F$759,0)),\"\",INDIRECT(\"Scores!\"&\"R\"&(ROW(Scores!$F$506:$F$759)-1+MATCH('Individual Scores'!$D161,Scores!$F$506:$F$759,0))&\"C\"&COLUMN(Scores!S$1),FALSE)))","v":""},"",""]
["GA","16-20","M",null,"","","",0,{"$f":"IF(COUNT(Q162:V162,AA162:AF162,AK162:AP162)>=18/3*'Team Scores'!$Z$1,IF(H162-VLOOKUP(B162&C162,'Individual Awards Computations'!$AY$54:$AZ$58,2,FALSE)=0,\"Leader \"&C162&\":\"&B162,H162-VLOOKUP(B162&C162,'Individual Awards Computations'!$AY$54:$AZ$58,2,FALSE)),\"\")","v":""},"","","","","",0,null,{"$f":"IF(ISERROR(MATCH('Individual Scores'!$D162,Scores!$F$1:$F$253,0)),\"\",INDIRECT(\"Scores!\"&\"R\"&MATCH('Individual Scores'!$D162,Scores!$F$1:$F$253,0)&\"C\"&COLUMN(Scores!J$1),FALSE))","v":""},{"$f":"IF(ISERROR(MATCH('Individual Scores'!$D162,Scores!$F$1:$F$253,0)),\"\",INDIRECT(\"Scores!\"&\"R\"&MATCH('Individual Scores'!$D162,Scores!$F$1:$F$253,0)&\"C\"&COLUMN(Scores!K$1),FALSE))","v":""},{"$f":"IF(ISERROR(MATCH('Individual Scores'!$D162,Scores!$F$1:$F$253,0)),\"\",INDIRECT(\"Scores!\"&\"R\"&MATCH('Individual Scores'!$D162,Scores!$F$1:$F$253,0)&\"C\"&COLUMN(Scores!L$1),FALSE))","v":""},{"$f":"IF(ISERROR(MATCH('Individual Scores'!$D162,Scores!$F$1:$F$253,0)),\"\",INDIRECT(\"Scores!\"&\"R\"&MATCH('Individual Scores'!$D162,Scores!$F$1:$F$253,0)&\"C\"&COLUMN(Scores!N$1),FALSE))","v":""},{"$f":"IF(ISERROR(MATCH('Individual Scores'!$D162,Scores!$F$1:$F$253,0)),\"\",INDIRECT(\"Scores!\"&\"R\"&MATCH('Individual Scores'!$D162,Scores!$F$1:$F$253,0)&\"C\"&COLUMN(Scores!O$1),FALSE))","v":""},{"$f":"IF(ISERROR(MATCH('Individual Scores'!$D162,Scores!$F$1:$F$253,0)),\"\",INDIRECT(\"Scores!\"&\"R\"&MATCH('Individual Scores'!$D162,Scores!$F$1:$F$253,0)&\"C\"&COLUMN(Scores!P$1),FALSE))","v":""},{"$f":"IF(ISERROR(MATCH('Individual Scores'!$D162,Scores!$F$1:$F$253,0)),\"\",INDIRECT(\"Scores!\"&\"R\"&MATCH('Individual Scores'!$D162,Scores!$F$1:$F$253,0)&\"C\"&COLUMN(Scores!S$1),FALSE))","v":""},{"$f":"IF(MAX('Individual Scores'!Q162:V162)>0,MAX('Individual Scores'!Q162:V162),\"\")","v":""},{"$f":"IF(MAX(SUM('Individual Scores'!Q162:S162),SUM('Individual Scores'!T162:V162))>0,MAX(SUM('Individual Scores'!Q162:S162),SUM('Individual Scores'!T162:V162)),\"\")","v":""},null,{"$f":"IF('Team Scores'!$Z$1<2,\"\",IF(ISERROR(MATCH('Individual Scores'!$D162,Scores!$F$253:$F$506,0)),\"\",INDIRECT(\"Scores!\"&\"R\"&(ROW(Scores!$253:$253)-1+MATCH('Individual Scores'!$D162,Scores!$F$253:$F$505,0))&\"C\"&COLUMN(Scores!J$1),FALSE)))","v":""},{"$f":"IF('Team Scores'!$Z$1<2,\"\",IF(ISERROR(MATCH('Individual Scores'!$D162,Scores!$F$253:$F$506,0)),\"\",INDIRECT(\"Scores!\"&\"R\"&(ROW(Scores!$253:$253)-1+MATCH('Individual Scores'!$D162,Scores!$F$253:$F$505,0))&\"C\"&COLUMN(Scores!K$1),FALSE)))","v":""},{"$f":"IF('Team Scores'!$Z$1<2,\"\",IF(ISERROR(MATCH('Individual Scores'!$D162,Scores!$F$253:$F$506,0)),\"\",INDIRECT(\"Scores!\"&\"R\"&(ROW(Scores!$253:$253)-1+MATCH('Individual Scores'!$D162,Scores!$F$253:$F$505,0))&\"C\"&COLUMN(Scores!L$1),FALSE)))","v":""},{"$f":"IF('Team Scores'!$Z$1<2,\"\",IF(ISERROR(MATCH('Individual Scores'!$D162,Scores!$F$253:$F$506,0)),\"\",INDIRECT(\"Scores!\"&\"R\"&(ROW(Scores!$253:$253)-1+MATCH('Individual Scores'!$D162,Scores!$F$253:$F$505,0))&\"C\"&COLUMN(Scores!N$1),FALSE)))","v":""},{"$f":"IF('Team Scores'!$Z$1<2,\"\",IF(ISERROR(MATCH('Individual Scores'!$D162,Scores!$F$253:$F$506,0)),\"\",INDIRECT(\"Scores!\"&\"R\"&(ROW(Scores!$253:$253)-1+MATCH('Individual Scores'!$D162,Scores!$F$253:$F$505,0))&\"C\"&COLUMN(Scores!O$1),FALSE)))","v":""},{"$f":"IF('Team Scores'!$Z$1<2,\"\",IF(ISERROR(MATCH('Individual Scores'!$D162,Scores!$F$253:$F$506,0)),\"\",INDIRECT(\"Scores!\"&\"R\"&(ROW(Scores!$253:$253)-1+MATCH('Individual Scores'!$D162,Scores!$F$253:$F$505,0))&\"C\"&COLUMN(Scores!P$1),FALSE)))","v":""},{"$f":"IF('Team Scores'!$Z$1<2,\"\",IF(ISERROR(MATCH('Individual Scores'!$D162,Scores!$F$253:$F$506,0)),\"\",INDIRECT(\"Scores!\"&\"R\"&(ROW(Scores!$253:$253)-1+MATCH('Individual Scores'!$D162,Scores!$F$253:$F$505,0))&\"C\"&COLUMN(Scores!S$1),FALSE)))","v":""},"","",null,{"$f":"IF('Team Scores'!$Z$1<3,\"\",IF(ISERROR(MATCH('Individual Scores'!$D162,Scores!$F$506:$F$759,0)),\"\",INDIRECT(\"Scores!\"&\"R\"&(ROW(Scores!$F$506:$F$759)-1+MATCH('Individual Scores'!$D162,Scores!$F$506:$F$759,0))&\"C\"&COLUMN(Scores!J$1),FALSE)))","v":""},{"$f":"IF('Team Scores'!$Z$1<3,\"\",IF(ISERROR(MATCH('Individual Scores'!$D162,Scores!$F$506:$F$759,0)),\"\",INDIRECT(\"Scores!\"&\"R\"&(ROW(Scores!$F$506:$F$759)-1+MATCH('Individual Scores'!$D162,Scores!$F$506:$F$759,0))&\"C\"&COLUMN(Scores!K$1),FALSE)))","v":""},{"$f":"IF('Team Scores'!$Z$1<3,\"\",IF(ISERROR(MATCH('Individual Scores'!$D162,Scores!$F$506:$F$759,0)),\"\",INDIRECT(\"Scores!\"&\"R\"&(ROW(Scores!$F$506:$F$759)-1+MATCH('Individual Scores'!$D162,Scores!$F$506:$F$759,0))&\"C\"&COLUMN(Scores!L$1),FALSE)))","v":""},{"$f":"IF('Team Scores'!$Z$1<3,\"\",IF(ISERROR(MATCH('Individual Scores'!$D162,Scores!$F$506:$F$759,0)),\"\",INDIRECT(\"Scores!\"&\"R\"&(ROW(Scores!$F$506:$F$759)-1+MATCH('Individual Scores'!$D162,Scores!$F$506:$F$759,0))&\"C\"&COLUMN(Scores!N$1),FALSE)))","v":""},{"$f":"IF('Team Scores'!$Z$1<3,\"\",IF(ISERROR(MATCH('Individual Scores'!$D162,Scores!$F$506:$F$759,0)),\"\",INDIRECT(\"Scores!\"&\"R\"&(ROW(Scores!$F$506:$F$759)-1+MATCH('Individual Scores'!$D162,Scores!$F$506:$F$759,0))&\"C\"&COLUMN(Scores!O$1),FALSE)))","v":""},{"$f":"IF('Team Scores'!$Z$1<3,\"\",IF(ISERROR(MATCH('Individual Scores'!$D162,Scores!$F$506:$F$759,0)),\"\",INDIRECT(\"Scores!\"&\"R\"&(ROW(Scores!$F$506:$F$759)-1+MATCH('Individual Scores'!$D162,Scores!$F$506:$F$759,0))&\"C\"&COLUMN(Scores!P$1),FALSE)))","v":""},{"$f":"IF('Team Scores'!$Z$1<3,\"\",IF(ISERROR(MATCH('Individual Scores'!$D162,Scores!$F$506:$F$759,0)),\"\",INDIRECT(\"Scores!\"&\"R\"&(ROW(Scores!$F$506:$F$759)-1+MATCH('Individual Scores'!$D162,Scores!$F$506:$F$759,0))&\"C\"&COLUMN(Scores!S$1),FALSE)))","v":""},"",""]
["NC","16-20","F",null,"","","",0,{"$f":"IF(COUNT(Q163:V163,AA163:AF163,AK163:AP163)>=18/3*'Team Scores'!$Z$1,IF(H163-VLOOKUP(B163&C163,'Individual Awards Computations'!$AY$54:$AZ$58,2,FALSE)=0,\"Leader \"&C163&\":\"&B163,H163-VLOOKUP(B163&C163,'Individual Awards Computations'!$AY$54:$AZ$58,2,FALSE)),\"\")","v":""},"","","","","",0,null,{"$f":"IF(ISERROR(MATCH('Individual Scores'!$D163,Scores!$F$1:$F$253,0)),\"\",INDIRECT(\"Scores!\"&\"R\"&MATCH('Individual Scores'!$D163,Scores!$F$1:$F$253,0)&\"C\"&COLUMN(Scores!J$1),FALSE))","v":""},{"$f":"IF(ISERROR(MATCH('Individual Scores'!$D163,Scores!$F$1:$F$253,0)),\"\",INDIRECT(\"Scores!\"&\"R\"&MATCH('Individual Scores'!$D163,Scores!$F$1:$F$253,0)&\"C\"&COLUMN(Scores!K$1),FALSE))","v":""},{"$f":"IF(ISERROR(MATCH('Individual Scores'!$D163,Scores!$F$1:$F$253,0)),\"\",INDIRECT(\"Scores!\"&\"R\"&MATCH('Individual Scores'!$D163,Scores!$F$1:$F$253,0)&\"C\"&COLUMN(Scores!L$1),FALSE))","v":""},{"$f":"IF(ISERROR(MATCH('Individual Scores'!$D163,Scores!$F$1:$F$253,0)),\"\",INDIRECT(\"Scores!\"&\"R\"&MATCH('Individual Scores'!$D163,Scores!$F$1:$F$253,0)&\"C\"&COLUMN(Scores!N$1),FALSE))","v":""},{"$f":"IF(ISERROR(MATCH('Individual Scores'!$D163,Scores!$F$1:$F$253,0)),\"\",INDIRECT(\"Scores!\"&\"R\"&MATCH('Individual Scores'!$D163,Scores!$F$1:$F$253,0)&\"C\"&COLUMN(Scores!O$1),FALSE))","v":""},{"$f":"IF(ISERROR(MATCH('Individual Scores'!$D163,Scores!$F$1:$F$253,0)),\"\",INDIRECT(\"Scores!\"&\"R\"&MATCH('Individual Scores'!$D163,Scores!$F$1:$F$253,0)&\"C\"&COLUMN(Scores!P$1),FALSE))","v":""},{"$f":"IF(ISERROR(MATCH('Individual Scores'!$D163,Scores!$F$1:$F$253,0)),\"\",INDIRECT(\"Scores!\"&\"R\"&MATCH('Individual Scores'!$D163,Scores!$F$1:$F$253,0)&\"C\"&COLUMN(Scores!S$1),FALSE))","v":""},{"$f":"IF(MAX('Individual Scores'!Q163:V163)>0,MAX('Individual Scores'!Q163:V163),\"\")","v":""},{"$f":"IF(MAX(SUM('Individual Scores'!Q163:S163),SUM('Individual Scores'!T163:V163))>0,MAX(SUM('Individual Scores'!Q163:S163),SUM('Individual Scores'!T163:V163)),\"\")","v":""},null,{"$f":"IF('Team Scores'!$Z$1<2,\"\",IF(ISERROR(MATCH('Individual Scores'!$D163,Scores!$F$253:$F$506,0)),\"\",INDIRECT(\"Scores!\"&\"R\"&(ROW(Scores!$253:$253)-1+MATCH('Individual Scores'!$D163,Scores!$F$253:$F$505,0))&\"C\"&COLUMN(Scores!J$1),FALSE)))","v":""},{"$f":"IF('Team Scores'!$Z$1<2,\"\",IF(ISERROR(MATCH('Individual Scores'!$D163,Scores!$F$253:$F$506,0)),\"\",INDIRECT(\"Scores!\"&\"R\"&(ROW(Scores!$253:$253)-1+MATCH('Individual Scores'!$D163,Scores!$F$253:$F$505,0))&\"C\"&COLUMN(Scores!K$1),FALSE)))","v":""},{"$f":"IF('Team Scores'!$Z$1<2,\"\",IF(ISERROR(MATCH('Individual Scores'!$D163,Scores!$F$253:$F$506,0)),\"\",INDIRECT(\"Scores!\"&\"R\"&(ROW(Scores!$253:$253)-1+MATCH('Individual Scores'!$D163,Scores!$F$253:$F$505,0))&\"C\"&COLUMN(Scores!L$1),FALSE)))","v":""},{"$f":"IF('Team Scores'!$Z$1<2,\"\",IF(ISERROR(MATCH('Individual Scores'!$D163,Scores!$F$253:$F$506,0)),\"\",INDIRECT(\"Scores!\"&\"R\"&(ROW(Scores!$253:$253)-1+MATCH('Individual Scores'!$D163,Scores!$F$253:$F$505,0))&\"C\"&COLUMN(Scores!N$1),FALSE)))","v":""},{"$f":"IF('Team Scores'!$Z$1<2,\"\",IF(ISERROR(MATCH('Individual Scores'!$D163,Scores!$F$253:$F$506,0)),\"\",INDIRECT(\"Scores!\"&\"R\"&(ROW(Scores!$253:$253)-1+MATCH('Individual Scores'!$D163,Scores!$F$253:$F$505,0))&\"C\"&COLUMN(Scores!O$1),FALSE)))","v":""},{"$f":"IF('Team Scores'!$Z$1<2,\"\",IF(ISERROR(MATCH('Individual Scores'!$D163,Scores!$F$253:$F$506,0)),\"\",INDIRECT(\"Scores!\"&\"R\"&(ROW(Scores!$253:$253)-1+MATCH('Individual Scores'!$D163,Scores!$F$253:$F$505,0))&\"C\"&COLUMN(Scores!P$1),FALSE)))","v":""},{"$f":"IF('Team Scores'!$Z$1<2,\"\",IF(ISERROR(MATCH('Individual Scores'!$D163,Scores!$F$253:$F$506,0)),\"\",INDIRECT(\"Scores!\"&\"R\"&(ROW(Scores!$253:$253)-1+MATCH('Individual Scores'!$D163,Scores!$F$253:$F$505,0))&\"C\"&COLUMN(Scores!S$1),FALSE)))","v":""},"","",null,{"$f":"IF('Team Scores'!$Z$1<3,\"\",IF(ISERROR(MATCH('Individual Scores'!$D163,Scores!$F$506:$F$759,0)),\"\",INDIRECT(\"Scores!\"&\"R\"&(ROW(Scores!$F$506:$F$759)-1+MATCH('Individual Scores'!$D163,Scores!$F$506:$F$759,0))&\"C\"&COLUMN(Scores!J$1),FALSE)))","v":""},{"$f":"IF('Team Scores'!$Z$1<3,\"\",IF(ISERROR(MATCH('Individual Scores'!$D163,Scores!$F$506:$F$759,0)),\"\",INDIRECT(\"Scores!\"&\"R\"&(ROW(Scores!$F$506:$F$759)-1+MATCH('Individual Scores'!$D163,Scores!$F$506:$F$759,0))&\"C\"&COLUMN(Scores!K$1),FALSE)))","v":""},{"$f":"IF('Team Scores'!$Z$1<3,\"\",IF(ISERROR(MATCH('Individual Scores'!$D163,Scores!$F$506:$F$759,0)),\"\",INDIRECT(\"Scores!\"&\"R\"&(ROW(Scores!$F$506:$F$759)-1+MATCH('Individual Scores'!$D163,Scores!$F$506:$F$759,0))&\"C\"&COLUMN(Scores!L$1),FALSE)))","v":""},{"$f":"IF('Team Scores'!$Z$1<3,\"\",IF(ISERROR(MATCH('Individual Scores'!$D163,Scores!$F$506:$F$759,0)),\"\",INDIRECT(\"Scores!\"&\"R\"&(ROW(Scores!$F$506:$F$759)-1+MATCH('Individual Scores'!$D163,Scores!$F$506:$F$759,0))&\"C\"&COLUMN(Scores!N$1),FALSE)))","v":""},{"$f":"IF('Team Scores'!$Z$1<3,\"\",IF(ISERROR(MATCH('Individual Scores'!$D163,Scores!$F$506:$F$759,0)),\"\",INDIRECT(\"Scores!\"&\"R\"&(ROW(Scores!$F$506:$F$759)-1+MATCH('Individual Scores'!$D163,Scores!$F$506:$F$759,0))&\"C\"&COLUMN(Scores!O$1),FALSE)))","v":""},{"$f":"IF('Team Scores'!$Z$1<3,\"\",IF(ISERROR(MATCH('Individual Scores'!$D163,Scores!$F$506:$F$759,0)),\"\",INDIRECT(\"Scores!\"&\"R\"&(ROW(Scores!$F$506:$F$759)-1+MATCH('Individual Scores'!$D163,Scores!$F$506:$F$759,0))&\"C\"&COLUMN(Scores!P$1),FALSE)))","v":""},{"$f":"IF('Team Scores'!$Z$1<3,\"\",IF(ISERROR(MATCH('Individual Scores'!$D163,Scores!$F$506:$F$759,0)),\"\",INDIRECT(\"Scores!\"&\"R\"&(ROW(Scores!$F$506:$F$759)-1+MATCH('Individual Scores'!$D163,Scores!$F$506:$F$759,0))&\"C\"&COLUMN(Scores!S$1),FALSE)))","v":""},"",""]
["NC","16-20","M",null,"","","",0,{"$f":"IF(COUNT(Q164:V164,AA164:AF164,AK164:AP164)>=18/3*'Team Scores'!$Z$1,IF(H164-VLOOKUP(B164&C164,'Individual Awards Computations'!$AY$54:$AZ$58,2,FALSE)=0,\"Leader \"&C164&\":\"&B164,H164-VLOOKUP(B164&C164,'Individual Awards Computations'!$AY$54:$AZ$58,2,FALSE)),\"\")","v":""},"","","","","",0,null,{"$f":"IF(ISERROR(MATCH('Individual Scores'!$D164,Scores!$F$1:$F$253,0)),\"\",INDIRECT(\"Scores!\"&\"R\"&MATCH('Individual Scores'!$D164,Scores!$F$1:$F$253,0)&\"C\"&COLUMN(Scores!J$1),FALSE))","v":""},{"$f":"IF(ISERROR(MATCH('Individual Scores'!$D164,Scores!$F$1:$F$253,0)),\"\",INDIRECT(\"Scores!\"&\"R\"&MATCH('Individual Scores'!$D164,Scores!$F$1:$F$253,0)&\"C\"&COLUMN(Scores!K$1),FALSE))","v":""},{"$f":"IF(ISERROR(MATCH('Individual Scores'!$D164,Scores!$F$1:$F$253,0)),\"\",INDIRECT(\"Scores!\"&\"R\"&MATCH('Individual Scores'!$D164,Scores!$F$1:$F$253,0)&\"C\"&COLUMN(Scores!L$1),FALSE))","v":""},{"$f":"IF(ISERROR(MATCH('Individual Scores'!$D164,Scores!$F$1:$F$253,0)),\"\",INDIRECT(\"Scores!\"&\"R\"&MATCH('Individual Scores'!$D164,Scores!$F$1:$F$253,0)&\"C\"&COLUMN(Scores!N$1),FALSE))","v":""},{"$f":"IF(ISERROR(MATCH('Individual Scores'!$D164,Scores!$F$1:$F$253,0)),\"\",INDIRECT(\"Scores!\"&\"R\"&MATCH('Individual Scores'!$D164,Scores!$F$1:$F$253,0)&\"C\"&COLUMN(Scores!O$1),FALSE))","v":""},{"$f":"IF(ISERROR(MATCH('Individual Scores'!$D164,Scores!$F$1:$F$253,0)),\"\",INDIRECT(\"Scores!\"&\"R\"&MATCH('Individual Scores'!$D164,Scores!$F$1:$F$253,0)&\"C\"&COLUMN(Scores!P$1),FALSE))","v":""},{"$f":"IF(ISERROR(MATCH('Individual Scores'!$D164,Scores!$F$1:$F$253,0)),\"\",INDIRECT(\"Scores!\"&\"R\"&MATCH('Individual Scores'!$D164,Scores!$F$1:$F$253,0)&\"C\"&COLUMN(Scores!S$1),FALSE))","v":""},{"$f":"IF(MAX('Individual Scores'!Q164:V164)>0,MAX('Individual Scores'!Q164:V164),\"\")","v":""},{"$f":"IF(MAX(SUM('Individual Scores'!Q164:S164),SUM('Individual Scores'!T164:V164))>0,MAX(SUM('Individual Scores'!Q164:S164),SUM('Individual Scores'!T164:V164)),\"\")","v":""},null,{"$f":"IF('Team Scores'!$Z$1<2,\"\",IF(ISERROR(MATCH('Individual Scores'!$D164,Scores!$F$253:$F$506,0)),\"\",INDIRECT(\"Scores!\"&\"R\"&(ROW(Scores!$253:$253)-1+MATCH('Individual Scores'!$D164,Scores!$F$253:$F$505,0))&\"C\"&COLUMN(Scores!J$1),FALSE)))","v":""},{"$f":"IF('Team Scores'!$Z$1<2,\"\",IF(ISERROR(MATCH('Individual Scores'!$D164,Scores!$F$253:$F$506,0)),\"\",INDIRECT(\"Scores!\"&\"R\"&(ROW(Scores!$253:$253)-1+MATCH('Individual Scores'!$D164,Scores!$F$253:$F$505,0))&\"C\"&COLUMN(Scores!K$1),FALSE)))","v":""},{"$f":"IF('Team Scores'!$Z$1<2,\"\",IF(ISERROR(MATCH('Individual Scores'!$D164,Scores!$F$253:$F$506,0)),\"\",INDIRECT(\"Scores!\"&\"R\"&(ROW(Scores!$253:$253)-1+MATCH('Individual Scores'!$D164,Scores!$F$253:$F$505,0))&\"C\"&COLUMN(Scores!L$1),FALSE)))","v":""},{"$f":"IF('Team Scores'!$Z$1<2,\"\",IF(ISERROR(MATCH('Individual Scores'!$D164,Scores!$F$253:$F$506,0)),\"\",INDIRECT(\"Scores!\"&\"R\"&(ROW(Scores!$253:$253)-1+MATCH('Individual Scores'!$D164,Scores!$F$253:$F$505,0))&\"C\"&COLUMN(Scores!N$1),FALSE)))","v":""},{"$f":"IF('Team Scores'!$Z$1<2,\"\",IF(ISERROR(MATCH('Individual Scores'!$D164,Scores!$F$253:$F$506,0)),\"\",INDIRECT(\"Scores!\"&\"R\"&(ROW(Scores!$253:$253)-1+MATCH('Individual Scores'!$D164,Scores!$F$253:$F$505,0))&\"C\"&COLUMN(Scores!O$1),FALSE)))","v":""},{"$f":"IF('Team Scores'!$Z$1<2,\"\",IF(ISERROR(MATCH('Individual Scores'!$D164,Scores!$F$253:$F$506,0)),\"\",INDIRECT(\"Scores!\"&\"R\"&(ROW(Scores!$253:$253)-1+MATCH('Individual Scores'!$D164,Scores!$F$253:$F$505,0))&\"C\"&COLUMN(Scores!P$1),FALSE)))","v":""},{"$f":"IF('Team Scores'!$Z$1<2,\"\",IF(ISERROR(MATCH('Individual Scores'!$D164,Scores!$F$253:$F$506,0)),\"\",INDIRECT(\"Scores!\"&\"R\"&(ROW(Scores!$253:$253)-1+MATCH('Individual Scores'!$D164,Scores!$F$253:$F$505,0))&\"C\"&COLUMN(Scores!S$1),FALSE)))","v":""},"","",null,{"$f":"IF('Team Scores'!$Z$1<3,\"\",IF(ISERROR(MATCH('Individual Scores'!$D164,Scores!$F$506:$F$759,0)),\"\",INDIRECT(\"Scores!\"&\"R\"&(ROW(Scores!$F$506:$F$759)-1+MATCH('Individual Scores'!$D164,Scores!$F$506:$F$759,0))&\"C\"&COLUMN(Scores!J$1),FALSE)))","v":""},{"$f":"IF('Team Scores'!$Z$1<3,\"\",IF(ISERROR(MATCH('Individual Scores'!$D164,Scores!$F$506:$F$759,0)),\"\",INDIRECT(\"Scores!\"&\"R\"&(ROW(Scores!$F$506:$F$759)-1+MATCH('Individual Scores'!$D164,Scores!$F$506:$F$759,0))&\"C\"&COLUMN(Scores!K$1),FALSE)))","v":""},{"$f":"IF('Team Scores'!$Z$1<3,\"\",IF(ISERROR(MATCH('Individual Scores'!$D164,Scores!$F$506:$F$759,0)),\"\",INDIRECT(\"Scores!\"&\"R\"&(ROW(Scores!$F$506:$F$759)-1+MATCH('Individual Scores'!$D164,Scores!$F$506:$F$759,0))&\"C\"&COLUMN(Scores!L$1),FALSE)))","v":""},{"$f":"IF('Team Scores'!$Z$1<3,\"\",IF(ISERROR(MATCH('Individual Scores'!$D164,Scores!$F$506:$F$759,0)),\"\",INDIRECT(\"Scores!\"&\"R\"&(ROW(Scores!$F$506:$F$759)-1+MATCH('Individual Scores'!$D164,Scores!$F$506:$F$759,0))&\"C\"&COLUMN(Scores!N$1),FALSE)))","v":""},{"$f":"IF('Team Scores'!$Z$1<3,\"\",IF(ISERROR(MATCH('Individual Scores'!$D164,Scores!$F$506:$F$759,0)),\"\",INDIRECT(\"Scores!\"&\"R\"&(ROW(Scores!$F$506:$F$759)-1+MATCH('Individual Scores'!$D164,Scores!$F$506:$F$759,0))&\"C\"&COLUMN(Scores!O$1),FALSE)))","v":""},{"$f":"IF('Team Scores'!$Z$1<3,\"\",IF(ISERROR(MATCH('Individual Scores'!$D164,Scores!$F$506:$F$759,0)),\"\",INDIRECT(\"Scores!\"&\"R\"&(ROW(Scores!$F$506:$F$759)-1+MATCH('Individual Scores'!$D164,Scores!$F$506:$F$759,0))&\"C\"&COLUMN(Scores!P$1),FALSE)))","v":""},{"$f":"IF('Team Scores'!$Z$1<3,\"\",IF(ISERROR(MATCH('Individual Scores'!$D164,Scores!$F$506:$F$759,0)),\"\",INDIRECT(\"Scores!\"&\"R\"&(ROW(Scores!$F$506:$F$759)-1+MATCH('Individual Scores'!$D164,Scores!$F$506:$F$759,0))&\"C\"&COLUMN(Scores!S$1),FALSE)))","v":""},"",""]
["SC","15 & <","M",null,"","","",0,{"$f":"IF(COUNT(Q165:V165,AA165:AF165,AK165:AP165)>=18/3*'Team Scores'!$Z$1,IF(H165-VLOOKUP(B165&C165,'Individual Awards Computations'!$AY$54:$AZ$58,2,FALSE)=0,\"Leader \"&C165&\":\"&B165,H165-VLOOKUP(B165&C165,'Individual Awards Computations'!$AY$54:$AZ$58,2,FALSE)),\"\")","v":""},"","","","","",0,null,{"$f":"IF(ISERROR(MATCH('Individual Scores'!$D165,Scores!$F$1:$F$253,0)),\"\",INDIRECT(\"Scores!\"&\"R\"&MATCH('Individual Scores'!$D165,Scores!$F$1:$F$253,0)&\"C\"&COLUMN(Scores!J$1),FALSE))","v":""},{"$f":"IF(ISERROR(MATCH('Individual Scores'!$D165,Scores!$F$1:$F$253,0)),\"\",INDIRECT(\"Scores!\"&\"R\"&MATCH('Individual Scores'!$D165,Scores!$F$1:$F$253,0)&\"C\"&COLUMN(Scores!K$1),FALSE))","v":""},{"$f":"IF(ISERROR(MATCH('Individual Scores'!$D165,Scores!$F$1:$F$253,0)),\"\",INDIRECT(\"Scores!\"&\"R\"&MATCH('Individual Scores'!$D165,Scores!$F$1:$F$253,0)&\"C\"&COLUMN(Scores!L$1),FALSE))","v":""},{"$f":"IF(ISERROR(MATCH('Individual Scores'!$D165,Scores!$F$1:$F$253,0)),\"\",INDIRECT(\"Scores!\"&\"R\"&MATCH('Individual Scores'!$D165,Scores!$F$1:$F$253,0)&\"C\"&COLUMN(Scores!N$1),FALSE))","v":""},{"$f":"IF(ISERROR(MATCH('Individual Scores'!$D165,Scores!$F$1:$F$253,0)),\"\",INDIRECT(\"Scores!\"&\"R\"&MATCH('Individual Scores'!$D165,Scores!$F$1:$F$253,0)&\"C\"&COLUMN(Scores!O$1),FALSE))","v":""},{"$f":"IF(ISERROR(MATCH('Individual Scores'!$D165,Scores!$F$1:$F$253,0)),\"\",INDIRECT(\"Scores!\"&\"R\"&MATCH('Individual Scores'!$D165,Scores!$F$1:$F$253,0)&\"C\"&COLUMN(Scores!P$1),FALSE))","v":""},{"$f":"IF(ISERROR(MATCH('Individual Scores'!$D165,Scores!$F$1:$F$253,0)),\"\",INDIRECT(\"Scores!\"&\"R\"&MATCH('Individual Scores'!$D165,Scores!$F$1:$F$253,0)&\"C\"&COLUMN(Scores!S$1),FALSE))","v":""},{"$f":"IF(MAX('Individual Scores'!Q165:V165)>0,MAX('Individual Scores'!Q165:V165),\"\")","v":""},{"$f":"IF(MAX(SUM('Individual Scores'!Q165:S165),SUM('Individual Scores'!T165:V165))>0,MAX(SUM('Individual Scores'!Q165:S165),SUM('Individual Scores'!T165:V165)),\"\")","v":""},null,{"$f":"IF('Team Scores'!$Z$1<2,\"\",IF(ISERROR(MATCH('Individual Scores'!$D165,Scores!$F$253:$F$506,0)),\"\",INDIRECT(\"Scores!\"&\"R\"&(ROW(Scores!$253:$253)-1+MATCH('Individual Scores'!$D165,Scores!$F$253:$F$505,0))&\"C\"&COLUMN(Scores!J$1),FALSE)))","v":""},{"$f":"IF('Team Scores'!$Z$1<2,\"\",IF(ISERROR(MATCH('Individual Scores'!$D165,Scores!$F$253:$F$506,0)),\"\",INDIRECT(\"Scores!\"&\"R\"&(ROW(Scores!$253:$253)-1+MATCH('Individual Scores'!$D165,Scores!$F$253:$F$505,0))&\"C\"&COLUMN(Scores!K$1),FALSE)))","v":""},{"$f":"IF('Team Scores'!$Z$1<2,\"\",IF(ISERROR(MATCH('Individual Scores'!$D165,Scores!$F$253:$F$506,0)),\"\",INDIRECT(\"Scores!\"&\"R\"&(ROW(Scores!$253:$253)-1+MATCH('Individual Scores'!$D165,Scores!$F$253:$F$505,0))&\"C\"&COLUMN(Scores!L$1),FALSE)))","v":""},{"$f":"IF('Team Scores'!$Z$1<2,\"\",IF(ISERROR(MATCH('Individual Scores'!$D165,Scores!$F$253:$F$506,0)),\"\",INDIRECT(\"Scores!\"&\"R\"&(ROW(Scores!$253:$253)-1+MATCH('Individual Scores'!$D165,Scores!$F$253:$F$505,0))&\"C\"&COLUMN(Scores!N$1),FALSE)))","v":""},{"$f":"IF('Team Scores'!$Z$1<2,\"\",IF(ISERROR(MATCH('Individual Scores'!$D165,Scores!$F$253:$F$506,0)),\"\",INDIRECT(\"Scores!\"&\"R\"&(ROW(Scores!$253:$253)-1+MATCH('Individual Scores'!$D165,Scores!$F$253:$F$505,0))&\"C\"&COLUMN(Scores!O$1),FALSE)))","v":""},{"$f":"IF('Team Scores'!$Z$1<2,\"\",IF(ISERROR(MATCH('Individual Scores'!$D165,Scores!$F$253:$F$506,0)),\"\",INDIRECT(\"Scores!\"&\"R\"&(ROW(Scores!$253:$253)-1+MATCH('Individual Scores'!$D165,Scores!$F$253:$F$505,0))&\"C\"&COLUMN(Scores!P$1),FALSE)))","v":""},{"$f":"IF('Team Scores'!$Z$1<2,\"\",IF(ISERROR(MATCH('Individual Scores'!$D165,Scores!$F$253:$F$506,0)),\"\",INDIRECT(\"Scores!\"&\"R\"&(ROW(Scores!$253:$253)-1+MATCH('Individual Scores'!$D165,Scores!$F$253:$F$505,0))&\"C\"&COLUMN(Scores!S$1),FALSE)))","v":""},"","",null,{"$f":"IF('Team Scores'!$Z$1<3,\"\",IF(ISERROR(MATCH('Individual Scores'!$D165,Scores!$F$506:$F$759,0)),\"\",INDIRECT(\"Scores!\"&\"R\"&(ROW(Scores!$F$506:$F$759)-1+MATCH('Individual Scores'!$D165,Scores!$F$506:$F$759,0))&\"C\"&COLUMN(Scores!J$1),FALSE)))","v":""},{"$f":"IF('Team Scores'!$Z$1<3,\"\",IF(ISERROR(MATCH('Individual Scores'!$D165,Scores!$F$506:$F$759,0)),\"\",INDIRECT(\"Scores!\"&\"R\"&(ROW(Scores!$F$506:$F$759)-1+MATCH('Individual Scores'!$D165,Scores!$F$506:$F$759,0))&\"C\"&COLUMN(Scores!K$1),FALSE)))","v":""},{"$f":"IF('Team Scores'!$Z$1<3,\"\",IF(ISERROR(MATCH('Individual Scores'!$D165,Scores!$F$506:$F$759,0)),\"\",INDIRECT(\"Scores!\"&\"R\"&(ROW(Scores!$F$506:$F$759)-1+MATCH('Individual Scores'!$D165,Scores!$F$506:$F$759,0))&\"C\"&COLUMN(Scores!L$1),FALSE)))","v":""},{"$f":"IF('Team Scores'!$Z$1<3,\"\",IF(ISERROR(MATCH('Individual Scores'!$D165,Scores!$F$506:$F$759,0)),\"\",INDIRECT(\"Scores!\"&\"R\"&(ROW(Scores!$F$506:$F$759)-1+MATCH('Individual Scores'!$D165,Scores!$F$506:$F$759,0))&\"C\"&COLUMN(Scores!N$1),FALSE)))","v":""},{"$f":"IF('Team Scores'!$Z$1<3,\"\",IF(ISERROR(MATCH('Individual Scores'!$D165,Scores!$F$506:$F$759,0)),\"\",INDIRECT(\"Scores!\"&\"R\"&(ROW(Scores!$F$506:$F$759)-1+MATCH('Individual Scores'!$D165,Scores!$F$506:$F$759,0))&\"C\"&COLUMN(Scores!O$1),FALSE)))","v":""},{"$f":"IF('Team Scores'!$Z$1<3,\"\",IF(ISERROR(MATCH('Individual Scores'!$D165,Scores!$F$506:$F$759,0)),\"\",INDIRECT(\"Scores!\"&\"R\"&(ROW(Scores!$F$506:$F$759)-1+MATCH('Individual Scores'!$D165,Scores!$F$506:$F$759,0))&\"C\"&COLUMN(Scores!P$1),FALSE)))","v":""},{"$f":"IF('Team Scores'!$Z$1<3,\"\",IF(ISERROR(MATCH('Individual Scores'!$D165,Scores!$F$506:$F$759,0)),\"\",INDIRECT(\"Scores!\"&\"R\"&(ROW(Scores!$F$506:$F$759)-1+MATCH('Individual Scores'!$D165,Scores!$F$506:$F$759,0))&\"C\"&COLUMN(Scores!S$1),FALSE)))","v":""},"",""]
["SC","15 & <","M",null,"","","",0,{"$f":"IF(COUNT(Q166:V166,AA166:AF166,AK166:AP166)>=18/3*'Team Scores'!$Z$1,IF(H166-VLOOKUP(B166&C166,'Individual Awards Computations'!$AY$54:$AZ$58,2,FALSE)=0,\"Leader \"&C166&\":\"&B166,H166-VLOOKUP(B166&C166,'Individual Awards Computations'!$AY$54:$AZ$58,2,FALSE)),\"\")","v":""},"","","","","",0,null,{"$f":"IF(ISERROR(MATCH('Individual Scores'!$D166,Scores!$F$1:$F$253,0)),\"\",INDIRECT(\"Scores!\"&\"R\"&MATCH('Individual Scores'!$D166,Scores!$F$1:$F$253,0)&\"C\"&COLUMN(Scores!J$1),FALSE))","v":""},{"$f":"IF(ISERROR(MATCH('Individual Scores'!$D166,Scores!$F$1:$F$253,0)),\"\",INDIRECT(\"Scores!\"&\"R\"&MATCH('Individual Scores'!$D166,Scores!$F$1:$F$253,0)&\"C\"&COLUMN(Scores!K$1),FALSE))","v":""},{"$f":"IF(ISERROR(MATCH('Individual Scores'!$D166,Scores!$F$1:$F$253,0)),\"\",INDIRECT(\"Scores!\"&\"R\"&MATCH('Individual Scores'!$D166,Scores!$F$1:$F$253,0)&\"C\"&COLUMN(Scores!L$1),FALSE))","v":""},{"$f":"IF(ISERROR(MATCH('Individual Scores'!$D166,Scores!$F$1:$F$253,0)),\"\",INDIRECT(\"Scores!\"&\"R\"&MATCH('Individual Scores'!$D166,Scores!$F$1:$F$253,0)&\"C\"&COLUMN(Scores!N$1),FALSE))","v":""},{"$f":"IF(ISERROR(MATCH('Individual Scores'!$D166,Scores!$F$1:$F$253,0)),\"\",INDIRECT(\"Scores!\"&\"R\"&MATCH('Individual Scores'!$D166,Scores!$F$1:$F$253,0)&\"C\"&COLUMN(Scores!O$1),FALSE))","v":""},{"$f":"IF(ISERROR(MATCH('Individual Scores'!$D166,Scores!$F$1:$F$253,0)),\"\",INDIRECT(\"Scores!\"&\"R\"&MATCH('Individual Scores'!$D166,Scores!$F$1:$F$253,0)&\"C\"&COLUMN(Scores!P$1),FALSE))","v":""},{"$f":"IF(ISERROR(MATCH('Individual Scores'!$D166,Scores!$F$1:$F$253,0)),\"\",INDIRECT(\"Scores!\"&\"R\"&MATCH('Individual Scores'!$D166,Scores!$F$1:$F$253,0)&\"C\"&COLUMN(Scores!S$1),FALSE))","v":""},{"$f":"IF(MAX('Individual Scores'!Q166:V166)>0,MAX('Individual Scores'!Q166:V166),\"\")","v":""},{"$f":"IF(MAX(SUM('Individual Scores'!Q166:S166),SUM('Individual Scores'!T166:V166))>0,MAX(SUM('Individual Scores'!Q166:S166),SUM('Individual Scores'!T166:V166)),\"\")","v":""},null,{"$f":"IF('Team Scores'!$Z$1<2,\"\",IF(ISERROR(MATCH('Individual Scores'!$D166,Scores!$F$253:$F$506,0)),\"\",INDIRECT(\"Scores!\"&\"R\"&(ROW(Scores!$253:$253)-1+MATCH('Individual Scores'!$D166,Scores!$F$253:$F$505,0))&\"C\"&COLUMN(Scores!J$1),FALSE)))","v":""},{"$f":"IF('Team Scores'!$Z$1<2,\"\",IF(ISERROR(MATCH('Individual Scores'!$D166,Scores!$F$253:$F$506,0)),\"\",INDIRECT(\"Scores!\"&\"R\"&(ROW(Scores!$253:$253)-1+MATCH('Individual Scores'!$D166,Scores!$F$253:$F$505,0))&\"C\"&COLUMN(Scores!K$1),FALSE)))","v":""},{"$f":"IF('Team Scores'!$Z$1<2,\"\",IF(ISERROR(MATCH('Individual Scores'!$D166,Scores!$F$253:$F$506,0)),\"\",INDIRECT(\"Scores!\"&\"R\"&(ROW(Scores!$253:$253)-1+MATCH('Individual Scores'!$D166,Scores!$F$253:$F$505,0))&\"C\"&COLUMN(Scores!L$1),FALSE)))","v":""},{"$f":"IF('Team Scores'!$Z$1<2,\"\",IF(ISERROR(MATCH('Individual Scores'!$D166,Scores!$F$253:$F$506,0)),\"\",INDIRECT(\"Scores!\"&\"R\"&(ROW(Scores!$253:$253)-1+MATCH('Individual Scores'!$D166,Scores!$F$253:$F$505,0))&\"C\"&COLUMN(Scores!N$1),FALSE)))","v":""},{"$f":"IF('Team Scores'!$Z$1<2,\"\",IF(ISERROR(MATCH('Individual Scores'!$D166,Scores!$F$253:$F$506,0)),\"\",INDIRECT(\"Scores!\"&\"R\"&(ROW(Scores!$253:$253)-1+MATCH('Individual Scores'!$D166,Scores!$F$253:$F$505,0))&\"C\"&COLUMN(Scores!O$1),FALSE)))","v":""},{"$f":"IF('Team Scores'!$Z$1<2,\"\",IF(ISERROR(MATCH('Individual Scores'!$D166,Scores!$F$253:$F$506,0)),\"\",INDIRECT(\"Scores!\"&\"R\"&(ROW(Scores!$253:$253)-1+MATCH('Individual Scores'!$D166,Scores!$F$253:$F$505,0))&\"C\"&COLUMN(Scores!P$1),FALSE)))","v":""},{"$f":"IF('Team Scores'!$Z$1<2,\"\",IF(ISERROR(MATCH('Individual Scores'!$D166,Scores!$F$253:$F$506,0)),\"\",INDIRECT(\"Scores!\"&\"R\"&(ROW(Scores!$253:$253)-1+MATCH('Individual Scores'!$D166,Scores!$F$253:$F$505,0))&\"C\"&COLUMN(Scores!S$1),FALSE)))","v":""},"","",null,{"$f":"IF('Team Scores'!$Z$1<3,\"\",IF(ISERROR(MATCH('Individual Scores'!$D166,Scores!$F$506:$F$759,0)),\"\",INDIRECT(\"Scores!\"&\"R\"&(ROW(Scores!$F$506:$F$759)-1+MATCH('Individual Scores'!$D166,Scores!$F$506:$F$759,0))&\"C\"&COLUMN(Scores!J$1),FALSE)))","v":""},{"$f":"IF('Team Scores'!$Z$1<3,\"\",IF(ISERROR(MATCH('Individual Scores'!$D166,Scores!$F$506:$F$759,0)),\"\",INDIRECT(\"Scores!\"&\"R\"&(ROW(Scores!$F$506:$F$759)-1+MATCH('Individual Scores'!$D166,Scores!$F$506:$F$759,0))&\"C\"&COLUMN(Scores!K$1),FALSE)))","v":""},{"$f":"IF('Team Scores'!$Z$1<3,\"\",IF(ISERROR(MATCH('Individual Scores'!$D166,Scores!$F$506:$F$759,0)),\"\",INDIRECT(\"Scores!\"&\"R\"&(ROW(Scores!$F$506:$F$759)-1+MATCH('Individual Scores'!$D166,Scores!$F$506:$F$759,0))&\"C\"&COLUMN(Scores!L$1),FALSE)))","v":""},{"$f":"IF('Team Scores'!$Z$1<3,\"\",IF(ISERROR(MATCH('Individual Scores'!$D166,Scores!$F$506:$F$759,0)),\"\",INDIRECT(\"Scores!\"&\"R\"&(ROW(Scores!$F$506:$F$759)-1+MATCH('Individual Scores'!$D166,Scores!$F$506:$F$759,0))&\"C\"&COLUMN(Scores!N$1),FALSE)))","v":""},{"$f":"IF('Team Scores'!$Z$1<3,\"\",IF(ISERROR(MATCH('Individual Scores'!$D166,Scores!$F$506:$F$759,0)),\"\",INDIRECT(\"Scores!\"&\"R\"&(ROW(Scores!$F$506:$F$759)-1+MATCH('Individual Scores'!$D166,Scores!$F$506:$F$759,0))&\"C\"&COLUMN(Scores!O$1),FALSE)))","v":""},{"$f":"IF('Team Scores'!$Z$1<3,\"\",IF(ISERROR(MATCH('Individual Scores'!$D166,Scores!$F$506:$F$759,0)),\"\",INDIRECT(\"Scores!\"&\"R\"&(ROW(Scores!$F$506:$F$759)-1+MATCH('Individual Scores'!$D166,Scores!$F$506:$F$759,0))&\"C\"&COLUMN(Scores!P$1),FALSE)))","v":""},{"$f":"IF('Team Scores'!$Z$1<3,\"\",IF(ISERROR(MATCH('Individual Scores'!$D166,Scores!$F$506:$F$759,0)),\"\",INDIRECT(\"Scores!\"&\"R\"&(ROW(Scores!$F$506:$F$759)-1+MATCH('Individual Scores'!$D166,Scores!$F$506:$F$759,0))&\"C\"&COLUMN(Scores!S$1),FALSE)))","v":""},"",""]
["SC","15 & <","M",null,"","","",0,{"$f":"IF(COUNT(Q167:V167,AA167:AF167,AK167:AP167)>=18/3*'Team Scores'!$Z$1,IF(H167-VLOOKUP(B167&C167,'Individual Awards Computations'!$AY$54:$AZ$58,2,FALSE)=0,\"Leader \"&C167&\":\"&B167,H167-VLOOKUP(B167&C167,'Individual Awards Computations'!$AY$54:$AZ$58,2,FALSE)),\"\")","v":""},"","","","","",0,null,{"$f":"IF(ISERROR(MATCH('Individual Scores'!$D167,Scores!$F$1:$F$253,0)),\"\",INDIRECT(\"Scores!\"&\"R\"&MATCH('Individual Scores'!$D167,Scores!$F$1:$F$253,0)&\"C\"&COLUMN(Scores!J$1),FALSE))","v":""},{"$f":"IF(ISERROR(MATCH('Individual Scores'!$D167,Scores!$F$1:$F$253,0)),\"\",INDIRECT(\"Scores!\"&\"R\"&MATCH('Individual Scores'!$D167,Scores!$F$1:$F$253,0)&\"C\"&COLUMN(Scores!K$1),FALSE))","v":""},{"$f":"IF(ISERROR(MATCH('Individual Scores'!$D167,Scores!$F$1:$F$253,0)),\"\",INDIRECT(\"Scores!\"&\"R\"&MATCH('Individual Scores'!$D167,Scores!$F$1:$F$253,0)&\"C\"&COLUMN(Scores!L$1),FALSE))","v":""},{"$f":"IF(ISERROR(MATCH('Individual Scores'!$D167,Scores!$F$1:$F$253,0)),\"\",INDIRECT(\"Scores!\"&\"R\"&MATCH('Individual Scores'!$D167,Scores!$F$1:$F$253,0)&\"C\"&COLUMN(Scores!N$1),FALSE))","v":""},{"$f":"IF(ISERROR(MATCH('Individual Scores'!$D167,Scores!$F$1:$F$253,0)),\"\",INDIRECT(\"Scores!\"&\"R\"&MATCH('Individual Scores'!$D167,Scores!$F$1:$F$253,0)&\"C\"&COLUMN(Scores!O$1),FALSE))","v":""},{"$f":"IF(ISERROR(MATCH('Individual Scores'!$D167,Scores!$F$1:$F$253,0)),\"\",INDIRECT(\"Scores!\"&\"R\"&MATCH('Individual Scores'!$D167,Scores!$F$1:$F$253,0)&\"C\"&COLUMN(Scores!P$1),FALSE))","v":""},{"$f":"IF(ISERROR(MATCH('Individual Scores'!$D167,Scores!$F$1:$F$253,0)),\"\",INDIRECT(\"Scores!\"&\"R\"&MATCH('Individual Scores'!$D167,Scores!$F$1:$F$253,0)&\"C\"&COLUMN(Scores!S$1),FALSE))","v":""},{"$f":"IF(MAX('Individual Scores'!Q167:V167)>0,MAX('Individual Scores'!Q167:V167),\"\")","v":""},{"$f":"IF(MAX(SUM('Individual Scores'!Q167:S167),SUM('Individual Scores'!T167:V167))>0,MAX(SUM('Individual Scores'!Q167:S167),SUM('Individual Scores'!T167:V167)),\"\")","v":""},null,{"$f":"IF('Team Scores'!$Z$1<2,\"\",IF(ISERROR(MATCH('Individual Scores'!$D167,Scores!$F$253:$F$506,0)),\"\",INDIRECT(\"Scores!\"&\"R\"&(ROW(Scores!$253:$253)-1+MATCH('Individual Scores'!$D167,Scores!$F$253:$F$505,0))&\"C\"&COLUMN(Scores!J$1),FALSE)))","v":""},{"$f":"IF('Team Scores'!$Z$1<2,\"\",IF(ISERROR(MATCH('Individual Scores'!$D167,Scores!$F$253:$F$506,0)),\"\",INDIRECT(\"Scores!\"&\"R\"&(ROW(Scores!$253:$253)-1+MATCH('Individual Scores'!$D167,Scores!$F$253:$F$505,0))&\"C\"&COLUMN(Scores!K$1),FALSE)))","v":""},{"$f":"IF('Team Scores'!$Z$1<2,\"\",IF(ISERROR(MATCH('Individual Scores'!$D167,Scores!$F$253:$F$506,0)),\"\",INDIRECT(\"Scores!\"&\"R\"&(ROW(Scores!$253:$253)-1+MATCH('Individual Scores'!$D167,Scores!$F$253:$F$505,0))&\"C\"&COLUMN(Scores!L$1),FALSE)))","v":""},{"$f":"IF('Team Scores'!$Z$1<2,\"\",IF(ISERROR(MATCH('Individual Scores'!$D167,Scores!$F$253:$F$506,0)),\"\",INDIRECT(\"Scores!\"&\"R\"&(ROW(Scores!$253:$253)-1+MATCH('Individual Scores'!$D167,Scores!$F$253:$F$505,0))&\"C\"&COLUMN(Scores!N$1),FALSE)))","v":""},{"$f":"IF('Team Scores'!$Z$1<2,\"\",IF(ISERROR(MATCH('Individual Scores'!$D167,Scores!$F$253:$F$506,0)),\"\",INDIRECT(\"Scores!\"&\"R\"&(ROW(Scores!$253:$253)-1+MATCH('Individual Scores'!$D167,Scores!$F$253:$F$505,0))&\"C\"&COLUMN(Scores!O$1),FALSE)))","v":""},{"$f":"IF('Team Scores'!$Z$1<2,\"\",IF(ISERROR(MATCH('Individual Scores'!$D167,Scores!$F$253:$F$506,0)),\"\",INDIRECT(\"Scores!\"&\"R\"&(ROW(Scores!$253:$253)-1+MATCH('Individual Scores'!$D167,Scores!$F$253:$F$505,0))&\"C\"&COLUMN(Scores!P$1),FALSE)))","v":""},{"$f":"IF('Team Scores'!$Z$1<2,\"\",IF(ISERROR(MATCH('Individual Scores'!$D167,Scores!$F$253:$F$506,0)),\"\",INDIRECT(\"Scores!\"&\"R\"&(ROW(Scores!$253:$253)-1+MATCH('Individual Scores'!$D167,Scores!$F$253:$F$505,0))&\"C\"&COLUMN(Scores!S$1),FALSE)))","v":""},"","",null,{"$f":"IF('Team Scores'!$Z$1<3,\"\",IF(ISERROR(MATCH('Individual Scores'!$D167,Scores!$F$506:$F$759,0)),\"\",INDIRECT(\"Scores!\"&\"R\"&(ROW(Scores!$F$506:$F$759)-1+MATCH('Individual Scores'!$D167,Scores!$F$506:$F$759,0))&\"C\"&COLUMN(Scores!J$1),FALSE)))","v":""},{"$f":"IF('Team Scores'!$Z$1<3,\"\",IF(ISERROR(MATCH('Individual Scores'!$D167,Scores!$F$506:$F$759,0)),\"\",INDIRECT(\"Scores!\"&\"R\"&(ROW(Scores!$F$506:$F$759)-1+MATCH('Individual Scores'!$D167,Scores!$F$506:$F$759,0))&\"C\"&COLUMN(Scores!K$1),FALSE)))","v":""},{"$f":"IF('Team Scores'!$Z$1<3,\"\",IF(ISERROR(MATCH('Individual Scores'!$D167,Scores!$F$506:$F$759,0)),\"\",INDIRECT(\"Scores!\"&\"R\"&(ROW(Scores!$F$506:$F$759)-1+MATCH('Individual Scores'!$D167,Scores!$F$506:$F$759,0))&\"C\"&COLUMN(Scores!L$1),FALSE)))","v":""},{"$f":"IF('Team Scores'!$Z$1<3,\"\",IF(ISERROR(MATCH('Individual Scores'!$D167,Scores!$F$506:$F$759,0)),\"\",INDIRECT(\"Scores!\"&\"R\"&(ROW(Scores!$F$506:$F$759)-1+MATCH('Individual Scores'!$D167,Scores!$F$506:$F$759,0))&\"C\"&COLUMN(Scores!N$1),FALSE)))","v":""},{"$f":"IF('Team Scores'!$Z$1<3,\"\",IF(ISERROR(MATCH('Individual Scores'!$D167,Scores!$F$506:$F$759,0)),\"\",INDIRECT(\"Scores!\"&\"R\"&(ROW(Scores!$F$506:$F$759)-1+MATCH('Individual Scores'!$D167,Scores!$F$506:$F$759,0))&\"C\"&COLUMN(Scores!O$1),FALSE)))","v":""},{"$f":"IF('Team Scores'!$Z$1<3,\"\",IF(ISERROR(MATCH('Individual Scores'!$D167,Scores!$F$506:$F$759,0)),\"\",INDIRECT(\"Scores!\"&\"R\"&(ROW(Scores!$F$506:$F$759)-1+MATCH('Individual Scores'!$D167,Scores!$F$506:$F$759,0))&\"C\"&COLUMN(Scores!P$1),FALSE)))","v":""},{"$f":"IF('Team Scores'!$Z$1<3,\"\",IF(ISERROR(MATCH('Individual Scores'!$D167,Scores!$F$506:$F$759,0)),\"\",INDIRECT(\"Scores!\"&\"R\"&(ROW(Scores!$F$506:$F$759)-1+MATCH('Individual Scores'!$D167,Scores!$F$506:$F$759,0))&\"C\"&COLUMN(Scores!S$1),FALSE)))","v":""},"",""]
[null,null,null,null,null,null,null,null,"c",null,null,null,null,null,null,null,{"$f":"IF(ISERROR(MATCH('Individual Scores'!$D168,Scores!$F$1:$F$253,0)),\"\",INDIRECT(\"Scores!\"&\"R\"&MATCH('Individual Scores'!$D168,Scores!$F$1:$F$253,0)&\"C\"&COLUMN(Scores!J$1),FALSE))","v":""},{"$f":"IF(ISERROR(MATCH('Individual Scores'!$D168,Scores!$F$1:$F$253,0)),\"\",INDIRECT(\"Scores!\"&\"R\"&MATCH('Individual Scores'!$D168,Scores!$F$1:$F$253,0)&\"C\"&COLUMN(Scores!K$1),FALSE))","v":""},{"$f":"IF(ISERROR(MATCH('Individual Scores'!$D168,Scores!$F$1:$F$253,0)),\"\",INDIRECT(\"Scores!\"&\"R\"&MATCH('Individual Scores'!$D168,Scores!$F$1:$F$253,0)&\"C\"&COLUMN(Scores!L$1),FALSE))","v":""},{"$f":"IF(ISERROR(MATCH('Individual Scores'!$D168,Scores!$F$1:$F$253,0)),\"\",INDIRECT(\"Scores!\"&\"R\"&MATCH('Individual Scores'!$D168,Scores!$F$1:$F$253,0)&\"C\"&COLUMN(Scores!N$1),FALSE))","v":""},{"$f":"IF(ISERROR(MATCH('Individual Scores'!$D168,Scores!$F$1:$F$253,0)),\"\",INDIRECT(\"Scores!\"&\"R\"&MATCH('Individual Scores'!$D168,Scores!$F$1:$F$253,0)&\"C\"&COLUMN(Scores!O$1),FALSE))","v":""},{"$f":"IF(ISERROR(MATCH('Individual Scores'!$D168,Scores!$F$1:$F$253,0)),\"\",INDIRECT(\"Scores!\"&\"R\"&MATCH('Individual Scores'!$D168,Scores!$F$1:$F$253,0)&\"C\"&COLUMN(Scores!P$1),FALSE))","v":""},{"$f":"IF(ISERROR(MATCH('Individual Scores'!$D168,Scores!$F$1:$F$253,0)),\"\",INDIRECT(\"Scores!\"&\"R\"&MATCH('Individual Scores'!$D168,Scores!$F$1:$F$253,0)&\"C\"&COLUMN(Scores!S$1),FALSE))","v":""},{"$f":"IF(MAX('Individual Scores'!Q168:V168)>0,MAX('Individual Scores'!Q168:V168),\"\")","v":""},{"$f":"IF(MAX(SUM('Individual Scores'!Q168:S168),SUM('Individual Scores'!T168:V168))>0,MAX(SUM('Individual Scores'!Q168:S168),SUM('Individual Scores'!T168:V168)),\"\")","v":""},null,{"$f":"IF('Team Scores'!$Z$1<2,\"\",IF(ISERROR(MATCH('Individual Scores'!$D168,Scores!$F$253:$F$506,0)),\"\",INDIRECT(\"Scores!\"&\"R\"&(ROW(Scores!$253:$253)-1+MATCH('Individual Scores'!$D168,Scores!$F$253:$F$505,0))&\"C\"&COLUMN(Scores!J$1),FALSE)))","v":""},{"$f":"IF('Team Scores'!$Z$1<2,\"\",IF(ISERROR(MATCH('Individual Scores'!$D168,Scores!$F$253:$F$506,0)),\"\",INDIRECT(\"Scores!\"&\"R\"&(ROW(Scores!$253:$253)-1+MATCH('Individual Scores'!$D168,Scores!$F$253:$F$505,0))&\"C\"&COLUMN(Scores!K$1),FALSE)))","v":""},{"$f":"IF('Team Scores'!$Z$1<2,\"\",IF(ISERROR(MATCH('Individual Scores'!$D168,Scores!$F$253:$F$506,0)),\"\",INDIRECT(\"Scores!\"&\"R\"&(ROW(Scores!$253:$253)-1+MATCH('Individual Scores'!$D168,Scores!$F$253:$F$505,0))&\"C\"&COLUMN(Scores!L$1),FALSE)))","v":""},{"$f":"IF('Team Scores'!$Z$1<2,\"\",IF(ISERROR(MATCH('Individual Scores'!$D168,Scores!$F$253:$F$506,0)),\"\",INDIRECT(\"Scores!\"&\"R\"&(ROW(Scores!$253:$253)-1+MATCH('Individual Scores'!$D168,Scores!$F$253:$F$505,0))&\"C\"&COLUMN(Scores!N$1),FALSE)))","v":""},{"$f":"IF('Team Scores'!$Z$1<2,\"\",IF(ISERROR(MATCH('Individual Scores'!$D168,Scores!$F$253:$F$506,0)),\"\",INDIRECT(\"Scores!\"&\"R\"&(ROW(Scores!$253:$253)-1+MATCH('Individual Scores'!$D168,Scores!$F$253:$F$505,0))&\"C\"&COLUMN(Scores!O$1),FALSE)))","v":""},{"$f":"IF('Team Scores'!$Z$1<2,\"\",IF(ISERROR(MATCH('Individual Scores'!$D168,Scores!$F$253:$F$506,0)),\"\",INDIRECT(\"Scores!\"&\"R\"&(ROW(Scores!$253:$253)-1+MATCH('Individual Scores'!$D168,Scores!$F$253:$F$505,0))&\"C\"&COLUMN(Scores!P$1),FALSE)))","v":""},{"$f":"IF('Team Scores'!$Z$1<2,\"\",IF(ISERROR(MATCH('Individual Scores'!$D168,Scores!$F$253:$F$506,0)),\"\",INDIRECT(\"Scores!\"&\"R\"&(ROW(Scores!$253:$253)-1+MATCH('Individual Scores'!$D168,Scores!$F$253:$F$505,0))&\"C\"&COLUMN(Scores!S$1),FALSE)))","v":""},"","",null,{"$f":"IF('Team Scores'!$Z$1<3,\"\",IF(ISERROR(MATCH('Individual Scores'!$D168,Scores!$F$506:$F$759,0)),\"\",INDIRECT(\"Scores!\"&\"R\"&(ROW(Scores!$F$506:$F$759)-1+MATCH('Individual Scores'!$D168,Scores!$F$506:$F$759,0))&\"C\"&COLUMN(Scores!J$1),FALSE)))","v":""},{"$f":"IF('Team Scores'!$Z$1<3,\"\",IF(ISERROR(MATCH('Individual Scores'!$D168,Scores!$F$506:$F$759,0)),\"\",INDIRECT(\"Scores!\"&\"R\"&(ROW(Scores!$F$506:$F$759)-1+MATCH('Individual Scores'!$D168,Scores!$F$506:$F$759,0))&\"C\"&COLUMN(Scores!K$1),FALSE)))","v":""},{"$f":"IF('Team Scores'!$Z$1<3,\"\",IF(ISERROR(MATCH('Individual Scores'!$D168,Scores!$F$506:$F$759,0)),\"\",INDIRECT(\"Scores!\"&\"R\"&(ROW(Scores!$F$506:$F$759)-1+MATCH('Individual Scores'!$D168,Scores!$F$506:$F$759,0))&\"C\"&COLUMN(Scores!L$1),FALSE)))","v":""},{"$f":"IF('Team Scores'!$Z$1<3,\"\",IF(ISERROR(MATCH('Individual Scores'!$D168,Scores!$F$506:$F$759,0)),\"\",INDIRECT(\"Scores!\"&\"R\"&(ROW(Scores!$F$506:$F$759)-1+MATCH('Individual Scores'!$D168,Scores!$F$506:$F$759,0))&\"C\"&COLUMN(Scores!N$1),FALSE)))","v":""},{"$f":"IF('Team Scores'!$Z$1<3,\"\",IF(ISERROR(MATCH('Individual Scores'!$D168,Scores!$F$506:$F$759,0)),\"\",INDIRECT(\"Scores!\"&\"R\"&(ROW(Scores!$F$506:$F$759)-1+MATCH('Individual Scores'!$D168,Scores!$F$506:$F$759,0))&\"C\"&COLUMN(Scores!O$1),FALSE)))","v":""},{"$f":"IF('Team Scores'!$Z$1<3,\"\",IF(ISERROR(MATCH('Individual Scores'!$D168,Scores!$F$506:$F$759,0)),\"\",INDIRECT(\"Scores!\"&\"R\"&(ROW(Scores!$F$506:$F$759)-1+MATCH('Individual Scores'!$D168,Scores!$F$506:$F$759,0))&\"C\"&COLUMN(Scores!P$1),FALSE)))","v":""},{"$f":"IF('Team Scores'!$Z$1<3,\"\",IF(ISERROR(MATCH('Individual Scores'!$D168,Scores!$F$506:$F$759,0)),\"\",INDIRECT(\"Scores!\"&\"R\"&(ROW(Scores!$F$506:$F$759)-1+MATCH('Individual Scores'!$D168,Scores!$F$506:$F$759,0))&\"C\"&COLUMN(Scores!S$1),FALSE)))","v":""},"",""]
[]
[]
["State","Age","Gender","New Bowler",{"$f":"W171","v":""},{"$f":"AG171","v":""},{"$f":"AQ171","v":""},{"$f":"SUM(AQ171,AG171,W171)","v":0},{"$f":"IF(COUNT(Q171:V171,AA171:AF171,AK171:AP171)>=18/3*'Team Scores'!$Z$1,IF(H171-VLOOKUP(B171&C171,'Individual Awards Computations'!$AY$54:$AZ$58,2,FALSE)=0,\"Leader \"&C171&\":\"&B171,H171-VLOOKUP(B171&C171,'Individual Awards Computations'!$AY$54:$AZ$58,2,FALSE)),\"\")","v":""},{"$f":"IF(H171=0,\"\",MAX(Q171:V171,AA171:AF171,AK171:AP171))","v":""},{"$f":"IF(H171=0,\"\",MAX(SUM(Q171:S171),SUM(T171:V171),SUM(AA171:AC171),SUM(AD171:AF171),SUM(AK171:AM171),SUM(AN171:AP171)))","v":""},{"$f":"IF(H171=0,\"\",AVERAGE(Q171:V171,AA171:AF171,AK171:AP171))","v":""},{"$f":"IF(H171=0,\"\",AVEDEV(Q171:V171,AA171:AF171,AK171:AP171))","v":""},{"$f":"IF(H171=0,\"\",ROUND(L171-M171,0)&\"-\"&ROUND(L171+M171,0))","v":""},{"$f":"COUNTIF($D$2:$D$169,D171)","v":0},null,{"$f":"IF(ISERROR(MATCH('Individual Scores'!$D171,Scores!$F$1:$F$253,0)),\"\",INDIRECT(\"Scores!\"&\"R\"&MATCH('Individual Scores'!$D171,Scores!$F$1:$F$253,0)&\"C\"&COLUMN(Scores!J$1),FALSE))","v":""},{"$f":"IF(ISERROR(MATCH('Individual Scores'!$D171,Scores!$F$1:$F$253,0)),\"\",INDIRECT(\"Scores!\"&\"R\"&MATCH('Individual Scores'!$D171,Scores!$F$1:$F$253,0)&\"C\"&COLUMN(Scores!K$1),FALSE))","v":""},{"$f":"IF(ISERROR(MATCH('Individual Scores'!$D171,Scores!$F$1:$F$253,0)),\"\",INDIRECT(\"Scores!\"&\"R\"&MATCH('Individual Scores'!$D171,Scores!$F$1:$F$253,0)&\"C\"&COLUMN(Scores!L$1),FALSE))","v":""},{"$f":"IF(ISERROR(MATCH('Individual Scores'!$D171,Scores!$F$1:$F$253,0)),\"\",INDIRECT(\"Scores!\"&\"R\"&MATCH('Individual Scores'!$D171,Scores!$F$1:$F$253,0)&\"C\"&COLUMN(Scores!N$1),FALSE))","v":""},{"$f":"IF(ISERROR(MATCH('Individual Scores'!$D171,Scores!$F$1:$F$253,0)),\"\",INDIRECT(\"Scores!\"&\"R\"&MATCH('Individual Scores'!$D171,Scores!$F$1:$F$253,0)&\"C\"&COLUMN(Scores!O$1),FALSE))","v":""},{"$f":"IF(ISERROR(MATCH('Individual Scores'!$D171,Scores!$F$1:$F$253,0)),\"\",INDIRECT(\"Scores!\"&\"R\"&MATCH('Individual Scores'!$D171,Scores!$F$1:$F$253,0)&\"C\"&COLUMN(Scores!P$1),FALSE))","v":""},{"$f":"IF(ISERROR(MATCH('Individual Scores'!$D171,Scores!$F$1:$F$253,0)),\"\",INDIRECT(\"Scores!\"&\"R\"&MATCH('Individual Scores'!$D171,Scores!$F$1:$F$253,0)&\"C\"&COLUMN(Scores!S$1),FALSE))","v":""},{"$f":"IF(MAX('Individual Scores'!Q171:V171)>0,MAX('Individual Scores'!Q171:V171),\"\")","v":""},{"$f":"IF(MAX(SUM('Individual Scores'!Q171:S171),SUM('Individual Scores'!T171:V171))>0,MAX(SUM('Individual Scores'!Q171:S171),SUM('Individual Scores'!T171:V171)),\"\")","v":""},null,{"$f":"IF('Team Scores'!$Z$1<2,\"\",IF(ISERROR(MATCH('Individual Scores'!$D171,Scores!$F$253:$F$506,0)),\"\",INDIRECT(\"Scores!\"&\"R\"&(ROW(Scores!$253:$253)-1+MATCH('Individual Scores'!$D171,Scores!$F$253:$F$505,0))&\"C\"&COLUMN(Scores!J$1),FALSE)))","v":""},{"$f":"IF('Team Scores'!$Z$1<2,\"\",IF(ISERROR(MATCH('Individual Scores'!$D171,Scores!$F$253:$F$506,0)),\"\",INDIRECT(\"Scores!\"&\"R\"&(ROW(Scores!$253:$253)-1+MATCH('Individual Scores'!$D171,Scores!$F$253:$F$505,0))&\"C\"&COLUMN(Scores!K$1),FALSE)))","v":""},{"$f":"IF('Team Scores'!$Z$1<2,\"\",IF(ISERROR(MATCH('Individual Scores'!$D171,Scores!$F$253:$F$506,0)),\"\",INDIRECT(\"Scores!\"&\"R\"&(ROW(Scores!$253:$253)-1+MATCH('Individual Scores'!$D171,Scores!$F$253:$F$505,0))&\"C\"&COLUMN(Scores!L$1),FALSE)))","v":""},{"$f":"IF('Team Scores'!$Z$1<2,\"\",IF(ISERROR(MATCH('Individual Scores'!$D171,Scores!$F$253:$F$506,0)),\"\",INDIRECT(\"Scores!\"&\"R\"&(ROW(Scores!$253:$253)-1+MATCH('Individual Scores'!$D171,Scores!$F$253:$F$505,0))&\"C\"&COLUMN(Scores!N$1),FALSE)))","v":""},{"$f":"IF('Team Scores'!$Z$1<2,\"\",IF(ISERROR(MATCH('Individual Scores'!$D171,Scores!$F$253:$F$506,0)),\"\",INDIRECT(\"Scores!\"&\"R\"&(ROW(Scores!$253:$253)-1+MATCH('Individual Scores'!$D171,Scores!$F$253:$F$505,0))&\"C\"&COLUMN(Scores!O$1),FALSE)))","v":""},{"$f":"IF('Team Scores'!$Z$1<2,\"\",IF(ISERROR(MATCH('Individual Scores'!$D171,Scores!$F$253:$F$506,0)),\"\",INDIRECT(\"Scores!\"&\"R\"&(ROW(Scores!$253:$253)-1+MATCH('Individual Scores'!$D171,Scores!$F$253:$F$505,0))&\"C\"&COLUMN(Scores!P$1),FALSE)))","v":""},{"$f":"IF('Team Scores'!$Z$1<2,\"\",IF(ISERROR(MATCH('Individual Scores'!$D171,Scores!$F$253:$F$506,0)),\"\",INDIRECT(\"Scores!\"&\"R\"&(ROW(Scores!$253:$253)-1+MATCH('Individual Scores'!$D171,Scores!$F$253:$F$505,0))&\"C\"&COLUMN(Scores!S$1),FALSE)))","v":""},{"$f":"IF(MAX(AA171:AF171)>0,MAX(AA171:AF171),\"\")","v":""},{"$f":"IF(MAX(SUM(AA171:AC171),SUM(AD171:AF171))>0,MAX(SUM(AA171:AC171),SUM(AD171:AF171)),\"\")","v":""},null,{"$f":"IF('Team Scores'!Z159<3,\"\",IF(ISERROR(MATCH('Individual Scores'!$D171,Scores!$F$506:$F$759,0)),\"\",INDIRECT(\"Scores!\"&\"R\"&(ROW(Scores!#REF!)-1+MATCH('Individual Scores'!$D171,Scores!$F$506:$F$759,0))&\"C\"&COLUMN(Scores!J$1),FALSE)))","v":""},{"$f":"IF('Team Scores'!Z159<3,\"\",IF(ISERROR(MATCH('Individual Scores'!$D171,Scores!$F$506:$F$759,0)),\"\",INDIRECT(\"Scores!\"&\"R\"&(ROW(Scores!#REF!)-1+MATCH('Individual Scores'!$D171,Scores!$F$506:$F$759,0))&\"C\"&COLUMN(Scores!K$1),FALSE)))","v":""},{"$f":"IF('Team Scores'!Z159<3,\"\",IF(ISERROR(MATCH('Individual Scores'!$D171,Scores!$F$506:$F$759,0)),\"\",INDIRECT(\"Scores!\"&\"R\"&(ROW(Scores!#REF!)-1+MATCH('Individual Scores'!$D171,Scores!$F$506:$F$759,0))&\"C\"&COLUMN(Scores!L$1),FALSE)))","v":""},{"$f":"IF('Team Scores'!Z159<3,\"\",IF(ISERROR(MATCH('Individual Scores'!$D171,Scores!$F$506:$F$759,0)),\"\",INDIRECT(\"Scores!\"&\"R\"&(ROW(Scores!#REF!)-1+MATCH('Individual Scores'!$D171,Scores!$F$506:$F$759,0))&\"C\"&COLUMN(Scores!N$1),FALSE)))","v":""},{"$f":"IF('Team Scores'!Z159<3,\"\",IF(ISERROR(MATCH('Individual Scores'!$D171,Scores!$F$506:$F$759,0)),\"\",INDIRECT(\"Scores!\"&\"R\"&(ROW(Scores!#REF!)-1+MATCH('Individual Scores'!$D171,Scores!$F$506:$F$759,0))&\"C\"&COLUMN(Scores!O$1),FALSE)))","v":""},{"$f":"IF('Team Scores'!Z159<3,\"\",IF(ISERROR(MATCH('Individual Scores'!$D171,Scores!$F$506:$F$759,0)),\"\",INDIRECT(\"Scores!\"&\"R\"&(ROW(Scores!#REF!)-1+MATCH('Individual Scores'!$D171,Scores!$F$506:$F$759,0))&\"C\"&COLUMN(Scores!P$1),FALSE)))","v":""},{"$f":"IF('Team Scores'!Z159<3,\"\",IF(ISERROR(MATCH('Individual Scores'!$D171,Scores!$F$506:$F$759,0)),\"\",INDIRECT(\"Scores!\"&\"R\"&(ROW(Scores!#REF!)-1+MATCH('Individual Scores'!$D171,Scores!$F$506:$F$759,0))&\"C\"&COLUMN(Scores!S$1),FALSE)))","v":""},{"$f":"IF(MAX(AK171:AP171)>0,MAX(AK171:AP171),\"\")","v":""},{"$f":"IF(MAX(SUM(AK171:AM171),SUM(AN171:AP171))>0,MAX(SUM(AK171:AM171),SUM(AN171:AP171)),\"\")","v":""}]
[]
[]
[]
[]
[]
[]
[]
[]
[]
[]
[]
[]
[]
[]
[]
[]
[]
[]
[]
[]
[]
[]
[]
[]
[]
[]
[]
[]
[]
[]
[]
[]
[]
[]
[]
[]
[]
[]
[]
[]
[]
[]
[]
[]
[]
[]
[]
[]
[]
[]
[]
[]
[]
[]
[]
[]
[]
[]
[]
[]
[]
[]
[]
[]
[]
[]
[]
[]
[]
[]
[]
[]
[]
[]
[]
[]
[]
[]
[]
[]
[]
[]
[]
[]
[]
[]
[]
[]
[]
[]
["Individual Awards",null,null,null,null,null,null,null,null,"Score",null,null,null,null,null,null,null,null,null,"Score"]
["High Game",null,"F","15 & <",null,null,null,null,null,224,{"$f":"MAX(Q2:V2,#REF!,#REF!)","v":{"$error":"#REF!"}},null,null,null,null,null,null,null,null,233]
[null,null,null,"16-20",null,null,null,null,null,257,null,null,null,null,null,null,null,null,null,240]
[null,null,"M","15 & <",null,null,null,null,null,228,null,null,null,null,null,null,null,null,null,233]
[null,null,null,"16-20",null,null,null,null,null,268,null,null,null,null,null,null,null,null,null,300]
["High Series",null,"F","15 & <",null,null,null,null,null,638,{"$f":"IF(COUNTIF(#REF!,J267)+COUNTIF(#REF!,J267)+COUNTIF(#REF!,J267)=1,\"\",\"TIE\")","v":{"$error":"#REF!"}},null,null,null,null,null,null,null,null,256]
[null,null,null,"16-20",null,null,null,null,null,619,{"$f":"IF(COUNTIF(#REF!,J268)+COUNTIF(#REF!,J268)+COUNTIF(#REF!,J268)=1,\"\",\"TIE\")","v":{"$error":"#REF!"}},null,null,null,null,null,null,null,null,604,{"$f":"IF(COUNTIF(#REF!,T268)+COUNTIF(#REF!,T268)+COUNTIF(#REF!,T268)=1,\"\",\"TIE\")","v":{"$error":"#REF!"}}]
[null,null,"M","15 & <",null,null,null,null,null,722,null,null,null,null,null,null,null,null,null,618,{"$f":"IF(COUNTIF(#REF!,T269)+COUNTIF(#REF!,T269)+COUNTIF(#REF!,T269)=1,\"\",\"TIE\")","v":{"$error":"#REF!"}}]
[null,null,null,"16-20",null,null,null,null,null,689,null,null,null,null,null,null,null,null,null,720]
["High Total Pins",null,"F","15 & <",null,null,null,null,null,1146,null,null,null,null,null,null,null,null,null,652]
[null,null,null,"16-20",null,null,null,null,null,1170,null,null,null,null,null,null,null,null,null,1121]
[null,null,"M","15 & <",null,null,null,null,null,1373,null,null,null,null,null,null,null,null,null,1133]
[null,null,null,"16-20",null,null,null,null,null,1326,null,null,null,null,null,null,null,null,null,1210]
[null,null,null,null,null,null,null,null,null,null,null,null,null,null,null,null,null,null,null,1265]
[]
[]
[]
[]
[]
[]
[]
[]
[]
[]
[{"$f":"B1","v":"Age Group"},{"$f":"C1","v":"Gender"},"High Game"]
[{"$f":"B2","v":0},"F",{"$f":"DMAX(1:2,\"High Game\",A285:B286)","v":0}]

{"sheet":"Rpt Tourn 2","index":10,"n_rows":26,"n_cols":13,"rows_kept":26,"cut":false,"hidden":false,"merged":[[22,7,26,12],[0,2,0,5],[0,7,0,10],[0,11,0,12],[10,7,13,8],[10,9,11,9],[12,9,13,9],[14,7,17,8],[14,9,15,9],[16,9,17,9],[2,7,5,8],[2,9,3,9],[4,9,5,9],[6,7,9,8],[6,9,7,9],[8,9,9,9]]}
[]
[null,null,{"$f":"'Team Scores'!H2","v":"Regulation"},{"$f":"'Team Scores'!I2","v":"Baker"},{"$f":"'Team Scores'!J2","v":"Total"},null,null,{"$f":"'Individual Awards'!A2","v":"Individual High Scores -- Tournament"},null,null,null,{"$f":"'Individual Awards'!H2","v":"Name"},{"$f":"'Individual Awards'!I2","v":"Score"}]
[{"$f":"'Team Scores'!A3","v":"All Divisions"},null,null,null,null,null,null,{"$f":"'Individual Awards'!A3","v":"High Game"},null,{"$f":"'Individual Awards'!C3","v":"F"},{"$f":"'Individual Awards'!D3","v":"15 & <"},{"$f":"'Individual Awards'!H3","v":"Hailey Wall (NC)"},{"$f":"'Individual Awards'!I3","v":238}]
[{"$f":"'Team Scores'!A4","v":"Georgia"},null,{"$f":"'Team Scores'!H4","v":44467},{"$f":"'Team Scores'!I4","v":17661},{"$f":"'Team Scores'!J4","v":62128},{"$f":"'Team Scores'!K4","v":-1186},null,null,null,null,{"$f":"'Individual Awards'!D4","v":"16-20"},{"$f":"'Individual Awards'!H4","v":"Crystal Fox (GA)"},{"$f":"'Individual Awards'!I4","v":257}]
[{"$f":"'Team Scores'!A5","v":"North Carolina"},null,{"$f":"'Team Scores'!H5","v":45412},{"$f":"'Team Scores'!I5","v":17902},{"$f":"'Team Scores'!J5","v":63314},{"$f":"'Team Scores'!K5","v":0},null,null,null,{"$f":"'Individual Awards'!C5","v":"M"},{"$f":"'Individual Awards'!D5","v":"15 & <"},{"$f":"'Individual Awards'!H5","v":"Jacob Bloomfield  (NC)"},{"$f":"'Individual Awards'!I5","v":257}]
[{"$f":"'Team Scores'!A6","v":"South Carolina"},null,{"$f":"'Team Scores'!H6","v":43056},{"$f":"'Team Scores'!I6","v":17138},{"$f":"'Team Scores'!J6","v":60194},{"$f":"'Team Scores'!K6","v":-3120},null,null,null,null,{"$f":"'Individual Awards'!D6","v":"16-20"},{"$f":"'Individual Awards'!H6","v":"TIE"},{"$f":"'Individual Awards'!I6","v":279}]
[null,null,null,null,null,null,null,{"$f":"'Individual Awards'!A7","v":"High Series"},null,{"$f":"'Individual Awards'!C7","v":"F"},{"$f":"'Individual Awards'!D7","v":"15 & <"},{"$f":"'Individual Awards'!H7","v":"Cameron Strombeck (NC)"},{"$f":"'Individual Awards'!I7","v":668}]
[{"$f":"'Team Scores'!A8","v":"Age 15 & < Girls"},null,null,null,null,null,null,null,null,null,{"$f":"'Individual Awards'!D8","v":"16-20"},{"$f":"'Individual Awards'!H8","v":"Madysen Keller (NC)"},{"$f":"'Individual Awards'!I8","v":678}]
[{"$f":"'Team Scores'!A9","v":"Georgia"},null,{"$f":"'Team Scores'!H9","v":10025},{"$f":"'Team Scores'!I9","v":4134},{"$f":"'Team Scores'!J9","v":14159},{"$f":"'Team Scores'!K9","v":-131},null,null,null,{"$f":"'Individual Awards'!C9","v":"M"},{"$f":"'Individual Awards'!D9","v":"15 & <"},{"$f":"'Individual Awards'!H9","v":"Chad Severt (NC)"},{"$f":"'Individual Awards'!I9","v":703}]
[{"$f":"'Team Scores'!A10","v":"North Carolina"},null,{"$f":"'Team Scores'!H10","v":10253},{"$f":"'Team Scores'!I10","v":4037},{"$f":"'Team Scores'!J10","v":14290},{"$f":"'Team Scores'!K10","v":0},null,null,null,null,{"$f":"'Individual Awards'!D10","v":"16-20"},{"$f":"'Individual Awards'!H10","v":"Troy White (NC)"},{"$f":"'Individual Awards'!I10","v":801}]
[{"$f":"'Team Scores'!A11","v":"South Carolina"},null,{"$f":"'Team Scores'!H11","v":9715},{"$f":"'Team Scores'!I11","v":4000},{"$f":"'Team Scores'!J11","v":13715},{"$f":"'Team Scores'!K11","v":-575},null,{"$f":"'Individual Awards'!A11","v":"Bowler of the Year"},null,{"$f":"'Individual Awards'!C11","v":"F"},{"$f":"'Individual Awards'!D11","v":"15 & <"},{"$f":"'Individual Awards'!H11","v":"Cameron Strombeck (NC)"},{"$f":"'Individual Awards'!I11","v":2413}]
[null,null,null,null,null,null,null,null,null,null,{"$f":"'Individual Awards'!D12","v":"16-20"},{"$f":"'Individual Awards'!H12","v":"Breanna Clemmer (NC)"},{"$f":"'Individual Awards'!I12","v":2446}]
[{"$f":"'Team Scores'!A13","v":"Age 15 & < Boys"},null,null,null,null,null,null,null,null,{"$f":"'Individual Awards'!C13","v":"M"},{"$f":"'Individual Awards'!D13","v":"15 & <"},{"$f":"'Individual Awards'!H13","v":"Peyton Smith (GA)"},{"$f":"'Individual Awards'!I13","v":2629}]
[{"$f":"'Team Scores'!A14","v":"Georgia"},null,{"$f":"'Team Scores'!H14","v":11359},{"$f":"'Team Scores'!I14","v":4424},{"$f":"'Team Scores'!J14","v":15783},{"$f":"'Team Scores'!K14","v":-472},null,null,null,null,{"$f":"'Individual Awards'!D14","v":"16-20"},{"$f":"'Individual Awards'!H14","v":"Troy White (NC)"},{"$f":"'Individual Awards'!I14","v":2670}]
[{"$f":"'Team Scores'!A15","v":"North Carolina"},null,{"$f":"'Team Scores'!H15","v":11612},{"$f":"'Team Scores'!I15","v":4643},{"$f":"'Team Scores'!J15","v":16255},{"$f":"'Team Scores'!K15","v":0},null,{"$f":"'Individual Awards'!A15","v":"High Total Pins This Tournament"},null,{"$f":"'Individual Awards'!C15","v":"F"},{"$f":"'Individual Awards'!D15","v":"15 & <"},{"$f":"'Individual Awards'!H15","v":"Danielle Lane (SC)"},{"$f":"'Individual Awards'!I15","v":1188}]
[{"$f":"'Team Scores'!A16","v":"South Carolina"},null,{"$f":"'Team Scores'!H16","v":11487},{"$f":"'Team Scores'!I16","v":4554},{"$f":"'Team Scores'!J16","v":16041},{"$f":"'Team Scores'!K16","v":-214},null,null,null,null,{"$f":"'Individual Awards'!D16","v":"16-20"},{"$f":"'Individual Awards'!H16","v":"Breanna Clemmer (NC)"},{"$f":"'Individual Awards'!I16","v":1238}]
[null,null,null,null,null,null,null,null,null,{"$f":"'Individual Awards'!C17","v":"M"},{"$f":"'Individual Awards'!D17","v":"15 & <"},{"$f":"'Individual Awards'!H17","v":"Chad Severt (NC)"},{"$f":"'Individual Awards'!I17","v":1289}]
[{"$f":"'Team Scores'!A18","v":"Age 16-20 Girls"},null,null,null,null,null,null,null,null,null,{"$f":"'Individual Awards'!D18","v":"16-20"},{"$f":"'Individual Awards'!H18","v":"Troy White (NC)"},{"$f":"'Individual Awards'!I18","v":1532}]
[{"$f":"'Team Scores'!A19","v":"Georgia"},null,{"$f":"'Team Scores'!H19","v":10535},{"$f":"'Team Scores'!I19","v":4018},{"$f":"'Team Scores'!J19","v":14553},{"$f":"'Team Scores'!K19","v":-358}]
[{"$f":"'Team Scores'!A20","v":"North Carolina"},null,{"$f":"'Team Scores'!H20","v":10755},{"$f":"'Team Scores'!I20","v":4156},{"$f":"'Team Scores'!J20","v":14911},{"$f":"'Team Scores'!K20","v":0}]
[{"$f":"'Team Scores'!A21","v":"South Carolina"},null,{"$f":"'Team Scores'!H21","v":10758},{"$f":"'Team Scores'!I21","v":3996},{"$f":"'Team Scores'!J21","v":14754},{"$f":"'Team Scores'!K21","v":-157}]
[]
[{"$f":"'Team Scores'!A23","v":"Age 16-20 Boys"},null,null,null,null,null,null,{"$f":"'Individual Awards'!H1","v":"Royal Lanes, Goose Creek, SC"}]
[{"$f":"'Team Scores'!A24","v":"Georgia"},null,{"$f":"'Team Scores'!H24","v":12548},{"$f":"'Team Scores'!I24","v":5085},{"$f":"'Team Scores'!J24","v":17633},{"$f":"'Team Scores'!K24","v":-225}]
[{"$f":"'Team Scores'!A25","v":"North Carolina"},null,{"$f":"'Team Scores'!H25","v":12792},{"$f":"'Team Scores'!I25","v":5066},{"$f":"'Team Scores'!J25","v":17858},{"$f":"'Team Scores'!K25","v":0}]
[{"$f":"'Team Scores'!A26","v":"South Carolina"},null,{"$f":"'Team Scores'!H26","v":11096},{"$f":"'Team Scores'!I26","v":4588},{"$f":"'Team Scores'!J26","v":15684},{"$f":"'Team Scores'!K26","v":-2174}]

{"sheet":"Rpt Tourn 3","index":11,"n_rows":26,"n_cols":13,"rows_kept":26,"cut":false,"hidden":false,"merged":[[22,7,26,12],[14,9,15,9],[16,9,17,9],[0,2,0,5],[0,7,0,10],[2,7,5,8],[6,7,9,8],[10,7,13,8],[14,7,17,8],[2,9,3,9],[4,9,5,9],[6,9,7,9],[8,9,9,9],[10,9,11,9],[12,9,13,9],[0,11,0,12]]}
[]
[null,null,{"$f":"'Team Scores'!M2","v":"Regulation"},{"$f":"'Team Scores'!N2","v":"Baker"},{"$f":"'Team Scores'!O2","v":"Total"},null,null,{"$f":"'Individual Awards'!A2","v":"Individual High Scores -- Tournament"},null,null,null,{"$f":"'Individual Awards'!K2","v":"Name"},{"$f":"'Individual Awards'!L2","v":"Score"}]
[{"$f":"'Team Scores'!A3","v":"All Divisions"},null,null,null,null,null,null,{"$f":"'Individual Awards'!A3","v":"High Game"},null,{"$f":"'Individual Awards'!C3","v":"F"},{"$f":"'Individual Awards'!D3","v":"15 & <"},{"$f":"'Individual Awards'!K3","v":"None"},{"$f":"'Individual Awards'!L3","v":""}]
[{"$f":"'Team Scores'!A4","v":"Georgia"},null,{"$f":"'Team Scores'!M4","v":0},{"$f":"'Team Scores'!N4","v":0},{"$f":"'Team Scores'!O4","v":0},{"$f":"'Team Scores'!P4","v":0},null,null,null,null,{"$f":"'Individual Awards'!D4","v":"16-20"},{"$f":"'Individual Awards'!K4","v":"None"},{"$f":"'Individual Awards'!L4","v":""}]
[{"$f":"'Team Scores'!A5","v":"North Carolina"},null,{"$f":"'Team Scores'!M5","v":0},{"$f":"'Team Scores'!N5","v":0},{"$f":"'Team Scores'!O5","v":0},{"$f":"'Team Scores'!P5","v":0},null,null,null,{"$f":"'Individual Awards'!C5","v":"M"},{"$f":"'Individual Awards'!D5","v":"15 & <"},{"$f":"'Individual Awards'!K5","v":"None"},{"$f":"'Individual Awards'!L5","v":""}]
[{"$f":"'Team Scores'!A6","v":"South Carolina"},null,{"$f":"'Team Scores'!M6","v":0},{"$f":"'Team Scores'!N6","v":0},{"$f":"'Team Scores'!O6","v":0},{"$f":"'Team Scores'!P6","v":0},null,null,null,null,{"$f":"'Individual Awards'!D6","v":"16-20"},{"$f":"'Individual Awards'!K6","v":"None"},{"$f":"'Individual Awards'!L6","v":""}]
[null,null,null,null,null,null,null,{"$f":"'Individual Awards'!A7","v":"High Series"},null,{"$f":"'Individual Awards'!C7","v":"F"},{"$f":"'Individual Awards'!D7","v":"15 & <"},{"$f":"'Individual Awards'!K7","v":"None"},{"$f":"'Individual Awards'!L7","v":""}]
[{"$f":"'Team Scores'!A8","v":"Age 15 & < Girls"},null,null,null,null,null,null,null,null,null,{"$f":"'Individual Awards'!D8","v":"16-20"},{"$f":"'Individual Awards'!K8","v":"None"},{"$f":"'Individual Awards'!L8","v":""}]
[{"$f":"'Team Scores'!A9","v":"Georgia"},null,{"$f":"'Team Scores'!M9","v":0},{"$f":"'Team Scores'!N9","v":0},{"$f":"'Team Scores'!O9","v":0},{"$f":"'Team Scores'!P9","v":0},null,null,null,{"$f":"'Individual Awards'!C9","v":"M"},{"$f":"'Individual Awards'!D9","v":"15 & <"},{"$f":"'Individual Awards'!K9","v":"None"},{"$f":"'Individual Awards'!L9","v":""}]
[{"$f":"'Team Scores'!A10","v":"North Carolina"},null,{"$f":"'Team Scores'!M10","v":0},{"$f":"'Team Scores'!N10","v":0},{"$f":"'Team Scores'!O10","v":0},{"$f":"'Team Scores'!P10","v":0},null,null,null,null,{"$f":"'Individual Awards'!D10","v":"16-20"},{"$f":"'Individual Awards'!K10","v":"None"},{"$f":"'Individual Awards'!L10","v":""}]
[{"$f":"'Team Scores'!A11","v":"South Carolina"},null,{"$f":"'Team Scores'!M11","v":0},{"$f":"'Team Scores'!N11","v":0},{"$f":"'Team Scores'!O11","v":0},{"$f":"'Team Scores'!P11","v":0},null,{"$f":"'Individual Awards'!A11","v":"Bowler of the Year"},null,{"$f":"'Individual Awards'!C11","v":"F"},{"$f":"'Individual Awards'!D11","v":"15 & <"},{"$f":"'Individual Awards'!K11","v":"Cameron Strombeck (NC)"},{"$f":"'Individual Awards'!L11","v":2413}]
[null,null,null,null,null,null,null,null,null,null,{"$f":"'Individual Awards'!D12","v":"16-20"},{"$f":"'Individual Awards'!K12","v":"Breanna Clemmer (NC)"},{"$f":"'Individual Awards'!L12","v":2446}]
[{"$f":"'Team Scores'!A13","v":"Age 15 & < Boys"},null,null,null,null,null,null,null,null,{"$f":"'Individual Awards'!C13","v":"M"},{"$f":"'Individual Awards'!D13","v":"15 & <"},{"$f":"'Individual Awards'!K13","v":"Peyton Smith (GA)"},{"$f":"'Individual Awards'!L13","v":2629}]
[{"$f":"'Team Scores'!A14","v":"Georgia"},null,{"$f":"'Team Scores'!M14","v":0},{"$f":"'Team Scores'!N14","v":0},{"$f":"'Team Scores'!O14","v":0},{"$f":"'Team Scores'!P14","v":0},null,null,null,null,{"$f":"'Individual Awards'!D14","v":"16-20"},{"$f":"'Individual Awards'!K14","v":"Troy White (NC)"},{"$f":"'Individual Awards'!L14","v":2670}]
[{"$f":"'Team Scores'!A15","v":"North Carolina"},null,{"$f":"'Team Scores'!M15","v":0},{"$f":"'Team Scores'!N15","v":0},{"$f":"'Team Scores'!O15","v":0},{"$f":"'Team Scores'!P15","v":0},null,{"$f":"'Individual Awards'!A15","v":"High Total Pins This Tournament"},null,{"$f":"'Individual Awards'!C15","v":"F"},{"$f":"'Individual Awards'!D15","v":"15 & <"},{"$f":"'Individual Awards'!K15","v":"None"},{"$f":"'Individual Awards'!L15","v":""}]
[{"$f":"'Team Scores'!A16","v":"South Carolina"},null,{"$f":"'Team Scores'!M16","v":0},{"$f":"'Team Scores'!N16","v":0},{"$f":"'Team Scores'!O16","v":0},{"$f":"'Team Scores'!P16","v":0},null,null,null,null,{"$f":"'Individual Awards'!D16","v":"16-20"},{"$f":"'Individual Awards'!K16","v":"None"},{"$f":"'Individual Awards'!L16","v":""}]
[null,null,null,null,null,null,null,null,null,{"$f":"'Individual Awards'!C17","v":"M"},{"$f":"'Individual Awards'!D17","v":"15 & <"},{"$f":"'Individual Awards'!K17","v":"None"},{"$f":"'Individual Awards'!L17","v":""}]
[{"$f":"'Team Scores'!A18","v":"Age 16-20 Girls"},null,null,null,null,null,null,null,null,null,{"$f":"'Individual Awards'!D18","v":"16-20"},{"$f":"'Individual Awards'!K18","v":"None"},{"$f":"'Individual Awards'!L18","v":""}]
[{"$f":"'Team Scores'!A19","v":"Georgia"},null,{"$f":"'Team Scores'!M19","v":0},{"$f":"'Team Scores'!N19","v":0},{"$f":"'Team Scores'!O19","v":0},{"$f":"'Team Scores'!P19","v":0}]
[{"$f":"'Team Scores'!A20","v":"North Carolina"},null,{"$f":"'Team Scores'!M20","v":0},{"$f":"'Team Scores'!N20","v":0},{"$f":"'Team Scores'!O20","v":0},{"$f":"'Team Scores'!P20","v":0}]
[{"$f":"'Team Scores'!A21","v":"South Carolina"},null,{"$f":"'Team Scores'!M21","v":0},{"$f":"'Team Scores'!N21","v":0},{"$f":"'Team Scores'!O21","v":0},{"$f":"'Team Scores'!P21","v":0}]
[]
[{"$f":"'Team Scores'!A23","v":"Age 16-20 Boys"},null,null,null,null,null,null,{"$f":"'Individual Awards'!K1","v":"High Point Bowling Center, High Point, NC"}]
[{"$f":"'Team Scores'!A24","v":"Georgia"},null,{"$f":"'Team Scores'!M24","v":0},{"$f":"'Team Scores'!N24","v":0},{"$f":"'Team Scores'!O24","v":0},{"$f":"'Team Scores'!P24","v":0}]
[{"$f":"'Team Scores'!A25","v":"North Carolina"},null,{"$f":"'Team Scores'!M25","v":0},{"$f":"'Team Scores'!N25","v":0},{"$f":"'Team Scores'!O25","v":0},{"$f":"'Team Scores'!P25","v":0}]
[{"$f":"'Team Scores'!A26","v":"South Carolina"},null,{"$f":"'Team Scores'!M26","v":0},{"$f":"'Team Scores'!N26","v":0},{"$f":"'Team Scores'!O26","v":0},{"$f":"'Team Scores'!P26","v":0}]

{"sheet":"Team Scores","index":12,"n_rows":26,"n_cols":26,"rows_kept":26,"cut":false,"hidden":false,"merged":[[0,25,1,25],[0,7,0,10],[0,2,0,5],[0,17,0,22],[0,12,0,15]]}
[null,null,{"$f":"'Tournament Locations'!$B$2","v":"Gold Cup Russell Pkwy, Warner Robins, GA"},null,null,null,null,{"$f":"'Tournament Locations'!$B$3","v":"Royal Lanes, Goose Creek, SC"},null,null,null,null,{"$f":"'Tournament Locations'!$B$4","v":"High Point Bowling Center, High Point, NC"},null,null,null,null,"All Events",null,null,null,null,null,null,"Tournaments",{"$f":"MIN(C9,1)+MIN(H9,1)+MIN(M9,1)","v":2}]
[null,null,"Regulation","Baker","Total",null,null,"Regulation","Baker","Total",null,null,"Regulation","Baker","Total",null,null,"Regulation","Baker","Total",null,"Team Avg","Rank",null,"Completed"]
["All Divisions"]
["Georgia",null,{"$f":"C9+C14+C19+C24","v":41838},16240,{"$f":"D4+C4","v":58078},{"$f":"E4-MAX(E4:E6)","v":-2045},null,{"$f":"H9+H14+H19+H24","v":44467},17661,{"$f":"I4+H4","v":62128},{"$f":"J4-MAX(J4:J6)","v":-1186},null,{"$f":"M9+M14+M19+M24","v":0},0,{"$f":"N4+M4","v":0},{"$f":"O4-MAX(O4:O6)","v":0},null,{"$f":"R9+R14+R19+R24","v":86305},33901,{"$f":"S4+R4","v":120206},{"$f":"T4-MAX(T4:T6)","v":-3231},{"$f":"R4/(40*6*$Z$1)","v":179.80208333333334}]
["North Carolina",null,42856,17267,{"$f":"D5+C5","v":60123},{"$f":"E5-MAX(E4:E6)","v":0},null,45412,17902,{"$f":"I5+H5","v":63314},{"$f":"J5-MAX(J4:J6)","v":0},null,0,0,{"$f":"N5+M5","v":0},{"$f":"O5-MAX(O4:O6)","v":0},null,88268,35169,{"$f":"S5+R5","v":123437},{"$f":"T5-MAX(T4:T6)","v":0},{"$f":"R5/(40*6*$Z$1)","v":183.89166666666668}]
["South Carolina",null,41425,16496,{"$f":"D6+C6","v":57921},{"$f":"E6-MAX(E4:E6)","v":-2202},null,43056,17138,{"$f":"I6+H6","v":60194},{"$f":"J6-MAX(J4:J6)","v":-3120},null,0,0,{"$f":"N6+M6","v":0},{"$f":"O6-MAX(O4:O6)","v":0},null,84481,33634,{"$f":"S6+R6","v":118115},{"$f":"T6-MAX(T4:T6)","v":-5322},{"$f":"R6/(40*6*$Z$1)","v":176.00208333333333}]
[]
["Age 15 & < Girls"]
["Georgia",null,{"$f":"Scores!S20","v":9220},{"$f":"'Baker Scores'!$Q$3","v":3974},{"$f":"D9+C9","v":13194},{"$f":"E9-MAX(E9:E11)","v":-839},null,{"$f":"Scores!$S$272","v":10025},{"$f":"'Baker Scores'!$Q$41","v":4134},{"$f":"I9+H9","v":14159},{"$f":"J9-MAX(J9:J11)","v":-131},null,{"$f":"Scores!$S$524","v":0},{"$f":"'Baker Scores'!$Q$79","v":0},{"$f":"N9+M9","v":0},{"$f":"O9-MAX(O9:O11)","v":0},null,{"$f":"M9+H9+C9","v":19245},{"$f":"N9+I9+D9","v":8108},{"$f":"O9+J9+E9","v":27353},{"$f":"T9-MAX(T9:T11)","v":-970},{"$f":"R9/(10*6*$Z$1)","v":160.375},{"$f":"RANK(V9,V$8:V$26,0)","v":12}]
["North Carolina",null,{"$f":"Scores!S104","v":10036},{"$f":"'Baker Scores'!$Q$15","v":3997},{"$f":"D10+C10","v":14033},{"$f":"E10-MAX(E9:E11)","v":0},null,{"$f":"Scores!$S$356","v":10253},{"$f":"'Baker Scores'!$Q$53","v":4037},{"$f":"I10+H10","v":14290},{"$f":"J10-MAX(J9:J11)","v":0},null,{"$f":"Scores!$S$608","v":0},{"$f":"'Baker Scores'!$Q$91","v":0},{"$f":"N10+M10","v":0},{"$f":"O10-MAX(O9:O11)","v":0},null,{"$f":"M10+H10+C10","v":20289},8034,28323,{"$f":"T10-MAX(T9:T11)","v":0},{"$f":"R10/(10*6*$Z$1)","v":169.07499999999999},{"$f":"RANK(V10,V$8:V$26,0)","v":10}]
["South Carolina",null,{"$f":"Scores!S188","v":9806},{"$f":"'Baker Scores'!$Q$27","v":3747},{"$f":"D11+C11","v":13553},{"$f":"E11-MAX(E9:E11)","v":-480},null,{"$f":"Scores!$S$440","v":9715},{"$f":"'Baker Scores'!$Q$65","v":4000},{"$f":"I11+H11","v":13715},{"$f":"J11-MAX(J9:J11)","v":-575},null,{"$f":"Scores!$S$692","v":0},{"$f":"'Baker Scores'!$Q$103","v":0},{"$f":"N11+M11","v":0},{"$f":"O11-MAX(O9:O11)","v":0},null,{"$f":"M11+H11+C11","v":19521},7747,27268,{"$f":"T11-MAX(T9:T11)","v":-1055},{"$f":"R11/(10*6*$Z$1)","v":162.67500000000001},{"$f":"RANK(V11,V$8:V$26,0)","v":11}]
[]
["Age 15 & < Boys"]
["Georgia",null,{"$f":"Scores!S41","v":10378},{"$f":"'Baker Scores'!$Q$6","v":4100},{"$f":"D14+C14","v":14478},{"$f":"E14-MAX(E14:E16)","v":-437},null,{"$f":"Scores!$S$293","v":11359},{"$f":"'Baker Scores'!$Q$44","v":4424},{"$f":"I14+H14","v":15783},{"$f":"J14-MAX(J14:J16)","v":-472},null,{"$f":"Scores!$S$545","v":0},{"$f":"'Baker Scores'!$Q$82","v":0},{"$f":"N14+M14","v":0},{"$f":"O14-MAX(O14:O16)","v":0},null,{"$f":"M14+H14+C14","v":21737},{"$f":"N14+I14+D14","v":8524},{"$f":"O14+J14+E14","v":30261},{"$f":"T14-MAX(T14:T16)","v":-909},{"$f":"R14/(10*6*$Z$1)","v":181.14166666666668},{"$f":"RANK(V14,V$8:V$26,0)","v":6}]
["North Carolina",null,{"$f":"Scores!S125","v":10452},{"$f":"'Baker Scores'!$Q$18","v":4463},{"$f":"D15+C15","v":14915},{"$f":"E15-MAX(E14:E16)","v":0},null,{"$f":"Scores!$S$377","v":11612},{"$f":"'Baker Scores'!$Q$56","v":4643},{"$f":"I15+H15","v":16255},{"$f":"J15-MAX(J14:J16)","v":0},null,{"$f":"Scores!$S$629","v":0},{"$f":"'Baker Scores'!$Q$94","v":0},{"$f":"N15+M15","v":0},{"$f":"O15-MAX(O14:O16)","v":0},null,{"$f":"M15+H15+C15","v":22064},9106,{"$f":"O15+J15+E15","v":31170},{"$f":"T15-MAX(T14:T16)","v":0},{"$f":"R15/(10*6*$Z$1)","v":183.86666666666667},{"$f":"RANK(V15,V$8:V$26,0)","v":5}]
["South Carolina",null,{"$f":"Scores!S209","v":10597},{"$f":"'Baker Scores'!$Q$30","v":4269},{"$f":"D16+C16","v":14866},{"$f":"E16-MAX(E14:E16)","v":-49},null,{"$f":"Scores!$S$461","v":11487},{"$f":"'Baker Scores'!$Q$68","v":4554},{"$f":"I16+H16","v":16041},{"$f":"J16-MAX(J14:J16)","v":-214},null,{"$f":"Scores!$S$713","v":0},{"$f":"'Baker Scores'!$Q$106","v":0},{"$f":"N16+M16","v":0},{"$f":"O16-MAX(O14:O16)","v":0},null,{"$f":"M16+H16+C16","v":22084},8823,30907,{"$f":"T16-MAX(T14:T16)","v":-263},{"$f":"R16/(10*6*$Z$1)","v":184.03333333333333},{"$f":"RANK(V16,V$8:V$26,0)","v":4}]
[]
["Age 16-20 Girls"]
["Georgia",null,{"$f":"Scores!S62","v":10618},{"$f":"'Baker Scores'!$Q$9","v":4008},{"$f":"D19+C19","v":14626},{"$f":"E19-MAX(E19:E21)","v":0},null,{"$f":"Scores!$S$314","v":10535},{"$f":"'Baker Scores'!$Q$47","v":4018},{"$f":"I19+H19","v":14553},{"$f":"J19-MAX(J19:J21)","v":-358},null,{"$f":"Scores!$S$566","v":0},{"$f":"'Baker Scores'!$Q$85","v":0},{"$f":"N19+M19","v":0},{"$f":"O19-MAX(O19:O21)","v":0},null,{"$f":"M19+H19+C19","v":21153},{"$f":"N19+I19+D19","v":8026},29179,{"$f":"T19-MAX(T19:T21)","v":-259},{"$f":"R19/(10*6*$Z$1)","v":176.27500000000001},{"$f":"RANK(V19,V$8:V$26,0)","v":8}]
["North Carolina",null,{"$f":"Scores!S146","v":10471},{"$f":"'Baker Scores'!$Q$21","v":4056},{"$f":"D20+C20","v":14527},{"$f":"E20-MAX(E19:E21)","v":-99},null,{"$f":"Scores!$S$398","v":10755},{"$f":"'Baker Scores'!$Q$59","v":4156},{"$f":"I20+H20","v":14911},{"$f":"J20-MAX(J19:J21)","v":0},null,{"$f":"Scores!$S$650","v":0},{"$f":"'Baker Scores'!$Q$97","v":0},{"$f":"N20+M20","v":0},{"$f":"O20-MAX(O19:O21)","v":0},null,{"$f":"M20+H20+C20","v":21226},8212,29438,{"$f":"T20-MAX(T19:T21)","v":0},{"$f":"R20/(10*6*$Z$1)","v":176.88333333333333},{"$f":"RANK(V20,V$8:V$26,0)","v":7}]
["South Carolina",null,{"$f":"Scores!S230","v":9963},{"$f":"'Baker Scores'!$Q$33","v":3984},{"$f":"D21+C21","v":13947},{"$f":"E21-MAX(E19:E21)","v":-679},null,{"$f":"Scores!$S$482","v":10758},{"$f":"'Baker Scores'!$Q$71","v":3996},{"$f":"I21+H21","v":14754},{"$f":"J21-MAX(J19:J21)","v":-157},null,{"$f":"Scores!$S$734","v":0},{"$f":"'Baker Scores'!$Q$109","v":0},{"$f":"N21+M21","v":0},{"$f":"O21-MAX(O19:O21)","v":0},null,{"$f":"M21+H21+C21","v":20721},7980,28701,{"$f":"T21-MAX(T19:T21)","v":-737},{"$f":"R21/(10*6*$Z$1)","v":172.67500000000001},{"$f":"RANK(V21,V$8:V$26,0)","v":9}]
[]
["Age 16-20 Boys"]
["Georgia",null,{"$f":"Scores!$S$83","v":11622},{"$f":"'Baker Scores'!$Q$12","v":4158},{"$f":"D24+C24","v":15780},{"$f":"E24-MAX(E24:E26)","v":-868},null,{"$f":"Scores!$S$335","v":12548},{"$f":"'Baker Scores'!$Q$50","v":5085},{"$f":"I24+H24","v":17633},{"$f":"J24-MAX(J24:J26)","v":-225},null,{"$f":"Scores!$S$587","v":0},{"$f":"'Baker Scores'!$Q$88","v":0},{"$f":"N24+M24","v":0},{"$f":"O24-MAX(O24:O26)","v":0},null,{"$f":"M24+H24+C24","v":24170},{"$f":"N24+I24+D24","v":9243},33413,{"$f":"T24-MAX(T24:T26)","v":-1093},{"$f":"R24/(10*6*$Z$1)","v":201.41666666666666},{"$f":"RANK(V24,V$8:V$26,0)","v":2}]
["North Carolina",null,{"$f":"Scores!$S$167","v":11897},{"$f":"'Baker Scores'!$Q$24","v":4751},{"$f":"D25+C25","v":16648},{"$f":"E25-MAX(E24:E26)","v":0},null,{"$f":"Scores!$S$419","v":12792},{"$f":"'Baker Scores'!$Q$62","v":5066},{"$f":"I25+H25","v":17858},{"$f":"J25-MAX(J24:J26)","v":0},null,{"$f":"Scores!$S$671","v":0},{"$f":"'Baker Scores'!$Q$100","v":0},{"$f":"N25+M25","v":0},{"$f":"O25-MAX(O24:O26)","v":0},null,{"$f":"M25+H25+C25","v":24689},9817,34506,{"$f":"T25-MAX(T24:T26)","v":0},{"$f":"R25/(10*6*$Z$1)","v":205.74166666666667},{"$f":"RANK(V25,V$8:V$26,0)","v":1}]
["South Carolina",null,{"$f":"Scores!$S$251","v":11059},{"$f":"'Baker Scores'!$Q$36","v":4496},{"$f":"D26+C26","v":15555},{"$f":"E26-MAX(E24:E26)","v":-1093},null,{"$f":"Scores!$S$503","v":11096},{"$f":"'Baker Scores'!$Q$74","v":4588},{"$f":"I26+H26","v":15684},{"$f":"J26-MAX(J24:J26)","v":-2174},null,{"$f":"Scores!$S$755","v":0},{"$f":"'Baker Scores'!$Q$112","v":0},{"$f":"N26+M26","v":0},{"$f":"O26-MAX(O24:O26)","v":0},null,{"$f":"M26+H26+C26","v":22155},9084,31239,{"$f":"T26-MAX(T24:T26)","v":-3267},{"$f":"R26/(10*6*$Z$1)","v":184.625},{"$f":"RANK(V26,V$8:V$26,0)","v":3}]

{"sheet":"Individual Awards","index":13,"n_rows":63,"n_cols":15,"rows_kept":63,"cut":false,"hidden":false,"merged":[[36,0,39,1],[36,2,37,2],[38,2,39,2],[14,0,17,1],[10,0,13,1],[21,0,24,1],[19,0,19,3],[21,2,22,2],[23,2,24,2],[16,2,17,2],[14,2,15,2],[19,10,19,11],[34,0,34,3],[34,4,34,5],[34,7,34,8],[34,10,34,11],[31,2,32,2],[25,0,28,1],[29,2,30,2],[29,0,32,1],[25,2,26,2],[27,2,28,2],[19,7,19,8],[19,4,19,5],[40,0,43,1],[40,2,41,2],[42,2,43,2],[44,0,47,1],[44,2,45,2],[46,2,47,2],[59,0,62,1],[59,2,60,2],[61,2,62,2],[19,13,19,14],[34,13,34,14],[49,0,49,3],[49,4,49,5],[49,7,49,8],[49,10,49,11],[49,13,49,14],[51,0,54,1],[51,2,52,2],[53,2,54,2],[55,0,58,1],[55,2,56,2],[57,2,58,2],[0,13,0,14],[10,2,11,2],[12,2,13,2],[2,0,5,1],[2,2,3,2],[4,2,5,2],[0,10,0,11],[0,0,0,3],[6,0,9,1],[6,2,7,2],[0,7,0,8],[0,4,0,5],[8,2,9,2]]}
[null,null,null,null,{"$f":"'Tournament Locations'!$B$2","v":"Gold Cup Russell Pkwy, Warner Robins, GA"},null,null,{"$f":"'Tournament Locations'!$B$3","v":"Royal Lanes, Goose Creek, SC"},null,null,{"$f":"'Tournament Locations'!$B$4","v":"High Point Bowling Center, High Point, NC"},null,null,"All Events"]
["Individual High Scores -- Tournament",null,null,null,"Name","Score",null,"Name","Score",null,"Name","Score",null,"Name","Score"]
["High Game",null,"F","15 & <",{"$f":"'Individual Awards Computations'!P12","v":"Danielle Lane (SC)"},{"$f":"'Individual Awards Computations'!O11","v":236},null,{"$f":"'Individual Awards Computations'!AG12","v":"Hailey Wall (NC)"},{"$f":"'Individual Awards Computations'!AF11","v":238},null,{"$f":"'Individual Awards Computations'!AX12","v":"None"},{"$f":"'Individual Awards Computations'!AW11","v":""},null,{"$f":"'Individual Awards Computations'!BJ12","v":"Hailey Wall (NC)"},{"$f":"'Individual Awards Computations'!BI11","v":238}]
[null,null,null,"16-20",{"$f":"'Individual Awards Computations'!P38","v":"Breanna Clemmer (NC)"},{"$f":"'Individual Awards Computations'!O37","v":268},null,{"$f":"'Individual Awards Computations'!AG38","v":"Crystal Fox (GA)"},{"$f":"'Individual Awards Computations'!AF37","v":257},null,{"$f":"'Individual Awards Computations'!AX38","v":"None"},{"$f":"'Individual Awards Computations'!AW37","v":""},null,{"$f":"'Individual Awards Computations'!BJ38","v":"Kasey Smith (SC)"},{"$f":"'Individual Awards Computations'!BI37","v":279}]
[null,null,"M",{"$f":"D3","v":"15 & <"},{"$f":"'Individual Awards Computations'!P25","v":"Brandon Magennis (SC)"},{"$f":"'Individual Awards Computations'!O24","v":265},null,{"$f":"'Individual Awards Computations'!AG25","v":"Jacob Bloomfield  (NC)"},{"$f":"'Individual Awards Computations'!AF24","v":257},null,{"$f":"'Individual Awards Computations'!AX25","v":"None"},{"$f":"'Individual Awards Computations'!AW24","v":""},null,{"$f":"'Individual Awards Computations'!BJ25","v":"Brandon Magennis (SC)"},{"$f":"'Individual Awards Computations'!BI24","v":265}]
[null,null,null,{"$f":"D4","v":"16-20"},{"$f":"'Individual Awards Computations'!P51","v":"TIE"},{"$f":"'Individual Awards Computations'!O50","v":268},null,{"$f":"'Individual Awards Computations'!AG51","v":"TIE"},{"$f":"'Individual Awards Computations'!AF50","v":279},null,{"$f":"'Individual Awards Computations'!AX51","v":"None"},{"$f":"'Individual Awards Computations'!AW50","v":""},null,{"$f":"'Individual Awards Computations'!BJ51","v":"Christian Gurney (SC)"},{"$f":"'Individual Awards Computations'!BI50","v":299}]
["High Series",null,"F",{"$f":"D5","v":"15 & <"},{"$f":"'Individual Awards Computations'!E12","v":"Cameron Strombeck (NC)"},{"$f":"'Individual Awards Computations'!D11","v":646},null,{"$f":"'Individual Awards Computations'!V12","v":"Cameron Strombeck (NC)"},{"$f":"'Individual Awards Computations'!U11","v":668},null,{"$f":"'Individual Awards Computations'!AM12","v":"None"},{"$f":"'Individual Awards Computations'!AL11","v":""},null,{"$f":"'Individual Awards Computations'!BD12","v":"Cameron Strombeck (NC)"},{"$f":"'Individual Awards Computations'!BC11","v":668}]
[null,null,null,"16-20",{"$f":"'Individual Awards Computations'!E38","v":"Kasey Smith (SC)"},{"$f":"'Individual Awards Computations'!D37","v":656},null,{"$f":"'Individual Awards Computations'!V38","v":"Madysen Keller (NC)"},{"$f":"'Individual Awards Computations'!U37","v":678},null,{"$f":"'Individual Awards Computations'!AM38","v":"None"},{"$f":"'Individual Awards Computations'!AL37","v":""},null,{"$f":"'Individual Awards Computations'!BD38","v":"Madysen Keller (NC)"},{"$f":"'Individual Awards Computations'!BC37","v":678}]
[null,null,"M",{"$f":"D7","v":"15 & <"},{"$f":"'Individual Awards Computations'!E25","v":"Peyton Smith (GA)"},{"$f":"'Individual Awards Computations'!D24","v":723},null,{"$f":"'Individual Awards Computations'!V25","v":"Chad Severt (NC)"},{"$f":"'Individual Awards Computations'!U24","v":703},null,{"$f":"'Individual Awards Computations'!AM25","v":"None"},{"$f":"'Individual Awards Computations'!AL24","v":""},null,{"$f":"'Individual Awards Computations'!BD25","v":"Peyton Smith (GA)"},{"$f":"'Individual Awards Computations'!BC24","v":723}]
[null,null,null,"16-20",{"$f":"'Individual Awards Computations'!E51","v":"Christian Gurney (SC)"},{"$f":"'Individual Awards Computations'!D50","v":686},null,{"$f":"'Individual Awards Computations'!V51","v":"Troy White (NC)"},{"$f":"'Individual Awards Computations'!U50","v":801},null,{"$f":"'Individual Awards Computations'!AM51","v":"None"},{"$f":"'Individual Awards Computations'!AL50","v":""},null,{"$f":"'Individual Awards Computations'!BD51","v":"Troy White (NC)"},{"$f":"'Individual Awards Computations'!BC50","v":801}]
["Bowler of the Year",null,"F",{"$f":"D9","v":"15 & <"},{"$f":"N11","v":"Cameron Strombeck (NC)"},2413,null,{"$f":"N11","v":"Cameron Strombeck (NC)"},2413,null,{"$f":"N11","v":"Cameron Strombeck (NC)"},2413,null,{"$f":"'Individual Awards Computations'!BP12","v":"Cameron Strombeck (NC)"},{"$f":"'Individual Awards Computations'!BO11","v":2413}]
[null,null,null,"16-20","Breanna Clemmer (NC)",2446,null,"Breanna Clemmer (NC)",2446,null,"Breanna Clemmer (NC)",2446,null,{"$f":"'Individual Awards Computations'!BP38","v":"Breanna Clemmer (NC)"},{"$f":"'Individual Awards Computations'!BO37","v":2446}]
[null,null,"M",{"$f":"D11","v":"15 & <"},"Peyton Smith (GA)",2629,null,"Peyton Smith (GA)",2629,null,"Peyton Smith (GA)",2629,null,{"$f":"'Individual Awards Computations'!BP25","v":"Peyton Smith (GA)"},{"$f":"'Individual Awards Computations'!BO24","v":2629}]
[null,null,null,"16-20","Troy White (NC)",2670,null,"Troy White (NC)",2670,null,"Troy White (NC)",2670,null,{"$f":"'Individual Awards Computations'!BP51","v":"Troy White (NC)"},{"$f":"'Individual Awards Computations'!BO50","v":2670}]
["High Total Pins This Tournament",null,"F",{"$f":"D13","v":"15 & <"},{"$f":"'Individual Awards Computations'!J12","v":"Cameron Strombeck (NC)"},{"$f":"'Individual Awards Computations'!I11","v":1253},null,{"$f":"'Individual Awards Computations'!AA12","v":"Danielle Lane (SC)"},{"$f":"'Individual Awards Computations'!Z11","v":1188},null,{"$f":"'Individual Awards Computations'!AR12","v":"None"},{"$f":"'Individual Awards Computations'!AQ11","v":""}]
[null,null,null,"16-20",{"$f":"'Individual Awards Computations'!J38","v":"Breanna Clemmer (NC)"},{"$f":"'Individual Awards Computations'!I37","v":1208},null,{"$f":"'Individual Awards Computations'!AA38","v":"Breanna Clemmer (NC)"},{"$f":"'Individual Awards Computations'!Z37","v":1238},null,{"$f":"'Individual Awards Computations'!AR38","v":"None"},{"$f":"'Individual Awards Computations'!AQ37","v":""}]
[null,null,"M",{"$f":"D15","v":"15 & <"},{"$f":"'Individual Awards Computations'!J25","v":"Peyton Smith (GA)"},{"$f":"'Individual Awards Computations'!I24","v":1341},null,{"$f":"'Individual Awards Computations'!AA25","v":"Chad Severt (NC)"},{"$f":"'Individual Awards Computations'!Z24","v":1289},null,{"$f":"'Individual Awards Computations'!AR25","v":"None"},{"$f":"'Individual Awards Computations'!AQ24","v":""}]
[null,null,null,"16-20",{"$f":"'Individual Awards Computations'!J51","v":"Josh Rondino (GA)"},{"$f":"'Individual Awards Computations'!I50","v":1295},null,{"$f":"'Individual Awards Computations'!AA51","v":"Troy White (NC)"},{"$f":"'Individual Awards Computations'!Z50","v":1532},null,{"$f":"'Individual Awards Computations'!AR51","v":"None"},{"$f":"'Individual Awards Computations'!AQ50","v":""}]
[]
[null,null,null,null,{"$f":"E1","v":"Gold Cup Russell Pkwy, Warner Robins, GA"},null,null,{"$f":"H1","v":"Royal Lanes, Goose Creek, SC"},null,null,{"$f":"K1","v":"High Point Bowling Center, High Point, NC"},null,null,{"$f":"N1","v":"All Events"}]
["Individual High Scores -- GA",null,null,null,"Name","Score",null,"Name","Score",null,"Name","Score",null,"Name","Score"]
["High Game",null,"F",{"$f":"D$3","v":"15 & <"},{"$f":"'Individual Awards Computations'!P3","v":"Gabriela Ramkhelawan (GA)"},{"$f":"'Individual Awards Computations'!O2","v":212},null,{"$f":"'Individual Awards Computations'!AG3","v":"Mikala Higgins (GA)"},{"$f":"'Individual Awards Computations'!AF2","v":221},null,{"$f":"'Individual Awards Computations'!AX3","v":"None"},{"$f":"'Individual Awards Computations'!AW2","v":""},null,{"$f":"'Individual Awards Computations'!BJ3","v":"TIE"},{"$f":"'Individual Awards Computations'!BI2","v":216}]
[null,null,null,{"$f":"D$4","v":"16-20"},{"$f":"'Individual Awards Computations'!P29","v":"Crystal Fox (GA)"},{"$f":"'Individual Awards Computations'!O28","v":245},null,{"$f":"'Individual Awards Computations'!AG29","v":"Makayla Spears (GA)"},{"$f":"'Individual Awards Computations'!AF28","v":223},null,{"$f":"'Individual Awards Computations'!AX29","v":"None"},{"$f":"'Individual Awards Computations'!AW28","v":""},null,{"$f":"'Individual Awards Computations'!BJ29","v":"Nia McConico (GA)"},{"$f":"'Individual Awards Computations'!BI28","v":225}]
[null,null,"M",{"$f":"D22","v":"15 & <"},{"$f":"'Individual Awards Computations'!P16","v":"Sean Espey (GA)"},{"$f":"'Individual Awards Computations'!O15","v":245},null,{"$f":"'Individual Awards Computations'!AG16","v":"Paris Swinson (GA)"},{"$f":"'Individual Awards Computations'!AF15","v":246},null,{"$f":"'Individual Awards Computations'!AX16","v":"None"},{"$f":"'Individual Awards Computations'!AW15","v":""},null,{"$f":"'Individual Awards Computations'!BJ16","v":"Paris Swinson (GA)"},{"$f":"'Individual Awards Computations'!BI15","v":246}]
[null,null,null,{"$f":"D23","v":"16-20"},{"$f":"'Individual Awards Computations'!P42","v":"Demetrius Wilcox (GA)"},{"$f":"'Individual Awards Computations'!O41","v":268},null,{"$f":"'Individual Awards Computations'!AG42","v":"Josh Rondino (GA)"},{"$f":"'Individual Awards Computations'!AF41","v":259},null,{"$f":"'Individual Awards Computations'!AX42","v":"None"},{"$f":"'Individual Awards Computations'!AW41","v":""},null,{"$f":"'Individual Awards Computations'!BJ42","v":"Demetrius Wilcox (GA)"},{"$f":"'Individual Awards Computations'!BI41","v":268}]
["High Series",null,"F",{"$f":"D7","v":"15 & <"},{"$f":"'Individual Awards Computations'!E3","v":"Mikala Higgins (GA)"},{"$f":"'Individual Awards Computations'!D2","v":612},null,{"$f":"'Individual Awards Computations'!V3","v":"Annalise O'Bryant (GA)"},{"$f":"'Individual Awards Computations'!U2","v":576},null,{"$f":"'Individual Awards Computations'!AM3","v":"None"},{"$f":"'Individual Awards Computations'!AL2","v":""},null,{"$f":"'Individual Awards Computations'!BD3","v":"Mikala Higgins (GA)"},{"$f":"'Individual Awards Computations'!BC2","v":612}]
[null,null,null,{"$f":"D8","v":"16-20"},{"$f":"'Individual Awards Computations'!E29","v":"Amber Beene (GA)"},{"$f":"'Individual Awards Computations'!D28","v":604},null,{"$f":"'Individual Awards Computations'!V29","v":"Crystal Fox (GA)"},{"$f":"'Individual Awards Computations'!U28","v":606},null,{"$f":"'Individual Awards Computations'!AM29","v":"None"},{"$f":"'Individual Awards Computations'!AL28","v":""},null,{"$f":"'Individual Awards Computations'!BD29","v":"Crystal Fox (GA)"},{"$f":"'Individual Awards Computations'!BC28","v":606}]
[null,null,"M",{"$f":"D9","v":"15 & <"},{"$f":"'Individual Awards Computations'!E16","v":"Peyton Smith (GA)"},{"$f":"'Individual Awards Computations'!D15","v":723},null,{"$f":"'Individual Awards Computations'!V16","v":"Peyton Smith (GA)"},{"$f":"'Individual Awards Computations'!U15","v":679},null,{"$f":"'Individual Awards Computations'!AM16","v":"None"},{"$f":"'Individual Awards Computations'!AL15","v":""},null,{"$f":"'Individual Awards Computations'!BD16","v":"Peyton Smith (GA)"},{"$f":"'Individual Awards Computations'!BC15","v":723}]
[null,null,null,"16-20",{"$f":"'Individual Awards Computations'!E42","v":"Josh Rondino (GA)"},{"$f":"'Individual Awards Computations'!D41","v":662},null,{"$f":"'Individual Awards Computations'!V42","v":"Matthew Lovell (GA)"},{"$f":"'Individual Awards Computations'!U41","v":717},null,{"$f":"'Individual Awards Computations'!AM42","v":"None"},{"$f":"'Individual Awards Computations'!AL41","v":""},null,{"$f":"'Individual Awards Computations'!BD42","v":"Matthew Lovell (GA)"},{"$f":"'Individual Awards Computations'!BC41","v":717}]
["High Total Pins",null,"F",{"$f":"D11","v":"15 & <"},{"$f":"'Individual Awards Computations'!J3","v":"Mikala Higgins (GA)"},{"$f":"'Individual Awards Computations'!I2","v":1075},null,{"$f":"'Individual Awards Computations'!AA3","v":"Annalise O'Bryant (GA)"},{"$f":"'Individual Awards Computations'!Z2","v":1136},null,{"$f":"'Individual Awards Computations'!AR3","v":"None"},{"$f":"'Individual Awards Computations'!AQ2","v":""},null,{"$f":"'Individual Awards Computations'!BP3","v":"Mikala Higgins (GA)"},{"$f":"'Individual Awards Computations'!BO2","v":2191}]
[null,null,null,"16-20",{"$f":"'Individual Awards Computations'!J29","v":"Crystal Fox (GA)"},{"$f":"'Individual Awards Computations'!I28","v":1164},null,{"$f":"'Individual Awards Computations'!AA29","v":"Amber Beene (GA)"},{"$f":"'Individual Awards Computations'!Z28","v":1110},null,{"$f":"'Individual Awards Computations'!AR29","v":"None"},{"$f":"'Individual Awards Computations'!AQ28","v":""},null,{"$f":"'Individual Awards Computations'!BP29","v":"Amber Beene (GA)"},{"$f":"'Individual Awards Computations'!BO28","v":2263}]
[null,null,"M",{"$f":"D13","v":"15 & <"},{"$f":"'Individual Awards Computations'!J16","v":"Peyton Smith (GA)"},{"$f":"'Individual Awards Computations'!I15","v":1341},null,{"$f":"'Individual Awards Computations'!AA16","v":"Peyton Smith (GA)"},{"$f":"'Individual Awards Computations'!Z15","v":1288},null,{"$f":"'Individual Awards Computations'!AR16","v":"None"},{"$f":"'Individual Awards Computations'!AQ15","v":""},null,{"$f":"'Individual Awards Computations'!BP16","v":"Peyton Smith (GA)"},{"$f":"'Individual Awards Computations'!BO15","v":2629}]
[null,null,null,"16-20",{"$f":"'Individual Awards Computations'!J42","v":"Josh Rondino (GA)"},{"$f":"'Individual Awards Computations'!I41","v":1295},null,{"$f":"'Individual Awards Computations'!AA42","v":"Casey Lambert (GA)"},{"$f":"'Individual Awards Computations'!Z41","v":1371},null,{"$f":"'Individual Awards Computations'!AR42","v":"None"},{"$f":"'Individual Awards Computations'!AQ41","v":""},null,{"$f":"'Individual Awards Computations'!BP42","v":"Casey Lambert (GA)"},{"$f":"'Individual Awards Computations'!BO41","v":2620}]
[]
[null,null,null,null,{"$f":"E1","v":"Gold Cup Russell Pkwy, Warner Robins, GA"},null,null,{"$f":"H1","v":"Royal Lanes, Goose Creek, SC"},null,null,{"$f":"K1","v":"High Point Bowling Center, High Point, NC"},null,null,{"$f":"N1","v":"All Events"}]
["Individual High Scores -- NC",null,null,null,"Name","Score",null,"Name","Score",null,"Name","Score",null,"Name","Score"]
["High Game",null,"F",{"$f":"D$3","v":"15 & <"},{"$f":"'Individual Awards Computations'!P6","v":"Maranda Marcum (NC)"},{"$f":"'Individual Awards Computations'!O5","v":201},null,{"$f":"'Individual Awards Computations'!AG6","v":"Hailey Wall (NC)"},{"$f":"'Individual Awards Computations'!AF5","v":238},null,{"$f":"'Individual Awards Computations'!AX6","v":"None"},{"$f":"'Individual Awards Computations'!AW5","v":""},null,{"$f":"'Individual Awards Computations'!BJ6","v":"Hailey Wall (NC)"},{"$f":"'Individual Awards Computations'!BI5","v":238}]
[null,null,null,{"$f":"D$4","v":"16-20"},{"$f":"'Individual Awards Computations'!$P$31","v":"Brandi Barefoot"},{"$f":"'Individual Awards Computations'!O31","v":233},null,{"$f":"'Individual Awards Computations'!AG32","v":"Rachel Parsons (NC)"},{"$f":"'Individual Awards Computations'!AF31","v":249},null,{"$f":"'Individual Awards Computations'!AX32","v":"None"},{"$f":"'Individual Awards Computations'!AW31","v":""},null,{"$f":"'Individual Awards Computations'!BJ32","v":"Breanna Clemmer (NC)"},{"$f":"'Individual Awards Computations'!BI31","v":268}]
[null,null,"M",{"$f":"D37","v":"15 & <"},{"$f":"'Individual Awards Computations'!P19","v":"TIE"},{"$f":"'Individual Awards Computations'!O18","v":245},null,{"$f":"'Individual Awards Computations'!AG19","v":"Jacob Bloomfield  (NC)"},{"$f":"'Individual Awards Computations'!AF18","v":257},null,{"$f":"'Individual Awards Computations'!AX19","v":"None"},{"$f":"'Individual Awards Computations'!AW18","v":""},null,{"$f":"'Individual Awards Computations'!BJ19","v":"Jacob Bloomfield  (NC)"},{"$f":"'Individual Awards Computations'!BI18","v":257}]
[null,null,null,{"$f":"D38","v":"16-20"},{"$f":"'Individual Awards Computations'!P45","v":"Zac Ludwig (NC)"},{"$f":"'Individual Awards Computations'!O44","v":268},null,{"$f":"'Individual Awards Computations'!AG45","v":"TIE"},{"$f":"'Individual Awards Computations'!AF44","v":279},null,{"$f":"'Individual Awards Computations'!AX45","v":"None"},{"$f":"'Individual Awards Computations'!AW44","v":""},null,{"$f":"'Individual Awards Computations'!BJ45","v":"TIE"},{"$f":"'Individual Awards Computations'!BI44","v":279}]
["High Series",null,"F",{"$f":"D22","v":"15 & <"},{"$f":"'Individual Awards Computations'!E6","v":"Cameron Strombeck (NC)"},{"$f":"'Individual Awards Computations'!D5","v":646},null,{"$f":"'Individual Awards Computations'!V6","v":"Cameron Strombeck (NC)"},{"$f":"'Individual Awards Computations'!U5","v":668},null,{"$f":"'Individual Awards Computations'!AM6","v":"None"},{"$f":"'Individual Awards Computations'!AL5","v":""},null,{"$f":"'Individual Awards Computations'!BD6","v":"Cameron Strombeck (NC)"},{"$f":"'Individual Awards Computations'!BC5","v":668}]
[null,null,null,{"$f":"D23","v":"16-20"},{"$f":"'Individual Awards Computations'!E32","v":"Breanna Clemmer (NC)"},{"$f":"'Individual Awards Computations'!D31","v":640},null,{"$f":"'Individual Awards Computations'!V32","v":"Madysen Keller (NC)"},{"$f":"'Individual Awards Computations'!U31","v":678},null,{"$f":"'Individual Awards Computations'!AM32","v":"None"},{"$f":"'Individual Awards Computations'!AL31","v":""},null,{"$f":"'Individual Awards Computations'!BD32","v":"Madysen Keller (NC)"},{"$f":"'Individual Awards Computations'!BC31","v":678}]
[null,null,"M",{"$f":"D24","v":"15 & <"},{"$f":"'Individual Awards Computations'!E19","v":"Spencer Gutowsky (NC)"},{"$f":"'Individual Awards Computations'!D18","v":652},null,{"$f":"'Individual Awards Computations'!V19","v":"Chad Severt (NC)"},{"$f":"'Individual Awards Computations'!U18","v":703},null,{"$f":"'Individual Awards Computations'!AM19","v":"None"},{"$f":"'Individual Awards Computations'!AL18","v":""},null,{"$f":"'Individual Awards Computations'!BD19","v":"Chad Severt (NC)"},{"$f":"'Individual Awards Computations'!BC18","v":703}]
[null,null,null,"16-20",{"$f":"'Individual Awards Computations'!E45","v":"Jay Hargrove (NC)"},{"$f":"'Individual Awards Computations'!D44","v":681},null,{"$f":"'Individual Awards Computations'!V45","v":"Troy White (NC)"},{"$f":"'Individual Awards Computations'!U44","v":801},null,{"$f":"'Individual Awards Computations'!AM45","v":"None"},{"$f":"'Individual Awards Computations'!AL44","v":""},null,{"$f":"'Individual Awards Computations'!BD45","v":"Troy White (NC)"},{"$f":"'Individual Awards Computations'!BC44","v":801}]
["High Total Pins",null,"F",{"$f":"D26","v":"15 & <"},{"$f":"'Individual Awards Computations'!J6","v":"Cameron Strombeck (NC)"},{"$f":"'Individual Awards Computations'!I5","v":1253},null,{"$f":"'Individual Awards Computations'!AA6","v":"Cameron Strombeck (NC)"},{"$f":"'Individual Awards Computations'!Z5","v":1160},null,{"$f":"'Individual Awards Computations'!AR6","v":"None"},{"$f":"'Individual Awards Computations'!AQ5","v":""},null,{"$f":"'Individual Awards Computations'!BP6","v":"Cameron Strombeck (NC)"},{"$f":"'Individual Awards Computations'!BO5","v":2413}]
[null,null,null,"16-20",{"$f":"'Individual Awards Computations'!J32","v":"Breanna Clemmer (NC)"},{"$f":"'Individual Awards Computations'!I31","v":1208},null,{"$f":"'Individual Awards Computations'!AA32","v":"Breanna Clemmer (NC)"},{"$f":"'Individual Awards Computations'!Z31","v":1238},null,{"$f":"'Individual Awards Computations'!AR32","v":"None"},{"$f":"'Individual Awards Computations'!AQ31","v":""},null,{"$f":"'Individual Awards Computations'!BP32","v":"Breanna Clemmer (NC)"},{"$f":"'Individual Awards Computations'!BO31","v":2446}]
[null,null,"M",{"$f":"D28","v":"15 & <"},{"$f":"'Individual Awards Computations'!J19","v":"Spencer Gutowsky (NC)"},{"$f":"'Individual Awards Computations'!I18","v":1254},null,{"$f":"'Individual Awards Computations'!AA19","v":"Chad Severt (NC)"},{"$f":"'Individual Awards Computations'!Z18","v":1289},null,{"$f":"'Individual Awards Computations'!AR19","v":"None"},{"$f":"'Individual Awards Computations'!AQ18","v":""},null,{"$f":"'Individual Awards Computations'!BP19","v":"Chad Severt (NC)"},{"$f":"'Individual Awards Computations'!BO18","v":2445}]
[null,null,null,"16-20",{"$f":"'Individual Awards Computations'!J45","v":"Ben Estes (NC)"},{"$f":"'Individual Awards Computations'!I44","v":1268},null,{"$f":"'Individual Awards Computations'!AA45","v":"Troy White (NC)"},{"$f":"'Individual Awards Computations'!Z44","v":1532},null,{"$f":"'Individual Awards Computations'!AR45","v":"None"},{"$f":"'Individual Awards Computations'!AQ44","v":""},null,{"$f":"'Individual Awards Computations'!BP45","v":"Troy White (NC)"},{"$f":"'Individual Awards Computations'!BO44","v":2670}]
[]
[null,null,null,null,{"$f":"E1","v":"Gold Cup Russell Pkwy, Warner Robins, GA"},null,null,{"$f":"H1","v":"Royal Lanes, Goose Creek, SC"},null,null,{"$f":"K1","v":"High Point Bowling Center, High Point, NC"},null,null,{"$f":"N1","v":"All Events"}]
["Individual High Scores -- SC",null,null,null,"Name","Score",null,"Name","Score",null,"Name","Score",null,"Name","Score"]
["High Game",null,"F",{"$f":"D$3","v":"15 & <"},{"$f":"'Individual Awards Computations'!P9","v":"Danielle Lane (SC)"},{"$f":"'Individual Awards Computations'!O8","v":236},null,{"$f":"'Individual Awards Computations'!AG9","v":"Danielle Lane (SC)"},{"$f":"'Individual Awards Computations'!AF8","v":237},null,{"$f":"'Individual Awards Computations'!AX9","v":"None"},{"$f":"'Individual Awards Computations'!AW8","v":""},null,{"$f":"'Individual Awards Computations'!BJ9","v":"Danielle Lane (SC)"},{"$f":"'Individual Awards Computations'!BI8","v":237}]
[null,null,null,{"$f":"D$4","v":"16-20"},{"$f":"'Individual Awards Computations'!P35","v":"Emily Bolton (SC)"},{"$f":"'Individual Awards Computations'!O34","v":223},null,{"$f":"'Individual Awards Computations'!AG35","v":"Hannah Krietemeyer (SC)"},{"$f":"'Individual Awards Computations'!AF34","v":241},null,{"$f":"'Individual Awards Computations'!AX35","v":"None"},{"$f":"'Individual Awards Computations'!AW34","v":""},null,{"$f":"'Individual Awards Computations'!BJ35","v":"Hannah Krietemeyer (SC)"},{"$f":"'Individual Awards Computations'!BI34","v":241}]
[null,null,"M",{"$f":"D52","v":"15 & <"},{"$f":"'Individual Awards Computations'!P22","v":"Jonathan Lovett (SC)"},{"$f":"'Individual Awards Computations'!O21","v":256},null,{"$f":"'Individual Awards Computations'!AG22","v":"Brandon Magennis (SC)"},{"$f":"'Individual Awards Computations'!AF21","v":248},null,{"$f":"'Individual Awards Computations'!AX22","v":"None"},{"$f":"'Individual Awards Computations'!AW21","v":""},null,{"$f":"'Individual Awards Computations'!BJ22","v":"Jonathan Lovett (SC)"},{"$f":"'Individual Awards Computations'!BI21","v":256}]
[null,null,null,{"$f":"D53","v":"16-20"},{"$f":"'Individual Awards Computations'!P48","v":"Luke Willis (SC)"},{"$f":"'Individual Awards Computations'!O47","v":257},null,{"$f":"'Individual Awards Computations'!AG48","v":"Luke Willis (SC)"},{"$f":"'Individual Awards Computations'!AF47","v":235},null,{"$f":"'Individual Awards Computations'!AX48","v":"None"},{"$f":"'Individual Awards Computations'!AW47","v":""},null,{"$f":"'Individual Awards Computations'!BJ48","v":"Luke Willis (SC)"},{"$f":"'Individual Awards Computations'!BI47","v":257}]
["High Series",null,"F",{"$f":"D37","v":"15 & <"},{"$f":"'Individual Awards Computations'!E9","v":"Madison Janack (SC)"},{"$f":"'Individual Awards Computations'!D8","v":628},null,{"$f":"'Individual Awards Computations'!V9","v":"TIE"},{"$f":"'Individual Awards Computations'!U8","v":630},null,{"$f":"'Individual Awards Computations'!AM9","v":"None"},{"$f":"'Individual Awards Computations'!AL8","v":""},null,{"$f":"'Individual Awards Computations'!BD9","v":"TIE"},{"$f":"'Individual Awards Computations'!BC8","v":630}]
[null,null,null,"16-20",{"$f":"'Individual Awards Computations'!E35","v":"Kasey Smith (SC)"},{"$f":"'Individual Awards Computations'!D34","v":656},null,{"$f":"'Individual Awards Computations'!V35","v":"Kasey Smith (SC)"},{"$f":"'Individual Awards Computations'!U34","v":653},null,{"$f":"'Individual Awards Computations'!AM35","v":"None"},{"$f":"'Individual Awards Computations'!AL34","v":""},null,{"$f":"'Individual Awards Computations'!BD35","v":"Kasey Smith (SC)"},{"$f":"'Individual Awards Computations'!BC34","v":656}]
[null,null,"M","15 & <",{"$f":"'Individual Awards Computations'!E22","v":"Brandon Magennis (SC)"},{"$f":"'Individual Awards Computations'!D21","v":721},null,{"$f":"'Individual Awards Computations'!V22","v":"TIE"},{"$f":"'Individual Awards Computations'!U21","v":649},null,{"$f":"'Individual Awards Computations'!AM22","v":"None"},{"$f":"'Individual Awards Computations'!AL21","v":""},null,{"$f":"'Individual Awards Computations'!BD22","v":"Brandon Magennis (SC)"},{"$f":"'Individual Awards Computations'!BC21","v":721}]
[null,null,null,"16-20",{"$f":"'Individual Awards Computations'!E48","v":"Christian Gurney (SC)"},{"$f":"'Individual Awards Computations'!D47","v":686},null,{"$f":"'Individual Awards Computations'!V48","v":"Christian Gurney (SC)"},{"$f":"'Individual Awards Computations'!U47","v":692},null,{"$f":"'Individual Awards Computations'!AM48","v":"None"},{"$f":"'Individual Awards Computations'!AL47","v":""},null,{"$f":"'Individual Awards Computations'!BD48","v":"Christian Gurney (SC)"},{"$f":"'Individual Awards Computations'!BC47","v":692}]
["High Total Pins",null,"F","15 & <",{"$f":"'Individual Awards Computations'!J9","v":"Madison Janack (SC)"},{"$f":"'Individual Awards Computations'!I8","v":1246},null,{"$f":"'Individual Awards Computations'!AA9","v":"Danielle Lane (SC)"},{"$f":"'Individual Awards Computations'!Z8","v":1188},null,{"$f":"'Individual Awards Computations'!AR9","v":"None"},{"$f":"'Individual Awards Computations'!AQ8","v":""},null,{"$f":"'Individual Awards Computations'!BP9","v":"Madison Janack (SC)"},{"$f":"'Individual Awards Computations'!BO8","v":2411}]
[null,null,null,"16-20",{"$f":"'Individual Awards Computations'!J35","v":"Kasey Smith (SC)"},{"$f":"'Individual Awards Computations'!I34","v":1203},null,{"$f":"'Individual Awards Computations'!AA35","v":"Kasey Smith (SC)"},{"$f":"'Individual Awards Computations'!Z34","v":1231},null,{"$f":"'Individual Awards Computations'!AR35","v":"None"},{"$f":"'Individual Awards Computations'!AQ34","v":""},null,{"$f":"'Individual Awards Computations'!BP35","v":"Kasey Smith (SC)"},{"$f":"'Individual Awards Computations'!BO34","v":2434}]
[null,null,"M","15 & <",{"$f":"'Individual Awards Computations'!J22","v":"Brandon Magennis (SC)"},{"$f":"'Individual Awards Computations'!I21","v":1290},null,{"$f":"'Individual Awards Computations'!AA22","v":"Brandon Magennis (SC)"},{"$f":"'Individual Awards Computations'!Z21","v":1277},null,{"$f":"'Individual Awards Computations'!AR22","v":"None"},{"$f":"'Individual Awards Computations'!AQ21","v":""},null,{"$f":"'Individual Awards Computations'!BP22","v":"Brandon Magennis (SC)"},{"$f":"'Individual Awards Computations'!$BO$21","v":2567}]
[null,null,null,"16-20",{"$f":"'Individual Awards Computations'!J48","v":"Christian Gurney (SC)"},{"$f":"'Individual Awards Computations'!I47","v":1266},null,{"$f":"'Individual Awards Computations'!AA48","v":"Christian Gurney (SC)"},{"$f":"'Individual Awards Computations'!Z47","v":1259},null,{"$f":"'Individual Awards Computations'!AR48","v":"None"},{"$f":"'Individual Awards Computations'!AQ47","v":""},null,{"$f":"'Individual Awards Computations'!BP48","v":"Christian Gurney (SC)"},{"$f":"'Individual Awards Computations'!BO47","v":2525}]

{"sheet":"Tournament 1 Histogram Data","index":17,"n_rows":42,"n_cols":18,"rows_kept":42,"cut":false,"hidden":true,"merged":[]}
[]
[null,{"$f":"'Individual Scores'!$B$1","v":"Age Group"},{"$f":"'Individual Scores'!$C$1","v":"Gender"},{"$f":"'Individual Scores'!$E$1","v":"Tournament 1"},{"$f":"D2","v":"Tournament 1"},null,null,"Scores",{"$f":"B3&\" \"&C3","v":"15 & < F"},null,{"$f":"'Individual Scores'!$B$1","v":"Age Group"},{"$f":"'Individual Scores'!$C$1","v":"Gender"},{"$f":"'Individual Scores'!$E$1","v":"Tournament 1"},{"$f":"M2","v":"Tournament 1"},null,null,"Scores",{"$f":"K3&\" \"&L3","v":"16-20 F"}]
[null,{"$f":"Constants!B2","v":"15 & <"},"F",{"$f":"\"1-\"&G3","v":"1-900"},null,null,900,{"$f":"D3","v":"1-900"},{"$f":"DCOUNT(Individual_Scores,D2,B2:D3)","v":0},null,{"$f":"Constants!B3","v":"16-20"},{"$f":"C3","v":"F"},{"$f":"\"1-\"&P3","v":"1-900"},null,null,900,{"$f":"M3","v":"1-900"},{"$f":"DCOUNT(Individual_Scores,M2,K2:M3)","v":0}]
[null,{"$f":"B2","v":"Age Group"},{"$f":"C2","v":"Gender"},{"$f":"D2","v":"Tournament 1"},{"$f":"D4","v":"Tournament 1"},null,{"$f":"G3+50","v":950},{"$f":"G3&\"-\"&G4","v":"900-950"},{"$f":"DCOUNT(Individual_Scores,D4,B4:E5)","v":4},null,{"$f":"K2","v":"Age Group"},{"$f":"L2","v":"Gender"},{"$f":"M2","v":"Tournament 1"},{"$f":"M4","v":"Tournament 1"},null,{"$f":"P3+50","v":950},{"$f":"P3&\"-\"&P4-1","v":"900-949"},{"$f":"DCOUNT(Individual_Scores,M4,K4:N5)","v":4}]
[null,{"$f":"B3","v":"15 & <"},"F",{"$f":"\">=\"&G3","v":">=900"},{"$f":"\"<\"&G4","v":"<950"},null,1000,{"$f":"G4&\"-\"&G5","v":"950-1000"},{"$f":"DCOUNT(Individual_Scores,D6,B6:E7)","v":11},null,{"$f":"K3","v":"16-20"},"F",{"$f":"\">=\"&P3","v":">=900"},{"$f":"\"<\"&P4","v":"<950"},null,1000,"950-999",{"$f":"DCOUNT(Individual_Scores,M6,K6:N7)","v":3}]
[null,"Age Group","Gender",{"$f":"D4","v":"Tournament 1"},{"$f":"D6","v":"Tournament 1"},null,1050,"1000-1050",{"$f":"DCOUNT(Individual_Scores,D8,B8:E9)","v":5},null,"Age Group","Gender",{"$f":"M4","v":"Tournament 1"},{"$f":"M6","v":"Tournament 1"},null,1050,"1000-1049",{"$f":"DCOUNT(Individual_Scores,M8,K8:N9)","v":2}]
[null,"15 & <","F",{"$f":"\">=\"&G4","v":">=950"},{"$f":"\"<\"&G5","v":"<1000"},null,1100,"1050-1100",{"$f":"DCOUNT(Individual_Scores,D10,B10:E11)","v":1},null,"16-20","F",{"$f":"\">=\"&P4","v":">=950"},{"$f":"\"<\"&P5","v":"<1000"},null,1100,"1050-1099",{"$f":"DCOUNT(Individual_Scores,M10,K10:N11)","v":4}]
[null,"Age Group","Gender",{"$f":"D6","v":"Tournament 1"},{"$f":"D8","v":"Tournament 1"},null,1150,"1100-1150",{"$f":"DCOUNT(Individual_Scores,D12,B12:E13)","v":0},null,"Age Group","Gender",{"$f":"M6","v":"Tournament 1"},{"$f":"M8","v":"Tournament 1"},null,1150,"1100-1149",{"$f":"DCOUNT(Individual_Scores,M12,K12:N13)","v":6}]
[null,"15 & <","F",{"$f":"\">=\"&G5","v":">=1000"},{"$f":"\"<\"&G6","v":"<1050"},null,1200,"1150-1200",{"$f":"DCOUNT(Individual_Scores,D14,B14:E15)","v":1},null,"16-20","F",{"$f":"\">=\"&P5","v":">=1000"},{"$f":"\"<\"&P6","v":"<1050"},null,1200,"1150-1199",{"$f":"DCOUNT(Individual_Scores,M14,K14:N15)","v":2}]
[null,"Age Group","Gender",{"$f":"D8","v":"Tournament 1"},{"$f":"D10","v":"Tournament 1"},null,1250,"1200-1250",{"$f":"DCOUNT(Individual_Scores,D16,B16:E17)","v":1},null,"Age Group","Gender",{"$f":"M8","v":"Tournament 1"},{"$f":"M10","v":"Tournament 1"},null,1250,"1200-1249",{"$f":"DCOUNT(Individual_Scores,M16,K16:N17)","v":2}]
[null,"15 & <","F",{"$f":"\">=\"&G6","v":">=1050"},{"$f":"\"<\"&G7","v":"<1100"},null,1300,"1250-1300",{"$f":"DCOUNT(Individual_Scores,D18,B18:E19)","v":1},null,"16-20","F",{"$f":"\">=\"&P6","v":">=1050"},{"$f":"\"<\"&P7","v":"<1100"},null,1300,"1250-1299",{"$f":"DCOUNT(Individual_Scores,M18,K18:N19)","v":0}]
[null,"Age Group","Gender",{"$f":"D10","v":"Tournament 1"},{"$f":"D12","v":"Tournament 1"},null,1350,{"$f":"\">1300\"","v":">1300"},{"$f":"DCOUNT(Individual_Scores,D20,B20:E21)","v":0},null,"Age Group","Gender",{"$f":"M10","v":"Tournament 1"},{"$f":"M12","v":"Tournament 1"},null,1350,{"$f":"\">=1300\"","v":">=1300"},{"$f":"DCOUNT(Individual_Scores,M20,K20:N21)","v":0}]
[null,"15 & <","F",{"$f":"\">=\"&G7","v":">=1100"},{"$f":"\"<\"&G8","v":"<1150"},null,null,null,null,null,"16-20","F",{"$f":"\">=\"&P7","v":">=1100"},{"$f":"\"<\"&P8","v":"<1150"}]
[null,"Age Group","Gender",{"$f":"D12","v":"Tournament 1"},{"$f":"D14","v":"Tournament 1"},null,null,null,null,null,"Age Group","Gender",{"$f":"M12","v":"Tournament 1"},{"$f":"M14","v":"Tournament 1"}]
[null,"15 & <","F",{"$f":"\">=\"&G8","v":">=1150"},{"$f":"\"<\"&G9","v":"<1200"},null,null,null,null,null,"16-20","F",{"$f":"\">=\"&P8","v":">=1150"},{"$f":"\"<\"&P9","v":"<1200"}]
[null,"Age Group","Gender",{"$f":"D14","v":"Tournament 1"},{"$f":"D16","v":"Tournament 1"},null,null,null,null,null,"Age Group","Gender",{"$f":"M14","v":"Tournament 1"},{"$f":"M16","v":"Tournament 1"}]
[null,"15 & <","F",{"$f":"\">=\"&G9","v":">=1200"},{"$f":"\"<\"&G10","v":"<1250"},null,null,null,null,null,"16-20","F",{"$f":"\">=\"&P9","v":">=1200"},{"$f":"\"<\"&P10","v":"<1250"}]
[null,"Age Group","Gender",{"$f":"D16","v":"Tournament 1"},{"$f":"D18","v":"Tournament 1"},null,null,null,null,null,"Age Group","Gender",{"$f":"M16","v":"Tournament 1"},{"$f":"M18","v":"Tournament 1"}]
[null,"15 & <","F",{"$f":"\">=\"&G10","v":">=1250"},{"$f":"\"<\"&G11","v":"<1300"},null,null,null,null,null,"16-20","F",{"$f":"\">=\"&P10","v":">=1250"},{"$f":"\"<\"&P11","v":"<1300"}]
[null,"Age Group","Gender",{"$f":"D18","v":"Tournament 1"},null,null,null,null,null,null,"Age Group","Gender",{"$f":"M18","v":"Tournament 1"}]
[null,"15 & <","F",{"$f":"\">=\"&G11","v":">=1300"},null,null,null,null,null,null,"16-20","F",{"$f":"\">=\"&P11","v":">=1300"}]
[]
[null,{"$f":"'Individual Scores'!$B$1","v":"Age Group"},{"$f":"'Individual Scores'!$C$1","v":"Gender"},{"$f":"'Individual Scores'!$E$1","v":"Tournament 1"},{"$f":"D23","v":"Tournament 1"},null,null,"Scores",{"$f":"B24&\" \"&C24","v":"15 & < M"},null,{"$f":"'Individual Scores'!$B$1","v":"Age Group"},{"$f":"'Individual Scores'!$C$1","v":"Gender"},{"$f":"'Individual Scores'!$E$1","v":"Tournament 1"},{"$f":"M23","v":"Tournament 1"},null,null,"Scores",{"$f":"K24&\" \"&L24","v":"16-20 M"}]
[null,{"$f":"B3","v":"15 & <"},"M",{"$f":"\"1-\"&G24","v":"1-900"},null,null,900,{"$f":"D24","v":"1-900"},{"$f":"DCOUNT(Individual_Scores,D23,B23:D24)","v":0},null,{"$f":"K3","v":"16-20"},{"$f":"C24","v":"M"},{"$f":"\"1-\"&P24","v":"1-900"},null,null,900,{"$f":"M24","v":"1-900"},{"$f":"DCOUNT(Individual_Scores,M23,K23:M24)","v":0}]
[null,{"$f":"B23","v":"Age Group"},{"$f":"C23","v":"Gender"},{"$f":"D23","v":"Tournament 1"},{"$f":"D25","v":"Tournament 1"},null,{"$f":"G24+50","v":950},{"$f":"G24&\"-\"&G25","v":"900-950"},{"$f":"DCOUNT(Individual_Scores,D25,B25:E26)","v":2},null,{"$f":"K23","v":"Age Group"},{"$f":"L23","v":"Gender"},{"$f":"M23","v":"Tournament 1"},{"$f":"M25","v":"Tournament 1"},null,{"$f":"P24+50","v":950},{"$f":"P24&\"-\"&P25","v":"900-950"},{"$f":"DCOUNT(Individual_Scores,M25,K25:N26)","v":0}]
[null,{"$f":"B24","v":"15 & <"},"M",{"$f":"\">=\"&G24","v":">=900"},{"$f":"\"<\"&G25","v":"<950"},null,1000,{"$f":"G25&\"-\"&G26","v":"950-1000"},{"$f":"DCOUNT(Individual_Scores,D27,B27:E28)","v":4},null,{"$f":"K24","v":"16-20"},"M",{"$f":"\">=\"&P24","v":">=900"},{"$f":"\"<\"&P25","v":"<950"},null,1000,{"$f":"P25&\"-\"&P26","v":"950-1000"},{"$f":"DCOUNT(Individual_Scores,M27,K27:N28)","v":4}]
[null,"Age Group","Gender",{"$f":"D25","v":"Tournament 1"},{"$f":"D27","v":"Tournament 1"},null,1050,"1000-1050",{"$f":"DCOUNT(Individual_Scores,D29,B29:E30)","v":6},null,"Age Group","Gender",{"$f":"M25","v":"Tournament 1"},{"$f":"M27","v":"Tournament 1"},null,1050,"1000-1050",{"$f":"DCOUNT(Individual_Scores,M29,K29:N30)","v":4}]
[null,"15 & <","M",{"$f":"\">=\"&G25","v":">=950"},{"$f":"\"<\"&G26","v":"<1000"},null,1100,"1050-1100",{"$f":"DCOUNT(Individual_Scores,D31,B31:E32)","v":4},null,"16-20","M",{"$f":"\">=\"&P25","v":">=950"},{"$f":"\"<\"&P26","v":"<1000"},null,1100,"1050-1100",{"$f":"DCOUNT(Individual_Scores,M31,K31:N32)","v":2}]
[null,"Age Group","Gender",{"$f":"D27","v":"Tournament 1"},{"$f":"D29","v":"Tournament 1"},null,1150,"1100-1150",{"$f":"DCOUNT(Individual_Scores,D33,B33:E34)","v":4},null,"Age Group","Gender",{"$f":"M27","v":"Tournament 1"},{"$f":"M29","v":"Tournament 1"},null,1150,"1100-1150",{"$f":"DCOUNT(Individual_Scores,M33,K33:N34)","v":5}]
[null,"15 & <","M",{"$f":"\">=\"&G26","v":">=1000"},{"$f":"\"<\"&G27","v":"<1050"},null,1200,"1150-1200",{"$f":"DCOUNT(Individual_Scores,D35,B35:E36)","v":4},null,"16-20","M",{"$f":"\">=\"&P26","v":">=1000"},{"$f":"\"<\"&P27","v":"<1050"},null,1200,"1150-1200",{"$f":"DCOUNT(Individual_Scores,M35,K35:N36)","v":3}]
[null,"Age Group","Gender",{"$f":"D29","v":"Tournament 1"},{"$f":"D31","v":"Tournament 1"},null,1250,"1200-1250",{"$f":"DCOUNT(Individual_Scores,D37,B37:E38)","v":1},null,"Age Group","Gender",{"$f":"M29","v":"Tournament 1"},{"$f":"M31","v":"Tournament 1"},null,1250,"1200-1250",{"$f":"DCOUNT(Individual_Scores,M37,K37:N38)","v":6}]
[null,"15 & <","M",{"$f":"\">=\"&G27","v":">=1050"},{"$f":"\"<\"&G28","v":"<1100"},null,1300,"1250-1300",{"$f":"DCOUNT(Individual_Scores,D39,B39:E40)","v":2},null,"16-20","M",{"$f":"\">=\"&P27","v":">=1050"},{"$f":"\"<\"&P28","v":"<1100"},null,1300,"1250-1300",{"$f":"DCOUNT(Individual_Scores,M39,K39:N40)","v":5}]
[null,"Age Group","Gender",{"$f":"D31","v":"Tournament 1"},{"$f":"D33","v":"Tournament 1"},null,1350,{"$f":"\">1300\"","v":">1300"},{"$f":"DCOUNT(Individual_Scores,D41,B41:E42)","v":1},null,"Age Group","Gender",{"$f":"M31","v":"Tournament 1"},{"$f":"M33","v":"Tournament 1"},null,1350,{"$f":"\">1300\"","v":">1300"},{"$f":"DCOUNT(Individual_Scores,M41,K41:N42)","v":0}]
[null,"15 & <","M",{"$f":"\">=\"&G28","v":">=1100"},{"$f":"\"<\"&G29","v":"<1150"},null,null,null,null,null,"16-20","M",{"$f":"\">=\"&P28","v":">=1100"},{"$f":"\"<\"&P29","v":"<1150"}]
[null,"Age Group","Gender",{"$f":"D33","v":"Tournament 1"},{"$f":"D35","v":"Tournament 1"},null,null,null,null,null,"Age Group","Gender",{"$f":"M33","v":"Tournament 1"},{"$f":"M35","v":"Tournament 1"}]
[null,"15 & <","M",{"$f":"\">=\"&G29","v":">=1150"},{"$f":"\"<\"&G30","v":"<1200"},null,null,null,null,null,"16-20","M",{"$f":"\">=\"&P29","v":">=1150"},{"$f":"\"<\"&P30","v":"<1200"}]
[null,"Age Group","Gender",{"$f":"D35","v":"Tournament 1"},{"$f":"D37","v":"Tournament 1"},null,null,null,null,null,"Age Group","Gender",{"$f":"M35","v":"Tournament 1"},{"$f":"M37","v":"Tournament 1"}]
[null,"15 & <","M",{"$f":"\">=\"&G30","v":">=1200"},{"$f":"\"<\"&G31","v":"<1250"},null,null,null,null,null,"16-20","M",{"$f":"\">=\"&P30","v":">=1200"},{"$f":"\"<\"&P31","v":"<1250"}]
[null,"Age Group","Gender",{"$f":"D37","v":"Tournament 1"},{"$f":"D39","v":"Tournament 1"},null,null,null,null,null,"Age Group","Gender",{"$f":"M37","v":"Tournament 1"},{"$f":"M39","v":"Tournament 1"}]
[null,"15 & <","M",{"$f":"\">=\"&G31","v":">=1250"},{"$f":"\"<\"&G32","v":"<1300"},null,null,null,null,null,"16-20","M",{"$f":"\">=\"&P31","v":">=1250"},{"$f":"\"<\"&P32","v":"<1300"}]
[null,"Age Group","Gender",{"$f":"D39","v":"Tournament 1"},null,null,null,null,null,null,"Age Group","Gender",{"$f":"M39","v":"Tournament 1"}]
[null,"15 & <","M",{"$f":"\">=\"&G32","v":">=1300"},null,null,null,null,null,null,"16-20","M",{"$f":"\">=\"&P32","v":">=1300"}]

{"sheet":"Actual Age Team Stats","index":20,"n_rows":27,"n_cols":10,"rows_kept":27,"cut":false,"hidden":false,"merged":[[0,0,0,6],[2,1,7,1],[8,1,13,1],[2,2,4,2],[5,2,7,2],[8,2,10,2],[11,2,13,2]]}
["Age Based Team Averages Excluding Low Scores and Team Assignments"]
[null,null,null,null,"Average","+/(-)",null,{"$f":"'Individual Scores'!$A$1","v":"State"},{"$f":"'Individual Scores'!$B$1","v":"Age Group"},{"$f":"'Individual Scores'!$C$1","v":"Gender"}]
[null,"F",{"$f":"Constants!B2","v":"15 & <"},"GA",{"$f":"DAVERAGE(Individual_Scores,'Individual Scores'!$L$1,'Actual Age Team Stats'!H2:J3)","v":159.91025641025641},{"$f":"E3-MAX(E$3:E$5)","v":-6.4647435897435628},null,"GA",{"$f":"$C$3","v":"15 & <"},"F"]
[null,null,null,"NC",{"$f":"DAVERAGE(Individual_Scores,'Individual Scores'!$L$1,H11:J12)","v":166.37499999999997},{"$f":"E4-MAX(E$3:E$5)","v":0},null,{"$f":"'Individual Scores'!$A$1","v":"State"},{"$f":"'Individual Scores'!$B$1","v":"Age Group"},{"$f":"'Individual Scores'!$C$1","v":"Gender"}]
[null,null,null,"SC",{"$f":"DAVERAGE(Individual_Scores,'Individual Scores'!$L$1,'Actual Age Team Stats'!H20:J21)","v":158.99242424242425},{"$f":"E5-MAX(E$3:E$5)","v":-7.3825757575757223},null,{"$f":"H3","v":"GA"},{"$f":"I3","v":"15 & <"},"M"]
[null,null,{"$f":"Constants!B3","v":"16-20"},"GA",{"$f":"DAVERAGE(Individual_Scores,'Individual Scores'!$L$1,H6:J7)","v":176.18750000000003},{"$f":"E6-MAX(E$6:E$8)","v":0},null,{"$f":"'Individual Scores'!$A$1","v":"State"},{"$f":"'Individual Scores'!$B$1","v":"Age Group"},{"$f":"'Individual Scores'!$C$1","v":"Gender"}]
[null,null,null,"NC",{"$f":"DAVERAGE(Individual_Scores,'Individual Scores'!$L$1,H15:J16)","v":170.56818181818181},{"$f":"E7-MAX(E$6:E$8)","v":-5.6193181818182154},null,{"$f":"H5","v":"GA"},{"$f":"$C$6","v":"16-20"},{"$f":"J3","v":"F"}]
[null,null,null,"SC",{"$f":"DAVERAGE(Individual_Scores,'Individual Scores'!$L$1,H24:J25)","v":170.53030303030303},{"$f":"E8-MAX(E$6:E$8)","v":-5.6571969696969973},null,{"$f":"'Individual Scores'!$A$1","v":"State"},{"$f":"'Individual Scores'!$B$1","v":"Age Group"},{"$f":"'Individual Scores'!$C$1","v":"Gender"}]
[null,"M",{"$f":"C3","v":"15 & <"},"GA",{"$f":"DAVERAGE(Individual_Scores,'Individual Scores'!$L$1,'Actual Age Team Stats'!H4:J5)","v":183.0277777777778},{"$f":"E9-MAX(E$9:E$11)","v":0},null,{"$f":"H7","v":"GA"},{"$f":"I7","v":"16-20"},{"$f":"J5","v":"M"}]
[null,null,null,"NC",{"$f":"DAVERAGE(Individual_Scores,'Individual Scores'!$L$1,H13:J14)","v":182.87121212121212},{"$f":"E10-MAX(E$9:E$11)","v":-0.15656565656567523}]
[null,null,null,"SC",{"$f":"DAVERAGE(Individual_Scores,'Individual Scores'!$L$1,'Actual Age Team Stats'!H22:J23)","v":180.71212121212122},{"$f":"E11-MAX(E$9:E$11)","v":-2.3156565656565817},null,{"$f":"'Individual Scores'!$A$1","v":"State"},{"$f":"'Individual Scores'!$B$1","v":"Age Group"},{"$f":"'Individual Scores'!$C$1","v":"Gender"}]
[null,null,{"$f":"C6","v":"16-20"},"GA",{"$f":"DAVERAGE(Individual_Scores,'Individual Scores'!$L$1,H8:J9)","v":194.91666666666666},{"$f":"E12-MAX(E$12:E$14)","v":0},null,"NC",{"$f":"$C$3","v":"15 & <"},"F"]
[null,null,null,"NC",{"$f":"DAVERAGE(Individual_Scores,'Individual Scores'!$L$1,H17:J18)","v":191.27272727272728},{"$f":"E13-MAX(E$12:E$14)","v":-3.6439393939393767},null,{"$f":"'Individual Scores'!$A$1","v":"State"},{"$f":"'Individual Scores'!$B$1","v":"Age Group"},{"$f":"'Individual Scores'!$C$1","v":"Gender"}]
[null,null,null,"SC",{"$f":"DAVERAGE(Individual_Scores,'Individual Scores'!$L$1,H26:J27)","v":184.47499999999999},{"$f":"E14-MAX(E$12:E$14)","v":-10.441666666666663},null,{"$f":"H12","v":"NC"},{"$f":"I12","v":"15 & <"},"M"]
[null,null,null,null,null,null,null,{"$f":"'Individual Scores'!$A$1","v":"State"},{"$f":"'Individual Scores'!$B$1","v":"Age Group"},{"$f":"'Individual Scores'!$C$1","v":"Gender"}]
[null,null,null,null,null,null,null,{"$f":"H14","v":"NC"},{"$f":"$C$6","v":"16-20"},{"$f":"J12","v":"F"}]
[null,null,null,null,null,null,null,{"$f":"'Individual Scores'!$A$1","v":"State"},{"$f":"'Individual Scores'!$B$1","v":"Age Group"},{"$f":"'Individual Scores'!$C$1","v":"Gender"}]
[null,null,null,null,null,null,null,{"$f":"H16","v":"NC"},{"$f":"I16","v":"16-20"},{"$f":"J14","v":"M"}]
[]
[null,null,null,null,null,null,null,{"$f":"'Individual Scores'!$A$1","v":"State"},{"$f":"'Individual Scores'!$B$1","v":"Age Group"},{"$f":"'Individual Scores'!$C$1","v":"Gender"}]
[null,null,null,null,null,null,null,"SC",{"$f":"$C$3","v":"15 & <"},"F"]
[null,null,null,null,null,null,null,{"$f":"'Individual Scores'!$A$1","v":"State"},{"$f":"'Individual Scores'!$B$1","v":"Age Group"},{"$f":"'Individual Scores'!$C$1","v":"Gender"}]
[null,null,null,null,null,null,null,{"$f":"H21","v":"SC"},{"$f":"I21","v":"15 & <"},"M"]
[null,null,null,null,null,null,null,{"$f":"'Individual Scores'!$A$1","v":"State"},{"$f":"'Individual Scores'!$B$1","v":"Age Group"},{"$f":"'Individual Scores'!$C$1","v":"Gender"}]
[null,null,null,null,null,null,null,{"$f":"H23","v":"SC"},{"$f":"$C$6","v":"16-20"},{"$f":"J21","v":"F"}]
[null,null,null,null,null,null,null,{"$f":"'Individual Scores'!$A$1","v":"State"},{"$f":"'Individual Scores'!$B$1","v":"Age Group"},{"$f":"'Individual Scores'!$C$1","v":"Gender"}]
[null,null,null,null,null,null,null,{"$f":"H25","v":"SC"},{"$f":"I25","v":"16-20"},{"$f":"J23","v":"M"}]

{"sheet":"Individual Awards Computations","index":21,"n_rows":62,"n_cols":68,"rows_kept":62,"cut":false,"hidden":true,"merged":[]}
[{"$f":"'Individual Scores'!$A$1","v":"State"},{"$f":"'Individual Scores'!$B$1","v":"Age Group"},{"$f":"'Individual Scores'!$C$1","v":"Gender"},{"$f":"'Individual Scores'!Y$1","v":"T1 High Series"},null,"State","Age Group","Gender",{"$f":"'Individual Scores'!W$1","v":"T1 Tournament Total"},null,{"$f":"'Individual Scores'!$D$1","v":"Full Name"},"State","Age Group","Gender",{"$f":"'Individual Scores'!X$1","v":"T1 High Game"},null,null,"State","Age Group","Gender",{"$f":"'Individual Scores'!AI$1","v":"T2 High Series"},null,"State","Age Group","Gender",{"$f":"'Individual Scores'!AG$1","v":"T2 Tournament Total"},null,{"$f":"'Individual Scores'!$D$1","v":"Full Name"},"State","Age Group","Gender",{"$f":"'Individual Scores'!AH$1","v":"T2 High Game"},null,null,"State","Age Group","Gender",{"$f":"'Individual Scores'!AS$1","v":"T3 High Series"},null,"State","Age Group","Gender",{"$f":"'Individual Scores'!AQ$1","v":"T3 Tournament Total"},null,{"$f":"'Individual Scores'!$D$1","v":"Full Name"},"State","Age Group","Gender",{"$f":"'Individual Scores'!AR$1","v":"T3 High Game"},null,null,"State","Age Group","Gender",{"$f":"'Individual Scores'!K$1","v":"High Series"},null,{"$f":"'Individual Scores'!$D$1","v":"Full Name"},"State","Age Group","Gender",{"$f":"'Individual Scores'!J$1","v":"High Game"},null,null,"State","Age Group","Gender",{"$f":"'Individual Scores'!H$1","v":"All Events Total"}]
["GA",{"$f":"Constants!$B$2","v":"15 & <"},"F",{"$f":"IF(DCOUNT(Scores,D1,A1:C2)=0,\"\",DMAX(Scores,D1,A1:C2))","v":612},{"$f":"IF(DCOUNT(Scores,D1,A1:D2)>1,\"TIE\",IF(D2=\"\",\"None\",DGET(Scores,'Individual Scores'!$D$1,A1:D2)))","v":"Mikala Higgins"},"GA",{"$f":"'Individual Awards Computations'!$B$2","v":"15 & <"},"F",{"$f":"IF(DCOUNT(Scores,I1,F1:H2)>0,DMAX(Scores,I1,F1:H2),\"\")","v":1075},{"$f":"IF(DCOUNT(Scores,I1,F1:I2)>1,\"TIE\",IF(I2=\"\",\"None\",DGET(Scores,'Individual Scores'!$D$1,F1:I2)))","v":"Mikala Higgins"},{"$f":"IF(E2=\"None\",\"\",\"<>\"&E2)","v":"<>Mikala Higgins"},{"$f":"A2","v":"GA"},{"$f":"B2","v":"15 & <"},{"$f":"C2","v":"F"},{"$f":"IF(DMAX(Scores,O1,K1:N2)=0,\"\",DMAX(Scores,O1,K1:N2))","v":212},{"$f":"IF(DCOUNT(Scores,O1,L1:O2)>1,\"TIE\",IF(O2=\"\",\"None\",DGET(Scores,'Individual Scores'!$D$1,L1:O2)))","v":"Gabriela Ramkhelawan"},null,"GA",{"$f":"'Individual Awards Computations'!$M$2","v":"15 & <"},"F",{"$f":"IF(DCOUNT(Scores,'Individual Scores'!AI$1,R1:T2)=0,\"\",DMAX(Scores,'Individual Scores'!AI$1,R1:T2))","v":576},{"$f":"IF(DCOUNT(Scores,U1,R1:U2)>1,\"TIE\",IF(U2=\"\",\"None\",DGET(Scores,'Individual Scores'!$D$1,R1:U2)))","v":"Annalise O'Bryant"},"GA",{"$f":"'Individual Awards Computations'!$S$2","v":"15 & <"},"F",{"$f":"IF(DCOUNT(Scores,Z1,W1:Y2)>0,DMAX(Scores,Z1,W1:Y2),\"\")","v":1136},{"$f":"IF(DCOUNT(Scores,Z1,W1:Z2)>1,\"TIE\",IF(Z2=\"\",\"None\",DGET(Scores,'Individual Scores'!$D$1,W1:Z2)))","v":"Annalise O'Bryant"},{"$f":"\"<>\"&V2","v":"<>Annalise O'Bryant"},{"$f":"R2","v":"GA"},{"$f":"S2","v":"15 & <"},{"$f":"T2","v":"F"},{"$f":"IF(DMAX(Scores,AF1,AB1:AE2)=0,\"\",DMAX(Scores,AF1,AB1:AE2))","v":221},{"$f":"IF(DCOUNT(Scores,AF1,AC1:AF2)>1,\"TIE\",IF(AF2=\"\",\"None\",DGET(Scores,'Individual Scores'!$D$1,AC1:AF2)))","v":"Mikala Higgins"},null,"GA",{"$f":"'Individual Awards Computations'!$AD$2","v":"15 & <"},"F",{"$f":"IF(DCOUNT(Scores,AL1,AI1:AK2)=0,\"\",DMAX(Scores,AL1,AI1:AK2))","v":""},{"$f":"IF(DCOUNT(Scores,AL1,AI1:AL2)>1,\"TIE\",IF(AL2=\"\",\"None\",DGET(Scores,'Individual Scores'!$D$1,AI1:AL2)))","v":"None"},"GA",{"$f":"'Individual Awards Computations'!$AJ$2","v":"15 & <"},"F",{"$f":"IF(DCOUNT(Scores,AQ1,AN1:AP2)>0,DMAX(Scores,AQ1,AN1:AP2),\"\")","v":""},{"$f":"IF(DCOUNT(Scores,AQ1,AN1:AQ2)>1,\"TIE\",IF(AQ2=\"\",\"None\",DGET(Scores,'Individual Scores'!$D$1,AN1:AQ2)))","v":"None"},{"$f":"\"<>\"&AM2","v":"<>None"},{"$f":"AI2","v":"GA"},{"$f":"AJ2","v":"15 & <"},{"$f":"AK2","v":"F"},{"$f":"IF(DMAX(Scores,AW1,AS1:AV2)=0,\"\",DMAX(Scores,AW1,AS1:AV2))","v":""},{"$f":"IF(DCOUNT(Scores,AW1,AT1:AW2)>1,\"TIE\",IF(AW2=\"\",\"None\",DGET(Scores,'Individual Scores'!$D$1,AT1:AW2)))","v":"None"},null,"GA",{"$f":"'Individual Awards Computations'!$AU$2","v":"15 & <"},"F",{"$f":"IF(DMAX(Scores,BC1,AZ1:BB2)=0,\"\",DMAX(Scores,BC1,AZ1:BB2))","v":612},{"$f":"IF(DCOUNT(Scores,BC1,AZ1:BC2)>1,\"TIE\",IF(BC2=\"\",\"None\",DGET(Scores,'Individual Scores'!$D$1,AZ1:BC2)))","v":"Mikala Higgins"},{"$f":"\"<>\"&BD2","v":"<>Mikala Higgins"},"GA",{"$f":"'Individual Awards Computations'!$BA$2","v":"15 & <"},"F",{"$f":"IF(DMAX(Scores,BI1,BE1:BH2)=0,\"\",DMAX(Scores,BI1,BE1:BH2))","v":216},{"$f":"IF(DCOUNT(Scores,BI1,BF1:BI2)>1,\"TIE\",IF(BI2=\"\",\"None\",DGET(Scores,'Individual Scores'!$D$1,BF1:BI2)))","v":"TIE"},null,{"$f":"AZ2","v":"GA"},{"$f":"BA2","v":"15 & <"},{"$f":"BB2","v":"F"},{"$f":"IF(DMAX(Scores,BO1,BK1:BN2)=0,\"\",DMAX(Scores,BO1,BK1:BN2))","v":2191},{"$f":"IF(DCOUNT(Scores,BO1,BL1:BO2)>1,\"TIE\",IF(BO2=\"\",\"None\",DGET(Scores,'Individual Scores'!$D$1,BL1:BO2)))","v":"Mikala Higgins"}]
[null,null,null,null,{"$f":"IF(DCOUNT(Scores,D1,A1:D2)>1,\"TIE\",IF(D2=\"\",\"None\",E2&\" (\"&DGET(Scores,'Individual Scores'!$A$1,A1:D2)&\")\"))","v":"Mikala Higgins (GA)"},null,null,null,null,{"$f":"IF(DCOUNT(Scores,I1,F1:I2)>1,\"TIE\",IF(I2=\"\",\"None\",J2&\" (\"&DGET(Scores,'Individual Scores'!$A$1,F1:I2)&\")\"))","v":"Mikala Higgins (GA)"},null,null,null,null,null,{"$f":"IF(DCOUNT(Scores,O1,L1:O2)>1,\"TIE\",IF(O2=\"\",\"None\",P2&\" (\"&DGET(Scores,'Individual Scores'!$A$1,L1:O2)&\")\"))","v":"Gabriela Ramkhelawan (GA)"},null,null,null,null,null,{"$f":"IF(DCOUNT(Scores,U1,R1:U2)>1,\"TIE\",IF(U2=\"\",\"None\",V2&\" (\"&DGET(Scores,'Individual Scores'!$A$1,R1:U2)&\")\"))","v":"Annalise O'Bryant (GA)"},null,null,null,null,{"$f":"IF(DCOUNT(Scores,Z1,W1:Z2)>1,\"TIE\",IF(Z2=\"\",\"None\",AA2&\" (\"&DGET(Scores,'Individual Scores'!$A$1,W1:Z2)&\")\"))","v":"Annalise O'Bryant (GA)"},null,null,null,null,null,{"$f":"IF(DCOUNT(Scores,AF1,AC1:AF2)>1,\"TIE\",IF(AF2=\"\",\"None\",AG2&\" (\"&DGET(Scores,'Individual Scores'!$A$1,AC1:AF2)&\")\"))","v":"Mikala Higgins (GA)"},null,null,null,null,null,{"$f":"IF(DCOUNT(Scores,AL1,AI1:AL2)>1,\"TIE\",IF(AL2=\"\",\"None\",AM2&\" (\"&DGET(Scores,'Individual Scores'!$A$1,AI1:AL2)&\")\"))","v":"None"},null,null,null,null,{"$f":"IF(DCOUNT(Scores,AQ1,AN1:AQ2)>1,\"TIE\",IF(AQ2=\"\",\"None\",AR2&\" (\"&DGET(Scores,'Individual Scores'!$A$1,AN1:AQ2)&\")\"))","v":"None"},null,null,null,null,null,{"$f":"IF(DCOUNT(Scores,AW1,AT1:AW2)>1,\"TIE\",IF(AW2=\"\",\"None\",AX2&\" (\"&DGET(Scores,'Individual Scores'!$A$1,AT1:AW2)&\")\"))","v":"None"},null,null,null,null,null,{"$f":"IF(DCOUNT(Scores,BC1,AZ1:BC2)>1,\"TIE\",IF(BC2=\"\",\"None\",BD2&\" (\"&DGET(Scores,'Individual Scores'!$A$1,AZ1:BC2)&\")\"))","v":"Mikala Higgins (GA)"},null,null,null,null,null,{"$f":"IF(DCOUNT(Scores,BI1,BF1:BI2)>1,\"TIE\",IF(BI2=\"\",\"None\",BJ2&\" (\"&DGET(Scores,'Individual Scores'!$A$1,BF1:BI2)&\")\"))","v":"TIE"},null,null,null,null,null,{"$f":"IF(DCOUNT(Scores,BO1,BL1:BO2)>1,\"TIE\",IF(BO2=\"\",\"None\",BP2&\" (\"&DGET(Scores,'Individual Scores'!$A$1,BL1:BO2)&\")\"))","v":"Mikala Higgins (GA)"}]
["State","Age Group","Gender",{"$f":"'Individual Scores'!Y$1","v":"T1 High Series"},null,"State","Age Group","Gender",{"$f":"'Individual Scores'!W$1","v":"T1 Tournament Total"},null,{"$f":"'Individual Scores'!$D$1","v":"Full Name"},"State","Age Group","Gender",{"$f":"O1","v":"T1 High Game"},null,null,"State","Age Group","Gender",{"$f":"'Individual Scores'!AI$1","v":"T2 High Series"},null,"State","Age Group","Gender",{"$f":"'Individual Scores'!AG$1","v":"T2 Tournament Total"},null,{"$f":"'Individual Scores'!$D$1","v":"Full Name"},"State","Age Group","Gender",{"$f":"AF1","v":"T2 High Game"},null,null,"State","Age Group","Gender",{"$f":"'Individual Scores'!AS$1","v":"T3 High Series"},null,"State","Age Group","Gender",{"$f":"'Individual Scores'!AQ$1","v":"T3 Tournament Total"},null,{"$f":"'Individual Scores'!$D$1","v":"Full Name"},"State","Age Group","Gender",{"$f":"AW1","v":"T3 High Game"},null,null,"State","Age Group","Gender",{"$f":"'Individual Scores'!K$1","v":"High Series"},null,{"$f":"'Individual Scores'!$D$1","v":"Full Name"},"State","Age Group","Gender",{"$f":"BI1","v":"High Game"},null,null,"State","Age Group","Gender",{"$f":"'Individual Scores'!H$1","v":"All Events Total"}]
["NC",{"$f":"B2","v":"15 & <"},{"$f":"C2","v":"F"},{"$f":"IF(DCOUNT(Scores,D4,A4:C5)=0,\"\",DMAX(Scores,D4,A4:C5))","v":646},{"$f":"IF(DCOUNT(Scores,D4,A4:D5)>1,\"TIE\",IF(D5=\"\",\"None\",DGET(Scores,'Individual Scores'!$D$1,A4:D5)))","v":"Cameron Strombeck"},"NC",{"$f":"G2","v":"15 & <"},{"$f":"H2","v":"F"},{"$f":"IF(DCOUNT(Scores,I4,F4:H5)>0,DMAX(Scores,I4,F4:H5),\"\")","v":1253},{"$f":"IF(DCOUNT(Scores,I4,F4:I5)>1,\"TIE\",IF(I5=\"\",\"None\",DGET(Scores,'Individual Scores'!$D$1,F4:I5)))","v":"Cameron Strombeck"},{"$f":"IF(E5=\"None\",\"\",\"<>\"&E5)","v":"<>Cameron Strombeck"},{"$f":"A5","v":"NC"},{"$f":"B5","v":"15 & <"},{"$f":"C5","v":"F"},{"$f":"IF(DMAX(Scores,O4,K4:N5)=0,\"\",DMAX(Scores,O4,K4:N5))","v":201},{"$f":"IF(DCOUNT(Scores,O4,L4:O5)>1,\"TIE\",IF(O5=\"\",\"None\",DGET(Scores,'Individual Scores'!$D$1,L4:O5)))","v":"Maranda Marcum"},null,"NC",{"$f":"S2","v":"15 & <"},{"$f":"T2","v":"F"},{"$f":"IF(DCOUNT(Scores,'Individual Scores'!AI$1,R4:T5)=0,\"\",DMAX(Scores,'Individual Scores'!AI$1,R4:T5))","v":668},{"$f":"IF(DCOUNT(Scores,U4,R4:U5)>1,\"TIE\",IF(U5=\"\",\"None\",DGET(Scores,'Individual Scores'!$D$1,R4:U5)))","v":"Cameron Strombeck"},"NC",{"$f":"X2","v":"15 & <"},{"$f":"Y2","v":"F"},{"$f":"IF(DCOUNT(Scores,Z4,W4:Y5)>0,DMAX(Scores,Z4,W4:Y5),\"\")","v":1160},{"$f":"IF(DCOUNT(Scores,Z4,W4:Z5)>1,\"TIE\",IF(Z5=\"\",\"None\",DGET(Scores,'Individual Scores'!$D$1,W4:Z5)))","v":"Cameron Strombeck"},{"$f":"\"<>\"&V5","v":"<>Cameron Strombeck"},{"$f":"R5","v":"NC"},{"$f":"S5","v":"15 & <"},{"$f":"T5","v":"F"},{"$f":"IF(DMAX(Scores,AF4,AB4:AE5)=0,\"\",DMAX(Scores,AF4,AB4:AE5))","v":238},{"$f":"IF(DCOUNT(Scores,AF4,AC4:AF5)>1,\"TIE\",IF(AF5=\"\",\"None\",DGET(Scores,'Individual Scores'!$D$1,AC4:AF5)))","v":"Hailey Wall"},null,"NC",{"$f":"AJ2","v":"15 & <"},{"$f":"AK2","v":"F"},{"$f":"IF(DCOUNT(Scores,AL4,AI4:AK5)=0,\"\",DMAX(Scores,AL4,AI4:AK5))","v":""},{"$f":"IF(DCOUNT(Scores,AL4,AI4:AL5)>1,\"TIE\",IF(AL5=\"\",\"None\",DGET(Scores,'Individual Scores'!$D$1,AI4:AL5)))","v":"None"},"NC",{"$f":"AO2","v":"15 & <"},{"$f":"AP2","v":"F"},{"$f":"IF(DCOUNT(Scores,AQ4,AN4:AP5)>0,DMAX(Scores,AQ4,AN4:AP5),\"\")","v":""},{"$f":"IF(DCOUNT(Scores,AQ4,AN4:AQ5)>1,\"TIE\",IF(AQ5=\"\",\"None\",DGET(Scores,'Individual Scores'!$D$1,AN4:AQ5)))","v":"None"},{"$f":"\"<>\"&AM5","v":"<>None"},{"$f":"AI5","v":"NC"},{"$f":"AJ5","v":"15 & <"},{"$f":"AK5","v":"F"},{"$f":"IF(DMAX(Scores,AW4,AS4:AV5)=0,\"\",DMAX(Scores,AW4,AS4:AV5))","v":""},{"$f":"IF(DCOUNT(Scores,AW4,AT4:AW5)>1,\"TIE\",IF(AW5=\"\",\"None\",DGET(Scores,'Individual Scores'!$D$1,AT4:AW5)))","v":"None"},null,"NC",{"$f":"BA2","v":"15 & <"},{"$f":"BB2","v":"F"},{"$f":"IF(DMAX(Scores,BC4,AZ4:BB5)=0,\"\",DMAX(Scores,BC4,AZ4:BB5))","v":668},{"$f":"IF(DCOUNT(Scores,BC4,AZ4:BC5)>1,\"TIE\",IF(BC5=\"\",\"None\",DGET(Scores,'Individual Scores'!$D$1,AZ4:BC5)))","v":"Cameron Strombeck"},{"$f":"\"<>\"&BD5","v":"<>Cameron Strombeck"},"NC",{"$f":"BG2","v":"15 & <"},{"$f":"BH2","v":"F"},{"$f":"IF(DMAX(Scores,BI4,BE4:BH5)=0,\"\",DMAX(Scores,BI4,BE4:BH5))","v":238},{"$f":"IF(DCOUNT(Scores,BI4,BF4:BI5)>1,\"TIE\",IF(BI5=\"\",\"None\",DGET(Scores,'Individual Scores'!$D$1,BF4:BI5)))","v":"Hailey Wall"},null,{"$f":"AZ5","v":"NC"},{"$f":"BA5","v":"15 & <"},{"$f":"BB5","v":"F"},{"$f":"IF(DMAX(Scores,BO4,BK4:BN5)=0,\"\",DMAX(Scores,BO4,BK4:BN5))","v":2413},{"$f":"IF(DCOUNT(Scores,BO4,BL4:BO5)>1,\"TIE\",IF(BO5=\"\",\"None\",DGET(Scores,'Individual Scores'!$D$1,BL4:BO5)))","v":"Cameron Strombeck"}]
[null,null,null,null,{"$f":"IF(DCOUNT(Scores,D4,A4:D5)>1,\"TIE\",IF(D5=\"\",\"None\",E5&\" (\"&DGET(Scores,'Individual Scores'!$A$1,A4:D5)&\")\"))","v":"Cameron Strombeck (NC)"},null,null,null,null,{"$f":"IF(DCOUNT(Scores,I4,F4:I5)>1,\"TIE\",IF(I5=\"\",\"None\",J5&\" (\"&DGET(Scores,'Individual Scores'!$A$1,F4:I5)&\")\"))","v":"Cameron Strombeck (NC)"},null,null,null,null,null,{"$f":"IF(DCOUNT(Scores,O4,L4:O5)>1,\"TIE\",IF(O5=\"\",\"None\",P5&\" (\"&DGET(Scores,'Individual Scores'!$A$1,L4:O5)&\")\"))","v":"Maranda Marcum (NC)"},null,null,null,null,null,{"$f":"IF(DCOUNT(Scores,U4,R4:U5)>1,\"TIE\",IF(U5=\"\",\"None\",V5&\" (\"&DGET(Scores,'Individual Scores'!$A$1,R4:U5)&\")\"))","v":"Cameron Strombeck (NC)"},null,null,null,null,{"$f":"IF(DCOUNT(Scores,Z4,W4:Z5)>1,\"TIE\",IF(Z5=\"\",\"None\",AA5&\" (\"&DGET(Scores,'Individual Scores'!$A$1,W4:Z5)&\")\"))","v":"Cameron Strombeck (NC)"},null,null,null,null,null,{"$f":"IF(DCOUNT(Scores,AF4,AC4:AF5)>1,\"TIE\",IF(AF5=\"\",\"None\",AG5&\" (\"&DGET(Scores,'Individual Scores'!$A$1,AC4:AF5)&\")\"))","v":"Hailey Wall (NC)"},null,null,null,null,null,{"$f":"IF(DCOUNT(Scores,AL4,AI4:AL5)>1,\"TIE\",IF(AL5=\"\",\"None\",AM5&\" (\"&DGET(Scores,'Individual Scores'!$A$1,AI4:AL5)&\")\"))","v":"None"},null,null,null,null,{"$f":"IF(DCOUNT(Scores,AQ4,AN4:AQ5)>1,\"TIE\",IF(AQ5=\"\",\"None\",AR5&\" (\"&DGET(Scores,'Individual Scores'!$A$1,AN4:AQ5)&\")\"))","v":"None"},null,null,null,null,null,{"$f":"IF(DCOUNT(Scores,AW4,AT4:AW5)>1,\"TIE\",IF(AW5=\"\",\"None\",AX5&\" (\"&DGET(Scores,'Individual Scores'!$A$1,AT4:AW5)&\")\"))","v":"None"},null,null,null,null,null,{"$f":"IF(DCOUNT(Scores,BC4,AZ4:BC5)>1,\"TIE\",IF(BC5=\"\",\"None\",BD5&\" (\"&DGET(Scores,'Individual Scores'!$A$1,AZ4:BC5)&\")\"))","v":"Cameron Strombeck (NC)"},null,null,null,null,null,{"$f":"IF(DCOUNT(Scores,BI4,BF4:BI5)>1,\"TIE\",IF(BI5=\"\",\"None\",BJ5&\" (\"&DGET(Scores,'Individual Scores'!$A$1,BF4:BI5)&\")\"))","v":"Hailey Wall (NC)"},null,null,null,null,null,{"$f":"IF(DCOUNT(Scores,BO4,BL4:BO5)>1,\"TIE\",IF(BO5=\"\",\"None\",BP5&\" (\"&DGET(Scores,'Individual Scores'!$A$1,BL4:BO5)&\")\"))","v":"Cameron Strombeck (NC)"}]
["State","Age Group","Gender",{"$f":"'Individual Scores'!Y$1","v":"T1 High Series"},null,"State","Age Group","Gender",{"$f":"'Individual Scores'!W$1","v":"T1 Tournament Total"},null,{"$f":"'Individual Scores'!$D$1","v":"Full Name"},"State","Age Group","Gender",{"$f":"O1","v":"T1 High Game"},null,null,"State","Age Group","Gender",{"$f":"'Individual Scores'!AI$1","v":"T2 High Series"},null,"State","Age Group","Gender",{"$f":"'Individual Scores'!AG$1","v":"T2 Tournament Total"},null,{"$f":"'Individual Scores'!$D$1","v":"Full Name"},"State","Age Group","Gender",{"$f":"AF1","v":"T2 High Game"},null,null,"State","Age Group","Gender",{"$f":"'Individual Scores'!AS$1","v":"T3 High Series"},null,"State","Age Group","Gender",{"$f":"'Individual Scores'!AQ$1","v":"T3 Tournament Total"},null,{"$f":"'Individual Scores'!$D$1","v":"Full Name"},"State","Age Group","Gender",{"$f":"AW1","v":"T3 High Game"},null,null,"State","Age Group","Gender",{"$f":"'Individual Scores'!K$1","v":"High Series"},null,{"$f":"'Individual Scores'!$D$1","v":"Full Name"},"State","Age Group","Gender",{"$f":"BI1","v":"High Game"},null,null,"State","Age Group","Gender",{"$f":"'Individual Scores'!H$1","v":"All Events Total"}]
["SC",{"$f":"B5","v":"15 & <"},{"$f":"C5","v":"F"},{"$f":"IF(DCOUNT(Scores,D7,A7:C8)=0,\"\",DMAX(Scores,D7,A7:C8))","v":628},{"$f":"IF(DCOUNT(Scores,D7,A7:D8)>1,\"TIE\",IF(D8=\"\",\"None\",DGET(Scores,'Individual Scores'!$D$1,A7:D8)))","v":"Madison Janack"},"SC",{"$f":"G5","v":"15 & <"},{"$f":"H5","v":"F"},{"$f":"IF(DCOUNT(Scores,I7,F7:H8)>0,DMAX(Scores,I7,F7:H8),\"\")","v":1246},{"$f":"IF(DCOUNT(Scores,I7,F7:I8)>1,\"TIE\",IF(I8=\"\",\"None\",DGET(Scores,'Individual Scores'!$D$1,F7:I8)))","v":"Madison Janack"},{"$f":"IF(E8=\"None\",\"\",\"<>\"&E8)","v":"<>Madison Janack"},{"$f":"A8","v":"SC"},{"$f":"B8","v":"15 & <"},{"$f":"C8","v":"F"},{"$f":"IF(DMAX(Scores,O7,K7:N8)=0,\"\",DMAX(Scores,O7,K7:N8))","v":236},{"$f":"IF(DCOUNT(Scores,O7,L7:O8)>1,\"TIE\",IF(O8=\"\",\"None\",DGET(Scores,'Individual Scores'!$D$1,L7:O8)))","v":"Danielle Lane"},null,"SC",{"$f":"S5","v":"15 & <"},{"$f":"T5","v":"F"},{"$f":"IF(DCOUNT(Scores,'Individual Scores'!AI$1,R7:T8)=0,\"\",DMAX(Scores,'Individual Scores'!AI$1,R7:T8))","v":630},{"$f":"IF(DCOUNT(Scores,U7,R7:U8)>1,\"TIE\",IF(U8=\"\",\"None\",DGET(Scores,'Individual Scores'!$D$1,R7:U8)))","v":"TIE"},"SC",{"$f":"X5","v":"15 & <"},{"$f":"Y5","v":"F"},{"$f":"IF(DCOUNT(Scores,Z7,W7:Y8)>0,DMAX(Scores,Z7,W7:Y8),\"\")","v":1188},{"$f":"IF(DCOUNT(Scores,Z7,W7:Z8)>1,\"TIE\",IF(Z8=\"\",\"None\",DGET(Scores,'Individual Scores'!$D$1,W7:Z8)))","v":"Danielle Lane"},{"$f":"\"<>\"&V8","v":"<>TIE"},{"$f":"R8","v":"SC"},{"$f":"S8","v":"15 & <"},{"$f":"T8","v":"F"},{"$f":"IF(DMAX(Scores,AF7,AB7:AE8)=0,\"\",DMAX(Scores,AF7,AB7:AE8))","v":237},{"$f":"IF(DCOUNT(Scores,AF7,AC7:AF8)>1,\"TIE\",IF(AF8=\"\",\"None\",DGET(Scores,'Individual Scores'!$D$1,AC7:AF8)))","v":"Danielle Lane"},null,"SC",{"$f":"AJ5","v":"15 & <"},{"$f":"AK5","v":"F"},{"$f":"IF(DCOUNT(Scores,AL7,AI7:AK8)=0,\"\",DMAX(Scores,AL7,AI7:AK8))","v":""},{"$f":"IF(DCOUNT(Scores,AL7,AI7:AL8)>1,\"TIE\",IF(AL8=\"\",\"None\",DGET(Scores,'Individual Scores'!$D$1,AI7:AL8)))","v":"None"},"SC",{"$f":"AO5","v":"15 & <"},{"$f":"AP5","v":"F"},{"$f":"IF(DCOUNT(Scores,AQ7,AN7:AP8)>0,DMAX(Scores,AQ7,AN7:AP8),\"\")","v":""},{"$f":"IF(DCOUNT(Scores,AQ7,AN7:AQ8)>1,\"TIE\",IF(AQ8=\"\",\"None\",DGET(Scores,'Individual Scores'!$D$1,AN7:AQ8)))","v":"None"},{"$f":"\"<>\"&AM8","v":"<>None"},{"$f":"AI8","v":"SC"},{"$f":"AJ8","v":"15 & <"},{"$f":"AK8","v":"F"},{"$f":"IF(DMAX(Scores,AW7,AS7:AV8)=0,\"\",DMAX(Scores,AW7,AS7:AV8))","v":""},{"$f":"IF(DCOUNT(Scores,AW7,AT7:AW8)>1,\"TIE\",IF(AW8=\"\",\"None\",DGET(Scores,'Individual Scores'!$D$1,AT7:AW8)))","v":"None"},null,"SC",{"$f":"BA5","v":"15 & <"},{"$f":"BB5","v":"F"},{"$f":"IF(DMAX(Scores,BC7,AZ7:BB8)=0,\"\",DMAX(Scores,BC7,AZ7:BB8))","v":630},{"$f":"IF(DCOUNT(Scores,BC7,AZ7:BC8)>1,\"TIE\",IF(BC8=\"\",\"None\",DGET(Scores,'Individual Scores'!$D$1,AZ7:BC8)))","v":"TIE"},{"$f":"\"<>\"&BD8","v":"<>TIE"},"SC",{"$f":"BG5","v":"15 & <"},{"$f":"BH5","v":"F"},{"$f":"IF(DMAX(Scores,BI7,BE7:BH8)=0,\"\",DMAX(Scores,BI7,BE7:BH8))","v":237},{"$f":"IF(DCOUNT(Scores,BI7,BF7:BI8)>1,\"TIE\",IF(BI8=\"\",\"None\",DGET(Scores,'Individual Scores'!$D$1,BF7:BI8)))","v":"Danielle Lane"},null,{"$f":"AZ8","v":"SC"},{"$f":"BA8","v":"15 & <"},{"$f":"BB8","v":"F"},{"$f":"IF(DMAX(Scores,BO7,BK7:BN8)=0,\"\",DMAX(Scores,BO7,BK7:BN8))","v":2411},{"$f":"IF(DCOUNT(Scores,BO7,BL7:BO8)>1,\"TIE\",IF(BO8=\"\",\"None\",DGET(Scores,'Individual Scores'!$D$1,BL7:BO8)))","v":"Madison Janack"}]
[null,null,null,null,{"$f":"IF(DCOUNT(Scores,D7,A7:D8)>1,\"TIE\",IF(D8=\"\",\"None\",E8&\" (\"&DGET(Scores,'Individual Scores'!$A$1,A7:D8)&\")\"))","v":"Madison Janack (SC)"},null,null,null,null,{"$f":"IF(DCOUNT(Scores,I7,F7:I8)>1,\"TIE\",IF(I8=\"\",\"None\",J8&\" (\"&DGET(Scores,'Individual Scores'!$A$1,F7:I8)&\")\"))","v":"Madison Janack (SC)"},null,null,null,null,null,{"$f":"IF(DCOUNT(Scores,O7,L7:O8)>1,\"TIE\",IF(O8=\"\",\"None\",P8&\" (\"&DGET(Scores,'Individual Scores'!$A$1,L7:O8)&\")\"))","v":"Danielle Lane (SC)"},null,null,null,null,null,{"$f":"IF(DCOUNT(Scores,U7,R7:U8)>1,\"TIE\",IF(U8=\"\",\"None\",V8&\" (\"&DGET(Scores,'Individual Scores'!$A$1,R7:U8)&\")\"))","v":"TIE"},null,null,null,null,{"$f":"IF(DCOUNT(Scores,Z7,W7:Z8)>1,\"TIE\",IF(Z8=\"\",\"None\",AA8&\" (\"&DGET(Scores,'Individual Scores'!$A$1,W7:Z8)&\")\"))","v":"Danielle Lane (SC)"},null,null,null,null,null,{"$f":"IF(DCOUNT(Scores,AF7,AC7:AF8)>1,\"TIE\",IF(AF8=\"\",\"None\",AG8&\" (\"&DGET(Scores,'Individual Scores'!$A$1,AC7:AF8)&\")\"))","v":"Danielle Lane (SC)"},null,null,null,null,null,{"$f":"IF(DCOUNT(Scores,AL7,AI7:AL8)>1,\"TIE\",IF(AL8=\"\",\"None\",AM8&\" (\"&DGET(Scores,'Individual Scores'!$A$1,AI7:AL8)&\")\"))","v":"None"},null,null,null,null,{"$f":"IF(DCOUNT(Scores,AQ7,AN7:AQ8)>1,\"TIE\",IF(AQ8=\"\",\"None\",AR8&\" (\"&DGET(Scores,'Individual Scores'!$A$1,AN7:AQ8)&\")\"))","v":"None"},null,null,null,null,null,{"$f":"IF(DCOUNT(Scores,AW7,AT7:AW8)>1,\"TIE\",IF(AW8=\"\",\"None\",AX8&\" (\"&DGET(Scores,'Individual Scores'!$A$1,AT7:AW8)&\")\"))","v":"None"},null,null,null,null,null,{"$f":"IF(DCOUNT(Scores,BC7,AZ7:BC8)>1,\"TIE\",IF(BC8=\"\",\"None\",BD8&\" (\"&DGET(Scores,'Individual Scores'!$A$1,AZ7:BC8)&\")\"))","v":"TIE"},null,null,null,null,null,{"$f":"IF(DCOUNT(Scores,BI7,BF7:BI8)>1,\"TIE\",IF(BI8=\"\",\"None\",BJ8&\" (\"&DGET(Scores,'Individual Scores'!$A$1,BF7:BI8)&\")\"))","v":"Danielle Lane (SC)"},null,null,null,null,null,{"$f":"IF(DCOUNT(Scores,BO7,BL7:BO8)>1,\"TIE\",IF(BO8=\"\",\"None\",BP8&\" (\"&DGET(Scores,'Individual Scores'!$A$1,BL7:BO8)&\")\"))","v":"Madison Janack (SC)"}]
[null,"Age Group","Gender",{"$f":"'Individual Scores'!Y$1","v":"T1 High Series"},null,null,"Age Group","Gender",{"$f":"'Individual Scores'!W$1","v":"T1 Tournament Total"},null,null,{"$f":"K7","v":"Full Name"},"Age Group","Gender",{"$f":"O1","v":"T1 High Game"},null,null,null,"Age Group","Gender",{"$f":"'Individual Scores'!AI$1","v":"T2 High Series"},null,null,"Age Group","Gender",{"$f":"'Individual Scores'!AG$1","v":"T2 Tournament Total"},null,null,{"$f":"AB7","v":"Full Name"},"Age Group","Gender",{"$f":"AF1","v":"T2 High Game"},null,null,null,"Age Group","Gender",{"$f":"'Individual Scores'!AS$1","v":"T3 High Series"},null,null,"Age Group","Gender",{"$f":"'Individual Scores'!AQ$1","v":"T3 Tournament Total"},null,null,{"$f":"AS7","v":"Full Name"},"Age Group","Gender",{"$f":"AW1","v":"T3 High Game"},null,null,null,"Age Group","Gender",{"$f":"'Individual Scores'!K$1","v":"High Series"},null,null,{"$f":"BE7","v":"Full Name"},"Age Group","Gender",{"$f":"BI1","v":"High Game"},null,null,null,"Age Group","Gender",{"$f":"'Individual Scores'!H$1","v":"All Events Total"}]
[null,{"$f":"B8","v":"15 & <"},{"$f":"C8","v":"F"},{"$f":"IF(DCOUNT(Scores,D10,A10:C11)=0,\"\",DMAX(Scores,D10,A10:C11))","v":646},{"$f":"IF(DCOUNT(Scores,D10,A10:D11)>1,\"TIE\",IF(D11=\"\",\"None\",DGET(Scores,'Individual Scores'!$D$1,A10:D11)))","v":"Cameron Strombeck"},null,{"$f":"G8","v":"15 & <"},{"$f":"H8","v":"F"},{"$f":"IF(DCOUNT(Scores,I10,F10:H11)>0,DMAX(Scores,I10,F10:H11),\"\")","v":1253},{"$f":"IF(DCOUNT(Scores,I10,F10:I11)>1,\"TIE\",IF(I11=\"\",\"None\",DGET(Scores,'Individual Scores'!$D$1,F10:I11)))","v":"Cameron Strombeck"},null,{"$f":"\"<>\"&E11","v":"<>Cameron Strombeck"},{"$f":"B11","v":"15 & <"},{"$f":"C11","v":"F"},{"$f":"IF(DMAX(Scores,O10,L10:N11)=0,\"\",DMAX(Scores,O10,K10:N11))","v":236},{"$f":"IF(DCOUNT(Scores,O10,L10:O11)>1,\"TIE\",IF(O11=\"\",\"None\",DGET(Scores,'Individual Scores'!$D$1,L10:O11)))","v":"Danielle Lane"},null,null,{"$f":"S8","v":"15 & <"},{"$f":"T8","v":"F"},{"$f":"IF(DCOUNT(Scores,'Individual Scores'!AI$1,R10:T11)=0,\"\",DMAX(Scores,'Individual Scores'!AI$1,R10:T11))","v":668},{"$f":"IF(DCOUNT(Scores,U10,R10:U11)>1,\"TIE\",IF(U11=\"\",\"None\",DGET(Scores,'Individual Scores'!$D$1,R10:U11)))","v":"Cameron Strombeck"},null,{"$f":"X8","v":"15 & <"},{"$f":"Y8","v":"F"},{"$f":"IF(DCOUNT(Scores,Z10,W10:Y11)>0,DMAX(Scores,Z10,W10:Y11),\"\")","v":1188},{"$f":"IF(DCOUNT(Scores,Z10,W10:Z11)>1,\"TIE\",IF(Z11=\"\",\"None\",DGET(Scores,'Individual Scores'!$D$1,W10:Z11)))","v":"Danielle Lane"},null,{"$f":"\"<>\"&V11","v":"<>Cameron Strombeck"},{"$f":"S11","v":"15 & <"},{"$f":"T11","v":"F"},{"$f":"IF(DMAX(Scores,AF10,AB10:AE11)=0,\"\",DMAX(Scores,AF10,AB10:AE11))","v":238},{"$f":"IF(DCOUNT(Scores,AF10,AC10:AF11)>1,\"TIE\",IF(AF11=\"\",\"None\",DGET(Scores,'Individual Scores'!$D$1,AC10:AF11)))","v":"Hailey Wall"},null,null,{"$f":"AJ8","v":"15 & <"},{"$f":"AK8","v":"F"},{"$f":"IF(DCOUNT(Scores,AL10,AI10:AK11)=0,\"\",DMAX(Scores,AL10,AI10:AK11))","v":""},{"$f":"IF(DCOUNT(Scores,AL10,AI10:AL11)>1,\"TIE\",IF(AL11=\"\",\"None\",DGET(Scores,'Individual Scores'!$D$1,AI10:AL11)))","v":"None"},null,{"$f":"AO8","v":"15 & <"},{"$f":"AP8","v":"F"},{"$f":"IF(DCOUNT(Scores,AQ10,AN10:AP11)>0,DMAX(Scores,AQ10,AN10:AP11),\"\")","v":""},{"$f":"IF(DCOUNT(Scores,AQ10,AN10:AQ11)>1,\"TIE\",IF(AQ11=\"\",\"None\",DGET(Scores,'Individual Scores'!$D$1,AN10:AQ11)))","v":"None"},null,{"$f":"\"<>\"&AM11","v":"<>None"},{"$f":"AJ11","v":"15 & <"},{"$f":"AK11","v":"F"},{"$f":"IF(DMAX(Scores,AW10,AS10:AV11)=0,\"\",DMAX(Scores,AW10,AS10:AV11))","v":""},{"$f":"IF(DCOUNT(Scores,AW10,AT10:AW11)>1,\"TIE\",IF(AW11=\"\",\"None\",DGET(Scores,'Individual Scores'!$D$1,AT10:AW11)))","v":"None"},null,null,{"$f":"BA8","v":"15 & <"},{"$f":"BB8","v":"F"},{"$f":"IF(DMAX(Scores,BC10,AZ10:BB11)=0,\"\",DMAX(Scores,BC10,AZ10:BB11))","v":668},{"$f":"IF(DCOUNT(Scores,BC10,AZ10:BC11)>1,\"TIE\",IF(BC11=\"\",\"None\",DGET(Scores,'Individual Scores'!$D$1,AZ10:BC11)))","v":"Cameron Strombeck"},null,{"$f":"\"<>\"&BD11","v":"<>Cameron Strombeck"},{"$f":"BG8","v":"15 & <"},{"$f":"BH8","v":"F"},{"$f":"IF(DMAX(Scores,BI10,BE10:BH11)=0,\"\",DMAX(Scores,BI10,BE10:BH11))","v":238},{"$f":"IF(DCOUNT(Scores,BI10,BF10:BI11)>1,\"TIE\",IF(BI11=\"\",\"None\",DGET(Scores,'Individual Scores'!$D$1,BF10:BI11)))","v":"Hailey Wall"},null,null,{"$f":"BA11","v":"15 & <"},{"$f":"BB11","v":"F"},{"$f":"IF(DMAX(Scores,BO10,BK10:BN11)=0,\"\",DMAX(Scores,BO10,BK10:BN11))","v":2413},{"$f":"IF(DCOUNT(Scores,BO10,BL10:BO11)>1,\"TIE\",IF(BO11=\"\",\"None\",DGET(Scores,'Individual Scores'!$D$1,BL10:BO11)))","v":"Cameron Strombeck"}]
[null,null,null,null,{"$f":"IF(DCOUNT(Scores,D10,A10:D11)>1,\"TIE\",IF(D11=\"\",\"None\",E11&\" (\"&DGET(Scores,'Individual Scores'!$A$1,A10:D11)&\")\"))","v":"Cameron Strombeck (NC)"},null,null,null,null,{"$f":"IF(DCOUNT(Scores,I10,F10:I11)>1,\"TIE\",IF(I11=\"\",\"None\",J11&\" (\"&DGET(Scores,'Individual Scores'!$A$1,F10:I11)&\")\"))","v":"Cameron Strombeck (NC)"},null,null,null,null,null,{"$f":"IF(DCOUNT(Scores,O10,L10:O11)>1,\"TIE\",IF(O11=\"\",\"None\",P11&\" (\"&DGET(Scores,'Individual Scores'!$A$1,L10:O11)&\")\"))","v":"Danielle Lane (SC)"},null,null,null,null,null,{"$f":"IF(DCOUNT(Scores,U10,R10:U11)>1,\"TIE\",IF(U11=\"\",\"None\",V11&\" (\"&DGET(Scores,'Individual Scores'!$A$1,R10:U11)&\")\"))","v":"Cameron Strombeck (NC)"},null,null,null,null,{"$f":"IF(DCOUNT(Scores,Z10,W10:Z11)>1,\"TIE\",IF(Z11=\"\",\"None\",AA11&\" (\"&DGET(Scores,'Individual Scores'!$A$1,W10:Z11)&\")\"))","v":"Danielle Lane (SC)"},null,null,null,null,null,{"$f":"IF(DCOUNT(Scores,AF10,AC10:AF11)>1,\"TIE\",IF(AF11=\"\",\"None\",AG11&\" (\"&DGET(Scores,'Individual Scores'!$A$1,AC10:AF11)&\")\"))","v":"Hailey Wall (NC)"},null,null,null,null,null,{"$f":"IF(DCOUNT(Scores,AL10,AI10:AL11)>1,\"TIE\",IF(AL11=\"\",\"None\",AM11&\" (\"&DGET(Scores,'Individual Scores'!$A$1,AI10:AL11)&\")\"))","v":"None"},null,null,null,null,{"$f":"IF(DCOUNT(Scores,AQ10,AN10:AQ11)>1,\"TIE\",IF(AQ11=\"\",\"None\",AR11&\" (\"&DGET(Scores,'Individual Scores'!$A$1,AN10:AQ11)&\")\"))","v":"None"},null,null,null,null,null,{"$f":"IF(DCOUNT(Scores,AW10,AT10:AW11)>1,\"TIE\",IF(AW11=\"\",\"None\",AX11&\" (\"&DGET(Scores,'Individual Scores'!$A$1,AT10:AW11)&\")\"))","v":"None"},null,null,null,null,null,{"$f":"IF(DCOUNT(Scores,BC10,AZ10:BC11)>1,\"TIE\",IF(BC11=\"\",\"None\",BD11&\" (\"&DGET(Scores,'Individual Scores'!$A$1,AZ10:BC11)&\")\"))","v":"Cameron Strombeck (NC)"},null,null,null,null,null,{"$f":"IF(DCOUNT(Scores,BI10,BF10:BI11)>1,\"TIE\",IF(BI11=\"\",\"None\",BJ11&\" (\"&DGET(Scores,'Individual Scores'!$A$1,BF10:BI11)&\")\"))","v":"Hailey Wall (NC)"},null,null,null,null,null,{"$f":"IF(DCOUNT(Scores,BO10,BL10:BO11)>1,\"TIE\",IF(BO11=\"\",\"None\",BP11&\" (\"&DGET(Scores,'Individual Scores'!$A$1,BL10:BO11)&\")\"))","v":"Cameron Strombeck (NC)"}]
[null,null,null,null,{"$f":"IF(DCOUNT(Scores,D10,A10:D11)>1,\"\",DGET(Scores,'Individual Scores'!$A$1,A10:D11))","v":"NC"},null,null,null,null,{"$f":"IF(DCOUNT(Scores,I10,F10:I11)>1,\"\",DGET(Scores,'Individual Scores'!$A$1,F10:I11))","v":"NC"},null,null,null,null,null,{"$f":"IF(DCOUNT(Scores,O10,L10:O11)>1,\"\",DGET(Scores,'Individual Scores'!$A$1,L10:O11))","v":"SC"},null,null,null,null,null,{"$f":"IF(DCOUNT(Scores,U10,R10:U11)>1,\"\",DGET(Scores,'Individual Scores'!$A$1,R10:U11))","v":"NC"},null,null,null,null,{"$f":"IF(DCOUNT(Scores,Z10,W10:Z11)>1,\"\",DGET(Scores,'Individual Scores'!$A$1,W10:Z11))","v":"SC"},null,null,null,null,null,{"$f":"IF(DCOUNT(Scores,AF10,AC10:AF11)>1,\"\",DGET(Scores,'Individual Scores'!$A$1,AC10:AF11))","v":"NC"},null,null,null,null,null,{"$f":"IF(DCOUNT(Scores,AL10,AI10:AL11)>1,\"\",DGET(Scores,'Individual Scores'!$A$1,AI10:AL11))","v":{"$error":"#NUM!"}},null,null,null,null,{"$f":"IF(DCOUNT(Scores,AQ10,AN10:AQ11)>1,\"\",DGET(Scores,'Individual Scores'!$A$1,AN10:AQ11))","v":{"$error":"#NUM!"}},null,null,null,null,null,{"$f":"IF(DCOUNT(Scores,AW10,AT10:AW11)>1,\"\",DGET(Scores,'Individual Scores'!$A$1,AT10:AW11))","v":{"$error":"#NUM!"}},null,null,null,null,null,{"$f":"IF(DCOUNT(Scores,BC10,AZ10:BC11)>1,\"\",DGET(Scores,'Individual Scores'!$A$1,AZ10:BC11))","v":"NC"},null,null,null,null,null,{"$f":"IF(DCOUNT(Scores,BI10,BF10:BI11)>1,\"\",DGET(Scores,'Individual Scores'!$A$1,BF10:BI11))","v":"NC"},null,null,null,null,null,{"$f":"IF(DCOUNT(Scores,BO10,BL10:BO11)>1,\"\",DGET(Scores,'Individual Scores'!$A$1,BL10:BO11))","v":"NC"}]
["State","Age Group","Gender",{"$f":"'Individual Scores'!Y$1","v":"T1 High Series"},null,"State","Age Group","Gender",{"$f":"'Individual Scores'!W$1","v":"T1 Tournament Total"},null,{"$f":"'Individual Scores'!$D$1","v":"Full Name"},"State","Age Group","Gender",{"$f":"O1","v":"T1 High Game"},null,null,"State","Age Group","Gender",{"$f":"'Individual Scores'!AI$1","v":"T2 High Series"},null,"State","Age Group","Gender",{"$f":"'Individual Scores'!AG$1","v":"T2 Tournament Total"},null,{"$f":"'Individual Scores'!$D$1","v":"Full Name"},"State","Age Group","Gender",{"$f":"AF1","v":"T2 High Game"},null,null,"State","Age Group","Gender",{"$f":"'Individual Scores'!AS$1","v":"T3 High Series"},null,"State","Age Group","Gender",{"$f":"'Individual Scores'!AQ$1","v":"T3 Tournament Total"},null,{"$f":"'Individual Scores'!$D$1","v":"Full Name"},"State","Age Group","Gender",{"$f":"AW1","v":"T3 High Game"},null,null,"State","Age Group","Gender",{"$f":"'Individual Scores'!K$1","v":"High Series"},null,{"$f":"'Individual Scores'!$D$1","v":"Full Name"},"State","Age Group","Gender",{"$f":"BI1","v":"High Game"},null,null,"State","Age Group","Gender",{"$f":"'Individual Scores'!H$1","v":"All Events Total"}]
["GA",{"$f":"'Individual Awards Computations'!$B$2","v":"15 & <"},"M",{"$f":"IF(DCOUNT(Scores,D14,A14:C15)=0,\"\",DMAX(Scores,D14,A14:C15))","v":723},{"$f":"IF(DCOUNT(Scores,D14,A14:D15)>1,\"TIE\",IF(D15=\"\",\"None\",DGET(Scores,'Individual Scores'!$D$1,A14:D15)))","v":"Peyton Smith"},"GA",{"$f":"'Individual Awards Computations'!$B$15","v":"15 & <"},"M",{"$f":"IF(DCOUNT(Scores,I14,F14:H15)>0,DMAX(Scores,I14,F14:H15),\"\")","v":1341},{"$f":"IF(DCOUNT(Scores,I14,F14:I15)>1,\"TIE\",IF(I15=\"\",\"None\",DGET(Scores,'Individual Scores'!$D$1,F14:I15)))","v":"Peyton Smith"},{"$f":"IF(E15=\"None\",\"\",\"<>\"&E15)","v":"<>Peyton Smith"},{"$f":"A15","v":"GA"},{"$f":"B15","v":"15 & <"},{"$f":"C15","v":"M"},{"$f":"IF(DMAX(Scores,O14,K14:N15)=0,\"\",DMAX(Scores,O14,K14:N15))","v":245},{"$f":"IF(DCOUNT(Scores,O14,L14:O15)>1,\"TIE\",IF(O15=\"\",\"None\",DGET(Scores,'Individual Scores'!$D$1,L14:O15)))","v":"Sean Espey"},null,"GA",{"$f":"'Individual Awards Computations'!$M$15","v":"15 & <"},"M",{"$f":"IF(DCOUNT(Scores,'Individual Scores'!AI$1,R14:T15)=0,\"\",DMAX(Scores,'Individual Scores'!AI$1,R14:T15))","v":679},{"$f":"IF(DCOUNT(Scores,U14,R14:U15)>1,\"TIE\",IF(U15=\"\",\"None\",DGET(Scores,'Individual Scores'!$D$1,R14:U15)))","v":"Peyton Smith"},"GA",{"$f":"'Individual Awards Computations'!$S$15","v":"15 & <"},"M",{"$f":"IF(DCOUNT(Scores,Z14,W14:Y15)>0,DMAX(Scores,Z14,W14:Y15),\"\")","v":1288},{"$f":"IF(DCOUNT(Scores,Z14,W14:Z15)>1,\"TIE\",IF(Z15=\"\",\"None\",DGET(Scores,'Individual Scores'!$D$1,W14:Z15)))","v":"Peyton Smith"},{"$f":"\"<>\"&V15","v":"<>Peyton Smith"},{"$f":"R15","v":"GA"},{"$f":"S15","v":"15 & <"},{"$f":"T15","v":"M"},{"$f":"IF(DMAX(Scores,AF14,AB14:AE15)=0,\"\",DMAX(Scores,AF14,AB14:AE15))","v":246},{"$f":"IF(DCOUNT(Scores,AF14,AC14:AF15)>1,\"TIE\",IF(AF15=\"\",\"None\",DGET(Scores,'Individual Scores'!$D$1,AC14:AF15)))","v":"Paris Swinson"},null,"GA",{"$f":"'Individual Awards Computations'!$AD$15","v":"15 & <"},"M",{"$f":"IF(DCOUNT(Scores,AL14,AI14:AK15)=0,\"\",DMAX(Scores,AL14,AI14:AK15))","v":""},{"$f":"IF(DCOUNT(Scores,AL14,AI14:AL15)>1,\"TIE\",IF(AL15=\"\",\"None\",DGET(Scores,'Individual Scores'!$D$1,AI14:AL15)))","v":"None"},"GA",{"$f":"'Individual Awards Computations'!$AJ$15","v":"15 & <"},"M",{"$f":"IF(DCOUNT(Scores,AQ14,AN14:AP15)>0,DMAX(Scores,AQ14,AN14:AP15),\"\")","v":""},{"$f":"IF(DCOUNT(Scores,AQ14,AN14:AQ15)>1,\"TIE\",IF(AQ15=\"\",\"None\",DGET(Scores,'Individual Scores'!$D$1,AN14:AQ15)))","v":"None"},{"$f":"\"<>\"&AM15","v":"<>None"},{"$f":"AI15","v":"GA"},{"$f":"AJ15","v":"15 & <"},{"$f":"AK15","v":"M"},{"$f":"IF(DMAX(Scores,AW14,AS14:AV15)=0,\"\",DMAX(Scores,AW14,AS14:AV15))","v":""},{"$f":"IF(DCOUNT(Scores,AW14,AT14:AW15)>1,\"TIE\",IF(AW15=\"\",\"None\",DGET(Scores,'Individual Scores'!$D$1,AT14:AW15)))","v":"None"},null,"GA",{"$f":"'Individual Awards Computations'!$AU$15","v":"15 & <"},"M",{"$f":"IF(DMAX(Scores,BC14,AZ14:BB15)=0,\"\",DMAX(Scores,BC14,AZ14:BB15))","v":723},{"$f":"IF(DCOUNT(Scores,BC14,AZ14:BC15)>1,\"TIE\",IF(BC15=\"\",\"None\",DGET(Scores,'Individual Scores'!$D$1,AZ14:BC15)))","v":"Peyton Smith"},{"$f":"\"<>\"&BD15","v":"<>Peyton Smith"},"GA",{"$f":"'Individual Awards Computations'!$BA$15","v":"15 & <"},"M",{"$f":"IF(DMAX(Scores,BI14,BE14:BH15)=0,\"\",DMAX(Scores,BI14,BE14:BH15))","v":246},{"$f":"IF(DCOUNT(Scores,BI14,BF14:BI15)>1,\"TIE\",IF(BI15=\"\",\"None\",DGET(Scores,'Individual Scores'!$D$1,BF14:BI15)))","v":"Paris Swinson"},null,{"$f":"AZ15","v":"GA"},{"$f":"BA15","v":"15 & <"},{"$f":"BB15","v":"M"},{"$f":"IF(DMAX(Scores,BO14,BK14:BN15)=0,\"\",DMAX(Scores,BO14,BK14:BN15))","v":2629},{"$f":"IF(DCOUNT(Scores,BO14,BL14:BO15)>1,\"TIE\",IF(BO15=\"\",\"None\",DGET(Scores,'Individual Scores'!$D$1,BL14:BO15)))","v":"Peyton Smith"}]
[null,null,null,null,{"$f":"IF(DCOUNT(Scores,D14,A14:D15)>1,\"TIE\",IF(D15=\"\",\"None\",E15&\" (\"&DGET(Scores,'Individual Scores'!$A$1,A14:D15)&\")\"))","v":"Peyton Smith (GA)"},null,null,null,null,{"$f":"IF(DCOUNT(Scores,I14,F14:I15)>1,\"TIE\",IF(I15=\"\",\"None\",J15&\" (\"&DGET(Scores,'Individual Scores'!$A$1,F14:I15)&\")\"))","v":"Peyton Smith (GA)"},null,null,null,null,null,{"$f":"IF(DCOUNT(Scores,O14,L14:O15)>1,\"TIE\",IF(O15=\"\",\"None\",P15&\" (\"&DGET(Scores,'Individual Scores'!$A$1,L14:O15)&\")\"))","v":"Sean Espey (GA)"},null,null,null,null,null,{"$f":"IF(DCOUNT(Scores,U14,R14:U15)>1,\"TIE\",IF(U15=\"\",\"None\",V15&\" (\"&DGET(Scores,'Individual Scores'!$A$1,R14:U15)&\")\"))","v":"Peyton Smith (GA)"},null,null,null,null,{"$f":"IF(DCOUNT(Scores,Z14,W14:Z15)>1,\"TIE\",IF(Z15=\"\",\"None\",AA15&\" (\"&DGET(Scores,'Individual Scores'!$A$1,W14:Z15)&\")\"))","v":"Peyton Smith (GA)"},null,null,null,null,null,{"$f":"IF(DCOUNT(Scores,AF14,AC14:AF15)>1,\"TIE\",IF(AF15=\"\",\"None\",AG15&\" (\"&DGET(Scores,'Individual Scores'!$A$1,AC14:AF15)&\")\"))","v":"Paris Swinson (GA)"},null,null,null,null,null,{"$f":"IF(DCOUNT(Scores,AL14,AI14:AL15)>1,\"TIE\",IF(AL15=\"\",\"None\",AM15&\" (\"&DGET(Scores,'Individual Scores'!$A$1,AI14:AL15)&\")\"))","v":"None"},null,null,null,null,{"$f":"IF(DCOUNT(Scores,AQ14,AN14:AQ15)>1,\"TIE\",IF(AQ15=\"\",\"None\",AR15&\" (\"&DGET(Scores,'Individual Scores'!$A$1,AN14:AQ15)&\")\"))","v":"None"},null,null,null,null,null,{"$f":"IF(DCOUNT(Scores,AW14,AT14:AW15)>1,\"TIE\",IF(AW15=\"\",\"None\",AX15&\" (\"&DGET(Scores,'Individual Scores'!$A$1,AT14:AW15)&\")\"))","v":"None"},null,null,null,null,null,{"$f":"IF(DCOUNT(Scores,BC14,AZ14:BC15)>1,\"TIE\",IF(BC15=\"\",\"None\",BD15&\" (\"&DGET(Scores,'Individual Scores'!$A$1,AZ14:BC15)&\")\"))","v":"Peyton Smith (GA)"},null,null,null,null,null,{"$f":"IF(DCOUNT(Scores,BI14,BF14:BI15)>1,\"TIE\",IF(BI15=\"\",\"None\",BJ15&\" (\"&DGET(Scores,'Individual Scores'!$A$1,BF14:BI15)&\")\"))","v":"Paris Swinson (GA)"},null,null,null,null,null,{"$f":"IF(DCOUNT(Scores,BO14,BL14:BO15)>1,\"TIE\",IF(BO15=\"\",\"None\",BP15&\" (\"&DGET(Scores,'Individual Scores'!$A$1,BL14:BO15)&\")\"))","v":"Peyton Smith (GA)"}]
["State","Age Group","Gender",{"$f":"'Individual Scores'!Y$1","v":"T1 High Series"},null,"State","Age Group","Gender",{"$f":"'Individual Scores'!W$1","v":"T1 Tournament Total"},null,{"$f":"'Individual Scores'!$D$1","v":"Full Name"},"State","Age Group","Gender",{"$f":"O4","v":"T1 High Game"},null,null,"State","Age Group","Gender",{"$f":"'Individual Scores'!AI$1","v":"T2 High Series"},null,"State","Age Group","Gender",{"$f":"'Individual Scores'!AG$1","v":"T2 Tournament Total"},null,{"$f":"'Individual Scores'!$D$1","v":"Full Name"},"State","Age Group","Gender",{"$f":"AF4","v":"T2 High Game"},null,null,"State","Age Group","Gender",{"$f":"'Individual Scores'!AS$1","v":"T3 High Series"},null,"State","Age Group","Gender",{"$f":"'Individual Scores'!AQ$1","v":"T3 Tournament Total"},null,{"$f":"'Individual Scores'!$D$1","v":"Full Name"},"State","Age Group","Gender",{"$f":"AW4","v":"T3 High Game"},null,null,"State","Age Group","Gender",{"$f":"'Individual Scores'!K$1","v":"High Series"},null,{"$f":"'Individual Scores'!$D$1","v":"Full Name"},"State","Age Group","Gender",{"$f":"BI4","v":"High Game"},null,null,"State","Age Group","Gender",{"$f":"'Individual Scores'!H$1","v":"All Events Total"}]
["NC",{"$f":"B15","v":"15 & <"},{"$f":"C15","v":"M"},{"$f":"IF(DCOUNT(Scores,D17,A17:C18)=0,\"\",DMAX(Scores,D17,A17:C18))","v":652},{"$f":"IF(DCOUNT(Scores,D17,A17:D18)>1,\"TIE\",IF(D18=\"\",\"None\",DGET(Scores,'Individual Scores'!$D$1,A17:D18)))","v":"Spencer Gutowsky"},"NC",{"$f":"G15","v":"15 & <"},{"$f":"H15","v":"M"},{"$f":"IF(DCOUNT(Scores,I17,F17:H18)>0,DMAX(Scores,I17,F17:H18),\"\")","v":1254},{"$f":"IF(DCOUNT(Scores,I17,F17:I18)>1,\"TIE\",IF(I18=\"\",\"None\",DGET(Scores,'Individual Scores'!$D$1,F17:I18)))","v":"Spencer Gutowsky"},{"$f":"IF(E18=\"None\",\"\",\"<>\"&E18)","v":"<>Spencer Gutowsky"},{"$f":"A18","v":"NC"},{"$f":"B18","v":"15 & <"},{"$f":"C18","v":"M"},{"$f":"IF(DMAX(Scores,O17,K17:N18)=0,\"\",DMAX(Scores,O17,K17:N18))","v":245},{"$f":"IF(DCOUNT(Scores,O17,L17:O18)>1,\"TIE\",IF(O18=\"\",\"None\",DGET(Scores,'Individual Scores'!$D$1,L17:O18)))","v":"TIE"},null,"NC",{"$f":"S15","v":"15 & <"},{"$f":"T15","v":"M"},{"$f":"IF(DCOUNT(Scores,'Individual Scores'!AI$1,R17:T18)=0,\"\",DMAX(Scores,'Individual Scores'!AI$1,R17:T18))","v":703},{"$f":"IF(DCOUNT(Scores,U17,R17:U18)>1,\"TIE\",IF(U18=\"\",\"None\",DGET(Scores,'Individual Scores'!$D$1,R17:U18)))","v":"Chad Severt"},"NC",{"$f":"X15","v":"15 & <"},{"$f":"Y15","v":"M"},{"$f":"IF(DCOUNT(Scores,Z17,W17:Y18)>0,DMAX(Scores,Z17,W17:Y18),\"\")","v":1289},{"$f":"IF(DCOUNT(Scores,Z17,W17:Z18)>1,\"TIE\",IF(Z18=\"\",\"None\",DGET(Scores,'Individual Scores'!$D$1,W17:Z18)))","v":"Chad Severt"},{"$f":"\"<>\"&V18","v":"<>Chad Severt"},{"$f":"R18","v":"NC"},{"$f":"S18","v":"15 & <"},{"$f":"T18","v":"M"},{"$f":"IF(DMAX(Scores,AF17,AB17:AE18)=0,\"\",DMAX(Scores,AF17,AB17:AE18))","v":257},{"$f":"IF(DCOUNT(Scores,AF17,AC17:AF18)>1,\"TIE\",IF(AF18=\"\",\"None\",DGET(Scores,'Individual Scores'!$D$1,AC17:AF18)))","v":"Jacob Bloomfield "},null,"NC",{"$f":"AJ15","v":"15 & <"},{"$f":"AK15","v":"M"},{"$f":"IF(DCOUNT(Scores,AL17,AI17:AK18)=0,\"\",DMAX(Scores,AL17,AI17:AK18))","v":""},{"$f":"IF(DCOUNT(Scores,AL17,AI17:AL18)>1,\"TIE\",IF(AL18=\"\",\"None\",DGET(Scores,'Individual Scores'!$D$1,AI17:AL18)))","v":"None"},"NC",{"$f":"AO15","v":"15 & <"},{"$f":"AP15","v":"M"},{"$f":"IF(DCOUNT(Scores,AQ17,AN17:AP18)>0,DMAX(Scores,AQ17,AN17:AP18),\"\")","v":""},{"$f":"IF(DCOUNT(Scores,AQ17,AN17:AQ18)>1,\"TIE\",IF(AQ18=\"\",\"None\",DGET(Scores,'Individual Scores'!$D$1,AN17:AQ18)))","v":"None"},{"$f":"\"<>\"&AM18","v":"<>None"},{"$f":"AI18","v":"NC"},{"$f":"AJ18","v":"15 & <"},{"$f":"AK18","v":"M"},{"$f":"IF(DMAX(Scores,AW17,AS17:AV18)=0,\"\",DMAX(Scores,AW17,AS17:AV18))","v":""},{"$f":"IF(DCOUNT(Scores,AW17,AT17:AW18)>1,\"TIE\",IF(AW18=\"\",\"None\",DGET(Scores,'Individual Scores'!$D$1,AT17:AW18)))","v":"None"},null,"NC",{"$f":"BA15","v":"15 & <"},{"$f":"BB15","v":"M"},{"$f":"IF(DMAX(Scores,BC17,AZ17:BB18)=0,\"\",DMAX(Scores,BC17,AZ17:BB18))","v":703},{"$f":"IF(DCOUNT(Scores,BC17,AZ17:BC18)>1,\"TIE\",IF(BC18=\"\",\"None\",DGET(Scores,'Individual Scores'!$D$1,AZ17:BC18)))","v":"Chad Severt"},{"$f":"\"<>\"&BD18","v":"<>Chad Severt"},"NC",{"$f":"BG15","v":"15 & <"},{"$f":"BH15","v":"M"},{"$f":"IF(DMAX(Scores,BI17,BE17:BH18)=0,\"\",DMAX(Scores,BI17,BE17:BH18))","v":257},{"$f":"IF(DCOUNT(Scores,BI17,BF17:BI18)>1,\"TIE\",IF(BI18=\"\",\"None\",DGET(Scores,'Individual Scores'!$D$1,BF17:BI18)))","v":"Jacob Bloomfield "},null,{"$f":"AZ18","v":"NC"},{"$f":"BA18","v":"15 & <"},{"$f":"BB18","v":"M"},{"$f":"IF(DMAX(Scores,BO17,BK17:BN18)=0,\"\",DMAX(Scores,BO17,BK17:BN18))","v":2445},{"$f":"IF(DCOUNT(Scores,BO17,BL17:BO18)>1,\"TIE\",IF(BO18=\"\",\"None\",DGET(Scores,'Individual Scores'!$D$1,BL17:BO18)))","v":"Chad Severt"}]
[null,null,null,null,{"$f":"IF(DCOUNT(Scores,D17,A17:D18)>1,\"TIE\",IF(D18=\"\",\"None\",E18&\" (\"&DGET(Scores,'Individual Scores'!$A$1,A17:D18)&\")\"))","v":"Spencer Gutowsky (NC)"},null,null,null,null,{"$f":"IF(DCOUNT(Scores,I17,F17:I18)>1,\"TIE\",IF(I18=\"\",\"None\",J18&\" (\"&DGET(Scores,'Individual Scores'!$A$1,F17:I18)&\")\"))","v":"Spencer Gutowsky (NC)"},null,null,null,null,null,{"$f":"IF(DCOUNT(Scores,O17,L17:O18)>1,\"TIE\",IF(O18=\"\",\"None\",P18&\" (\"&DGET(Scores,'Individual Scores'!$A$1,L17:O18)&\")\"))","v":"TIE"},null,null,null,null,null,{"$f":"IF(DCOUNT(Scores,U17,R17:U18)>1,\"TIE\",IF(U18=\"\",\"None\",V18&\" (\"&DGET(Scores,'Individual Scores'!$A$1,R17:U18)&\")\"))","v":"Chad Severt (NC)"},null,null,null,null,{"$f":"IF(DCOUNT(Scores,Z17,W17:Z18)>1,\"TIE\",IF(Z18=\"\",\"None\",AA18&\" (\"&DGET(Scores,'Individual Scores'!$A$1,W17:Z18)&\")\"))","v":"Chad Severt (NC)"},null,null,null,null,null,{"$f":"IF(DCOUNT(Scores,AF17,AC17:AF18)>1,\"TIE\",IF(AF18=\"\",\"None\",AG18&\" (\"&DGET(Scores,'Individual Scores'!$A$1,AC17:AF18)&\")\"))","v":"Jacob Bloomfield  (NC)"},null,null,null,null,null,{"$f":"IF(DCOUNT(Scores,AL17,AI17:AL18)>1,\"TIE\",IF(AL18=\"\",\"None\",AM18&\" (\"&DGET(Scores,'Individual Scores'!$A$1,AI17:AL18)&\")\"))","v":"None"},null,null,null,null,{"$f":"IF(DCOUNT(Scores,AQ17,AN17:AQ18)>1,\"TIE\",IF(AQ18=\"\",\"None\",AR18&\" (\"&DGET(Scores,'Individual Scores'!$A$1,AN17:AQ18)&\")\"))","v":"None"},null,null,null,null,null,{"$f":"IF(DCOUNT(Scores,AW17,AT17:AW18)>1,\"TIE\",IF(AW18=\"\",\"None\",AX18&\" (\"&DGET(Scores,'Individual Scores'!$A$1,AT17:AW18)&\")\"))","v":"None"},null,null,null,null,null,{"$f":"IF(DCOUNT(Scores,BC17,AZ17:BC18)>1,\"TIE\",IF(BC18=\"\",\"None\",BD18&\" (\"&DGET(Scores,'Individual Scores'!$A$1,AZ17:BC18)&\")\"))","v":"Chad Severt (NC)"},null,null,null,null,null,{"$f":"IF(DCOUNT(Scores,BI17,BF17:BI18)>1,\"TIE\",IF(BI18=\"\",\"None\",BJ18&\" (\"&DGET(Scores,'Individual Scores'!$A$1,BF17:BI18)&\")\"))","v":"Jacob Bloomfield  (NC)"},null,null,null,null,null,{"$f":"IF(DCOUNT(Scores,BO17,BL17:BO18)>1,\"TIE\",IF(BO18=\"\",\"None\",BP18&\" (\"&DGET(Scores,'Individual Scores'!$A$1,BL17:BO18)&\")\"))","v":"Chad Severt (NC)"}]
["State","Age Group","Gender",{"$f":"'Individual Scores'!Y$1","v":"T1 High Series"},null,"State","Age Group","Gender",{"$f":"'Individual Scores'!W$1","v":"T1 Tournament Total"},null,{"$f":"'Individual Scores'!$D$1","v":"Full Name"},"State","Age Group","Gender",{"$f":"O7","v":"T1 High Game"},null,null,"State","Age Group","Gender",{"$f":"'Individual Scores'!AI$1","v":"T2 High Series"},null,"State","Age Group","Gender",{"$f":"'Individual Scores'!AG$1","v":"T2 Tournament Total"},null,{"$f":"'Individual Scores'!$D$1","v":"Full Name"},"State","Age Group","Gender",{"$f":"AF7","v":"T2 High Game"},null,null,"State","Age Group","Gender",{"$f":"'Individual Scores'!AS$1","v":"T3 High Series"},null,"State","Age Group","Gender",{"$f":"'Individual Scores'!AQ$1","v":"T3 Tournament Total"},null,{"$f":"'Individual Scores'!$D$1","v":"Full Name"},"State","Age Group","Gender",{"$f":"AW7","v":"T3 High Game"},null,null,"State","Age Group","Gender",{"$f":"'Individual Scores'!K$1","v":"High Series"},null,{"$f":"'Individual Scores'!$D$1","v":"Full Name"},"State","Age Group","Gender",{"$f":"BI7","v":"High Game"},null,null,"State","Age Group","Gender",{"$f":"'Individual Scores'!H$1","v":"All Events Total"}]
["SC",{"$f":"B18","v":"15 & <"},{"$f":"C18","v":"M"},{"$f":"IF(DCOUNT(Scores,D20,A20:C21)=0,\"\",DMAX(Scores,D20,A20:C21))","v":721},{"$f":"IF(DCOUNT(Scores,D20,A20:D21)>1,\"TIE\",IF(D21=\"\",\"None\",DGET(Scores,'Individual Scores'!$D$1,A20:D21)))","v":"Brandon Magennis"},"SC",{"$f":"G18","v":"15 & <"},{"$f":"H18","v":"M"},{"$f":"IF(DCOUNT(Scores,I20,F20:H21)>0,DMAX(Scores,I20,F20:H21),\"\")","v":1290},{"$f":"IF(DCOUNT(Scores,I20,F20:I21)>1,\"TIE\",IF(I21=\"\",\"None\",DGET(Scores,'Individual Scores'!$D$1,F20:I21)))","v":"Brandon Magennis"},{"$f":"IF(E21=\"None\",\"\",\"<>\"&E21)","v":"<>Brandon Magennis"},{"$f":"A21","v":"SC"},{"$f":"B21","v":"15 & <"},{"$f":"C21","v":"M"},{"$f":"IF(DMAX(Scores,O20,K20:N21)=0,\"\",DMAX(Scores,O20,K20:N21))","v":256},{"$f":"IF(DCOUNT(Scores,O20,L20:O21)>1,\"TIE\",IF(O21=\"\",\"None\",DGET(Scores,'Individual Scores'!$D$1,L20:O21)))","v":"Jonathan Lovett"},null,"SC",{"$f":"S18","v":"15 & <"},{"$f":"T18","v":"M"},{"$f":"IF(DCOUNT(Scores,'Individual Scores'!AI$1,R20:T21)=0,\"\",DMAX(Scores,'Individual Scores'!AI$1,R20:T21))","v":649},{"$f":"IF(DCOUNT(Scores,U20,R20:U21)>1,\"TIE\",IF(U21=\"\",\"None\",DGET(Scores,'Individual Scores'!$D$1,R20:U21)))","v":"TIE"},"SC",{"$f":"X18","v":"15 & <"},{"$f":"Y18","v":"M"},{"$f":"IF(DCOUNT(Scores,Z20,W20:Y21)>0,DMAX(Scores,Z20,W20:Y21),\"\")","v":1277},{"$f":"IF(DCOUNT(Scores,Z20,W20:Z21)>1,\"TIE\",IF(Z21=\"\",\"None\",DGET(Scores,'Individual Scores'!$D$1,W20:Z21)))","v":"Brandon Magennis"},{"$f":"\"<>\"&V21","v":"<>TIE"},{"$f":"R21","v":"SC"},{"$f":"S21","v":"15 & <"},{"$f":"T21","v":"M"},{"$f":"IF(DMAX(Scores,AF20,AB20:AE21)=0,\"\",DMAX(Scores,AF20,AB20:AE21))","v":248},{"$f":"IF(DCOUNT(Scores,AF20,AC20:AF21)>1,\"TIE\",IF(AF21=\"\",\"None\",DGET(Scores,'Individual Scores'!$D$1,AC20:AF21)))","v":"Brandon Magennis"},null,"SC",{"$f":"AJ18","v":"15 & <"},{"$f":"AK18","v":"M"},{"$f":"IF(DCOUNT(Scores,AL20,AI20:AK21)=0,\"\",DMAX(Scores,AL20,AI20:AK21))","v":""},{"$f":"IF(DCOUNT(Scores,AL20,AI20:AL21)>1,\"TIE\",IF(AL21=\"\",\"None\",DGET(Scores,'Individual Scores'!$D$1,AI20:AL21)))","v":"None"},"SC",{"$f":"AO18","v":"15 & <"},{"$f":"AP18","v":"M"},{"$f":"IF(DCOUNT(Scores,AQ20,AN20:AP21)>0,DMAX(Scores,AQ20,AN20:AP21),\"\")","v":""},{"$f":"IF(DCOUNT(Scores,AQ20,AN20:AQ21)>1,\"TIE\",IF(AQ21=\"\",\"None\",DGET(Scores,'Individual Scores'!$D$1,AN20:AQ21)))","v":"None"},{"$f":"\"<>\"&AM21","v":"<>None"},{"$f":"AI21","v":"SC"},{"$f":"AJ21","v":"15 & <"},{"$f":"AK21","v":"M"},{"$f":"IF(DMAX(Scores,AW20,AS20:AV21)=0,\"\",DMAX(Scores,AW20,AS20:AV21))","v":""},{"$f":"IF(DCOUNT(Scores,AW20,AT20:AW21)>1,\"TIE\",IF(AW21=\"\",\"None\",DGET(Scores,'Individual Scores'!$D$1,AT20:AW21)))","v":"None"},null,"SC",{"$f":"BA18","v":"15 & <"},{"$f":"BB18","v":"M"},{"$f":"IF(DMAX(Scores,BC20,AZ20:BB21)=0,\"\",DMAX(Scores,BC20,AZ20:BB21))","v":721},{"$f":"IF(DCOUNT(Scores,BC20,AZ20:BC21)>1,\"TIE\",IF(BC21=\"\",\"None\",DGET(Scores,'Individual Scores'!$D$1,AZ20:BC21)))","v":"Brandon Magennis"},{"$f":"\"<>\"&BD21","v":"<>Brandon Magennis"},"SC",{"$f":"BG18","v":"15 & <"},{"$f":"BH18","v":"M"},{"$f":"IF(DMAX(Scores,BI20,BE20:BH21)=0,\"\",DMAX(Scores,BI20,BE20:BH21))","v":256},{"$f":"IF(DCOUNT(Scores,BI20,BF20:BI21)>1,\"TIE\",IF(BI21=\"\",\"None\",DGET(Scores,'Individual Scores'!$D$1,BF20:BI21)))","v":"Jonathan Lovett"},null,{"$f":"AZ21","v":"SC"},{"$f":"BA21","v":"15 & <"},{"$f":"BB21","v":"M"},{"$f":"IF(DMAX(Scores,BO20,BK20:BN21)=0,\"\",DMAX(Scores,BO20,BK20:BN21))","v":2567},{"$f":"IF(DCOUNT(Scores,BO20,BL20:BO21)>1,\"TIE\",IF(BO21=\"\",\"None\",DGET(Scores,'Individual Scores'!$D$1,BL20:BO21)))","v":"Brandon Magennis"}]
[null,null,null,null,{"$f":"IF(DCOUNT(Scores,D20,A20:D21)>1,\"TIE\",IF(D21=\"\",\"None\",E21&\" (\"&DGET(Scores,'Individual Scores'!$A$1,A20:D21)&\")\"))","v":"Brandon Magennis (SC)"},null,null,null,null,{"$f":"IF(DCOUNT(Scores,I20,F20:I21)>1,\"TIE\",IF(I21=\"\",\"None\",J21&\" (\"&DGET(Scores,'Individual Scores'!$A$1,F20:I21)&\")\"))","v":"Brandon Magennis (SC)"},null,null,null,null,null,{"$f":"IF(DCOUNT(Scores,O20,L20:O21)>1,\"TIE\",IF(O21=\"\",\"None\",P21&\" (\"&DGET(Scores,'Individual Scores'!$A$1,L20:O21)&\")\"))","v":"Jonathan Lovett (SC)"},null,null,null,null,null,{"$f":"IF(DCOUNT(Scores,U20,R20:U21)>1,\"TIE\",IF(U21=\"\",\"None\",V21&\" (\"&DGET(Scores,'Individual Scores'!$A$1,R20:U21)&\")\"))","v":"TIE"},null,null,null,null,{"$f":"IF(DCOUNT(Scores,Z20,W20:Z21)>1,\"TIE\",IF(Z21=\"\",\"None\",AA21&\" (\"&DGET(Scores,'Individual Scores'!$A$1,W20:Z21)&\")\"))","v":"Brandon Magennis (SC)"},null,null,null,null,null,{"$f":"IF(DCOUNT(Scores,AF20,AC20:AF21)>1,\"TIE\",IF(AF21=\"\",\"None\",AG21&\" (\"&DGET(Scores,'Individual Scores'!$A$1,AC20:AF21)&\")\"))","v":"Brandon Magennis (SC)"},null,null,null,null,null,{"$f":"IF(DCOUNT(Scores,AL20,AI20:AL21)>1,\"TIE\",IF(AL21=\"\",\"None\",AM21&\" (\"&DGET(Scores,'Individual Scores'!$A$1,AI20:AL21)&\")\"))","v":"None"},null,null,null,null,{"$f":"IF(DCOUNT(Scores,AQ20,AN20:AQ21)>1,\"TIE\",IF(AQ21=\"\",\"None\",AR21&\" (\"&DGET(Scores,'Individual Scores'!$A$1,AN20:AQ21)&\")\"))","v":"None"},null,null,null,null,null,{"$f":"IF(DCOUNT(Scores,AW20,AT20:AW21)>1,\"TIE\",IF(AW21=\"\",\"None\",AX21&\" (\"&DGET(Scores,'Individual Scores'!$A$1,AT20:AW21)&\")\"))","v":"None"},null,null,null,null,null,{"$f":"IF(DCOUNT(Scores,BC20,AZ20:BC21)>1,\"TIE\",IF(BC21=\"\",\"None\",BD21&\" (\"&DGET(Scores,'Individual Scores'!$A$1,AZ20:BC21)&\")\"))","v":"Brandon Magennis (SC)"},null,null,null,null,null,{"$f":"IF(DCOUNT(Scores,BI20,BF20:BI21)>1,\"TIE\",IF(BI21=\"\",\"None\",BJ21&\" (\"&DGET(Scores,'Individual Scores'!$A$1,BF20:BI21)&\")\"))","v":"Jonathan Lovett (SC)"},null,null,null,null,null,{"$f":"IF(DCOUNT(Scores,BO20,BL20:BO21)>1,\"TIE\",IF(BO21=\"\",\"None\",BP21&\" (\"&DGET(Scores,'Individual Scores'!$A$1,BL20:BO21)&\")\"))","v":"Brandon Magennis (SC)"}]
[null,"Age Group","Gender",{"$f":"'Individual Scores'!Y$1","v":"T1 High Series"},null,null,"Age Group","Gender",{"$f":"'Individual Scores'!W$1","v":"T1 Tournament Total"},null,null,{"$f":"K20","v":"Full Name"},"Age Group","Gender",{"$f":"O10","v":"T1 High Game"},null,null,null,"Age Group","Gender",{"$f":"'Individual Scores'!AI$1","v":"T2 High Series"},null,null,"Age Group","Gender",{"$f":"'Individual Scores'!AG$1","v":"T2 Tournament Total"},null,null,{"$f":"AB20","v":"Full Name"},"Age Group","Gender",{"$f":"AF10","v":"T2 High Game"},null,null,null,"Age Group","Gender",{"$f":"'Individual Scores'!AS$1","v":"T3 High Series"},null,null,"Age Group","Gender",{"$f":"'Individual Scores'!AQ$1","v":"T3 Tournament Total"},null,null,{"$f":"AS20","v":"Full Name"},"Age Group","Gender",{"$f":"AW10","v":"T3 High Game"},null,null,null,"Age Group","Gender",{"$f":"'Individual Scores'!K$1","v":"High Series"},null,null,{"$f":"BE20","v":"Full Name"},"Age Group","Gender",{"$f":"BI10","v":"High Game"},null,null,null,"Age Group","Gender",{"$f":"'Individual Scores'!H$1","v":"All Events Total"}]
[null,{"$f":"B21","v":"15 & <"},{"$f":"C21","v":"M"},{"$f":"IF(DCOUNT(Scores,D23,A23:C24)=0,\"\",DMAX(Scores,D23,A23:C24))","v":723},{"$f":"IF(DCOUNT(Scores,D23,A23:D24)>1,\"TIE\",IF(D24=\"\",\"None\",DGET(Scores,'Individual Scores'!$D$1,A23:D24)))","v":"Peyton Smith"},null,{"$f":"G21","v":"15 & <"},{"$f":"H21","v":"M"},{"$f":"IF(DCOUNT(Scores,I23,F23:H24)>0,DMAX(Scores,I23,F23:H24),\"\")","v":1341},{"$f":"IF(DCOUNT(Scores,I23,F23:I24)>1,\"TIE\",IF(I24=\"\",\"None\",DGET(Scores,'Individual Scores'!$D$1,F23:I24)))","v":"Peyton Smith"},null,{"$f":"\"<>\"&E24","v":"<>Peyton Smith"},{"$f":"B24","v":"15 & <"},{"$f":"C24","v":"M"},{"$f":"IF(DMAX(Scores,O23,K23:N24)=0,\"\",DMAX(Scores,O23,K23:N24))","v":265},{"$f":"IF(DCOUNT(Scores,O23,L23:O24)>1,\"TIE\",IF(O24=\"\",\"None\",DGET(Scores,'Individual Scores'!$D$1,L23:O24)))","v":"Brandon Magennis"},null,null,{"$f":"S21","v":"15 & <"},{"$f":"T21","v":"M"},{"$f":"IF(DCOUNT(Scores,'Individual Scores'!AI$1,R23:T24)=0,\"\",DMAX(Scores,'Individual Scores'!AI$1,R23:T24))","v":703},{"$f":"IF(DCOUNT(Scores,U23,R23:U24)>1,\"TIE\",IF(U24=\"\",\"None\",DGET(Scores,'Individual Scores'!$D$1,R23:U24)))","v":"Chad Severt"},null,{"$f":"X21","v":"15 & <"},{"$f":"Y21","v":"M"},{"$f":"IF(DCOUNT(Scores,Z23,W23:Y24)>0,DMAX(Scores,Z23,W23:Y24),\"\")","v":1289},{"$f":"IF(DCOUNT(Scores,Z23,W23:Z24)>1,\"TIE\",IF(Z24=\"\",\"None\",DGET(Scores,'Individual Scores'!$D$1,W23:Z24)))","v":"Chad Severt"},null,{"$f":"\"<>\"&V24","v":"<>Chad Severt"},{"$f":"S24","v":"15 & <"},{"$f":"T24","v":"M"},{"$f":"IF(DMAX(Scores,AF23,AB23:AE24)=0,\"\",DMAX(Scores,AF23,AB23:AE24))","v":257},{"$f":"IF(DCOUNT(Scores,AF23,AC23:AF24)>1,\"TIE\",IF(AF24=\"\",\"None\",DGET(Scores,'Individual Scores'!$D$1,AC23:AF24)))","v":"Jacob Bloomfield "},null,null,{"$f":"AJ21","v":"15 & <"},{"$f":"AK21","v":"M"},{"$f":"IF(DCOUNT(Scores,AL23,AI23:AK24)=0,\"\",DMAX(Scores,AL23,AI23:AK24))","v":""},{"$f":"IF(DCOUNT(Scores,AL23,AI23:AL24)>1,\"TIE\",IF(AL24=\"\",\"None\",DGET(Scores,'Individual Scores'!$D$1,AI23:AL24)))","v":"None"},null,{"$f":"AO21","v":"15 & <"},{"$f":"AP21","v":"M"},{"$f":"IF(DCOUNT(Scores,AQ23,AN23:AP24)>0,DMAX(Scores,AQ23,AN23:AP24),\"\")","v":""},{"$f":"IF(DCOUNT(Scores,AQ23,AN23:AQ24)>1,\"TIE\",IF(AQ24=\"\",\"None\",DGET(Scores,'Individual Scores'!$D$1,AN23:AQ24)))","v":"None"},null,{"$f":"\"<>\"&AM24","v":"<>None"},{"$f":"AJ24","v":"15 & <"},{"$f":"AK24","v":"M"},{"$f":"IF(DMAX(Scores,AW23,AS23:AV24)=0,\"\",DMAX(Scores,AW23,AS23:AV24))","v":""},{"$f":"IF(DCOUNT(Scores,AW23,AT23:AW24)>1,\"TIE\",IF(AW24=\"\",\"None\",DGET(Scores,'Individual Scores'!$D$1,AT23:AW24)))","v":"None"},null,null,{"$f":"BA21","v":"15 & <"},{"$f":"BB21","v":"M"},{"$f":"IF(DMAX(Scores,BC23,AZ23:BB24)=0,\"\",DMAX(Scores,BC23,AZ23:BB24))","v":723},{"$f":"IF(DCOUNT(Scores,BC23,AZ23:BC24)>1,\"TIE\",IF(BC24=\"\",\"None\",DGET(Scores,'Individual Scores'!$D$1,AZ23:BC24)))","v":"Peyton Smith"},null,{"$f":"\"<>\"&BD24","v":"<>Peyton Smith"},{"$f":"BG21","v":"15 & <"},{"$f":"BH21","v":"M"},{"$f":"IF(DMAX(Scores,BI23,BE23:BH24)=0,\"\",DMAX(Scores,BI23,BE23:BH24))","v":265},{"$f":"IF(DCOUNT(Scores,BI23,BF23:BI24)>1,\"TIE\",IF(BI24=\"\",\"None\",DGET(Scores,'Individual Scores'!$D$1,BF23:BI24)))","v":"Brandon Magennis"},null,null,{"$f":"BA24","v":"15 & <"},{"$f":"BB24","v":"M"},{"$f":"IF(DMAX(Scores,BO23,BK23:BN24)=0,\"\",DMAX(Scores,BO23,BK23:BN24))","v":2629},{"$f":"IF(DCOUNT(Scores,BO23,BL23:BO24)>1,\"TIE\",IF(BO24=\"\",\"None\",DGET(Scores,'Individual Scores'!$D$1,BL23:BO24)))","v":"Peyton Smith"}]
[null,null,null,null,{"$f":"IF(DCOUNT(Scores,D23,A23:D24)>1,\"TIE\",IF(D24=\"\",\"None\",E24&\" (\"&DGET(Scores,'Individual Scores'!$A$1,A23:D24)&\")\"))","v":"Peyton Smith (GA)"},null,null,null,null,{"$f":"IF(DCOUNT(Scores,I23,F23:I24)>1,\"TIE\",IF(I24=\"\",\"None\",J24&\" (\"&DGET(Scores,'Individual Scores'!$A$1,F23:I24)&\")\"))","v":"Peyton Smith (GA)"},null,null,null,null,null,{"$f":"IF(DCOUNT(Scores,O23,L23:O24)>1,\"TIE\",IF(O24=\"\",\"None\",P24&\" (\"&DGET(Scores,'Individual Scores'!$A$1,L23:O24)&\")\"))","v":"Brandon Magennis (SC)"},null,null,null,null,null,{"$f":"IF(DCOUNT(Scores,U23,R23:U24)>1,\"TIE\",IF(U24=\"\",\"None\",V24&\" (\"&DGET(Scores,'Individual Scores'!$A$1,R23:U24)&\")\"))","v":"Chad Severt (NC)"},null,null,null,null,{"$f":"IF(DCOUNT(Scores,Z23,W23:Z24)>1,\"TIE\",IF(Z24=\"\",\"None\",AA24&\" (\"&DGET(Scores,'Individual Scores'!$A$1,W23:Z24)&\")\"))","v":"Chad Severt (NC)"},null,null,null,null,null,{"$f":"IF(DCOUNT(Scores,AF23,AC23:AF24)>1,\"TIE\",IF(AF24=\"\",\"None\",AG24&\" (\"&DGET(Scores,'Individual Scores'!$A$1,AC23:AF24)&\")\"))","v":"Jacob Bloomfield  (NC)"},null,null,null,null,null,{"$f":"IF(DCOUNT(Scores,AL23,AI23:AL24)>1,\"TIE\",IF(AL24=\"\",\"None\",AM24&\" (\"&DGET(Scores,'Individual Scores'!$A$1,AI23:AL24)&\")\"))","v":"None"},null,null,null,null,{"$f":"IF(DCOUNT(Scores,AQ23,AN23:AQ24)>1,\"TIE\",IF(AQ24=\"\",\"None\",AR24&\" (\"&DGET(Scores,'Individual Scores'!$A$1,AN23:AQ24)&\")\"))","v":"None"},null,null,null,null,null,{"$f":"IF(DCOUNT(Scores,AW23,AT23:AW24)>1,\"TIE\",IF(AW24=\"\",\"None\",AX24&\" (\"&DGET(Scores,'Individual Scores'!$A$1,AT23:AW24)&\")\"))","v":"None"},null,null,null,null,null,{"$f":"IF(DCOUNT(Scores,BC23,AZ23:BC24)>1,\"TIE\",IF(BC24=\"\",\"None\",BD24&\" (\"&DGET(Scores,'Individual Scores'!$A$1,AZ23:BC24)&\")\"))","v":"Peyton Smith (GA)"},null,null,null,null,null,{"$f":"IF(DCOUNT(Scores,BI23,BF23:BI24)>1,\"TIE\",IF(BI24=\"\",\"None\",BJ24&\" (\"&DGET(Scores,'Individual Scores'!$A$1,BF23:BI24)&\")\"))","v":"Brandon Magennis (SC)"},null,null,null,null,null,{"$f":"IF(DCOUNT(Scores,BO23,BL23:BO24)>1,\"TIE\",IF(BO24=\"\",\"None\",BP24&\" (\"&DGET(Scores,'Individual Scores'!$A$1,BL23:BO24)&\")\"))","v":"Peyton Smith (GA)"}]
[null,null,null,null,{"$f":"IF(DCOUNT(Scores,D23,A23:D24)>1,\"\",DGET(Scores,'Individual Scores'!$A$1,A23:D24))","v":"GA"},null,null,null,null,{"$f":"IF(DCOUNT(Scores,I23,F23:I24)>1,\"\",DGET(Scores,'Individual Scores'!$A$1,F23:I24))","v":"GA"},null,null,null,null,null,{"$f":"IF(DCOUNT(Scores,O23,L23:O24)>1,\"\",DGET(Scores,'Individual Scores'!$A$1,L23:O24))","v":"SC"},null,null,null,null,null,{"$f":"IF(DCOUNT(Scores,U23,R23:U24)>1,\"\",DGET(Scores,'Individual Scores'!$A$1,R23:U24))","v":"NC"},null,null,null,null,{"$f":"IF(DCOUNT(Scores,Z23,W23:Z24)>1,\"\",DGET(Scores,'Individual Scores'!$A$1,W23:Z24))","v":"NC"},null,null,null,null,null,{"$f":"IF(DCOUNT(Scores,AF23,AC23:AF24)>1,\"\",DGET(Scores,'Individual Scores'!$A$1,AC23:AF24))","v":"NC"},null,null,null,null,null,{"$f":"IF(DCOUNT(Scores,AL23,AI23:AL24)>1,\"\",DGET(Scores,'Individual Scores'!$A$1,AI23:AL24))","v":{"$error":"#NUM!"}},null,null,null,null,{"$f":"IF(DCOUNT(Scores,AQ23,AN23:AQ24)>1,\"\",DGET(Scores,'Individual Scores'!$A$1,AN23:AQ24))","v":{"$error":"#NUM!"}},null,null,null,null,null,{"$f":"IF(DCOUNT(Scores,AW23,AT23:AW24)>1,\"\",DGET(Scores,'Individual Scores'!$A$1,AT23:AW24))","v":{"$error":"#NUM!"}},null,null,null,null,null,{"$f":"IF(DCOUNT(Scores,BC23,AZ23:BC24)>1,\"\",DGET(Scores,'Individual Scores'!$A$1,AZ23:BC24))","v":"GA"},null,null,null,null,null,{"$f":"IF(DCOUNT(Scores,BI23,BF23:BI24)>1,\"\",DGET(Scores,'Individual Scores'!$A$1,BF23:BI24))","v":"SC"},null,null,null,null,null,{"$f":"IF(DCOUNT(Scores,BO23,BL23:BO24)>1,\"\",DGET(Scores,'Individual Scores'!$A$1,BL23:BO24))","v":"GA"}]
["State","Age Group","Gender",{"$f":"'Individual Scores'!Y$1","v":"T1 High Series"},null,"State","Age Group","Gender",{"$f":"'Individual Scores'!W$1","v":"T1 Tournament Total"},null,{"$f":"'Individual Scores'!$D$1","v":"Full Name"},"State","Age Group","Gender",{"$f":"O$1","v":"T1 High Game"},null,null,"State","Age Group","Gender",{"$f":"'Individual Scores'!AI$1","v":"T2 High Series"},null,"State","Age Group","Gender",{"$f":"'Individual Scores'!AG$1","v":"T2 Tournament Total"},null,{"$f":"'Individual Scores'!$D$1","v":"Full Name"},"State","Age Group","Gender",{"$f":"AF$1","v":"T2 High Game"},null,null,"State","Age Group","Gender",{"$f":"'Individual Scores'!AS$1","v":"T3 High Series"},null,"State","Age Group","Gender",{"$f":"'Individual Scores'!AQ$1","v":"T3 Tournament Total"},null,{"$f":"'Individual Scores'!$D$1","v":"Full Name"},"State","Age Group","Gender",{"$f":"AW$1","v":"T3 High Game"},null,null,"State","Age Group","Gender",{"$f":"'Individual Scores'!K$1","v":"High Series"},null,{"$f":"'Individual Scores'!$D$1","v":"Full Name"},"State","Age Group","Gender",{"$f":"BI$1","v":"High Game"},null,null,"State","Age Group","Gender",{"$f":"'Individual Scores'!H$1","v":"All Events Total"}]
["GA",{"$f":"Constants!$B$3","v":"16-20"},"F",{"$f":"IF(DCOUNT(Scores,D27,A27:C28)=0,\"\",DMAX(Scores,D27,A27:C28))","v":604},{"$f":"IF(DCOUNT(Scores,D27,A27:D28)>1,\"TIE\",IF(D28=\"\",\"None\",DGET(Scores,'Individual Scores'!$D$1,A27:D28)))","v":"Amber Beene"},"GA",{"$f":"'Individual Awards Computations'!$B$28","v":"16-20"},"F",{"$f":"IF(DCOUNT(Scores,I27,F27:H28)>0,DMAX(Scores,I27,F27:H28),\"\")","v":1164},{"$f":"IF(DCOUNT(Scores,I27,F27:I28)>1,\"TIE\",IF(I28=\"\",\"None\",DGET(Scores,'Individual Scores'!$D$1,F27:I28)))","v":"Crystal Fox"},{"$f":"IF(E28=\"None\",\"\",\"<>\"&E28)","v":"<>Amber Beene"},{"$f":"A28","v":"GA"},{"$f":"B28","v":"16-20"},{"$f":"C28","v":"F"},{"$f":"IF(DMAX(Scores,O27,K27:N28)=0,\"\",DMAX(Scores,O27,K27:N28))","v":245},{"$f":"IF(DCOUNT(Scores,O27,L27:O28)>1,\"TIE\",IF(O28=\"\",\"None\",DGET(Scores,'Individual Scores'!$D$1,L27:O28)))","v":"Crystal Fox"},null,"GA",{"$f":"'Individual Awards Computations'!$M$28","v":"16-20"},"F",{"$f":"IF(DCOUNT(Scores,'Individual Scores'!AI$1,R27:T28)=0,\"\",DMAX(Scores,'Individual Scores'!AI$1,R27:T28))","v":606},{"$f":"IF(DCOUNT(Scores,U27,R27:U28)>1,\"TIE\",IF(U28=\"\",\"None\",DGET(Scores,'Individual Scores'!$D$1,R27:U28)))","v":"Crystal Fox"},"GA",{"$f":"'Individual Awards Computations'!$S$28","v":"16-20"},"F",{"$f":"IF(DCOUNT(Scores,Z27,W27:Y28)>0,DMAX(Scores,Z27,W27:Y28),\"\")","v":1110},{"$f":"IF(DCOUNT(Scores,Z27,W27:Z28)>1,\"TIE\",IF(Z28=\"\",\"None\",DGET(Scores,'Individual Scores'!$D$1,W27:Z28)))","v":"Amber Beene"},{"$f":"\"<>\"&V28","v":"<>Crystal Fox"},{"$f":"R28","v":"GA"},{"$f":"S28","v":"16-20"},{"$f":"T28","v":"F"},{"$f":"IF(DMAX(Scores,AF27,AB27:AE28)=0,\"\",DMAX(Scores,AF27,AB27:AE28))","v":223},{"$f":"IF(DCOUNT(Scores,AF27,AC27:AF28)>1,\"TIE\",IF(AF28=\"\",\"None\",DGET(Scores,'Individual Scores'!$D$1,AC27:AF28)))","v":"Makayla Spears"},null,"GA",{"$f":"'Individual Awards Computations'!$AD$28","v":"16-20"},"F",{"$f":"IF(DCOUNT(Scores,AL27,AI27:AK28)=0,\"\",DMAX(Scores,AL27,AI27:AK28))","v":""},{"$f":"IF(DCOUNT(Scores,AL27,AI27:AL28)>1,\"TIE\",IF(AL28=\"\",\"None\",DGET(Scores,'Individual Scores'!$D$1,AI27:AL28)))","v":"None"},"GA",{"$f":"'Individual Awards Computations'!$AJ$28","v":"16-20"},"F",{"$f":"IF(DCOUNT(Scores,AQ27,AN27:AP28)>0,DMAX(Scores,AQ27,AN27:AP28),\"\")","v":""},{"$f":"IF(DCOUNT(Scores,AQ27,AN27:AQ28)>1,\"TIE\",IF(AQ28=\"\",\"None\",DGET(Scores,'Individual Scores'!$D$1,AN27:AQ28)))","v":"None"},{"$f":"\"<>\"&AM28","v":"<>None"},{"$f":"AI28","v":"GA"},{"$f":"AJ28","v":"16-20"},{"$f":"AK28","v":"F"},{"$f":"IF(DMAX(Scores,AW27,AS27:AV28)=0,\"\",DMAX(Scores,AW27,AS27:AV28))","v":""},{"$f":"IF(DCOUNT(Scores,AW27,AT27:AW28)>1,\"TIE\",IF(AW28=\"\",\"None\",DGET(Scores,'Individual Scores'!$D$1,AT27:AW28)))","v":"None"},null,"GA",{"$f":"'Individual Awards Computations'!$AU$28","v":"16-20"},"F",{"$f":"IF(DMAX(Scores,BC27,AZ27:BB28)=0,\"\",DMAX(Scores,BC27,AZ27:BB28))","v":606},{"$f":"IF(DCOUNT(Scores,BC27,AZ27:BC28)>1,\"TIE\",IF(BC28=\"\",\"None\",DGET(Scores,'Individual Scores'!$D$1,AZ27:BC28)))","v":"Crystal Fox"},{"$f":"\"<>\"&BD28","v":"<>Crystal Fox"},"GA",{"$f":"'Individual Awards Computations'!$BA$28","v":"16-20"},"F",{"$f":"IF(DMAX(Scores,BI27,BE27:BH28)=0,\"\",DMAX(Scores,BI27,BE27:BH28))","v":225},{"$f":"IF(DCOUNT(Scores,BI27,BF27:BI28)>1,\"TIE\",IF(BI28=\"\",\"None\",DGET(Scores,'Individual Scores'!$D$1,BF27:BI28)))","v":"Nia McConico"},null,{"$f":"AZ28","v":"GA"},{"$f":"BA28","v":"16-20"},{"$f":"BB28","v":"F"},{"$f":"IF(DMAX(Scores,BO27,BK27:BN28)=0,\"\",DMAX(Scores,BO27,BK27:BN28))","v":2263},{"$f":"IF(DCOUNT(Scores,BO27,BL27:BO28)>1,\"TIE\",IF(BO28=\"\",\"None\",DGET(Scores,'Individual Scores'!$D$1,BL27:BO28)))","v":"Amber Beene"}]
[null,null,null,null,{"$f":"IF(DCOUNT(Scores,D27,A27:D28)>1,\"TIE\",IF(D28=\"\",\"None\",E28&\" (\"&DGET(Scores,'Individual Scores'!$A$1,A27:D28)&\")\"))","v":"Amber Beene (GA)"},null,null,null,null,{"$f":"IF(DCOUNT(Scores,I27,F27:I28)>1,\"TIE\",IF(I28=\"\",\"None\",J28&\" (\"&DGET(Scores,'Individual Scores'!$A$1,F27:I28)&\")\"))","v":"Crystal Fox (GA)"},null,null,null,null,null,{"$f":"IF(DCOUNT(Scores,O27,L27:O28)>1,\"TIE\",IF(O28=\"\",\"None\",P28&\" (\"&DGET(Scores,'Individual Scores'!$A$1,L27:O28)&\")\"))","v":"Crystal Fox (GA)"},null,null,null,null,null,{"$f":"IF(DCOUNT(Scores,U27,R27:U28)>1,\"TIE\",IF(U28=\"\",\"None\",V28&\" (\"&DGET(Scores,'Individual Scores'!$A$1,R27:U28)&\")\"))","v":"Crystal Fox (GA)"},null,null,null,{"$f":"DCOUNT(Scores,Z27,W27:Y28)","v":9},{"$f":"IF(DCOUNT(Scores,Z27,W27:Z28)>1,\"TIE\",IF(Z28=\"\",\"None\",AA28&\" (\"&DGET(Scores,'Individual Scores'!$A$1,W27:Z28)&\")\"))","v":"Amber Beene (GA)"},null,null,null,null,null,{"$f":"IF(DCOUNT(Scores,AF27,AC27:AF28)>1,\"TIE\",IF(AF28=\"\",\"None\",AG28&\" (\"&DGET(Scores,'Individual Scores'!$A$1,AC27:AF28)&\")\"))","v":"Makayla Spears (GA)"},null,null,null,null,null,{"$f":"IF(DCOUNT(Scores,AL27,AI27:AL28)>1,\"TIE\",IF(AL28=\"\",\"None\",AM28&\" (\"&DGET(Scores,'Individual Scores'!$A$1,AI27:AL28)&\")\"))","v":"None"},null,null,null,null,{"$f":"IF(DCOUNT(Scores,AQ27,AN27:AQ28)>1,\"TIE\",IF(AQ28=\"\",\"None\",AR28&\" (\"&DGET(Scores,'Individual Scores'!$A$1,AN27:AQ28)&\")\"))","v":"None"},null,null,null,null,null,{"$f":"IF(DCOUNT(Scores,AW27,AT27:AW28)>1,\"TIE\",IF(AW28=\"\",\"None\",AX28&\" (\"&DGET(Scores,'Individual Scores'!$A$1,AT27:AW28)&\")\"))","v":"None"},null,null,null,null,null,{"$f":"IF(DCOUNT(Scores,BC27,AZ27:BC28)>1,\"TIE\",IF(BC28=\"\",\"None\",BD28&\" (\"&DGET(Scores,'Individual Scores'!$A$1,AZ27:BC28)&\")\"))","v":"Crystal Fox (GA)"},null,null,null,null,null,{"$f":"IF(DCOUNT(Scores,BI27,BF27:BI28)>1,\"TIE\",IF(BI28=\"\",\"None\",BJ28&\" (\"&DGET(Scores,'Individual Scores'!$A$1,BF27:BI28)&\")\"))","v":"Nia McConico (GA)"},null,null,null,null,null,{"$f":"IF(DCOUNT(Scores,BO27,BL27:BO28)>1,\"TIE\",IF(BO28=\"\",\"None\",BP28&\" (\"&DGET(Scores,'Individual Scores'!$A$1,BL27:BO28)&\")\"))","v":"Amber Beene (GA)"}]
["State","Age Group","Gender",{"$f":"'Individual Scores'!Y$1","v":"T1 High Series"},null,"State","Age Group","Gender",{"$f":"'Individual Scores'!W$1","v":"T1 Tournament Total"},null,{"$f":"'Individual Scores'!$D$1","v":"Full Name"},"State","Age Group","Gender",{"$f":"O$1","v":"T1 High Game"},null,null,"State","Age Group","Gender",{"$f":"'Individual Scores'!AI$1","v":"T2 High Series"},null,"State","Age Group","Gender",{"$f":"'Individual Scores'!AG$1","v":"T2 Tournament Total"},null,{"$f":"'Individual Scores'!$D$1","v":"Full Name"},"State","Age Group","Gender",{"$f":"AF$1","v":"T2 High Game"},null,null,"State","Age Group","Gender",{"$f":"'Individual Scores'!AS$1","v":"T3 High Series"},null,"State","Age Group","Gender",{"$f":"'Individual Scores'!AQ$1","v":"T3 Tournament Total"},null,{"$f":"'Individual Scores'!$D$1","v":"Full Name"},"State","Age Group","Gender",{"$f":"AW$1","v":"T3 High Game"},null,null,"State","Age Group","Gender",{"$f":"'Individual Scores'!K$1","v":"High Series"},null,{"$f":"'Individual Scores'!$D$1","v":"Full Name"},"State","Age Group","Gender",{"$f":"BI$1","v":"High Game"},null,null,"State","Age Group","Gender",{"$f":"'Individual Scores'!H$1","v":"All Events Total"}]
["NC",{"$f":"B28","v":"16-20"},{"$f":"C28","v":"F"},{"$f":"IF(DCOUNT(Scores,D30,A30:C31)=0,\"\",DMAX(Scores,D30,A30:C31))","v":640},{"$f":"IF(DCOUNT(Scores,D30,A30:D31)>1,\"TIE\",IF(D31=\"\",\"None\",DGET(Scores,'Individual Scores'!$D$1,A30:D31)))","v":"Breanna Clemmer"},"NC",{"$f":"G28","v":"16-20"},{"$f":"H28","v":"F"},{"$f":"IF(DCOUNT(Scores,I30,F30:H31)>0,DMAX(Scores,I30,F30:H31),\"\")","v":1208},{"$f":"IF(DCOUNT(Scores,I30,F30:I31)>1,\"TIE\",IF(I31=\"\",\"None\",DGET(Scores,'Individual Scores'!$D$1,F30:I31)))","v":"Breanna Clemmer"},{"$f":"IF(E31=\"None\",\"\",\"<>\"&E31)","v":"<>Breanna Clemmer"},{"$f":"A31","v":"NC"},{"$f":"B31","v":"16-20"},{"$f":"C31","v":"F"},{"$f":"IF(DMAX(Scores,O30,K30:N31)=0,\"\",DMAX(Scores,O30,K30:N31))","v":233},{"$f":"IF(DCOUNT(Scores,O30,L30:O31)>1,\"TIE\",IF(O31=\"\",\"None\",DGET(Scores,'Individual Scores'!$D$1,L30:O31)))","v":"Brandi Barefoot"},null,"NC",{"$f":"S28","v":"16-20"},{"$f":"T28","v":"F"},{"$f":"IF(DCOUNT(Scores,'Individual Scores'!AI$1,R30:T31)=0,\"\",DMAX(Scores,'Individual Scores'!AI$1,R30:T31))","v":678},{"$f":"IF(DCOUNT(Scores,U30,R30:U31)>1,\"TIE\",IF(U31=\"\",\"None\",DGET(Scores,'Individual Scores'!$D$1,R30:U31)))","v":"Madysen Keller"},"NC",{"$f":"X28","v":"16-20"},{"$f":"Y28","v":"F"},{"$f":"IF(DCOUNT(Scores,Z30,W30:Y31)>0,DMAX(Scores,Z30,W30:Y31),\"\")","v":1238},{"$f":"IF(DCOUNT(Scores,Z30,W30:Z31)>1,\"TIE\",IF(Z31=\"\",\"None\",DGET(Scores,'Individual Scores'!$D$1,W30:Z31)))","v":"Breanna Clemmer"},{"$f":"\"<>\"&V31","v":"<>Madysen Keller"},{"$f":"R31","v":"NC"},{"$f":"S31","v":"16-20"},{"$f":"T31","v":"F"},{"$f":"IF(DMAX(Scores,AF30,AB30:AE31)=0,\"\",DMAX(Scores,AF30,AB30:AE31))","v":249},{"$f":"IF(DCOUNT(Scores,AF30,AC30:AF31)>1,\"TIE\",IF(AF31=\"\",\"None\",DGET(Scores,'Individual Scores'!$D$1,AC30:AF31)))","v":"Rachel Parsons"},null,"NC",{"$f":"AJ28","v":"16-20"},{"$f":"AK28","v":"F"},{"$f":"IF(DCOUNT(Scores,AL30,AI30:AK31)=0,\"\",DMAX(Scores,AL30,AI30:AK31))","v":""},{"$f":"IF(DCOUNT(Scores,AL30,AI30:AL31)>1,\"TIE\",IF(AL31=\"\",\"None\",DGET(Scores,'Individual Scores'!$D$1,AI30:AL31)))","v":"None"},"NC",{"$f":"AO28","v":"16-20"},{"$f":"AP28","v":"F"},{"$f":"IF(DCOUNT(Scores,AQ30,AN30:AP31)>0,DMAX(Scores,AQ30,AN30:AP31),\"\")","v":""},{"$f":"IF(DCOUNT(Scores,AQ30,AN30:AQ31)>1,\"TIE\",IF(AQ31=\"\",\"None\",DGET(Scores,'Individual Scores'!$D$1,AN30:AQ31)))","v":"None"},{"$f":"\"<>\"&AM31","v":"<>None"},{"$f":"AI31","v":"NC"},{"$f":"AJ31","v":"16-20"},{"$f":"AK31","v":"F"},{"$f":"IF(DMAX(Scores,AW30,AS30:AV31)=0,\"\",DMAX(Scores,AW30,AS30:AV31))","v":""},{"$f":"IF(DCOUNT(Scores,AW30,AT30:AW31)>1,\"TIE\",IF(AW31=\"\",\"None\",DGET(Scores,'Individual Scores'!$D$1,AT30:AW31)))","v":"None"},null,"NC",{"$f":"BA28","v":"16-20"},{"$f":"BB28","v":"F"},{"$f":"IF(DMAX(Scores,BC30,AZ30:BB31)=0,\"\",DMAX(Scores,BC30,AZ30:BB31))","v":678},{"$f":"IF(DCOUNT(Scores,BC30,AZ30:BC31)>1,\"TIE\",IF(BC31=\"\",\"None\",DGET(Scores,'Individual Scores'!$D$1,AZ30:BC31)))","v":"Madysen Keller"},{"$f":"\"<>\"&BD31","v":"<>Madysen Keller"},"NC",{"$f":"BG28","v":"16-20"},{"$f":"BH28","v":"F"},{"$f":"IF(DMAX(Scores,BI30,BE30:BH31)=0,\"\",DMAX(Scores,BI30,BE30:BH31))","v":268},{"$f":"IF(DCOUNT(Scores,BI30,BF30:BI31)>1,\"TIE\",IF(BI31=\"\",\"None\",DGET(Scores,'Individual Scores'!$D$1,BF30:BI31)))","v":"Breanna Clemmer"},null,{"$f":"AZ31","v":"NC"},{"$f":"BA31","v":"16-20"},{"$f":"BB31","v":"F"},{"$f":"IF(DMAX(Scores,BO30,BK30:BN31)=0,\"\",DMAX(Scores,BO30,BK30:BN31))","v":2446},{"$f":"IF(DCOUNT(Scores,BO30,BL30:BO31)>1,\"TIE\",IF(BO31=\"\",\"None\",DGET(Scores,'Individual Scores'!$D$1,BL30:BO31)))","v":"Breanna Clemmer"}]
[null,null,null,null,{"$f":"IF(DCOUNT(Scores,D30,A30:D31)>1,\"TIE\",IF(D31=\"\",\"None\",E31&\" (\"&DGET(Scores,'Individual Scores'!$A$1,A30:D31)&\")\"))","v":"Breanna Clemmer (NC)"},null,null,null,null,{"$f":"IF(DCOUNT(Scores,I30,F30:I31)>1,\"TIE\",IF(I31=\"\",\"None\",J31&\" (\"&DGET(Scores,'Individual Scores'!$A$1,F30:I31)&\")\"))","v":"Breanna Clemmer (NC)"},null,null,null,null,null,{"$f":"IF(DCOUNT(Scores,O30,L30:O31)>1,\"TIE\",IF(O31=\"\",\"None\",P31&\" (\"&DGET(Scores,'Individual Scores'!$A$1,L30:O31)&\")\"))","v":"Brandi Barefoot (NC)"},null,null,null,null,null,{"$f":"IF(DCOUNT(Scores,U30,R30:U31)>1,\"TIE\",IF(U31=\"\",\"None\",V31&\" (\"&DGET(Scores,'Individual Scores'!$A$1,R30:U31)&\")\"))","v":"Madysen Keller (NC)"},null,null,null,{"$f":"DCOUNT(Scores,Z30,W30:Y31)","v":9},{"$f":"IF(DCOUNT(Scores,Z30,W30:Z31)>1,\"TIE\",IF(Z31=\"\",\"None\",AA31&\" (\"&DGET(Scores,'Individual Scores'!$A$1,W30:Z31)&\")\"))","v":"Breanna Clemmer (NC)"},null,null,null,null,null,{"$f":"IF(DCOUNT(Scores,AF30,AC30:AF31)>1,\"TIE\",IF(AF31=\"\",\"None\",AG31&\" (\"&DGET(Scores,'Individual Scores'!$A$1,AC30:AF31)&\")\"))","v":"Rachel Parsons (NC)"},null,null,null,null,null,{"$f":"IF(DCOUNT(Scores,AL30,AI30:AL31)>1,\"TIE\",IF(AL31=\"\",\"None\",AM31&\" (\"&DGET(Scores,'Individual Scores'!$A$1,AI30:AL31)&\")\"))","v":"None"},null,null,null,null,{"$f":"IF(DCOUNT(Scores,AQ30,AN30:AQ31)>1,\"TIE\",IF(AQ31=\"\",\"None\",AR31&\" (\"&DGET(Scores,'Individual Scores'!$A$1,AN30:AQ31)&\")\"))","v":"None"},null,null,null,null,null,{"$f":"IF(DCOUNT(Scores,AW30,AT30:AW31)>1,\"TIE\",IF(AW31=\"\",\"None\",AX31&\" (\"&DGET(Scores,'Individual Scores'!$A$1,AT30:AW31)&\")\"))","v":"None"},null,null,null,null,null,{"$f":"IF(DCOUNT(Scores,BC30,AZ30:BC31)>1,\"TIE\",IF(BC31=\"\",\"None\",BD31&\" (\"&DGET(Scores,'Individual Scores'!$A$1,AZ30:BC31)&\")\"))","v":"Madysen Keller (NC)"},null,null,null,null,null,{"$f":"IF(DCOUNT(Scores,BI30,BF30:BI31)>1,\"TIE\",IF(BI31=\"\",\"None\",BJ31&\" (\"&DGET(Scores,'Individual Scores'!$A$1,BF30:BI31)&\")\"))","v":"Breanna Clemmer (NC)"},null,null,null,null,null,{"$f":"IF(DCOUNT(Scores,BO30,BL30:BO31)>1,\"TIE\",IF(BO31=\"\",\"None\",BP31&\" (\"&DGET(Scores,'Individual Scores'!$A$1,BL30:BO31)&\")\"))","v":"Breanna Clemmer (NC)"}]
["State","Age Group","Gender",{"$f":"'Individual Scores'!Y$1","v":"T1 High Series"},null,"State","Age Group","Gender",{"$f":"'Individual Scores'!W$1","v":"T1 Tournament Total"},null,{"$f":"'Individual Scores'!$D$1","v":"Full Name"},"State","Age Group","Gender",{"$f":"O$1","v":"T1 High Game"},null,null,"State","Age Group","Gender",{"$f":"'Individual Scores'!AI$1","v":"T2 High Series"},null,"State","Age Group","Gender",{"$f":"'Individual Scores'!AG$1","v":"T2 Tournament Total"},null,{"$f":"'Individual Scores'!$D$1","v":"Full Name"},"State","Age Group","Gender",{"$f":"AF$1","v":"T2 High Game"},null,null,"State","Age Group","Gender",{"$f":"'Individual Scores'!AS$1","v":"T3 High Series"},null,"State","Age Group","Gender",{"$f":"'Individual Scores'!AQ$1","v":"T3 Tournament Total"},null,{"$f":"'Individual Scores'!$D$1","v":"Full Name"},"State","Age Group","Gender",{"$f":"AW$1","v":"T3 High Game"},null,null,"State","Age Group","Gender",{"$f":"'Individual Scores'!K$1","v":"High Series"},null,{"$f":"'Individual Scores'!$D$1","v":"Full Name"},"State","Age Group","Gender",{"$f":"BI$1","v":"High Game"},null,null,"State","Age Group","Gender",{"$f":"'Individual Scores'!H$1","v":"All Events Total"}]
["SC",{"$f":"B31","v":"16-20"},{"$f":"C31","v":"F"},{"$f":"IF(DCOUNT(Scores,D33,A33:C34)=0,\"\",DMAX(Scores,D33,A33:C34))","v":656},{"$f":"IF(DCOUNT(Scores,D33,A33:D34)>1,\"TIE\",IF(D34=\"\",\"None\",DGET(Scores,'Individual Scores'!$D$1,A33:D34)))","v":"Kasey Smith"},"SC",{"$f":"G31","v":"16-20"},{"$f":"H31","v":"F"},{"$f":"IF(DCOUNT(Scores,I33,F33:H34)>0,DMAX(Scores,I33,F33:H34),\"\")","v":1203},{"$f":"IF(DCOUNT(Scores,I33,F33:I34)>1,\"TIE\",IF(I34=\"\",\"None\",DGET(Scores,'Individual Scores'!$D$1,F33:I34)))","v":"Kasey Smith"},{"$f":"IF(E34=\"None\",\"\",\"<>\"&E34)","v":"<>Kasey Smith"},{"$f":"A34","v":"SC"},{"$f":"B34","v":"16-20"},{"$f":"C34","v":"F"},{"$f":"IF(DMAX(Scores,O33,K33:N34)=0,\"\",DMAX(Scores,O33,K33:N34))","v":223},{"$f":"IF(DCOUNT(Scores,O33,L33:O34)>1,\"TIE\",IF(O34=\"\",\"None\",DGET(Scores,'Individual Scores'!$D$1,L33:O34)))","v":"Emily Bolton"},null,"SC",{"$f":"S31","v":"16-20"},{"$f":"T31","v":"F"},{"$f":"IF(DCOUNT(Scores,'Individual Scores'!AI$1,R33:T34)=0,\"\",DMAX(Scores,'Individual Scores'!AI$1,R33:T34))","v":653},{"$f":"IF(DCOUNT(Scores,U33,R33:U34)>1,\"TIE\",IF(U34=\"\",\"None\",DGET(Scores,'Individual Scores'!$D$1,R33:U34)))","v":"Kasey Smith"},"SC",{"$f":"X31","v":"16-20"},{"$f":"Y31","v":"F"},{"$f":"IF(DCOUNT(Scores,Z33,W33:Y34)>0,DMAX(Scores,Z33,W33:Y34),\"\")","v":1231},{"$f":"IF(DCOUNT(Scores,Z33,W33:Z34)>1,\"TIE\",IF(Z34=\"\",\"None\",DGET(Scores,'Individual Scores'!$D$1,W33:Z34)))","v":"Kasey Smith"},{"$f":"IF(V34=\"\",\"\",\"<>\"&V34)","v":"<>Kasey Smith"},{"$f":"R34","v":"SC"},{"$f":"S34","v":"16-20"},{"$f":"T34","v":"F"},{"$f":"IF(DMAX(Scores,AF33,AB33:AE34)=0,\"\",DMAX(Scores,AF33,AB33:AE34))","v":241},{"$f":"IF(DCOUNT(Scores,AF33,AC33:AF34)>1,\"TIE\",IF(AF34=\"\",\"None\",DGET(Scores,'Individual Scores'!$D$1,AC33:AF34)))","v":"Hannah Krietemeyer"},null,"SC",{"$f":"AJ31","v":"16-20"},{"$f":"AK31","v":"F"},{"$f":"IF(DCOUNT(Scores,AL33,AI33:AK34)=0,\"\",DMAX(Scores,AL33,AI33:AK34))","v":""},{"$f":"IF(DCOUNT(Scores,AL33,AI33:AL34)>1,\"TIE\",IF(AL34=\"\",\"None\",DGET(Scores,'Individual Scores'!$D$1,AI33:AL34)))","v":"None"},"SC",{"$f":"AO31","v":"16-20"},{"$f":"AP31","v":"F"},{"$f":"IF(DCOUNT(Scores,AQ33,AN33:AP34)>0,DMAX(Scores,AQ33,AN33:AP34),\"\")","v":""},{"$f":"IF(DCOUNT(Scores,AQ33,AN33:AQ34)>1,\"TIE\",IF(AQ34=\"\",\"None\",DGET(Scores,'Individual Scores'!$D$1,AN33:AQ34)))","v":"None"},{"$f":"\"<>\"&AM34","v":"<>None"},{"$f":"AI34","v":"SC"},{"$f":"AJ34","v":"16-20"},{"$f":"AK34","v":"F"},{"$f":"IF(DMAX(Scores,AW33,AS33:AV34)=0,\"\",DMAX(Scores,AW33,AS33:AV34))","v":""},{"$f":"IF(DCOUNT(Scores,AW33,AT33:AW34)>1,\"TIE\",IF(AW34=\"\",\"None\",DGET(Scores,'Individual Scores'!$D$1,AT33:AW34)))","v":"None"},null,"SC",{"$f":"BA31","v":"16-20"},{"$f":"BB31","v":"F"},{"$f":"IF(DCOUNT(Scores,BC33,AZ33:BB34)=0,\"\",DMAX(Scores,BC33,AZ33:BB34))","v":656},{"$f":"IF(DCOUNT(Scores,BC33,AZ33:BC34)>1,\"TIE\",IF(BC34=\"\",\"None\",DGET(Scores,'Individual Scores'!$D$1,AZ33:BC34)))","v":"Kasey Smith"},{"$f":"\"<>\"&BD34","v":"<>Kasey Smith"},"SC",{"$f":"BG31","v":"16-20"},{"$f":"BH31","v":"F"},{"$f":"IF(DMAX(Scores,BI33,BE33:BH34)=0,\"\",DMAX(Scores,BI33,BE33:BH34))","v":241},{"$f":"IF(DCOUNT(Scores,BI33,BF33:BI34)>1,\"TIE\",IF(BI34=\"\",\"None\",DGET(Scores,'Individual Scores'!$D$1,BF33:BI34)))","v":"Hannah Krietemeyer"},null,{"$f":"AZ34","v":"SC"},{"$f":"BA34","v":"16-20"},{"$f":"BB34","v":"F"},{"$f":"IF(DMAX(Scores,BO33,BK33:BN34)=0,\"\",DMAX(Scores,BO33,BK33:BN34))","v":2434},{"$f":"IF(DCOUNT(Scores,BO33,BL33:BO34)>1,\"TIE\",IF(BO34=\"\",\"None\",DGET(Scores,'Individual Scores'!$D$1,BL33:BO34)))","v":"Kasey Smith"}]
[null,null,null,null,{"$f":"IF(DCOUNT(Scores,D33,A33:D34)>1,\"TIE\",IF(D34=\"\",\"None\",E34&\" (\"&DGET(Scores,'Individual Scores'!$A$1,A33:D34)&\")\"))","v":"Kasey Smith (SC)"},null,null,null,null,{"$f":"IF(DCOUNT(Scores,I33,F33:I34)>1,\"TIE\",IF(I34=\"\",\"None\",J34&\" (\"&DGET(Scores,'Individual Scores'!$A$1,F33:I34)&\")\"))","v":"Kasey Smith (SC)"},null,null,null,null,null,{"$f":"IF(DCOUNT(Scores,O33,L33:O34)>1,\"TIE\",IF(O34=\"\",\"None\",P34&\" (\"&DGET(Scores,'Individual Scores'!$A$1,L33:O34)&\")\"))","v":"Emily Bolton (SC)"},null,null,null,null,null,{"$f":"IF(DCOUNT(Scores,U33,R33:U34)>1,\"TIE\",IF(U34=\"\",\"None\",V34&\" (\"&DGET(Scores,'Individual Scores'!$A$1,R33:U34)&\")\"))","v":"Kasey Smith (SC)"},null,null,null,null,{"$f":"IF(DCOUNT(Scores,Z33,W33:Z34)>1,\"TIE\",IF(Z34=\"\",\"None\",AA34&\" (\"&DGET(Scores,'Individual Scores'!$A$1,W33:Z34)&\")\"))","v":"Kasey Smith (SC)"},null,null,null,null,null,{"$f":"IF(DCOUNT(Scores,AF33,AC33:AF34)>1,\"TIE\",IF(AF34=\"\",\"None\",AG34&\" (\"&DGET(Scores,'Individual Scores'!$A$1,AC33:AF34)&\")\"))","v":"Hannah Krietemeyer (SC)"},null,null,null,null,null,{"$f":"IF(DCOUNT(Scores,AL33,AI33:AL34)>1,\"TIE\",IF(AL34=\"\",\"None\",AM34&\" (\"&DGET(Scores,'Individual Scores'!$A$1,AI33:AL34)&\")\"))","v":"None"},null,null,null,null,{"$f":"IF(DCOUNT(Scores,AQ33,AN33:AQ34)>1,\"TIE\",IF(AQ34=\"\",\"None\",AR34&\" (\"&DGET(Scores,'Individual Scores'!$A$1,AN33:AQ34)&\")\"))","v":"None"},null,null,null,null,null,{"$f":"IF(DCOUNT(Scores,AW33,AT33:AW34)>1,\"TIE\",IF(AW34=\"\",\"None\",AX34&\" (\"&DGET(Scores,'Individual Scores'!$A$1,AT33:AW34)&\")\"))","v":"None"},null,null,null,null,null,{"$f":"IF(DCOUNT(Scores,BC33,AZ33:BC34)>1,\"TIE\",IF(BC34=\"\",\"None\",BD34&\" (\"&DGET(Scores,'Individual Scores'!$A$1,AZ33:BC34)&\")\"))","v":"Kasey Smith (SC)"},null,null,null,null,null,{"$f":"IF(DCOUNT(Scores,BI33,BF33:BI34)>1,\"TIE\",IF(BI34=\"\",\"None\",BJ34&\" (\"&DGET(Scores,'Individual Scores'!$A$1,BF33:BI34)&\")\"))","v":"Hannah Krietemeyer (SC)"},null,null,null,null,null,{"$f":"IF(DCOUNT(Scores,BO33,BL33:BO34)>1,\"TIE\",IF(BO34=\"\",\"None\",BP34&\" (\"&DGET(Scores,'Individual Scores'!$A$1,BL33:BO34)&\")\"))","v":"Kasey Smith (SC)"}]
[null,"Age Group","Gender",{"$f":"'Individual Scores'!Y$1","v":"T1 High Series"},null,null,"Age Group","Gender",{"$f":"'Individual Scores'!W$1","v":"T1 Tournament Total"},null,null,{"$f":"K33","v":"Full Name"},"Age Group","Gender",{"$f":"O$1","v":"T1 High Game"},null,null,null,"Age Group","Gender",{"$f":"'Individual Scores'!AI$1","v":"T2 High Series"},null,null,"Age Group","Gender",{"$f":"'Individual Scores'!AG$1","v":"T2 Tournament Total"},null,null,{"$f":"AB33","v":"Full Name"},"Age Group","Gender",{"$f":"AF$1","v":"T2 High Game"},null,null,null,"Age Group","Gender",{"$f":"'Individual Scores'!AS$1","v":"T3 High Series"},null,null,"Age Group","Gender",{"$f":"'Individual Scores'!AQ$1","v":"T3 Tournament Total"},null,null,{"$f":"AS33","v":"Full Name"},"Age Group","Gender",{"$f":"AW$1","v":"T3 High Game"},null,null,null,"Age Group","Gender",{"$f":"'Individual Scores'!K$1","v":"High Series"},null,null,{"$f":"'Individual Scores'!$D$1","v":"Full Name"},"Age Group","Gender",{"$f":"BI$1","v":"High Game"},null,null,null,"Age Group","Gender",{"$f":"'Individual Scores'!H$1","v":"All Events Total"}]
[null,{"$f":"B34","v":"16-20"},{"$f":"C34","v":"F"},{"$f":"IF(DCOUNT(Scores,D36,A36:C37)=0,\"\",DMAX(Scores,D36,A36:C37))","v":656},{"$f":"IF(DCOUNT(Scores,D36,A36:D37)>1,\"TIE\",IF(D37=\"\",\"None\",DGET(Scores,'Individual Scores'!$D$1,A36:D37)))","v":"Kasey Smith"},null,{"$f":"G34","v":"16-20"},{"$f":"H34","v":"F"},{"$f":"IF(DCOUNT(Scores,I36,F36:H37)>0,DMAX(Scores,I36,F36:H37),\"\")","v":1208},{"$f":"IF(DCOUNT(Scores,I36,F36:I37)>1,\"TIE\",IF(I37=\"\",\"None\",DGET(Scores,'Individual Scores'!$D$1,F36:I37)))","v":"Breanna Clemmer"},null,{"$f":"\"<>\"&E37","v":"<>Kasey Smith"},{"$f":"B37","v":"16-20"},{"$f":"C37","v":"F"},{"$f":"IF(DMAX(Scores,O36,K36:N37)=0,\"\",DMAX(Scores,O36,K36:N37))","v":268},{"$f":"IF(DCOUNT(Scores,O36,L36:O37)>1,\"TIE\",IF(O37=\"\",\"None\",DGET(Scores,'Individual Scores'!$D$1,L36:O37)))","v":"Breanna Clemmer"},null,null,{"$f":"S34","v":"16-20"},{"$f":"T34","v":"F"},{"$f":"IF(DCOUNT(Scores,'Individual Scores'!AI$1,R36:T37)=0,\"\",DMAX(Scores,'Individual Scores'!AI$1,R36:T37))","v":678},{"$f":"IF(DCOUNT(Scores,U36,R36:U37)>1,\"TIE\",IF(U37=\"\",\"None\",DGET(Scores,'Individual Scores'!$D$1,R36:U37)))","v":"Madysen Keller"},null,{"$f":"X34","v":"16-20"},{"$f":"Y34","v":"F"},{"$f":"IF(DCOUNT(Scores,Z36,W36:Y37)>0,DMAX(Scores,Z36,W36:Y37),\"\")","v":1238},{"$f":"IF(DCOUNT(Scores,Z36,W36:Z37)>1,\"TIE\",IF(Z37=\"\",\"None\",DGET(Scores,'Individual Scores'!$D$1,W36:Z37)))","v":"Breanna Clemmer"},null,{"$f":"\"<>\"&V37","v":"<>Madysen Keller"},{"$f":"S37","v":"16-20"},{"$f":"T37","v":"F"},{"$f":"IF(DMAX(Scores,AF36,AB36:AE37)=0,\"\",DMAX(Scores,AF36,AB36:AE37))","v":257},{"$f":"IF(DCOUNT(Scores,AF36,AC36:AF37)>1,\"TIE\",IF(AF37=\"\",\"None\",DGET(Scores,'Individual Scores'!$D$1,AC36:AF37)))","v":"Crystal Fox"},null,null,{"$f":"AJ34","v":"16-20"},{"$f":"AK34","v":"F"},{"$f":"IF(DCOUNT(Scores,AL36,AI36:AK37)=0,\"\",DMAX(Scores,AL36,AI36:AK37))","v":""},{"$f":"IF(DCOUNT(Scores,AL36,AI36:AL37)>1,\"TIE\",IF(AL37=\"\",\"None\",DGET(Scores,'Individual Scores'!$D$1,AI36:AL37)))","v":"None"},null,{"$f":"AO34","v":"16-20"},{"$f":"AP34","v":"F"},{"$f":"IF(DCOUNT(Scores,AQ36,AN36:AP37)>0,DMAX(Scores,AQ36,AN36:AP37),\"\")","v":""},{"$f":"IF(DCOUNT(Scores,AQ36,AN36:AQ37)>1,\"TIE\",IF(AQ37=\"\",\"None\",DGET(Scores,'Individual Scores'!$D$1,AN36:AQ37)))","v":"None"},null,{"$f":"\"<>\"&AM37","v":"<>None"},{"$f":"AJ37","v":"16-20"},{"$f":"AK37","v":"F"},{"$f":"IF(DMAX(Scores,AW36,AS36:AV37)=0,\"\",DMAX(Scores,AW36,AS36:AV37))","v":""},{"$f":"IF(DCOUNT(Scores,AW36,AT36:AW37)>1,\"TIE\",IF(AW37=\"\",\"None\",DGET(Scores,'Individual Scores'!$D$1,AT36:AW37)))","v":"None"},null,null,{"$f":"BA34","v":"16-20"},{"$f":"BB34","v":"F"},{"$f":"IF(DMAX(Scores,BC36,AZ36:BB37)=0,\"\",DMAX(Scores,BC36,AZ36:BB37))","v":678},{"$f":"IF(DCOUNT(Scores,BC36,AZ36:BC37)>1,\"TIE\",IF(BC37=\"\",\"None\",DGET(Scores,'Individual Scores'!$D$1,AZ36:BC37)))","v":"Madysen Keller"},null,{"$f":"\"<>\"&BD37","v":"<>Madysen Keller"},{"$f":"BG34","v":"16-20"},{"$f":"BH34","v":"F"},{"$f":"IF(DMAX(Scores,BI36,BE36:BH37)=0,\"\",DMAX(Scores,BI36,BE36:BH37))","v":279},{"$f":"IF(DCOUNT(Scores,BI36,BF36:BI37)>1,\"TIE\",IF(BI37=\"\",\"None\",DGET(Scores,'Individual Scores'!$D$1,BF36:BI37)))","v":"Kasey Smith"},null,null,{"$f":"BA37","v":"16-20"},{"$f":"BB37","v":"F"},{"$f":"IF(DMAX(Scores,BO36,BK36:BN37)=0,\"\",DMAX(Scores,BO36,BK36:BN37))","v":2446},{"$f":"IF(DCOUNT(Scores,BO36,BL36:BO37)>1,\"TIE\",IF(BO37=\"\",\"None\",DGET(Scores,'Individual Scores'!$D$1,BL36:BO37)))","v":"Breanna Clemmer"}]
[null,null,null,null,{"$f":"IF(DCOUNT(Scores,D36,A36:D37)>1,\"TIE\",IF(D37=\"\",\"None\",E37&\" (\"&DGET(Scores,'Individual Scores'!$A$1,A36:D37)&\")\"))","v":"Kasey Smith (SC)"},null,null,null,null,{"$f":"IF(DCOUNT(Scores,I36,F36:I37)>1,\"TIE\",IF(I37=\"\",\"None\",J37&\" (\"&DGET(Scores,'Individual Scores'!$A$1,F36:I37)&\")\"))","v":"Breanna Clemmer (NC)"},null,null,null,null,null,{"$f":"IF(DCOUNT(Scores,O36,L36:O37)>1,\"TIE\",IF(O37=\"\",\"None\",P37&\" (\"&DGET(Scores,'Individual Scores'!$A$1,L36:O37)&\")\"))","v":"Breanna Clemmer (NC)"},null,null,null,null,null,{"$f":"IF(DCOUNT(Scores,U36,R36:U37)>1,\"TIE\",IF(U37=\"\",\"None\",V37&\" (\"&DGET(Scores,'Individual Scores'!$A$1,R36:U37)&\")\"))","v":"Madysen Keller (NC)"},null,null,null,null,{"$f":"IF(DCOUNT(Scores,Z36,W36:Z37)>1,\"TIE\",IF(Z37=\"\",\"None\",AA37&\" (\"&DGET(Scores,'Individual Scores'!$A$1,W36:Z37)&\")\"))","v":"Breanna Clemmer (NC)"},null,null,null,null,null,{"$f":"IF(DCOUNT(Scores,AF36,AC36:AF37)>1,\"TIE\",IF(AF37=\"\",\"None\",AG37&\" (\"&DGET(Scores,'Individual Scores'!$A$1,AC36:AF37)&\")\"))","v":"Crystal Fox (GA)"},null,null,null,null,null,{"$f":"IF(DCOUNT(Scores,AL36,AI36:AL37)>1,\"TIE\",IF(AL37=\"\",\"None\",AM37&\" (\"&DGET(Scores,'Individual Scores'!$A$1,AI36:AL37)&\")\"))","v":"None"},null,null,null,null,{"$f":"IF(DCOUNT(Scores,AQ36,AN36:AQ37)>1,\"TIE\",IF(AQ37=\"\",\"None\",AR37&\" (\"&DGET(Scores,'Individual Scores'!$A$1,AN36:AQ37)&\")\"))","v":"None"},null,null,null,null,null,{"$f":"IF(DCOUNT(Scores,AW36,AT36:AW37)>1,\"TIE\",IF(AW37=\"\",\"None\",AX37&\" (\"&DGET(Scores,'Individual Scores'!$A$1,AT36:AW37)&\")\"))","v":"None"},null,null,null,null,null,{"$f":"IF(DCOUNT(Scores,BC36,AZ36:BC37)>1,\"TIE\",IF(BC37=\"\",\"None\",BD37&\" (\"&DGET(Scores,'Individual Scores'!$A$1,AZ36:BC37)&\")\"))","v":"Madysen Keller (NC)"},null,null,null,null,null,{"$f":"IF(DCOUNT(Scores,BI36,BF36:BI37)>1,\"TIE\",IF(BI37=\"\",\"None\",BJ37&\" (\"&DGET(Scores,'Individual Scores'!$A$1,BF36:BI37)&\")\"))","v":"Kasey Smith (SC)"},null,null,null,null,null,{"$f":"IF(DCOUNT(Scores,BO36,BL36:BO37)>1,\"TIE\",IF(BO37=\"\",\"None\",BP37&\" (\"&DGET(Scores,'Individual Scores'!$A$1,BL36:BO37)&\")\"))","v":"Breanna Clemmer (NC)"}]
[null,null,null,null,{"$f":"IF(DCOUNT(Scores,D36,A36:D37)>1,\"\",DGET(Scores,'Individual Scores'!$A$1,A36:D37))","v":"SC"},null,null,null,null,{"$f":"IF(DCOUNT(Scores,I36,F36:I37)>1,\"\",DGET(Scores,'Individual Scores'!$A$1,F36:I37))","v":"NC"},null,null,null,null,null,{"$f":"IF(DCOUNT(Scores,O36,L36:O37)>1,\"\",DGET(Scores,'Individual Scores'!$A$1,L36:O37))","v":"NC"},null,null,null,null,null,{"$f":"IF(DCOUNT(Scores,U36,R36:U37)>1,\"\",DGET(Scores,'Individual Scores'!$A$1,R36:U37))","v":"NC"},null,null,null,null,{"$f":"IF(DCOUNT(Scores,Z36,W36:Z37)>1,\"\",DGET(Scores,'Individual Scores'!$A$1,W36:Z37))","v":"NC"},null,null,null,null,null,{"$f":"IF(DCOUNT(Scores,AF36,AC36:AF37)>1,\"\",DGET(Scores,'Individual Scores'!$A$1,AC36:AF37))","v":"GA"},null,null,null,null,null,{"$f":"IF(DCOUNT(Scores,AL36,AI36:AL37)>1,\"\",DGET(Scores,'Individual Scores'!$A$1,AI36:AL37))","v":{"$error":"#NUM!"}},null,null,null,null,{"$f":"IF(DCOUNT(Scores,AQ36,AN36:AQ37)>1,\"\",DGET(Scores,'Individual Scores'!$A$1,AN36:AQ37))","v":{"$error":"#NUM!"}},null,null,null,null,null,{"$f":"IF(DCOUNT(Scores,AW36,AT36:AW37)>1,\"\",DGET(Scores,'Individual Scores'!$A$1,AT36:AW37))","v":{"$error":"#NUM!"}},null,null,null,null,null,{"$f":"IF(DCOUNT(Scores,BC36,AZ36:BC37)>1,\"\",DGET(Scores,'Individual Scores'!$A$1,AZ36:BC37))","v":"NC"},null,null,null,null,null,{"$f":"IF(DCOUNT(Scores,BI36,BF36:BI37)>1,\"\",DGET(Scores,'Individual Scores'!$A$1,BF36:BI37))","v":"SC"},null,null,null,null,null,{"$f":"IF(DCOUNT(Scores,BO36,BL36:BO37)>1,\"\",DGET(Scores,'Individual Scores'!$A$1,BL36:BO37))","v":"NC"}]
["State","Age Group","Gender",{"$f":"'Individual Scores'!Y$1","v":"T1 High Series"},null,"State","Age Group","Gender",{"$f":"'Individual Scores'!W$1","v":"T1 Tournament Total"},null,{"$f":"'Individual Scores'!$D$1","v":"Full Name"},"State","Age Group","Gender",{"$f":"O27","v":"T1 High Game"},null,null,"State","Age Group","Gender",{"$f":"'Individual Scores'!AI$1","v":"T2 High Series"},null,"State","Age Group","Gender",{"$f":"'Individual Scores'!AG$1","v":"T2 Tournament Total"},null,{"$f":"'Individual Scores'!$D$1","v":"Full Name"},"State","Age Group","Gender",{"$f":"AF27","v":"T2 High Game"},null,null,"State","Age Group","Gender",{"$f":"'Individual Scores'!AS$1","v":"T3 High Series"},null,"State","Age Group","Gender",{"$f":"'Individual Scores'!AQ$1","v":"T3 Tournament Total"},null,{"$f":"'Individual Scores'!$D$1","v":"Full Name"},"State","Age Group","Gender",{"$f":"AW27","v":"T3 High Game"},null,null,"State","Age Group","Gender",{"$f":"'Individual Scores'!K$1","v":"High Series"},null,{"$f":"'Individual Scores'!$D$1","v":"Full Name"},"State","Age Group","Gender",{"$f":"BI27","v":"High Game"},null,null,"State","Age Group","Gender",{"$f":"'Individual Scores'!H$1","v":"All Events Total"}]
["GA",{"$f":"B28","v":"16-20"},"M",{"$f":"IF(DCOUNT(Scores,D40,A40:C41)=0,\"\",DMAX(Scores,D40,A40:C41))","v":662},{"$f":"IF(DCOUNT(Scores,D40,A40:D41)>1,\"TIE\",IF(D41=\"\",\"None\",DGET(Scores,'Individual Scores'!$D$1,A40:D41)))","v":"Josh Rondino"},"GA",{"$f":"G28","v":"16-20"},"M",{"$f":"IF(DCOUNT(Scores,I40,F40:H41)>0,DMAX(Scores,I40,F40:H41),\"\")","v":1295},{"$f":"IF(DCOUNT(Scores,I40,F40:I41)>1,\"TIE\",IF(I41=\"\",\"None\",DGET(Scores,'Individual Scores'!$D$1,F40:I41)))","v":"Josh Rondino"},{"$f":"IF(E41=\"None\",\"\",\"<>\"&E41)","v":"<>Josh Rondino"},{"$f":"A41","v":"GA"},{"$f":"B41","v":"16-20"},{"$f":"C41","v":"M"},{"$f":"IF(DMAX(Scores,O40,K40:N41)=0,\"\",DMAX(Scores,O40,K40:N41))","v":268},{"$f":"IF(DCOUNT(Scores,O40,L40:O41)>1,\"TIE\",IF(O41=\"\",\"None\",DGET(Scores,'Individual Scores'!$D$1,L40:O41)))","v":"Demetrius Wilcox"},null,"GA",{"$f":"S28","v":"16-20"},"M",{"$f":"IF(DCOUNT(Scores,'Individual Scores'!AI$1,R40:T41)=0,\"\",DMAX(Scores,'Individual Scores'!AI$1,R40:T41))","v":717},{"$f":"IF(DCOUNT(Scores,U40,R40:U41)>1,\"TIE\",IF(U41=\"\",\"None\",DGET(Scores,'Individual Scores'!$D$1,R40:U41)))","v":"Matthew Lovell"},"GA",{"$f":"X28","v":"16-20"},"M",{"$f":"IF(DCOUNT(Scores,Z40,W40:Y41)>0,DMAX(Scores,Z40,W40:Y41),\"\")","v":1371},{"$f":"IF(DCOUNT(Scores,Z40,W40:Z41)>1,\"TIE\",IF(Z41=\"\",\"None\",DGET(Scores,'Individual Scores'!$D$1,W40:Z41)))","v":"Casey Lambert"},{"$f":"\"<>\"&V41","v":"<>Matthew Lovell"},{"$f":"R41","v":"GA"},{"$f":"S41","v":"16-20"},{"$f":"T41","v":"M"},{"$f":"IF(DMAX(Scores,AF40,AB40:AE41)=0,\"\",DMAX(Scores,AF40,AB40:AE41))","v":259},{"$f":"IF(DCOUNT(Scores,AF40,AC40:AF41)>1,\"TIE\",IF(AF41=\"\",\"None\",DGET(Scores,'Individual Scores'!$D$1,AC40:AF41)))","v":"Josh Rondino"},null,"GA",{"$f":"AJ28","v":"16-20"},"M",{"$f":"IF(DCOUNT(Scores,AL40,AI40:AK41)=0,\"\",DMAX(Scores,AL40,AI40:AK41))","v":""},{"$f":"IF(DCOUNT(Scores,AL40,AI40:AL41)>1,\"TIE\",IF(AL41=\"\",\"None\",DGET(Scores,'Individual Scores'!$D$1,AI40:AL41)))","v":"None"},"GA",{"$f":"AO28","v":"16-20"},"M",{"$f":"IF(DCOUNT(Scores,AQ40,AN40:AP41)>0,DMAX(Scores,AQ40,AN40:AP41),\"\")","v":""},{"$f":"IF(DCOUNT(Scores,AQ40,AN40:AQ41)>1,\"TIE\",IF(AQ41=\"\",\"None\",DGET(Scores,'Individual Scores'!$D$1,AN40:AQ41)))","v":"None"},{"$f":"\"<>\"&AM41","v":"<>None"},{"$f":"AI41","v":"GA"},{"$f":"AJ41","v":"16-20"},{"$f":"AK41","v":"M"},{"$f":"IF(DMAX(Scores,AW40,AS40:AV41)=0,\"\",DMAX(Scores,AW40,AS40:AV41))","v":""},{"$f":"IF(DCOUNT(Scores,AW40,AT40:AW41)>1,\"TIE\",IF(AW41=\"\",\"None\",DGET(Scores,'Individual Scores'!$D$1,AT40:AW41)))","v":"None"},null,"GA",{"$f":"BA28","v":"16-20"},"M",{"$f":"IF(DMAX(Scores,BC40,AZ40:BB41)=0,\"\",DMAX(Scores,BC40,AZ40:BB41))","v":717},{"$f":"IF(DCOUNT(Scores,BC40,AZ40:BC41)>1,\"TIE\",IF(BC41=\"\",\"None\",DGET(Scores,'Individual Scores'!$D$1,AZ40:BC41)))","v":"Matthew Lovell"},{"$f":"\"<>\"&BD41","v":"<>Matthew Lovell"},"GA",{"$f":"BG28","v":"16-20"},"M",{"$f":"IF(DMAX(Scores,BI40,BE40:BH41)=0,\"\",DMAX(Scores,BI40,BE40:BH41))","v":268},{"$f":"IF(DCOUNT(Scores,BI40,BF40:BI41)>1,\"TIE\",IF(BI41=\"\",\"None\",DGET(Scores,'Individual Scores'!$D$1,BF40:BI41)))","v":"Demetrius Wilcox"},null,{"$f":"AZ41","v":"GA"},{"$f":"BA41","v":"16-20"},{"$f":"BB41","v":"M"},{"$f":"IF(DMAX(Scores,BO40,BK40:BN41)=0,\"\",DMAX(Scores,BO40,BK40:BN41))","v":2620},{"$f":"IF(DCOUNT(Scores,BO40,BL40:BO41)>1,\"TIE\",IF(BO41=\"\",\"None\",DGET(Scores,'Individual Scores'!$D$1,BL40:BO41)))","v":"Casey Lambert"}]
[null,null,null,null,{"$f":"IF(DCOUNT(Scores,D40,A40:D41)>1,\"TIE\",IF(D41=\"\",\"None\",E41&\" (\"&DGET(Scores,'Individual Scores'!$A$1,A40:D41)&\")\"))","v":"Josh Rondino (GA)"},null,null,null,null,{"$f":"IF(DCOUNT(Scores,I40,F40:I41)>1,\"TIE\",IF(I41=\"\",\"None\",J41&\" (\"&DGET(Scores,'Individual Scores'!$A$1,F40:I41)&\")\"))","v":"Josh Rondino (GA)"},null,null,null,null,null,{"$f":"IF(DCOUNT(Scores,O40,L40:O41)>1,\"TIE\",IF(O41=\"\",\"None\",P41&\" (\"&DGET(Scores,'Individual Scores'!$A$1,L40:O41)&\")\"))","v":"Demetrius Wilcox (GA)"},null,null,null,null,null,{"$f":"IF(DCOUNT(Scores,U40,R40:U41)>1,\"TIE\",IF(U41=\"\",\"None\",V41&\" (\"&DGET(Scores,'Individual Scores'!$A$1,R40:U41)&\")\"))","v":"Matthew Lovell (GA)"},null,null,null,null,{"$f":"IF(DCOUNT(Scores,Z40,W40:Z41)>1,\"TIE\",IF(Z41=\"\",\"None\",AA41&\" (\"&DGET(Scores,'Individual Scores'!$A$1,W40:Z41)&\")\"))","v":"Casey Lambert (GA)"},null,null,null,null,null,{"$f":"IF(DCOUNT(Scores,AF40,AC40:AF41)>1,\"TIE\",IF(AF41=\"\",\"None\",AG41&\" (\"&DGET(Scores,'Individual Scores'!$A$1,AC40:AF41)&\")\"))","v":"Josh Rondino (GA)"},null,null,null,null,null,{"$f":"IF(DCOUNT(Scores,AL40,AI40:AL41)>1,\"TIE\",IF(AL41=\"\",\"None\",AM41&\" (\"&DGET(Scores,'Individual Scores'!$A$1,AI40:AL41)&\")\"))","v":"None"},null,null,null,null,{"$f":"IF(DCOUNT(Scores,AQ40,AN40:AQ41)>1,\"TIE\",IF(AQ41=\"\",\"None\",AR41&\" (\"&DGET(Scores,'Individual Scores'!$A$1,AN40:AQ41)&\")\"))","v":"None"},null,null,null,null,null,{"$f":"IF(DCOUNT(Scores,AW40,AT40:AW41)>1,\"TIE\",IF(AW41=\"\",\"None\",AX41&\" (\"&DGET(Scores,'Individual Scores'!$A$1,AT40:AW41)&\")\"))","v":"None"},null,null,null,null,null,{"$f":"IF(DCOUNT(Scores,BC40,AZ40:BC41)>1,\"TIE\",IF(BC41=\"\",\"None\",BD41&\" (\"&DGET(Scores,'Individual Scores'!$A$1,AZ40:BC41)&\")\"))","v":"Matthew Lovell (GA)"},null,null,null,null,null,{"$f":"IF(DCOUNT(Scores,BI40,BF40:BI41)>1,\"TIE\",IF(BI41=\"\",\"None\",BJ41&\" (\"&DGET(Scores,'Individual Scores'!$A$1,BF40:BI41)&\")\"))","v":"Demetrius Wilcox (GA)"},null,null,null,null,null,{"$f":"IF(DCOUNT(Scores,BO40,BL40:BO41)>1,\"TIE\",IF(BO41=\"\",\"None\",BP41&\" (\"&DGET(Scores,'Individual Scores'!$A$1,BL40:BO41)&\")\"))","v":"Casey Lambert (GA)"}]
["State","Age Group","Gender",{"$f":"'Individual Scores'!Y$1","v":"T1 High Series"},null,"State","Age Group","Gender",{"$f":"'Individual Scores'!W$1","v":"T1 Tournament Total"},null,{"$f":"'Individual Scores'!$D$1","v":"Full Name"},"State","Age Group","Gender",{"$f":"O30","v":"T1 High Game"},null,null,"State","Age Group","Gender",{"$f":"'Individual Scores'!AI$1","v":"T2 High Series"},null,"State","Age Group","Gender",{"$f":"'Individual Scores'!AG$1","v":"T2 Tournament Total"},null,{"$f":"'Individual Scores'!$D$1","v":"Full Name"},"State","Age Group","Gender",{"$f":"AF30","v":"T2 High Game"},null,null,"State","Age Group","Gender",{"$f":"'Individual Scores'!AS$1","v":"T3 High Series"},null,"State","Age Group","Gender",{"$f":"'Individual Scores'!AQ$1","v":"T3 Tournament Total"},null,{"$f":"'Individual Scores'!$D$1","v":"Full Name"},"State","Age Group","Gender",{"$f":"AW30","v":"T3 High Game"},null,null,"State","Age Group","Gender",{"$f":"'Individual Scores'!K$1","v":"High Series"},null,{"$f":"'Individual Scores'!$D$1","v":"Full Name"},"State","Age Group","Gender",{"$f":"BI30","v":"High Game"},null,null,"State","Age Group","Gender",{"$f":"'Individual Scores'!H$1","v":"All Events Total"}]
["NC",{"$f":"B41","v":"16-20"},{"$f":"C41","v":"M"},{"$f":"IF(DCOUNT(Scores,D43,A43:C44)=0,\"\",DMAX(Scores,D43,A43:C44))","v":681},{"$f":"IF(DCOUNT(Scores,D43,A43:D44)>1,\"TIE\",IF(D44=\"\",\"None\",DGET(Scores,'Individual Scores'!$D$1,A43:D44)))","v":"Jay Hargrove"},"NC",{"$f":"G41","v":"16-20"},{"$f":"H41","v":"M"},{"$f":"IF(DCOUNT(Scores,I43,F43:H44)>0,DMAX(Scores,I43,F43:H44),\"\")","v":1268},{"$f":"IF(DCOUNT(Scores,I43,F43:I44)>1,\"TIE\",IF(I44=\"\",\"None\",DGET(Scores,'Individual Scores'!$D$1,F43:I44)))","v":"Ben Estes"},{"$f":"IF(E44=\"None\",\"\",\"<>\"&E44)","v":"<>Jay Hargrove"},{"$f":"A44","v":"NC"},{"$f":"B44","v":"16-20"},{"$f":"C44","v":"M"},{"$f":"IF(DMAX(Scores,O43,K43:N44)=0,\"\",DMAX(Scores,O43,K43:N44))","v":268},{"$f":"IF(DCOUNT(Scores,O43,L43:O44)>1,\"TIE\",IF(O44=\"\",\"None\",DGET(Scores,'Individual Scores'!$D$1,L43:O44)))","v":"Zac Ludwig"},null,"NC",{"$f":"S41","v":"16-20"},{"$f":"T41","v":"M"},{"$f":"IF(DCOUNT(Scores,'Individual Scores'!AI$1,R43:T44)=0,\"\",DMAX(Scores,'Individual Scores'!AI$1,R43:T44))","v":801},{"$f":"IF(DCOUNT(Scores,U43,R43:U44)>1,\"TIE\",IF(U44=\"\",\"None\",DGET(Scores,'Individual Scores'!$D$1,R43:U44)))","v":"Troy White"},"NC",{"$f":"X41","v":"16-20"},{"$f":"Y41","v":"M"},{"$f":"IF(DCOUNT(Scores,Z43,W43:Y44)>0,DMAX(Scores,Z43,W43:Y44),\"\")","v":1532},{"$f":"IF(DCOUNT(Scores,Z43,W43:Z44)>1,\"TIE\",IF(Z44=\"\",\"None\",DGET(Scores,'Individual Scores'!$D$1,W43:Z44)))","v":"Troy White"},{"$f":"\"<>\"&V44","v":"<>Troy White"},{"$f":"R44","v":"NC"},{"$f":"S44","v":"16-20"},{"$f":"T44","v":"M"},{"$f":"IF(DMAX(Scores,AF43,AB43:AE44)=0,\"\",DMAX(Scores,AF43,AB43:AE44))","v":279},{"$f":"IF(DCOUNT(Scores,AF43,AC43:AF44)>1,\"TIE\",IF(AF44=\"\",\"None\",DGET(Scores,'Individual Scores'!$D$1,AC43:AF44)))","v":"TIE"},null,"NC",{"$f":"AJ41","v":"16-20"},{"$f":"AK41","v":"M"},{"$f":"IF(DCOUNT(Scores,AL43,AI43:AK44)=0,\"\",DMAX(Scores,AL43,AI43:AK44))","v":""},{"$f":"IF(DCOUNT(Scores,AL43,AI43:AL44)>1,\"TIE\",IF(AL44=\"\",\"None\",DGET(Scores,'Individual Scores'!$D$1,AI43:AL44)))","v":"None"},"NC",{"$f":"AO41","v":"16-20"},{"$f":"AP41","v":"M"},{"$f":"IF(DCOUNT(Scores,AQ43,AN43:AP44)>0,DMAX(Scores,AQ43,AN43:AP44),\"\")","v":""},{"$f":"IF(DCOUNT(Scores,AQ43,AN43:AQ44)>1,\"TIE\",IF(AQ44=\"\",\"None\",DGET(Scores,'Individual Scores'!$D$1,AN43:AQ44)))","v":"None"},{"$f":"\"<>\"&AM44","v":"<>None"},{"$f":"AI44","v":"NC"},{"$f":"AJ44","v":"16-20"},{"$f":"AK44","v":"M"},{"$f":"IF(DMAX(Scores,AW43,AS43:AV44)=0,\"\",DMAX(Scores,AW43,AS43:AV44))","v":""},{"$f":"IF(DCOUNT(Scores,AW43,AT43:AW44)>1,\"TIE\",IF(AW44=\"\",\"None\",DGET(Scores,'Individual Scores'!$D$1,AT43:AW44)))","v":"None"},null,"NC",{"$f":"BA41","v":"16-20"},{"$f":"BB41","v":"M"},{"$f":"IF(DMAX(Scores,BC43,AZ43:BB44)=0,\"\",DMAX(Scores,BC43,AZ43:BB44))","v":801},{"$f":"IF(DCOUNT(Scores,BC43,AZ43:BC44)>1,\"TIE\",IF(BC44=\"\",\"None\",DGET(Scores,'Individual Scores'!$D$1,AZ43:BC44)))","v":"Troy White"},{"$f":"\"<>\"&BD44","v":"<>Troy White"},"NC",{"$f":"BG41","v":"16-20"},{"$f":"BH41","v":"M"},{"$f":"IF(DMAX(Scores,BI43,BE43:BH44)=0,\"\",DMAX(Scores,BI43,BE43:BH44))","v":279},{"$f":"IF(DCOUNT(Scores,BI43,BF43:BI44)>1,\"TIE\",IF(BI44=\"\",\"None\",DGET(Scores,'Individual Scores'!$D$1,BF43:BI44)))","v":"TIE"},null,{"$f":"AZ44","v":"NC"},{"$f":"BA44","v":"16-20"},{"$f":"BB44","v":"M"},{"$f":"IF(DMAX(Scores,BO43,BK43:BN44)=0,\"\",DMAX(Scores,BO43,BK43:BN44))","v":2670},{"$f":"IF(DCOUNT(Scores,BO43,BL43:BO44)>1,\"TIE\",IF(BO44=\"\",\"None\",DGET(Scores,'Individual Scores'!$D$1,BL43:BO44)))","v":"Troy White"}]
[null,null,null,null,{"$f":"IF(DCOUNT(Scores,D43,A43:D44)>1,\"TIE\",IF(D44=\"\",\"None\",E44&\" (\"&DGET(Scores,'Individual Scores'!$A$1,A43:D44)&\")\"))","v":"Jay Hargrove (NC)"},null,null,null,null,{"$f":"IF(DCOUNT(Scores,I43,F43:I44)>1,\"TIE\",IF(I44=\"\",\"None\",J44&\" (\"&DGET(Scores,'Individual Scores'!$A$1,F43:I44)&\")\"))","v":"Ben Estes (NC)"},null,null,null,null,null,{"$f":"IF(DCOUNT(Scores,O43,L43:O44)>1,\"TIE\",IF(O44=\"\",\"None\",P44&\" (\"&DGET(Scores,'Individual Scores'!$A$1,L43:O44)&\")\"))","v":"Zac Ludwig (NC)"},null,null,null,null,null,{"$f":"IF(DCOUNT(Scores,U43,R43:U44)>1,\"TIE\",IF(U44=\"\",\"None\",V44&\" (\"&DGET(Scores,'Individual Scores'!$A$1,R43:U44)&\")\"))","v":"Troy White (NC)"},null,null,null,null,{"$f":"IF(DCOUNT(Scores,Z43,W43:Z44)>1,\"TIE\",IF(Z44=\"\",\"None\",AA44&\" (\"&DGET(Scores,'Individual Scores'!$A$1,W43:Z44)&\")\"))","v":"Troy White (NC)"},null,null,null,null,null,{"$f":"IF(DCOUNT(Scores,AF43,AC43:AF44)>1,\"TIE\",IF(AF44=\"\",\"None\",AG44&\" (\"&DGET(Scores,'Individual Scores'!$A$1,AC43:AF44)&\")\"))","v":"TIE"},null,null,null,null,null,{"$f":"IF(DCOUNT(Scores,AL43,AI43:AL44)>1,\"TIE\",IF(AL44=\"\",\"None\",AM44&\" (\"&DGET(Scores,'Individual Scores'!$A$1,AI43:AL44)&\")\"))","v":"None"},null,null,null,null,{"$f":"IF(DCOUNT(Scores,AQ43,AN43:AQ44)>1,\"TIE\",IF(AQ44=\"\",\"None\",AR44&\" (\"&DGET(Scores,'Individual Scores'!$A$1,AN43:AQ44)&\")\"))","v":"None"},null,null,null,null,null,{"$f":"IF(DCOUNT(Scores,AW43,AT43:AW44)>1,\"TIE\",IF(AW44=\"\",\"None\",AX44&\" (\"&DGET(Scores,'Individual Scores'!$A$1,AT43:AW44)&\")\"))","v":"None"},null,null,null,null,null,{"$f":"IF(DCOUNT(Scores,BC43,AZ43:BC44)>1,\"TIE\",IF(BC44=\"\",\"None\",BD44&\" (\"&DGET(Scores,'Individual Scores'!$A$1,AZ43:BC44)&\")\"))","v":"Troy White (NC)"},null,null,null,null,null,{"$f":"IF(DCOUNT(Scores,BI43,BF43:BI44)>1,\"TIE\",IF(BI44=\"\",\"None\",BJ44&\" (\"&DGET(Scores,'Individual Scores'!$A$1,BF43:BI44)&\")\"))","v":"TIE"},null,null,null,null,null,{"$f":"IF(DCOUNT(Scores,BO43,BL43:BO44)>1,\"TIE\",IF(BO44=\"\",\"None\",BP44&\" (\"&DGET(Scores,'Individual Scores'!$A$1,BL43:BO44)&\")\"))","v":"Troy White (NC)"}]
["State","Age Group","Gender",{"$f":"'Individual Scores'!Y$1","v":"T1 High Series"},null,"State","Age Group","Gender",{"$f":"'Individual Scores'!W$1","v":"T1 Tournament Total"},null,{"$f":"'Individual Scores'!$D$1","v":"Full Name"},"State","Age Group","Gender",{"$f":"O33","v":"T1 High Game"},null,null,"State","Age Group","Gender",{"$f":"'Individual Scores'!AI$1","v":"T2 High Series"},null,"State","Age Group","Gender",{"$f":"'Individual Scores'!AG$1","v":"T2 Tournament Total"},null,{"$f":"'Individual Scores'!$D$1","v":"Full Name"},"State","Age Group","Gender",{"$f":"AF33","v":"T2 High Game"},null,null,"State","Age Group","Gender",{"$f":"'Individual Scores'!AS$1","v":"T3 High Series"},null,"State","Age Group","Gender",{"$f":"'Individual Scores'!AQ$1","v":"T3 Tournament Total"},null,{"$f":"'Individual Scores'!$D$1","v":"Full Name"},"State","Age Group","Gender",{"$f":"AW33","v":"T3 High Game"},null,null,"State","Age Group","Gender",{"$f":"'Individual Scores'!K$1","v":"High Series"},null,{"$f":"'Individual Scores'!$D$1","v":"Full Name"},"State","Age Group","Gender",{"$f":"BI33","v":"High Game"},null,null,"State","Age Group","Gender",{"$f":"'Individual Scores'!H$1","v":"All Events Total"}]
["SC",{"$f":"B44","v":"16-20"},{"$f":"C44","v":"M"},{"$f":"IF(DCOUNT(Scores,D46,A46:C47)=0,\"\",DMAX(Scores,D46,A46:C47))","v":686},{"$f":"IF(DCOUNT(Scores,D46,A46:D47)>1,\"TIE\",IF(D47=\"\",\"None\",DGET(Scores,'Individual Scores'!$D$1,A46:D47)))","v":"Christian Gurney"},"SC",{"$f":"G44","v":"16-20"},{"$f":"H44","v":"M"},{"$f":"IF(DCOUNT(Scores,I46,F46:H47)>0,DMAX(Scores,I46,F46:H47),\"\")","v":1266},{"$f":"IF(DCOUNT(Scores,I46,F46:I47)>1,\"TIE\",IF(I47=\"\",\"None\",DGET(Scores,'Individual Scores'!$D$1,F46:I47)))","v":"Christian Gurney"},{"$f":"IF(E47=\"None\",\"\",\"<>\"&E47)","v":"<>Christian Gurney"},{"$f":"A47","v":"SC"},{"$f":"B47","v":"16-20"},{"$f":"C47","v":"M"},{"$f":"IF(DMAX(Scores,O46,K46:N47)=0,\"\",DMAX(Scores,O46,K46:N47))","v":257},{"$f":"IF(DCOUNT(Scores,O46,L46:O47)>1,\"TIE\",IF(O47=\"\",\"None\",DGET(Scores,'Individual Scores'!$D$1,L46:O47)))","v":"Luke Willis"},null,"SC",{"$f":"S44","v":"16-20"},{"$f":"T44","v":"M"},{"$f":"IF(DCOUNT(Scores,'Individual Scores'!AI$1,R46:T47)=0,\"\",DMAX(Scores,'Individual Scores'!AI$1,R46:T47))","v":692},{"$f":"IF(DCOUNT(Scores,U46,R46:U47)>1,\"TIE\",IF(U47=\"\",\"None\",DGET(Scores,'Individual Scores'!$D$1,R46:U47)))","v":"Christian Gurney"},"SC",{"$f":"X44","v":"16-20"},{"$f":"Y44","v":"M"},{"$f":"IF(DCOUNT(Scores,Z46,W46:Y47)>0,DMAX(Scores,Z46,W46:Y47),\"\")","v":1259},{"$f":"IF(DCOUNT(Scores,Z46,W46:Z47)>1,\"TIE\",IF(Z47=\"\",\"None\",DGET(Scores,'Individual Scores'!$D$1,W46:Z47)))","v":"Christian Gurney"},{"$f":"\"<>\"&V47","v":"<>Christian Gurney"},{"$f":"R47","v":"SC"},{"$f":"S47","v":"16-20"},{"$f":"T47","v":"M"},{"$f":"IF(DMAX(Scores,AF46,AB46:AE47)=0,\"\",DMAX(Scores,AF46,AB46:AE47))","v":235},{"$f":"IF(DCOUNT(Scores,AF46,AC46:AF47)>1,\"TIE\",IF(AF47=\"\",\"None\",DGET(Scores,'Individual Scores'!$D$1,AC46:AF47)))","v":"Luke Willis"},null,"SC",{"$f":"AJ44","v":"16-20"},{"$f":"AK44","v":"M"},{"$f":"IF(DCOUNT(Scores,AL46,AI46:AK47)=0,\"\",DMAX(Scores,AL46,AI46:AK47))","v":""},{"$f":"IF(DCOUNT(Scores,AL46,AI46:AL47)>1,\"TIE\",IF(AL47=\"\",\"None\",DGET(Scores,'Individual Scores'!$D$1,AI46:AL47)))","v":"None"},"SC",{"$f":"AO44","v":"16-20"},{"$f":"AP44","v":"M"},{"$f":"IF(DCOUNT(Scores,AQ46,AN46:AP47)>0,DMAX(Scores,AQ46,AN46:AP47),\"\")","v":""},{"$f":"IF(DCOUNT(Scores,AQ46,AN46:AQ47)>1,\"TIE\",IF(AQ47=\"\",\"None\",DGET(Scores,'Individual Scores'!$D$1,AN46:AQ47)))","v":"None"},{"$f":"\"<>\"&AM47","v":"<>None"},{"$f":"AI47","v":"SC"},{"$f":"AJ47","v":"16-20"},{"$f":"AK47","v":"M"},{"$f":"IF(DMAX(Scores,AW46,AS46:AV47)=0,\"\",DMAX(Scores,AW46,AS46:AV47))","v":""},{"$f":"IF(DCOUNT(Scores,AW46,AT46:AW47)>1,\"TIE\",IF(AW47=\"\",\"None\",DGET(Scores,'Individual Scores'!$D$1,AT46:AW47)))","v":"None"},null,"SC",{"$f":"BA44","v":"16-20"},{"$f":"BB44","v":"M"},{"$f":"IF(DMAX(Scores,BC46,AZ46:BB47)=0,\"\",DMAX(Scores,BC46,AZ46:BB47))","v":692},{"$f":"IF(DCOUNT(Scores,BC46,AZ46:BC47)>1,\"TIE\",IF(BC47=\"\",\"None\",DGET(Scores,'Individual Scores'!$D$1,AZ46:BC47)))","v":"Christian Gurney"},{"$f":"\"<>\"&BD47","v":"<>Christian Gurney"},"SC",{"$f":"BG44","v":"16-20"},{"$f":"BH44","v":"M"},{"$f":"IF(DMAX(Scores,BI46,BE46:BH47)=0,\"\",DMAX(Scores,BI46,BE46:BH47))","v":257},{"$f":"IF(DCOUNT(Scores,BI46,BF46:BI47)>1,\"TIE\",IF(BI47=\"\",\"None\",DGET(Scores,'Individual Scores'!$D$1,BF46:BI47)))","v":"Luke Willis"},null,{"$f":"AZ47","v":"SC"},{"$f":"BA47","v":"16-20"},{"$f":"BB47","v":"M"},{"$f":"IF(DMAX(Scores,BO46,BK46:BN47)=0,\"\",DMAX(Scores,BO46,BK46:BN47))","v":2525},{"$f":"IF(DCOUNT(Scores,BO46,BL46:BO47)>1,\"TIE\",IF(BO47=\"\",\"None\",DGET(Scores,'Individual Scores'!$D$1,BL46:BO47)))","v":"Christian Gurney"}]
[null,null,null,null,{"$f":"IF(DCOUNT(Scores,D46,A46:D47)>1,\"TIE\",IF(D47=\"\",\"None\",E47&\" (\"&DGET(Scores,'Individual Scores'!$A$1,A46:D47)&\")\"))","v":"Christian Gurney (SC)"},null,null,null,null,{"$f":"IF(DCOUNT(Scores,I46,F46:I47)>1,\"TIE\",IF(I47=\"\",\"None\",J47&\" (\"&DGET(Scores,'Individual Scores'!$A$1,F46:I47)&\")\"))","v":"Christian Gurney (SC)"},null,null,null,null,null,{"$f":"IF(DCOUNT(Scores,O46,L46:O47)>1,\"TIE\",IF(O47=\"\",\"None\",P47&\" (\"&DGET(Scores,'Individual Scores'!$A$1,L46:O47)&\")\"))","v":"Luke Willis (SC)"},null,null,null,null,null,{"$f":"IF(DCOUNT(Scores,U46,R46:U47)>1,\"TIE\",IF(U47=\"\",\"None\",V47&\" (\"&DGET(Scores,'Individual Scores'!$A$1,R46:U47)&\")\"))","v":"Christian Gurney (SC)"},null,null,null,null,{"$f":"IF(DCOUNT(Scores,Z46,W46:Z47)>1,\"TIE\",IF(Z47=\"\",\"None\",AA47&\" (\"&DGET(Scores,'Individual Scores'!$A$1,W46:Z47)&\")\"))","v":"Christian Gurney (SC)"},null,null,null,null,null,{"$f":"IF(DCOUNT(Scores,AF46,AC46:AF47)>1,\"TIE\",IF(AF47=\"\",\"None\",AG47&\" (\"&DGET(Scores,'Individual Scores'!$A$1,AC46:AF47)&\")\"))","v":"Luke Willis (SC)"},null,null,null,null,null,{"$f":"IF(DCOUNT(Scores,AL46,AI46:AL47)>1,\"TIE\",IF(AL47=\"\",\"None\",AM47&\" (\"&DGET(Scores,'Individual Scores'!$A$1,AI46:AL47)&\")\"))","v":"None"},null,null,null,null,{"$f":"IF(DCOUNT(Scores,AQ46,AN46:AQ47)>1,\"TIE\",IF(AQ47=\"\",\"None\",AR47&\" (\"&DGET(Scores,'Individual Scores'!$A$1,AN46:AQ47)&\")\"))","v":"None"},null,null,null,null,null,{"$f":"IF(DCOUNT(Scores,AW46,AT46:AW47)>1,\"TIE\",IF(AW47=\"\",\"None\",AX47&\" (\"&DGET(Scores,'Individual Scores'!$A$1,AT46:AW47)&\")\"))","v":"None"},null,null,null,null,null,{"$f":"IF(DCOUNT(Scores,BC46,AZ46:BC47)>1,\"TIE\",IF(BC47=\"\",\"None\",BD47&\" (\"&DGET(Scores,'Individual Scores'!$A$1,AZ46:BC47)&\")\"))","v":"Christian Gurney (SC)"},null,null,null,null,null,{"$f":"IF(DCOUNT(Scores,BI46,BF46:BI47)>1,\"TIE\",IF(BI47=\"\",\"None\",BJ47&\" (\"&DGET(Scores,'Individual Scores'!$A$1,BF46:BI47)&\")\"))","v":"Luke Willis (SC)"},null,null,null,null,null,{"$f":"IF(DCOUNT(Scores,BO46,BL46:BO47)>1,\"TIE\",IF(BO47=\"\",\"None\",BP47&\" (\"&DGET(Scores,'Individual Scores'!$A$1,BL46:BO47)&\")\"))","v":"Christian Gurney (SC)"}]
[null,"Age Group","Gender",{"$f":"'Individual Scores'!Y$1","v":"T1 High Series"},null,null,"Age Group","Gender",{"$f":"'Individual Scores'!W$1","v":"T1 Tournament Total"},null,null,{"$f":"K46","v":"Full Name"},"Age Group","Gender",{"$f":"O36","v":"T1 High Game"},null,null,null,"Age Group","Gender",{"$f":"'Individual Scores'!AI$1","v":"T2 High Series"},null,null,"Age Group","Gender",{"$f":"'Individual Scores'!AG$1","v":"T2 Tournament Total"},null,null,{"$f":"AB46","v":"Full Name"},"Age Group","Gender",{"$f":"AF36","v":"T2 High Game"},null,null,null,"Age Group","Gender",{"$f":"'Individual Scores'!AS$1","v":"T3 High Series"},null,null,"Age Group","Gender",{"$f":"'Individual Scores'!AQ$1","v":"T3 Tournament Total"},null,null,{"$f":"AS46","v":"Full Name"},"Age Group","Gender",{"$f":"AW36","v":"T3 High Game"},null,null,null,"Age Group","Gender",{"$f":"'Individual Scores'!K$1","v":"High Series"},null,null,{"$f":"BE46","v":"Full Name"},"Age Group","Gender",{"$f":"BI36","v":"High Game"},null,null,null,"Age Group","Gender",{"$f":"'Individual Scores'!H$1","v":"All Events Total"}]
[null,{"$f":"B47","v":"16-20"},{"$f":"C47","v":"M"},{"$f":"IF(DCOUNT(Scores,D49,A49:C50)=0,\"\",DMAX(Scores,D49,A49:C50))","v":686},{"$f":"IF(DCOUNT(Scores,D49,A49:D50)>1,\"TIE\",IF(D50=\"\",\"None\",DGET(Scores,'Individual Scores'!$D$1,A49:D50)))","v":"Christian Gurney"},null,{"$f":"G47","v":"16-20"},{"$f":"H47","v":"M"},{"$f":"IF(DCOUNT(Scores,I49,F49:H50)>0,DMAX(Scores,I49,F49:H50),\"\")","v":1295},{"$f":"IF(DCOUNT(Scores,I49,F49:I50)>1,\"TIE\",IF(I50=\"\",\"None\",DGET(Scores,'Individual Scores'!$D$1,F49:I50)))","v":"Josh Rondino"},null,{"$f":"\"<>\"&E50","v":"<>Christian Gurney"},{"$f":"B50","v":"16-20"},{"$f":"C50","v":"M"},{"$f":"IF(DMAX(Scores,O49,K49:N50)=0,\"\",DMAX(Scores,O49,K49:N50))","v":268},{"$f":"IF(DCOUNT(Scores,O49,L49:O50)>1,\"TIE\",IF(O50=\"\",\"None\",DGET(Scores,'Individual Scores'!$D$1,L49:O50)))","v":"TIE"},null,null,{"$f":"S47","v":"16-20"},{"$f":"T47","v":"M"},{"$f":"IF(DCOUNT(Scores,'Individual Scores'!AI$1,R49:T50)=0,\"\",DMAX(Scores,'Individual Scores'!AI$1,R49:T50))","v":801},{"$f":"IF(DCOUNT(Scores,U49,R49:U50)>1,\"TIE\",IF(U50=\"\",\"None\",DGET(Scores,'Individual Scores'!$D$1,R49:U50)))","v":"Troy White"},null,{"$f":"X47","v":"16-20"},{"$f":"Y47","v":"M"},{"$f":"IF(DCOUNT(Scores,Z49,W49:Y50)>0,DMAX(Scores,Z49,W49:Y50),\"\")","v":1532},{"$f":"IF(DCOUNT(Scores,Z49,W49:Z50)>1,\"TIE\",IF(Z50=\"\",\"None\",DGET(Scores,'Individual Scores'!$D$1,W49:Z50)))","v":"Troy White"},null,{"$f":"\"<>\"&V50","v":"<>Troy White"},{"$f":"S50","v":"16-20"},{"$f":"T50","v":"M"},{"$f":"IF(DMAX(Scores,AF49,AB49:AE50)=0,\"\",DMAX(Scores,AF49,AB49:AE50))","v":279},{"$f":"IF(DCOUNT(Scores,AF49,AC49:AF50)>1,\"TIE\",IF(AF50=\"\",\"None\",DGET(Scores,'Individual Scores'!$D$1,AC49:AF50)))","v":"TIE"},null,null,{"$f":"AJ47","v":"16-20"},{"$f":"AK47","v":"M"},{"$f":"IF(DCOUNT(Scores,AL49,AI49:AK50)=0,\"\",DMAX(Scores,AL49,AI49:AK50))","v":""},{"$f":"IF(DCOUNT(Scores,AL49,AI49:AL50)>1,\"TIE\",IF(AL50=\"\",\"None\",DGET(Scores,'Individual Scores'!$D$1,AI49:AL50)))","v":"None"},null,{"$f":"AO47","v":"16-20"},{"$f":"AP47","v":"M"},{"$f":"IF(DCOUNT(Scores,AQ49,AN49:AP50)>0,DMAX(Scores,AQ49,AN49:AP50),\"\")","v":""},{"$f":"IF(DCOUNT(Scores,AQ49,AN49:AQ50)>1,\"TIE\",IF(AQ50=\"\",\"None\",DGET(Scores,'Individual Scores'!$D$1,AN49:AQ50)))","v":"None"},null,{"$f":"\"<>\"&AM50","v":"<>None"},{"$f":"AJ50","v":"16-20"},{"$f":"AK50","v":"M"},{"$f":"IF(DMAX(Scores,AW49,AS49:AV50)=0,\"\",DMAX(Scores,AW49,AS49:AV50))","v":""},{"$f":"IF(DCOUNT(Scores,AW49,AT49:AW50)>1,\"TIE\",IF(AW50=\"\",\"None\",DGET(Scores,'Individual Scores'!$D$1,AT49:AW50)))","v":"None"},null,null,{"$f":"BA47","v":"16-20"},{"$f":"BB47","v":"M"},{"$f":"IF(DMAX(Scores,BC49,AZ49:BB50)=0,\"\",DMAX(Scores,BC49,AZ49:BB50))","v":801},{"$f":"IF(DCOUNT(Scores,BC49,AZ49:BC50)>1,\"TIE\",IF(BC50=\"\",\"None\",DGET(Scores,'Individual Scores'!$D$1,AZ49:BC50)))","v":"Troy White"},null,{"$f":"\"<>\"&BD50","v":"<>Troy White"},{"$f":"BG47","v":"16-20"},{"$f":"BH47","v":"M"},{"$f":"IF(DMAX(Scores,BI49,BE49:BH50)=0,\"\",DMAX(Scores,BI49,BE49:BH50))","v":299},{"$f":"IF(DCOUNT(Scores,BI49,BF49:BI50)>1,\"TIE\",IF(BI50=\"\",\"None\",DGET(Scores,'Individual Scores'!$D$1,BF49:BI50)))","v":"Christian Gurney"},null,null,{"$f":"BA50","v":"16-20"},{"$f":"BB50","v":"M"},{"$f":"IF(DMAX(Scores,BO49,BK49:BN50)=0,\"\",DMAX(Scores,BO49,BK49:BN50))","v":2670},{"$f":"IF(DCOUNT(Scores,BO49,BL49:BO50)>1,\"TIE\",IF(BO50=\"\",\"None\",DGET(Scores,'Individual Scores'!$D$1,BL49:BO50)))","v":"Troy White"}]
[null,null,null,null,{"$f":"IF(DCOUNT(Scores,D49,A49:D50)>1,\"TIE\",IF(D50=\"\",\"None\",E50&\" (\"&DGET(Scores,'Individual Scores'!$A$1,A49:D50)&\")\"))","v":"Christian Gurney (SC)"},null,null,null,null,{"$f":"IF(DCOUNT(Scores,I49,F49:I50)>1,\"TIE\",IF(I50=\"\",\"None\",J50&\" (\"&DGET(Scores,'Individual Scores'!$A$1,F49:I50)&\")\"))","v":"Josh Rondino (GA)"},null,null,null,null,null,{"$f":"IF(DCOUNT(Scores,O49,L49:O50)>1,\"TIE\",IF(O50=\"\",\"None\",P50&\" (\"&DGET(Scores,'Individual Scores'!$A$1,L49:O50)&\")\"))","v":"TIE"},null,null,null,null,null,{"$f":"IF(DCOUNT(Scores,U49,R49:U50)>1,\"TIE\",IF(U50=\"\",\"None\",V50&\" (\"&DGET(Scores,'Individual Scores'!$A$1,R49:U50)&\")\"))","v":"Troy White (NC)"},null,null,null,null,{"$f":"IF(DCOUNT(Scores,Z49,W49:Z50)>1,\"TIE\",IF(Z50=\"\",\"None\",AA50&\" (\"&DGET(Scores,'Individual Scores'!$A$1,W49:Z50)&\")\"))","v":"Troy White (NC)"},{"$f":"DGET(Scores,'Individual Scores'!$A$1,AC49:AF50)","v":{"$error":"#NUM!"}},null,null,null,null,{"$f":"IF(DCOUNT(Scores,AF49,AC49:AF50)>1,\"TIE\",IF(AF50=\"\",\"None\",AG50&\" (\"&DGET(Scores,'Individual Scores'!$A$1,AC49:AF50)&\")\"))","v":"TIE"},null,null,null,null,null,{"$f":"IF(DCOUNT(Scores,AL49,AI49:AL50)>1,\"TIE\",IF(AL50=\"\",\"None\",AM50&\" (\"&DGET(Scores,'Individual Scores'!$A$1,AI49:AL50)&\")\"))","v":"None"},null,null,null,null,{"$f":"IF(DCOUNT(Scores,AQ49,AN49:AQ50)>1,\"TIE\",IF(AQ50=\"\",\"None\",AR50&\" (\"&DGET(Scores,'Individual Scores'!$A$1,AN49:AQ50)&\")\"))","v":"None"},{"$f":"DGET(Scores,'Individual Scores'!$A$1,AT49:AW50)","v":{"$error":"#NUM!"}},null,null,null,null,{"$f":"IF(DCOUNT(Scores,AW49,AT49:AW50)>1,\"TIE\",IF(AW50=\"\",\"None\",AX50&\" (\"&DGET(Scores,'Individual Scores'!$A$1,AT49:AW50)&\")\"))","v":"None"},null,null,null,null,null,{"$f":"IF(DCOUNT(Scores,BC49,AZ49:BC50)>1,\"TIE\",IF(BC50=\"\",\"None\",BD50&\" (\"&DGET(Scores,'Individual Scores'!$A$1,AZ49:BC50)&\")\"))","v":"Troy White (NC)"},null,null,null,null,null,{"$f":"IF(DCOUNT(Scores,BI49,BF49:BI50)>1,\"TIE\",IF(BI50=\"\",\"None\",BJ50&\" (\"&DGET(Scores,'Individual Scores'!$A$1,BF49:BI50)&\")\"))","v":"Christian Gurney (SC)"},{"$f":"DGET(Scores,'Individual Scores'!$A$1,BL49:BO50)","v":"NC"},null,null,null,null,{"$f":"IF(DCOUNT(Scores,BO49,BL49:BO50)>1,\"TIE\",IF(BO50=\"\",\"None\",BP50&\" (\"&DGET(Scores,'Individual Scores'!$A$1,BL49:BO50)&\")\"))","v":"Troy White (NC)"}]
[null,null,null,null,{"$f":"IF(DCOUNT(Scores,D49,A49:D50)>1,\"\",DGET(Scores,'Individual Scores'!$A$1,A49:D50))","v":"SC"},null,null,null,null,{"$f":"IF(DCOUNT(Scores,I49,F49:I50)>1,\"\",DGET(Scores,'Individual Scores'!$A$1,F49:I50))","v":"GA"},null,null,null,null,null,{"$f":"IF(DCOUNT(Scores,O49,L49:O50)>1,\"\",DGET(Scores,'Individual Scores'!$A$1,L49:O50))","v":""},null,null,null,null,null,{"$f":"IF(DCOUNT(Scores,U49,R49:U50)>1,\"\",DGET(Scores,'Individual Scores'!$A$1,R49:U50))","v":"NC"},null,null,null,null,{"$f":"IF(DCOUNT(Scores,Z49,W49:Z50)>1,\"\",DGET(Scores,'Individual Scores'!$A$1,W49:Z50))","v":"NC"},null,null,null,null,null,{"$f":"IF(DCOUNT(Scores,AF49,AC49:AF50)>1,\"\",DGET(Scores,'Individual Scores'!$A$1,AC49:AF50))","v":""},null,null,null,null,null,{"$f":"IF(DCOUNT(Scores,AL49,AI49:AL50)>1,\"\",DGET(Scores,'Individual Scores'!$A$1,AI49:AL50))","v":{"$error":"#NUM!"}},null,null,null,null,{"$f":"IF(DCOUNT(Scores,AQ49,AN49:AQ50)>1,\"\",DGET(Scores,'Individual Scores'!$A$1,AN49:AQ50))","v":{"$error":"#NUM!"}},null,null,null,null,null,{"$f":"IF(DCOUNT(Scores,AW49,AT49:AW50)>1,\"\",DGET(Scores,'Individual Scores'!$A$1,AT49:AW50))","v":{"$error":"#NUM!"}},null,null,null,null,null,{"$f":"IF(DCOUNT(Scores,BC49,AZ49:BC50)>1,\"\",DGET(Scores,'Individual Scores'!$A$1,AZ49:BC50))","v":"NC"},null,null,null,null,null,{"$f":"IF(DCOUNT(Scores,BI49,BF49:BI50)>1,\"\",DGET(Scores,'Individual Scores'!$A$1,BF49:BI50))","v":"SC"},null,null,null,null,null,{"$f":"IF(DCOUNT(Scores,BO49,BL49:BO50)>1,\"\",DGET(Scores,'Individual Scores'!$A$1,BL49:BO50))","v":"NC"}]
[null,null,null,null,null,null,null,null,null,null,null,null,null,null,null,null,null,null,null,null,null,null,null,null,null,null,null,null,null,null,null,null,null,null,null,null,null,null,null,null,null,null,null,null,null,null,null,null,null,null,"Lookup","Score",null,"Age","Gender"]
[null,null,null,null,null,null,null,null,null,null,null,null,null,null,null,null,null,null,null,null,null,null,null,null,null,null,null,null,null,null,null,null,null,null,null,null,null,null,null,null,null,null,null,null,null,null,null,null,null,null,{"$f":"BB54&BC54","v":"15 & <F"},{"$f":"'Individual Awards'!O11","v":2413},null,{"$f":"'Individual Awards'!D11","v":"15 & <"},"F"]
[null,null,null,null,null,null,null,null,null,null,null,null,null,null,null,null,null,null,null,null,null,null,null,null,null,null,null,null,null,null,null,null,null,null,null,null,null,null,null,null,null,null,null,null,null,null,null,null,null,null,{"$f":"BB55&BC55","v":"16-20F"},{"$f":"'Individual Awards'!O12","v":2446},null,{"$f":"'Individual Awards'!D12","v":"16-20"},"F"]
[null,null,null,null,null,null,null,null,null,null,null,null,null,null,null,null,null,null,null,null,null,null,null,null,null,null,null,null,null,null,null,null,null,null,null,null,null,null,null,null,null,null,null,null,null,null,null,null,null,null,{"$f":"BB56&BC56","v":"15 & <M"},{"$f":"'Individual Awards'!O13","v":2629},null,{"$f":"'Individual Awards'!D13","v":"15 & <"},"M"]
[null,null,null,null,null,null,null,null,null,null,null,null,null,null,null,null,null,null,null,null,null,null,null,null,null,null,null,null,null,null,null,null,null,null,null,null,null,null,null,null,null,null,null,null,null,null,null,null,null,null,{"$f":"BB57&BC57","v":"16-20M"},{"$f":"'Individual Awards'!O14","v":2670},null,{"$f":"'Individual Awards'!D14","v":"16-20"},"M"]
[]
[]
[null,null,null,null,null,null,null,null,null,null,null,null,null,null,null,null,null,null,null,null,null,null,null,null,null,null,null,null,null,null,null,null,null,null,null,null,null,null,null,null,null,null,null,null,null,null,null,null,null,null,"GA"]
[null,null,null,null,null,null,null,null,null,null,null,null,null,null,null,null,null,null,null,null,null,null,null,null,null,null,null,null,null,null,null,null,null,null,null,null,null,null,null,null,null,null,null,null,null,null,null,null,null,null,"NC"]
[null,null,null,null,null,null,null,null,null,null,null,null,null,null,null,null,null,null,null,null,null,null,null,null,null,null,null,null,null,null,null,null,null,null,null,null,null,null,null,null,null,null,null,null,null,null,null,null,null,null,"SC"]

{"sheet":"Constants","index":22,"n_rows":33,"n_cols":10,"rows_kept":33,"cut":false,"hidden":true,"merged":[]}
["Gender","Age","ST","State"]
["M","15 & <","GA","Georgia"]
["F","16-20","NC","North Carolina"]
[null,null,"SC","South Carolina"]
[]
[]
[]
[null,null,null,null,null,"Low Scores"]
["GA",{"$f":"Constants!B1","v":"Age"},"F",{"$f":"A9&\" \"&B9&\" \"&C9","v":"GA Age F"}]
[{"$f":"A9","v":"GA"},{"$f":"B9","v":"Age"},"M","GA Age M",null,"T1 State","T1 Age","T1 Gender","Full Name","T1 Low"]
[{"$f":"A10","v":"GA"},{"$f":"B$2","v":"15 & <"},"F","GA 15 & < F",null,"<>GA",{"$f":"B$2","v":"15 & <"},"F","<>vac",{"$f":"DMIN(Scores,'Individual Scores'!Q1,F10:I11)","v":0}]
[{"$f":"A11","v":"GA"},{"$f":"B$11","v":"15 & <"},"M","GA 15 & < M",null,"T1 State","T1 Age","T1 Gender"]
[{"$f":"A12","v":"GA"},{"$f":"B$3","v":"16-20"},"F","GA 16-20 F",null,{"$f":"F11","v":"<>GA"},{"$f":"G11","v":"15 & <"},"M"]
[{"$f":"A13","v":"GA"},{"$f":"B13","v":"16-20"},"M","GA 16-20 M",null,"T1 State","T1 Age","T1 Gender"]
["NC",{"$f":"B$2","v":"15 & <"},"F","NC 15 & < F",null,{"$f":"F13","v":"<>GA"},{"$f":"B$3","v":"16-20"},"F"]
[{"$f":"A15","v":"NC"},{"$f":"B$11","v":"15 & <"},"M","NC 15 & < M",null,"T1 State","T1 Age","T1 Gender"]
[{"$f":"A16","v":"NC"},{"$f":"B$3","v":"16-20"},"F","NC 16-20 F",null,{"$f":"F15","v":"<>GA"},{"$f":"G15","v":"16-20"},"M"]
[{"$f":"A17","v":"NC"},{"$f":"B17","v":"16-20"},"M","NC 16-20 M",null,"T1 State","T1 Age","T1 Gender"]
["SC",{"$f":"B$2","v":"15 & <"},"F","SC 15 & < F",null,"<>NC",{"$f":"B$2","v":"15 & <"},"F"]
[{"$f":"A19","v":"SC"},{"$f":"B$11","v":"15 & <"},"M","SC 15 & < M",null,"T1 State","T1 Age","T1 Gender"]
[{"$f":"A20","v":"SC"},{"$f":"B$3","v":"16-20"},"F","SC 16-20 F",null,{"$f":"F19","v":"<>NC"},{"$f":"G19","v":"15 & <"},"M"]
[{"$f":"A21","v":"SC"},{"$f":"B21","v":"16-20"},"M","SC 16-20 M",null,"T1 State","T1 Age","T1 Gender"]
[null,null,null,null,null,{"$f":"F21","v":"<>NC"},{"$f":"B$3","v":"16-20"},"F"]
[null,null,null,null,null,"T1 State","T1 Age","T1 Gender"]
[null,null,null,null,null,{"$f":"F23","v":"<>NC"},{"$f":"G23","v":"16-20"},"M"]
[null,null,null,null,null,"T1 State","T1 Age","T1 Gender"]
[null,null,null,null,null,"<>SC",{"$f":"B$2","v":"15 & <"},"F"]
[null,null,null,null,null,"T1 State","T1 Age","T1 Gender"]
[null,null,null,null,null,{"$f":"F27","v":"<>SC"},{"$f":"G27","v":"15 & <"},"M"]
[null,null,null,null,null,"T1 State","T1 Age","T1 Gender"]
[null,null,null,null,null,{"$f":"F29","v":"<>SC"},{"$f":"B$3","v":"16-20"},"F"]
[null,null,null,null,null,"T1 State","T1 Age","T1 Gender"]
[null,null,null,null,null,{"$f":"F31","v":"<>SC"},{"$f":"G31","v":"16-20"},"M"]